{"text_format":"1","workbook":"xlsx","n_sheets":16,"sheets":["MENU PRINCIPAL","FICHA EVALUACIÓN","FICHA OCULTA","RESULTADOS EVALUACIÓN","POR UPSS","MATRIZ DE RIESGOS","PLAN DE ACCIÓN","MONITOREO","PRIORIDAD DE INTERVENCIÓN","INSTRUCTIVO","VACIO","TABLAS","TABLA 2 RES","TABLA DE RIESGO","TABLARENIPRESS","TABLAS2"],"not_rendered":{"charts":0,"images":8,"macros":1,"external_links":0,"defined_names":42,"comments":0,"pivot_tables":0},"unopened":[],"bounds":{"document_bytes":16777216,"sheet_cells":100000,"rows_first":2000,"rows_last":500,"rows_between":2000,"halvings":0,"cell_chars":16384,"cell_head_chars":4096},"cells_cut":0,"cells_raw":0,"read":"whole","date_system":"1900"}

{"sheet":"MENU PRINCIPAL","index":0,"n_rows":34,"n_cols":3,"rows_kept":34,"cut":false,"hidden":false,"merged":[[1,1,1,6],[2,1,2,6],[18,1,18,2]]}
[]
[null,"APLICATIVO  DE RONDAS  DE SEGURIDAD DEL PACIENTE PARA LA GESTIÓN DEL RIESGO EN LA ATENCION DE SALUD"]
[null,"UNIDAD FUNCIONAL DE GESTIÓN DE LA CALIDAD EN SALUD"]
[]
[]
[]
[]
[]
[]
[]
[]
[]
[]
[]
[]
[]
[]
[]
[]
[null,"OODD: ","INSTITUTO NACIONAL MATERNO PERINATAL"]
[]
[null,"TITULAR/RESPONSABLE IPRESS:","Dr.EDWIN SOTO CCAYAHUALLPA"]
[]
[null,"IPRESS:",7135]
[]
[null,"DATOS DEL ESTABLECIMIENTO SELECCIONADO:"]
[]
[null,"NOMBRE DEL ESTABLECMIENTO DE SALUD",{"$f":"IFERROR(VLOOKUP(VALUE(xrenipress),renipress[#Data],4,FALSE),\"NO ENCONTRADO\")","v":"ESPINAR"}]
[]
[null,"MICRORED DE SALUD",{"$f":"IFERROR(VLOOKUP(VALUE(xrenipress),renipress[#Data],14,FALSE),\"NO ENCONTRADO\")","v":"NO PERTENECE A NINGUNA MICRORED"}]
[]
[null,"RED DE SALUD",{"$f":"IFERROR(VLOOKUP(VALUE(xrenipress),renipress[#Data],13,FALSE),\"NO ENCONTRADO\")","v":"CANAS-CANCHIS-ESPINAR"}]
[]
[null,"DIRESA/GERESA/DIRIS",{"$f":"IFERROR(VLOOKUP(VALUE(xrenipress),renipress[#Data],12,FALSE),\"NO ENCONTRADO\")","v":"CUSCO"}]

{"sheet":"FICHA EVALUACIÓN","index":1,"n_rows":151,"n_cols":12,"rows_kept":151,"cut":false,"hidden":false,"merged":[[5,3,5,11],[7,3,7,11],[9,3,9,11],[11,3,11,11],[13,3,13,5],[14,3,14,5],[15,3,15,5],[15,9,15,11],[16,3,16,5],[16,9,16,11],[17,3,17,5],[17,9,17,11],[18,3,18,5],[18,9,18,11],[24,3,24,4],[24,7,24,8],[24,10,24,11],[25,3,25,4],[25,7,25,8],[25,10,25,11],[26,3,26,4],[26,7,26,8],[26,10,26,11],[27,3,27,4],[27,7,27,8],[27,10,27,11],[28,3,28,4],[28,7,28,8],[28,10,28,11],[29,3,29,4],[29,7,29,8],[29,10,29,11],[30,3,30,4],[30,7,30,8],[30,10,30,11],[31,3,31,4],[31,7,31,8],[31,10,31,11],[32,3,32,4],[32,7,32,8],[32,10,32,11],[33,3,33,4],[33,7,33,8],[33,10,33,11],[34,3,34,4],[34,7,34,8],[34,10,34,11],[35,3,35,4],[35,7,35,8],[35,10,35,11],[36,3,36,4],[36,7,36,8],[36,10,36,11],[37,3,37,4],[37,7,37,8],[37,10,37,11],[38,3,38,4],[38,7,38,8],[38,10,38,11],[39,3,39,4],[39,7,39,8],[39,10,39,11],[40,3,40,4],[40,7,40,8],[40,10,40,11],[41,3,41,4],[41,7,41,8],[41,10,41,11],[42,3,42,4],[42,7,42,8],[42,10,42,11],[43,3,43,4],[43,7,43,8],[43,10,43,11],[44,3,44,4],[44,7,44,8],[44,10,44,11],[45,3,45,4],[45,7,45,8],[45,10,45,11],[46,3,46,4],[46,7,46,8],[46,10,46,11],[47,3,47,4],[47,7,47,8],[47,10,47,11],[48,3,48,4],[48,7,48,8],[48,10,48,11],[49,3,49,4],[49,7,49,8],[49,10,49,11],[50,3,50,4],[50,7,50,8],[50,10,50,11],[51,3,51,4],[51,7,51,8],[51,10,51,11],[52,3,52,4],[52,7,52,8],[52,10,52,11],[53,3,53,4],[53,7,53,8],[53,10,53,11],[54,3,54,4],[54,7,54,8],[54,10,54,11],[55,3,55,4],[55,7,55,8],[55,10,55,11],[56,3,56,4],[56,7,56,8],[56,10,56,11],[57,3,57,4],[57,7,57,8],[57,10,57,11],[58,3,58,4],[58,7,58,8],[58,10,58,11],[59,3,59,4],[59,7,59,8],[59,10,59,11],[60,3,60,4],[60,7,60,8],[60,10,60,11],[61,3,61,4],[61,7,61,8],[61,10,61,11],[62,3,62,4],[62,7,62,8],[62,10,62,11],[63,3,63,4],[63,7,63,8],[63,10,63,11],[64,3,64,4],[64,7,64,8],[64,10,64,11],[65,3,65,4],[65,7,65,8],[65,10,65,11],[66,3,66,4],[66,7,66,8],[66,10,66,11],[67,3,67,4],[67,7,67,8],[67,10,67,11],[68,3,68,4],[68,7,68,8],[68,10,68,11],[69,3,69,4],[69,7,69,8],[69,10,69,11],[70,3,70,4],[70,7,70,8],[70,10,70,11],[71,3,71,4],[71,7,71,8],[71,10,71,11],[72,3,72,4],[72,7,72,8],[72,10,72,11],[73,3,73,4],[73,7,73,8],[73,10,73,11],[74,3,74,4],[74,7,74,8],[74,10,74,11],[75,3,75,4],[75,7,75,8],[75,10,75,11],[76,3,76,4],[76,7,76,8],[76,10,76,11],[77,3,77,4],[77,7,77,8],[77,10,77,11],[78,3,78,4],[78,7,78,8],[78,10,78,11],[79,3,79,4],[79,7,79,8],[79,10,79,11],[80,3,80,4],[80,7,80,8],[80,10,80,11],[81,3,81,4],[81,7,81,8],[81,10,81,11],[82,3,82,4],[82,7,82,8],[82,10,82,11],[83,3,83,4],[83,7,83,8],[83,10,83,11],[84,3,84,4],[84,7,84,8],[84,10,84,11],[85,3,85,4],[85,7,85,8],[85,10,85,11],[86,3,86,4],[86,7,86,8],[86,10,86,11],[87,3,87,4],[87,7,87,8],[87,10,87,11],[88,3,88,4],[88,7,88,8],[88,10,88,11],[89,3,89,4],[89,7,89,8],[89,10,89,11],[90,3,90,4],[90,7,90,8],[90,10,90,11],[91,3,91,4],[91,7,91,8],[91,10,91,11],[92,3,92,4],[92,7,92,8],[92,10,92,11],[93,3,93,4],[93,7,93,8],[93,10,93,11],[94,3,94,4],[94,7,94,8],[94,10,94,11],[95,3,95,4],[95,7,95,8],[95,10,95,11],[96,3,96,4],[96,7,96,8],[96,10,96,11],[97,3,97,4],[97,7,97,8],[97,10,97,11],[98,3,98,4],[98,7,98,8],[98,10,98,11],[99,3,99,4],[99,7,99,8],[99,10,99,11],[100,3,100,4],[100,7,100,8],[100,10,100,11],[101,3,101,4],[101,7,101,8],[101,10,101,11],[102,3,102,4],[102,7,102,8],[102,10,102,11],[103,3,103,4],[103,7,103,8],[103,10,103,11],[104,3,104,4],[104,7,104,8],[104,10,104,11],[105,3,105,4],[105,7,105,8],[105,10,105,11],[106,3,106,4],[106,7,106,8],[106,10,106,11],[107,3,107,4],[107,7,107,8],[107,10,107,11],[108,3,108,4],[108,7,108,8],[108,10,108,11],[109,3,109,4],[109,7,109,8],[109,10,109,11],[110,3,110,4],[110,7,110,8],[110,10,110,11],[111,3,111,4],[111,7,111,8],[111,10,111,11],[112,3,112,4],[112,7,112,8],[112,10,112,11],[113,3,113,4],[113,7,113,8],[113,10,113,11],[114,3,114,4],[114,7,114,8],[114,10,114,11],[115,3,115,4],[115,7,115,8],[115,10,115,11],[116,3,116,4],[116,7,116,8],[116,10,116,11],[117,3,117,4],[117,7,117,8],[117,10,117,11],[118,3,118,4],[118,7,118,8],[118,10,118,11],[119,3,119,4],[119,7,119,8],[119,10,119,11],[120,3,120,4],[120,7,120,8],[120,10,120,11],[121,3,121,4],[121,7,121,8],[121,10,121,11],[122,3,122,4],[122,7,122,8],[122,10,122,11],[123,3,123,4],[123,7,123,8],[123,10,123,11],[124,3,124,4],[124,7,124,8],[124,10,124,11],[125,3,125,4],[125,7,125,8],[125,10,125,11],[126,3,126,4],[126,7,126,8],[126,10,126,11],[127,3,127,4],[127,7,127,8],[127,10,127,11],[128,3,128,4],[128,7,128,8],[128,10,128,11],[129,3,129,4],[129,7,129,8],[129,10,129,11],[130,3,130,4],[130,7,130,8],[130,10,130,11],[131,3,131,4],[131,7,131,8],[131,10,131,11],[132,3,132,4],[132,7,132,8],[132,10,132,11],[133,3,133,4],[133,7,133,8],[133,10,133,11],[134,3,134,4],[134,7,134,8],[134,10,134,11],[135,3,135,4],[135,7,135,8],[135,10,135,11],[136,3,136,4],[136,7,136,8],[136,10,136,11],[137,3,137,4],[137,7,137,8],[137,10,137,11],[138,3,138,4],[138,7,138,8],[138,10,138,11],[139,3,139,4],[139,7,139,8],[139,10,139,11],[140,3,140,4],[140,7,140,8],[140,10,140,11],[141,3,141,4],[141,7,141,8],[141,10,141,11],[142,3,142,4],[142,7,142,8],[142,10,142,11],[143,3,143,4],[143,7,143,8],[143,10,143,11],[144,3,144,4],[144,7,144,8],[144,10,144,11],[145,3,145,4],[145,7,145,8],[145,10,145,11],[146,3,146,4],[146,7,146,8],[146,10,146,11],[147,3,147,4],[147,7,147,8],[147,10,147,11],[148,3,148,4],[148,7,148,8],[148,10,148,11],[149,3,149,4],[149,7,149,8],[149,10,149,11],[150,3,150,4],[150,7,150,8],[150,10,150,11],[22,5,23,5],[22,9,23,9],[1,3,2,7],[22,3,23,4],[22,7,23,8],[22,10,23,11]]}
[]
[null,null,null,"UNIDAD FUNCIONAL DE GESTIÓN DE LA CALIDAD EN SALUD"]
[]
[]
[]
[null,null,null,{"$f":"+'MENU PRINCIPAL'!B2","v":"APLICATIVO  DE RONDAS  DE SEGURIDAD DEL PACIENTE PARA LA GESTIÓN DEL RIESGO EN LA ATENCION DE SALUD"}]
[]
[]
[]
[null,null,null,"FICHA DE EVALUACIÓN"]
[null,null,null,null,null,null,null,null,null,null,"IR A MENU "]
[]
[]
[null,null,null,"ÓRGANO DESCONCENTRADO:",null,null,null,{"$f":"'MENU PRINCIPAL'!C20","v":"INSTITUTO NACIONAL MATERNO PERINATAL"},"TRIMESTRE:","I TRIMESTRE","AÑO:",2023]
[null,null,null,"IPRESS:",null,null,null,"HOSPITAL DE ESPINAR","FECHA APLICACION:",null,"2023-03-29"]
[null,null,null,"UPSS:",null,null,null,"EMERGENCIA","RESP.EPIDEMIOLOGIA:","LIC. ISABEL ROMERO JACHA"]
[null,null,null,"TITULAR/RESPONSABLE IPRESS:",null,null,null,"DR. EDWIN SOTO CCAYAHUALLPA","RESP. DE LA UPSS:","DR. EDINSON VALDERRAMA MAMANI"]
[null,null,null,"RESP. DE ADMINISTRACION:",null,null,null,"LIC. JUVENAL TAIRO ZAMBRANO","RESP.OFIC./UNIDAD CALIDAD:","LIC. JUDITH K. CAHUATA TURO"]
[null,null,null,"RESP. DPTO/SERVICIO ENFERMERÍA:",null,null,null,"LIC. MARIO CHOQUE ROMERO.","OTROS RESPONSABLES:","LIC. IRMA LUPACA JIHUAÑA"]
[]
[]
[]
[null,null,null,"BUENAS PRÁCTICAS",null,"%",null,"VERIFICADOR",null,"CUMPLIMIENTO","OBSERVACIONES"]
["¿"]
["´ˆ",1,{"$f":"COUNTIF($J$24:J25,\"NO\")","v":0},{"$f":"IFERROR(VLOOKUP(B25,POR_UPSS,20,FALSE),\" \")","v":"HISTORIA CLINICA "},null,{"$f":"IFERROR(VLOOKUP(B25,POR_UPSS,23,FALSE),\" \")","v":0.521739130434783},{"$f":"IFERROR(VLOOKUP(B25,POR_UPSS,22,FALSE),\" \")","v":"A"},{"$f":"IFERROR(VLOOKUP(B25,POR_UPSS,21,FALSE),\" \")","v":"Registro de la fecha y hora de atención en la Historia Clínica y/o Registros Médicos."},{"$f":"IFERROR(VLOOKUP(F25,POR_UPSS,19,FALSE),\" \")","v":" "},"SI"]
[null,2,{"$f":"COUNTIF($J$24:J26,\"NO\")","v":1},"HISTORIA CLINICA ",null,0.521739130434783,"B",{"$f":"IFERROR(VLOOKUP(B26,POR_UPSS,21,FALSE),\" \")","v":"Registro completo de la filiación del paciente: Datos del EESS, Nº de HCl, Nombres y Apellidos del Paciente, Lugar y fecha de nacimiento, Edad, Sexo, Domicilio, Procedencia, Teléfono, DNI, Seguro, Estado Civi, Instrucción, Ocupación, Religión, Acompañante o Responsable de ser el caso."}," ","NO","se sugiere que en cada atencion deben de considerar estos datos importantes para la historia clinica"]
[null,3,{"$f":"COUNTIF($J$24:J27,\"NO\")","v":1},"HISTORIA CLINICA ",null,0.521739130434783,"C","Registro de la enfermedad actual."," ","SI"]
[null,4,{"$f":"COUNTIF($J$24:J28,\"NO\")","v":2},"HISTORIA CLINICA ",null,0.521739130434783,"D","Registro de los antecedentes del paciente."," ","NO","Es importante que se considere los antecedentes ya que de acuerdo a eso se verificara si la paciente puede tener alguna enfermedad de sus familiares"]
[null,5,{"$f":"COUNTIF($J$24:J29,\"NO\")","v":3},"HISTORIA CLINICA ",null,0.521739130434783,"E","Registro de la Funciones Biológicas: apetito, sed, sueño, orina, deposiciones, estado de animo. "," ","NO","deficiente llenado de historia clinica."]
[null,6,{"$f":"COUNTIF($J$24:J30,\"NO\")","v":3},"HISTORIA CLINICA ",null,0.521739130434783,"F","Registro completo del examen físico clínico general y regional de corresponder."," ","SI"]
[null,7,{"$f":"COUNTIF($J$24:J31,\"NO\")","v":3},"HISTORIA CLINICA ",null,0.521739130434783,"G","Registro de los diagnósticos con codificación CIE-10 ó DSM IV de corresponder (presuntivos o definitivos)"," ","SI"]
[null,8,{"$f":"COUNTIF($J$24:J32,\"NO\")","v":4},"HISTORIA CLINICA ",null,0.521739130434783,"H","Registro de evolución del paciente: Fecha y hora de atención, Apreciación Subjetiva, Apreciación Objetiva, Tratamiento, Dieta, Interpretación de exámenes y comentario, terapeútica y Plan de trabajo, firma, sello y colegiatura del médico responsable."," ","NO","es importante considerar las horas de atencion y evolucion del paciente"]
[null,9,{"$f":"COUNTIF($J$24:J33,\"NO\")","v":4},"HISTORIA CLINICA ",null,0.521739130434783,"I","Registro actualizado del Plan de Trabajo: Exámenes de Ayuda Diagnóstica, Procedimientos Médico-Quirúrgicos e Interconsultas."," ","SI"]
[null,10,{"$f":"COUNTIF($J$24:J34,\"NO\")","v":4},"HISTORIA CLINICA ",null,0.521739130434783,"J","Registro actualizado del tratamiento del paciente (medicamento, dosis, vía, periodicidad)."," ","SI"]
[null,11,{"$f":"COUNTIF($J$24:J35,\"NO\")","v":5},"HISTORIA CLINICA ",null,0.521739130434783,"K","Registro y gráfico actualizado de la Funciones Vitales."," ","NO","deficiente implementacion la hoja grafica "]
[null,12,{"$f":"COUNTIF($J$24:J36,\"NO\")","v":6},"HISTORIA CLINICA ",null,0.521739130434783,"L","Registro de la Hoja de Balance hidro - electrolítico actualizado."," ","NO","no cuenta con la hoja de balance hidrico"]
[null,13,{"$f":"COUNTIF($J$24:J37,\"NO\")","v":7},"HISTORIA CLINICA ",null,0.521739130434783,"M","Registro e inclusión en la Historia Clínica de los resultados de examenes auxiliares y procedimientos del paciente."," ","NO","Falta implementar "]
[null,14,{"$f":"COUNTIF($J$24:J38,\"NO\")","v":7},"HISTORIA CLINICA ",null,0.521739130434783,"N","Correspondencia entre el diagnóstico presuntivo y/o definitivo con el plan de trabajo en la última atención o evaluación realizada."," ","SI"]
[null,15,{"$f":"COUNTIF($J$24:J39,\"NO\")","v":7},"HISTORIA CLINICA ",null,0.521739130434783,"O","Correspondencia entre el plan de trabajo y los examenes de apoyo al diagnóstico solicitados en la última atención o evaluación realizada."," ","SI"]
[null,16,{"$f":"COUNTIF($J$24:J40,\"NO\")","v":7},"HISTORIA CLINICA ",null,0.521739130434783,"P","Registro del nombre del paciente en todas las hojas de la HCl."," ","SI"]
[null,17,{"$f":"COUNTIF($J$24:J41,\"NO\")","v":8},"HISTORIA CLINICA ",null,0.521739130434783,"Q","En caso de haberse producido un evento adverso, este ha sido registrado en la HCl o en algún medio de registro evidenciable."," ","NO","Falta implementar"]
[null,18,{"$f":"COUNTIF($J$24:J42,\"NO\")","v":9},"HISTORIA CLINICA ",null,0.521739130434783,"R","Registro completo del Consentimiento Informado de acuerdo a la normatividad vigente."," ","NO","Falta implementar"]
[null,19,{"$f":"COUNTIF($J$24:J43,\"NO\")","v":9},"HISTORIA CLINICA ",null,0.521739130434783,"S","Registro de la fecha y hora del alta del paciente"," ","SI"]
[null,20,{"$f":"COUNTIF($J$24:J44,\"NO\")","v":9},"HISTORIA CLINICA ",null,0.521739130434783,"T","Registro de las indicaciones de alta del paciente además de la epicrisis, incluyendo diagnóstico definitivo."," ","NO APLICA","Ya que los pacientes solo estan en observacion y luego pasan a ser hospitalizados"]
[null,21,{"$f":"COUNTIF($J$24:J45,\"NO\")","v":10},"HISTORIA CLINICA ",null,0.521739130434783,"U","Registro de los informes de los procedimientos realizados al paciente."," ","NO","En la historia clinica se debe considerar  todos los procedimientos realizados ya que son importantes para una auditoria  "]
[null,22,{"$f":"COUNTIF($J$24:J46,\"NO\")","v":10},"HISTORIA CLINICA ",null,0.521739130434783,"V","Registro de la Contrarreferencia del paciente"," ","SI"]
[null,23,{"$f":"COUNTIF($J$24:J47,\"NO\")","v":11},"HISTORIA CLINICA ",null,0.521739130434783,"W","La letra de la Historia Clínica es legible"," ","NO","Es necesario que la letra sea legible para poder ver as indicaciones y tratamiento del paciente"]
[null,24,{"$f":"COUNTIF($J$24:J48,\"NO\")","v":11},"HISTORIA CLINICA ",null,0.521739130434783,"X","Historia clínica ordenada y limpia."," ","SI"]
[null,25,{"$f":"COUNTIF($J$24:J49,\"NO\")","v":11},"SEGURIDAD EN LA UPSS",null,0.416666666666667,"Y","Las Interconsultas se gestionan oportunamente durante el turno."," ","SI"]
[null,26,{"$f":"COUNTIF($J$24:J50,\"NO\")","v":11},"SEGURIDAD EN LA UPSS",null,0.416666666666667,"Z","La solicitud de procedimientos de ayuda al diagnóstico y tratamiento se gestionan oportunamente durante el turno."," ","SI"]
[null,27,{"$f":"COUNTIF($J$24:J51,\"NO\")","v":12},"SEGURIDAD EN LA UPSS",null,0.416666666666667,"AA","La solicitud de medicamentos e insumos se gestionan oportunamente durante el turno."," ","NO","Esto debido a que los compañeros de farmacia en los cambios de turno no les brindan los medicamentos para la atencion de pacientes"]
[null,28,{"$f":"COUNTIF($J$24:J52,\"NO\")","v":12},"SEGURIDAD EN LA UPSS",null,0.416666666666667,"AB","Cumplimiento de las indicaciones de la dieta del paciente según indicación del médico tratante."," ","SI"]
[null,29,{"$f":"COUNTIF($J$24:J53,\"NO\")","v":12},"SEGURIDAD EN LA UPSS",null,0.416666666666667,"AC","Cumplimiento y verificación de la asistencia y permanencia del personal programado en el servicio para garantizar la atención oportuna de los pacientes."," ","SI"]
[null,30,{"$f":"COUNTIF($J$24:J54,\"NO\")","v":12},"SEGURIDAD EN LA UPSS",null,0.416666666666667,"AD","Mecanismo de reemplazo para cubrir la ausencia del personal programado en el servicio a fin de garantizar la atención de los pacientes."," ","SI"]
[null,31,{"$f":"COUNTIF($J$24:J55,\"NO\")","v":12},"SEGURIDAD EN LA UPSS",null,0.416666666666667,"AE","Personal en formación (internos, residentes, especialidad u otros) demuestran que tienen un personal asistencial que cumple el rol de tutoría y supervisión."," ","NO APLICA"]
[null,32,{"$f":"COUNTIF($J$24:J56,\"NO\")","v":13},"SEGURIDAD EN LA UPSS",null,0.416666666666667,"AF","Personal conoce del sistema de registro y notificación de incidentes y eventos adversos."," ","NO","Falta implementar las hojas de registro"]
[null,33,{"$f":"COUNTIF($J$24:J57,\"NO\")","v":14},{"$f":"IFERROR(VLOOKUP(B57,POR_UPSS,20,FALSE),\" \")","v":"SEGURIDAD EN LA UPSS"},null,{"$f":"IFERROR(VLOOKUP(B57,POR_UPSS,23,FALSE),\" \")","v":0.416666666666667},{"$f":"IFERROR(VLOOKUP(B57,POR_UPSS,22,FALSE),\" \")","v":"AG"},{"$f":"IFERROR(VLOOKUP(B57,POR_UPSS,21,FALSE),\" \")","v":"Registro físico y/o virtual de los incidentes y eventos adversos en la UPSS."},{"$f":"IFERROR(VLOOKUP(F57,POR_UPSS,19,FALSE),\" \")","v":" "},"NO","Falta implementar"]
[null,34,{"$f":"COUNTIF($J$24:J58,\"NO\")","v":15},"SEGURIDAD EN LA UPSS",null,0.416666666666667,"AH","Análisis y plan de intervención sobre la información de los incidentes y eventos adversos."," ","NO","Falta implementar"]
[null,35,{"$f":"COUNTIF($J$24:J59,\"NO\")","v":16},"SEGURIDAD EN LA UPSS",null,0.416666666666667,"AI","Registro físico o digital de notificación de accidentes de trabajo del personal asistencial."," ","NO","Falta implementar"]
[null,36,{"$f":"COUNTIF($J$24:J60,\"NO\")","v":16},"SEGURIDAD EN LA UPSS",null,0.416666666666667,"AJ","Utilización del formato de consentimiento informado para actividades de docencia."," ","NO APLICA"]
[null,37,{"$f":"COUNTIF($J$24:J61,\"NO\")","v":17},"SEGURIDAD EN LA UPSS",null,0.416666666666667,"AK","Timbre o sistema de llamado se encuentra cerca del paciente y está operativo."," ","NO","Nose cuenta con timbre porque no se cuenta ya que el hospital no cuenta con local propio"]
[null,38,{"$f":"COUNTIF($J$24:J62,\"NO\")","v":18},"SEGURIDAD EN LA UPSS",null,0.416666666666667,"AL","Barandas de las camas funcionan y están levantadas para proteger al paciente."," ","NO","Las camas si cuentan con barandas pero no se encuentran levantadas"]
[null,39,{"$f":"COUNTIF($J$24:J63,\"NO\")","v":19},"IDENTIFICACIÓN CORRECTA DEL PACIENTE ",null,0,"BG","Paciente tiene brazalete de identificación y los datos registrados son correctos y completos."," ","NO","Ninguno de los pacientes cuenta con brazalete de identificacion"]
[null,40,{"$f":"COUNTIF($J$24:J64,\"NO\")","v":20},"IDENTIFICACIÓN CORRECTA DEL PACIENTE ",null,0,"BH","Cartel visible que tenga registrado el nombre completo del paciente."," ","NO","No cuenta con datos completos"]
[null,41,{"$f":"COUNTIF($J$24:J65,\"NO\")","v":21},"IDENTIFICACIÓN CORRECTA DEL PACIENTE ",null,0,"BI","Datos proporcionados por el paciente, son similares a los registrados en la historia clínica."," ","NO","No cuenta con datos completos"]
[null,42,{"$f":"COUNTIF($J$24:J66,\"NO\")","v":22},"IDENTIFICACIÓN CORRECTA DEL PACIENTE ",null,0,"BJ","Verificación de la identidad del paciente con el brazalete antes de cualquier procedimiento."," ","NO","No cuentan con brazaletes"]
[null,43,{"$f":"COUNTIF($J$24:J67,\"NO\")","v":23},"IDENTIFICACIÓN CORRECTA DEL PACIENTE ",null,0,"BK","Identificación de riesgo de caidas del paciente tanto en el brazalete del paciente como en el cartel visible."," ","NO","No se cuenta con carteles"]
[null,44,{"$f":"COUNTIF($J$24:J68,\"NO\")","v":24},"IDENTIFICACIÓN CORRECTA DEL PACIENTE ",null,0,"BM","Conocimiento del paciente o familiar responsable sobre su enfermedad, su evolución y pronóstico del mismo, el cual debe concordar con la información registrada en la historia clínica."," ","NO","No se dio informacion a los familiares del paciente"]
[null,45,{"$f":"COUNTIF($J$24:J69,\"NO\")","v":25},"IDENTIFICACIÓN CORRECTA DEL PACIENTE ",null,0,"BN","Paciente  informado al que se  le han aclado sus dudas y preguntas respecto a algún procedimiento o cirugía, evidenciandose la firma del Consentimiento respectivo."," ","NO","No se le dio una informacion adecuada al paciente"]
[null,46,{"$f":"COUNTIF($J$24:J70,\"NO\")","v":26},"PREVENCIÓN DE LA FUGA DE PACIENTES",null,0,"BO","Paciente cuenta con ropa de hospital facilmente identificable."," ","NO","No se cuenta con pijamas para los pacientes"]
[null,47,{"$f":"COUNTIF($J$24:J71,\"NO\")","v":27},"PREVENCIÓN DE LA FUGA DE PACIENTES",null,0,"BP","Vigilancia controla las pertenencias de los pacientes y las visitas para evitar el uso inadecuado de objetos potencialmente peligrosos."," ","NO","Solo se cuenta con el apoyo como vigilantes con los pilotos de ambulancia"]
[null,48,{"$f":"COUNTIF($J$24:J72,\"NO\")","v":28},"PREVENCIÓN DE LA FUGA DE PACIENTES",null,0,"BQ","Tienen un sistema efectivo de control de las salidas y entradas del servicio de hospitalización."," ","NO","No siempre ya que aveces los pilotos de ambulancia se van con referencias"]
[null,49,{"$f":"COUNTIF($J$24:J73,\"NO\")","v":29},"PREVENCIÓN DE LA FUGA DE PACIENTES",null,0,"BR","Entrevistas con el paciente para valorar el riesgo potencial de fuga. Solo en casos de oposición activa y riesgo inminente de fuga se recurrirá a la contención mecánica."," ","NO","No contamos con vigilantes exclusivos"]
[null,50,{"$f":"COUNTIF($J$24:J74,\"NO\")","v":30},"PREVENCIÓN DE LA FUGA DE PACIENTES",null,0,"BS","Registro en la hoja de recomendaciones terapéuticas el riesgo de fuga del paciente y la activación de las medidas de supervisión oportunas."," ","NO","falta implementar"]
[null,51,{"$f":"COUNTIF($J$24:J75,\"NO\")","v":31},"PREVENCIÓN DE LA FUGA DE PACIENTES",null,0,"BT","Existencia de un procedimiento o protocolo que se active en caso de fuga de paciente."," ","NO","No se cuenta con ningun protocolo"]
[null,52,{"$f":"COUNTIF($J$24:J76,\"NO\")","v":32},"SEGURIDAD EN LA MEDICACIÓN  ",null,0.1,"BU","Paciente conoce que medicamentos recibe y a que hora corresponde que se lo administren."," ","NO","Paciente no recibio informacion"]
[null,53,{"$f":"COUNTIF($J$24:J77,\"NO\")","v":33},"SEGURIDAD EN LA MEDICACIÓN  ",null,0.1,"BV","Paciente conoce los efectos secundarios que pueden producirle los medicamentos que recibe."," ","NO","Paciente no recibio informacion"]
[null,54,{"$f":"COUNTIF($J$24:J78,\"NO\")","v":34},"SEGURIDAD EN LA MEDICACIÓN  ",null,0.1,"BW","Coche de paro cuenta con los insumos necesarios para atender situaciones críticas según normatividad vigente."," ","NO","Si se cuenta con coche de paro pero faltan mas insumos para que este completo"]
[null,55,{"$f":"COUNTIF($J$24:J79,\"NO\")","v":35},"SEGURIDAD EN LA MEDICACIÓN  ",null,0.1,"BX","Soluciones endovenosas se encuentran debidamente rotulados con la fecha y  los componentes contenidas en ella."," ","NO","No se encuentra debidamente rotulados"]
[null,56,{"$f":"COUNTIF($J$24:J80,\"NO\")","v":36},"SEGURIDAD EN LA MEDICACIÓN  ",null,0.1,"BY","Almacenamiento ordenado de los medicamentos  para evitar su confusión por su similitud de nombres o de presentación."," ","NO","Falta ordenarlos y roturarlos"]
[null,57,{"$f":"COUNTIF($J$24:J81,\"NO\")","v":36},"SEGURIDAD EN LA MEDICACIÓN  ",null,0.1,"BZ","Medicamentos se encuentran adecuadamente rotulados en caso de requerirlos."," ","SI"]
[null,58,{"$f":"COUNTIF($J$24:J82,\"NO\")","v":37},"SEGURIDAD EN LA MEDICACIÓN  ",null,0.1,"CA","Medicamentos se clasifican para su almacenamiento local según el nombre del paciente por dosis unitaria."," ","NO","No se cuenta con coche para claficar los medicamentos de cada paciente"]
[null,59,{"$f":"COUNTIF($J$24:J83,\"NO\")","v":38},"SEGURIDAD EN LA MEDICACIÓN  ",null,0.1,"CB","Medicamentos e insumos médicos cuentan con un mecanismo efectivo de control de vencimiento / caducidad."," ","NO","No se cuenta, falta implementar"]
[null,60,{"$f":"COUNTIF($J$24:J84,\"NO\")","v":39},"SEGURIDAD EN LA MEDICACIÓN  ",null,0.1,"CC","Existencia de un registro de medicamentos controlados."," ","NO","Falta implementar"]
[null,61,{"$f":"COUNTIF($J$24:J85,\"NO\")","v":40},"SEGURIDAD EN LA MEDICACIÓN  ",null,0.1,"CD","Profesional encargado del cuidado de los pacientes verifica los 5 correctos para la administración correcta de medicamentos."," ","NO","Profesional conoce pero no completo"]
[null,62,{"$f":"COUNTIF($J$24:J86,\"NO\")","v":41},"PREVENCIÓN DE CAIDA DE PACIENTES Y CONTENCION MECÁNICA",null,0.181818181818182,"CE","Valoración del riesgo de caída de todo paciente que se hospitaliza."," ","NO","Falta implementar"]
[null,63,{"$f":"COUNTIF($J$24:J87,\"NO\")","v":42},"PREVENCIÓN DE CAIDA DE PACIENTES Y CONTENCION MECÁNICA",null,0.181818181818182,"CF","Revaloración diaria de pacientes: ancianos, aquellos sometidos a polifarmacia, los drogodependientes y las personas con déficits neurológicos ‐ cognitivos."," ","NO","Falta implementar"]
[null,64,{"$f":"COUNTIF($J$24:J88,\"NO\")","v":43},"PREVENCIÓN DE CAIDA DE PACIENTES Y CONTENCION MECÁNICA",null,0.181818181818182,"CG","Información a los pacientes sobre los efectos secundarios de la medicación que pueden afectar la orientación y el sensorio."," ","NO","Falta brindar orientacion a los pacientes"]
[null,65,{"$f":"COUNTIF($J$24:J89,\"NO\")","v":44},{"$f":"IFERROR(VLOOKUP(B89,POR_UPSS,20,FALSE),\" \")","v":"PREVENCIÓN DE CAIDA DE PACIENTES Y CONTENCION MECÁNICA"},null,{"$f":"IFERROR(VLOOKUP(B89,POR_UPSS,23,FALSE),\" \")","v":0.181818181818182},{"$f":"IFERROR(VLOOKUP(B89,POR_UPSS,22,FALSE),\" \")","v":"CH"},{"$f":"IFERROR(VLOOKUP(B89,POR_UPSS,21,FALSE),\" \")","v":"En casos de sedación y deterioro cognitivo severo se utilizarán barras de protección lateral o contención abdominal cuando el paciente se encuentre encamado."},{"$f":"IFERROR(VLOOKUP(F89,POR_UPSS,19,FALSE),\" \")","v":" "},"NO","Falta implementar"]
[null,66,{"$f":"COUNTIF($J$24:J90,\"NO\")","v":45},"PREVENCIÓN DE CAIDA DE PACIENTES Y CONTENCION MECÁNICA",null,0.181818181818182,"CI","Comunicar al paciente temas relacionados al uso de los baños, uso de las duchas, uso de los lavaderos, cambios posturales periodicos, etc."," ","NO","Falta brindar informacion"]
[null,67,{"$f":"COUNTIF($J$24:J91,\"NO\")","v":46},"PREVENCIÓN DE CAIDA DE PACIENTES Y CONTENCION MECÁNICA",null,0.181818181818182,"CJ","Protocolo que establezca población objetivo, indicaciones, medidas preventivas, profesionales responsables de la indicación y supervisión de los diversos mecanismos de sujeción mecanica."," ","NO","Falta Implementar los protocolos"]
[null,68,{"$f":"COUNTIF($J$24:J92,\"NO\")","v":47},"PREVENCIÓN DE CAIDA DE PACIENTES Y CONTENCION MECÁNICA",null,0.181818181818182,"CK","Sistemas de registro específicos de todo paciente con sujeción mecánica, el que se debe de reevaluar periódicamente la situación y el tiempo de sujeción."," ","NO","No se cuenta con los sistemas de registro"]
[null,69,{"$f":"COUNTIF($J$24:J93,\"NO\")","v":48},"PREVENCIÓN DE CAIDA DE PACIENTES Y CONTENCION MECÁNICA",null,0.181818181818182,"CL","Asegurarse que las técnicas de inmovilización puedan ser retiradas fácilmente."," ","NO","Falta implementar"]
[null,70,{"$f":"COUNTIF($J$24:J94,\"NO\")","v":48},"PREVENCIÓN DE CAIDA DE PACIENTES Y CONTENCION MECÁNICA",null,0.181818181818182,"CM","Si el paciente se encuentra en posición supina, comprobar que puede mover la cabeza libremente y levantarla de la cama."," ","SI"]
[null,71,{"$f":"COUNTIF($J$24:J95,\"NO\")","v":48},"PREVENCIÓN DE CAIDA DE PACIENTES Y CONTENCION MECÁNICA",null,0.181818181818182,"CN","Si el paciente se encuentra  en decúbito prono asegurar que las vías aéreas no están obstruidas en ningún momento y que la expansión pulmonar no se ve limitada."," ","SI"]
[null,72,{"$f":"COUNTIF($J$24:J96,\"NO\")","v":49},"PREVENCIÓN DE CAIDA DE PACIENTES Y CONTENCION MECÁNICA",null,0.181818181818182,"CO","Evidencia de cambio periódico de la posición de la inmovilización y evaluación de las zonas cutáneas sometidas a presión."," ","NO","Falta poner en practica al menos para los adultos mayores"]
[null,73,{"$f":"COUNTIF($J$24:J97,\"NO\")","v":49},"SEGURIDAD SEXUAL",null,0.333333333333333,"CP","Evaluación del paciente a su ingreso y durante el mismo de los riesgos de ser víctimas o de cometer agresiones sexuales: desinhibiciones maníacas, trastornos de la personalidad, aislamiento, poca aceptación en su medio."," ","SI"]
[null,74,{"$f":"COUNTIF($J$24:J98,\"NO\")","v":50},"SEGURIDAD SEXUAL",null,0.333333333333333,"CQ","Información disponible y clara referente a las consecuencias penales de las agresiones sexuales."," ","NO","Se brinda orientacion pero quienes resuelven el caso son de la fiscaia"]
[null,75,{"$f":"COUNTIF($J$24:J99,\"NO\")","v":51},"SEGURIDAD SEXUAL",null,0.333333333333333,"CR","El protocolo de recepción de un paciente establece la prohibición expresa de mantener relaciones sexuales durante la hospitalización."," ","NO","No se cuenta con un protocolo"]
[null,76,{"$f":"COUNTIF($J$24:J100,\"NO\")","v":52},"SEGURIDAD SEXUAL",null,0.333333333333333,"CS","Control de la entrada de pacientes a cualquier habitación que no sea la propia."," ","NO","No se cuenta con un personal exclusivo que controle"]
[null,77,{"$f":"COUNTIF($J$24:J101,\"NO\")","v":53},"SEGURIDAD SEXUAL",null,0.333333333333333,"CT","Al detectar conductas desinhibidas se comunicará al resto del equipo y se discutirán las medidas a tomar, que quedarán registradas en la hoja de recomendaciones terapéuticas."," ","NO","Falta implementar"]
[null,78,{"$f":"COUNTIF($J$24:J102,\"NO\")","v":53},"SEGURIDAD SEXUAL",null,0.333333333333333,"CU","Ante la sospecha de relaciones sexuales consumadas se aplicarán las medidas médicas y legales que resulten oportunas"," ","SI"]
[null,79,{"$f":"COUNTIF($J$24:J103,\"NO\")","v":54},"PREVENCIÓN Y REDUCCIÓN DEL RIESGO DE LAS ÚLCERAS POR PRESIÓN",null,0.285714285714286,"CV","Evaluación inicial del riesgo de úlceras por presión en todos los pacientes al ingreso a servicios de hospitalización"," ","NO","No evaluan a los pacientes falta que apliquen dicha evaluacion"]
[null,80,{"$f":"COUNTIF($J$24:J104,\"NO\")","v":54},"PREVENCIÓN Y REDUCCIÓN DEL RIESGO DE LAS ÚLCERAS POR PRESIÓN",null,0.285714285714286,"CW","Valoración del estado de la piel para detectar la presencia de úlceras por presión previas."," ","NO APLICA"]
[null,81,{"$f":"COUNTIF($J$24:J105,\"NO\")","v":54},"PREVENCIÓN Y REDUCCIÓN DEL RIESGO DE LAS ÚLCERAS POR PRESIÓN",null,0.285714285714286,"CX","Reevaluación periódica del riesgo, siempre que cambie la situación clínica basal del paciente."," ","SI"]
[null,82,{"$f":"COUNTIF($J$24:J106,\"NO\")","v":55},"PREVENCIÓN Y REDUCCIÓN DEL RIESGO DE LAS ÚLCERAS POR PRESIÓN",null,0.285714285714286,"CY","Protocolización de la guía de atención para la prevención y control de úlceras por presión."," ","NO","No existe un protocolo o guia "]
[null,83,{"$f":"COUNTIF($J$24:J107,\"NO\")","v":55},"PREVENCIÓN Y REDUCCIÓN DEL RIESGO DE LAS ÚLCERAS POR PRESIÓN",null,0.285714285714286,"CZ","Educación al paciente y su familia para la prevención y cuidado de las úlceras por presión."," ","SI"]
[null,84,{"$f":"COUNTIF($J$24:J108,\"NO\")","v":56},"PREVENCIÓN Y REDUCCIÓN DEL RIESGO DE LAS ÚLCERAS POR PRESIÓN",null,0.285714285714286,"DA","Planificación, ejecución y evaluación del programa educativo dirigido a paciente, su cuidador y la familia. "," ","NO","No se cuenta con un plan "]
[null,85,{"$f":"COUNTIF($J$24:J109,\"NO\")","v":57},"PREVENCIÓN Y REDUCCIÓN DEL RIESGO DE LAS ÚLCERAS POR PRESIÓN",null,0.285714285714286,"DB","Notificación de úlceras por presión (incidencia y prevalencia) en un registro diario instaurado en los servicios de hospitalización."," ","NO","No se cuenta con registro para notificar"]
[null,86,{"$f":"COUNTIF($J$24:J110,\"NO\")","v":58},"PREVENCIÓN Y REDUCCIÓN DEL RIESGO DE LAS ÚLCERAS POR PRESIÓN",null,0.285714285714286,"DC","Aplicación de guía de curación de úlceras por presión según estadíos."," ","NO","No se cuenta con guias "]
[null,87,{"$f":"COUNTIF($J$24:J111,\"NO\")","v":58},"PREVENCIÓN Y REDUCCIÓN DEL RIESGO DE LAS ÚLCERAS POR PRESIÓN",null,0.285714285714286,"DD","Protocolizar el seguimiento de la evolución de los pacientes con úlceras por presión, tanto en pacientes hospitalizados como en aquellos atendidos en domicilio"," ","NO APLICA"]
[null,88,{"$f":"COUNTIF($J$24:J112,\"NO\")","v":58},"PREVENCIÓN DEL SUICIDO Y LESIONES",null,0.714285714285714,"DE","Identificación del Riesgo de Suicidio: antecedentes de enfermedad mental y/o abuso de sustancias, enfermedad somática grave crónica, antecedentes de conducta violenta o autolesiva, intentos suicidas previos, conductas suicidas en el entorno cercano."," ","SI"]
[null,89,{"$f":"COUNTIF($J$24:J113,\"NO\")","v":58},"PREVENCIÓN DEL SUICIDO Y LESIONES",null,0.714285714285714,"DF","Identificación de un paciente en riesgo de suicidio debe poner en marcha estrategias específicas de abordaje (evaluación, monitorización y tratamiento específicos)"," ","SI"]
[null,90,{"$f":"COUNTIF($J$24:J114,\"NO\")","v":59},"PREVENCIÓN DEL SUICIDO Y LESIONES",null,0.714285714285714,"DG","Ubicar al paciente en el Servicio / Unidad más adecuada a sus necesidades y en función del riesgo detectado."," ","NO","Los pacientes no se encuentran bien ubicados"]
[null,91,{"$f":"COUNTIF($J$24:J115,\"NO\")","v":59},"PREVENCIÓN DEL SUICIDO Y LESIONES",null,0.714285714285714,"DH","Los pacientes y los familiares deben ser informados de la prohibición de introducir en el servicio elementos que puedan suponer un riesgo de auto o heteroagresividad."," ","SI"]
[null,92,{"$f":"COUNTIF($J$24:J116,\"NO\")","v":59},"PREVENCIÓN DEL SUICIDO Y LESIONES",null,0.714285714285714,"DI","El botiquín / almacén de medicamentos del servicio permanece en todo momento cerrado bajo llave. La llave la custodiará el personal de enfermería."," ","SI"]
[null,93,{"$f":"COUNTIF($J$24:J117,\"NO\")","v":59},"PREVENCIÓN DEL SUICIDO Y LESIONES",null,0.714285714285714,"DJ","El coche de limpieza transportará los productos peligrosos de la forma más inaccesible posible, sin dejarlo nunca sin supervisión o al alcance de los pacientes"," ","SI"]
[null,94,{"$f":"COUNTIF($J$24:J118,\"NO\")","v":59},"PREVENCIÓN DEL SUICIDO Y LESIONES",null,0.714285714285714,"DK","La entrega como  la retirada de las comidas, el personal responsable procederán al recuento de las piezas de vajilla y cubiertos. Si se detecta la desaparición de alguna de ellas, se procederá al registro."," ","NO APLICA"]
[null,95,{"$f":"COUNTIF($J$24:J119,\"NO\")","v":60},"PREVENCIÓN DEL SUICIDO Y LESIONES",null,0.714285714285714,"DL","El protocolo de prevención de conductas suicidas debe incluir correcta ubicación del paciente, la necesidad o no de sujeción mecánica, la supervisión así como la constancia en el registro de cualquier incidencia, el control de salidas y de visitas."," ","NO","No se cuenta con lo protocolos"]
[null,96,{"$f":"COUNTIF($J$24:J120,\"NO\")","v":61},"COMUNICACIÓN EFECTIVA",null,0.9,"DM","La UPSS proporciona información sobre sus servicios, horarios de atención a pacientes y/o familiares y el proceso para obtener atención."," ","NO","No brinda la informacion completa"]
[null,97,{"$f":"COUNTIF($J$24:J121,\"NO\")","v":61},{"$f":"IFERROR(VLOOKUP(B121,POR_UPSS,20,FALSE),\" \")","v":"COMUNICACIÓN EFECTIVA"},null,{"$f":"IFERROR(VLOOKUP(B121,POR_UPSS,23,FALSE),\" \")","v":0.9},{"$f":"IFERROR(VLOOKUP(B121,POR_UPSS,22,FALSE),\" \")","v":"DN"},{"$f":"IFERROR(VLOOKUP(B121,POR_UPSS,21,FALSE),\" \")","v":"Los pacientes y las familias reciben información sobre cómo acceder a los servicios de la UPSS."},{"$f":"IFERROR(VLOOKUP(F121,POR_UPSS,19,FALSE),\" \")","v":" "},"SI"]
[null,98,{"$f":"COUNTIF($J$24:J122,\"NO\")","v":61},"COMUNICACIÓN EFECTIVA",null,0.9,"DO","La comunicación y la educación del paciente y de la familia se dan en un idioma comprensible y con palabras de comprensión común."," ","SI"]
[null,99,{"$f":"COUNTIF($J$24:J123,\"NO\")","v":61},"COMUNICACIÓN EFECTIVA",null,0.9,"DP","Se evidencian comunicaciones reciprocas entre el Jefe de la UPSS y la Dirección del Establecimiento tanto en temas clínicos como administrativos."," ","SI"]
[null,100,{"$f":"COUNTIF($J$24:J124,\"NO\")","v":61},"COMUNICACIÓN EFECTIVA",null,0.9,"DQ","Se evidencia comunicación (verbal, escrita o electrónica) e intercambio de información entre los profesionales médicos al momento de cambio de turno (cambio de guardia), relacionado al estado de salud de los pacientes, resumen de la atención prestada durante el turno (guardia) y la evolución de los pacientes."," ","SI"]
[null,101,{"$f":"COUNTIF($J$24:J125,\"NO\")","v":61},"COMUNICACIÓN EFECTIVA",null,0.9,"DR","Se evidencia comunicación (verbal, escrita o electrónica) e intercambio de información entre los profesionales encargados del cuidado del paciente al momento de cambio de turno (cambio de guardia), relacionado al estado de salud de los pacientes, resumen de la atención prestada durante el turno (guardia) y la evolución de los pacientes."," ","SI"]
[null,102,{"$f":"COUNTIF($J$24:J126,\"NO\")","v":61},"COMUNICACIÓN EFECTIVA",null,0.9,"DS","Las historias clínicas están a disposición de los profesionales de la salud que las necesitan para atender al paciente."," ","SI"]
[null,103,{"$f":"COUNTIF($J$24:J127,\"NO\")","v":61},"COMUNICACIÓN EFECTIVA",null,0.9,"DT","Las historias clínicas están actualizadas para asegurar la comunicación de la información más reciente."," ","SI"]
[null,104,{"$f":"COUNTIF($J$24:J128,\"NO\")","v":61},"COMUNICACIÓN EFECTIVA",null,0.9,"DU","La historia clínica del paciente o un resumen de información de su atención se transfiere junto al paciente a otro servicio o unidad dentro del establecimiento."," ","SI"]
[null,105,{"$f":"COUNTIF($J$24:J129,\"NO\")","v":61},"COMUNICACIÓN EFECTIVA",null,0.9,"DV","El resumen de la información del traslado de un paciente incluye: el motivo de admisión, los hallazgos relevantes, los diagnósticos, todos los procedimientos realizados, todos los medicamentos y demás tratamientos administrados, el estado del paciente al momento de la transferencia."," ","SI"]
[null,106,{"$f":"COUNTIF($J$24:J130,\"NO\")","v":62},"HIGIENE DE MANOS",null,0,"DW","Disponibilidad de dispensadores con preparados de base alcohólica para manos."," ","NO","Falta implementar en los diferentes areas del servico de emergencia"]
[null,107,{"$f":"COUNTIF($J$24:J131,\"NO\")","v":63},"HIGIENE DE MANOS",null,0,"DX","Disponibilidad de lavamanos con suministro de agua y jabón."," ","NO","Falta implementar en los diferentes areas del servicio de emergencia"]
[null,108,{"$f":"COUNTIF($J$24:J132,\"NO\")","v":64},"HIGIENE DE MANOS",null,0,"DY","Disponibilidad de papel toalla en todos los lavamanos."," ","NO","Falta implementar "]
[null,109,{"$f":"COUNTIF($J$24:J133,\"NO\")","v":65},"HIGIENE DE MANOS",null,0,"DZ","Cumplimiento del ratio lavamanos/ paciente-cama de al menos 1:10"," ","NO","Por la demanda de pacientes no se cumple "]
[null,110,{"$f":"COUNTIF($J$24:J134,\"NO\")","v":66},"HIGIENE DE MANOS",null,0,"EA","Cumplimiento de los 08 pasos de la desinfección de manos (pasos y tiempo)."," ","NO","Nose cumple con los pasos y tiempo"]
[null,111,{"$f":"COUNTIF($J$24:J135,\"NO\")","v":67},"HIGIENE DE MANOS",null,0,"EB","Cumplimiento de los 11 pasos del lavado de manos (pasos y tiempo)."," ","NO","No se cumple con los pasos y tiempo"]
[null,112,{"$f":"COUNTIF($J$24:J136,\"NO\")","v":68},"HIGIENE DE MANOS",null,0,"EC","Porcentaje de cumplimiento > 80%, del requisito de realizar la higiene de las manos durante su actividad asistencial de acuerdo con los cinco momentos de la higiene de manos."," ","NO","No se observa el cumplimiento"]
[null,113,{"$f":"COUNTIF($J$24:J137,\"NO\")","v":69},"HIGIENE DE MANOS",null,0,"ED","Mensajes y dibujos que promueven la adherencia a la higiene de manos colocados en sitios estratégicos."," ","NO","No se cuenta en todos los sitios estrategicos"]
[null,114,{"$f":"COUNTIF($J$24:J138,\"NO\")","v":70},"BIOSEGURIDAD",null,0.125,"EE","Disposición de residuos sólidos de acuerdo a las normas."," ","NO","No se estan de acuerdao a las normas"]
[null,115,{"$f":"COUNTIF($J$24:J139,\"NO\")","v":71},"BIOSEGURIDAD",null,0.125,"EF","Eliminación de material punzo cortante y agujas de acuerdo a las normas."," ","NO","No se cumple de acuerdo a las normas"]
[null,116,{"$f":"COUNTIF($J$24:J140,\"NO\")","v":71},"BIOSEGURIDAD",null,0.125,"EG","Cuidado y manejo de los catéteres se realiza de acuerdo a normas."," ","SI"]
[null,117,{"$f":"COUNTIF($J$24:J141,\"NO\")","v":72},"BIOSEGURIDAD",null,0.125,"EH","Cumplimiento de las medidas de aislamiento."," ","NO","Falta implementar"]
[null,118,{"$f":"COUNTIF($J$24:J142,\"NO\")","v":73},"BIOSEGURIDAD",null,0.125,"EI","El servicio ha implementado el uso de 'Care Bundle\" o Paquete de Medidas para la prevención de las IAAS basadas en evidencia médica. "," ","NO","falta implementar"]
[null,119,{"$f":"COUNTIF($J$24:J143,\"NO\")","v":74},"BIOSEGURIDAD",null,0.125,"EJ","Evidencia de desarrollo de actividades de vigilancia epidemiológica activa, selectiva y localizada de IAAS en la UPSS."," ","NO","Si se vigila pero falta implementar "]
[null,120,{"$f":"COUNTIF($J$24:J144,\"NO\")","v":75},"BIOSEGURIDAD",null,0.125,"EK","Se observa si se encuentran señalizados las zonas rígidas y semirígidas de la Unidad Productora de Servicios de Salud."," ","NO","No se cuenta con señalizaciones"]
[null,121,{"$f":"COUNTIF($J$24:J145,\"NO\")","v":76},"BIOSEGURIDAD",null,0.125,"EL","Se observa si se respetan las zonas rígidas y semirígidas de la Unidad Productora de Servicios de Salud."," ","NO","Falta implementar"]
[null,122,{"$f":"COUNTIF($J$24:J146,\"NO\")","v":77},"FUNCIONAMIENTO Y MANEJO DE EQUIPOS ",null,0,"EM","Equipos biomédicos accesibles según le corresponda a la UPSS y de acuerdo al nivel de complejidad"," ","NO","Falta Implementar mas equipos"]
[null,123,{"$f":"COUNTIF($J$24:J147,\"NO\")","v":78},"FUNCIONAMIENTO Y MANEJO DE EQUIPOS ",null,0,"EN","Equipos biomédicos operativos según le corresponda a la UPSS y de acuerdo al nivel de complejidad"," ","NO","Hay varios equipos inoperativos"]
[null,124,{"$f":"COUNTIF($J$24:J148,\"NO\")","v":79},"FUNCIONAMIENTO Y MANEJO DE EQUIPOS ",null,0,"EO","Verificación del conocimiento del personal sobre el funcionamiento de los equipos biomédicos, según responsabilidad."," ","NO","Falta conocimiento "]
[null,125,{"$f":"COUNTIF($J$24:J149,\"NO\")","v":80},"FUNCIONAMIENTO Y MANEJO DE EQUIPOS ",null,0,"EP","Verificación de que la UPSS cuenta con un Plan Anual de Mantenimiento Preventivo de todos sus equipo biomédicos (inclusive los nuevos)."," ","NO","No se cuenta cuenta con plan "]
[null,126,{"$f":"COUNTIF($J$24:J150,\"NO\")","v":81},"FUNCIONAMIENTO Y MANEJO DE EQUIPOS ",null,0,"EQ","Verificación de que la UPSS cumple con ejecutar su Plan Anual de Mantenimiento Preventivo de todos sus equipo biomédicos (inclusive los nuevos), mediante la visualización de las respectivas tarjetas."," ","NO","No se cuenta con el plan anual de mantenimiento"]
[null,127,{"$f":"COUNTIF($J$24:J151,\"NO\")","v":81}," ",null," "," "," "," "]

{"sheet":"FICHA OCULTA","index":2,"n_rows":222,"n_cols":11,"rows_kept":222,"cut":false,"hidden":true,"merged":[[5,2,5,10],[7,2,7,10],[9,2,9,10],[11,2,11,10],[13,2,13,4],[14,2,14,4],[15,2,15,4],[15,8,15,10],[16,2,16,4],[16,8,16,10],[17,2,17,4],[17,8,17,10],[18,2,18,4],[18,8,18,10],[24,6,24,7],[24,9,24,10],[25,6,25,7],[25,9,25,10],[26,6,26,7],[26,9,26,10],[27,6,27,7],[27,9,27,10],[28,6,28,7],[28,9,28,10],[29,6,29,7],[29,9,29,10],[30,6,30,7],[30,9,30,10],[31,6,31,7],[31,9,31,10],[32,6,32,7],[32,9,32,10],[33,6,33,7],[33,9,33,10],[34,6,34,7],[34,9,34,10],[35,6,35,7],[35,9,35,10],[36,6,36,7],[36,9,36,10],[37,6,37,7],[37,9,37,10],[38,6,38,7],[38,9,38,10],[39,6,39,7],[39,9,39,10],[40,6,40,7],[40,9,40,10],[41,6,41,7],[41,9,41,10],[42,6,42,7],[42,9,42,10],[43,6,43,7],[43,9,43,10],[44,6,44,7],[44,9,44,10],[45,6,45,7],[45,9,45,10],[46,6,46,7],[46,9,46,10],[47,6,47,7],[47,9,47,10],[51,2,51,10],[52,6,52,7],[52,9,52,10],[53,6,53,7],[53,9,53,10],[54,6,54,7],[54,9,54,10],[55,6,55,7],[55,9,55,10],[56,6,56,7],[56,9,56,10],[57,6,57,7],[57,9,57,10],[58,6,58,7],[58,9,58,10],[59,6,59,7],[59,9,59,10],[60,6,60,7],[60,9,60,10],[61,6,61,7],[61,9,61,10],[62,6,62,7],[62,9,62,10],[63,6,63,7],[63,9,63,10],[64,6,64,7],[64,9,64,10],[65,6,65,7],[65,9,65,10],[66,6,66,7],[66,9,66,10],[67,6,67,7],[67,9,67,10],[68,6,68,7],[68,9,68,10],[69,6,69,7],[69,9,69,10],[70,6,70,7],[70,9,70,10],[71,6,71,7],[71,9,71,10],[72,6,72,7],[72,9,72,10],[73,6,73,7],[73,9,73,10],[74,6,74,7],[74,9,74,10],[75,6,75,7],[75,9,75,10],[76,6,76,7],[76,9,76,10],[77,6,77,7],[77,9,77,10],[78,6,78,7],[78,9,78,10],[79,6,79,7],[79,9,79,10],[80,6,80,7],[80,9,80,10],[81,6,81,7],[81,9,81,10],[82,6,82,7],[82,9,82,10],[83,6,83,7],[83,9,83,10],[84,6,84,7],[84,9,84,10],[85,6,85,7],[85,9,85,10],[89,2,89,10],[90,6,90,7],[90,9,90,10],[91,6,91,7],[91,9,91,10],[92,6,92,7],[92,9,92,10],[93,6,93,7],[93,9,93,10],[94,6,94,7],[94,9,94,10],[95,6,95,7],[95,9,95,10],[96,6,96,7],[96,9,96,10],[97,6,97,7],[97,9,97,10],[101,2,101,10],[102,6,102,7],[102,9,102,10],[103,6,103,7],[103,9,103,10],[104,6,104,7],[104,9,104,10],[105,6,105,7],[105,9,105,10],[106,6,106,7],[106,9,106,10],[107,6,107,7],[107,9,107,10],[111,2,111,10],[112,6,112,7],[112,9,112,10],[113,6,113,7],[113,9,113,10],[114,6,114,7],[114,9,114,10],[115,6,115,7],[115,9,115,10],[116,6,116,7],[116,9,116,10],[117,6,117,7],[117,9,117,10],[118,6,118,7],[118,9,118,10],[119,6,119,7],[119,9,119,10],[120,6,120,7],[120,9,120,10],[121,6,121,7],[121,9,121,10],[125,2,125,10],[126,6,126,7],[126,9,126,10],[127,6,127,7],[127,9,127,10],[128,6,128,7],[128,9,128,10],[129,6,129,7],[129,9,129,10],[130,6,130,7],[130,9,130,10],[131,6,131,7],[131,9,131,10],[132,6,132,7],[132,9,132,10],[133,6,133,7],[133,9,133,10],[134,6,134,7],[134,9,134,10],[135,6,135,7],[135,9,135,10],[136,6,136,7],[136,9,136,10],[140,2,140,10],[141,6,141,7],[141,9,141,10],[142,6,142,7],[142,9,142,10],[143,6,143,7],[143,9,143,10],[144,6,144,7],[144,9,144,10],[145,6,145,7],[145,9,145,10],[146,6,146,7],[146,9,146,10],[150,2,150,10],[151,6,151,7],[151,9,151,10],[152,6,152,7],[152,9,152,10],[153,6,153,7],[153,9,153,10],[154,6,154,7],[154,9,154,10],[155,6,155,7],[155,9,155,10],[156,6,156,7],[156,9,156,10],[157,6,157,7],[157,9,157,10],[158,6,158,7],[158,9,158,10],[159,6,159,7],[159,9,159,10],[163,2,163,10],[164,6,164,7],[164,9,164,10],[165,6,165,7],[165,9,165,10],[166,6,166,7],[166,9,166,10],[167,6,167,7],[167,9,167,10],[168,6,168,7],[168,9,168,10],[169,6,169,7],[169,9,169,10],[170,6,170,7],[170,9,170,10],[171,6,171,7],[171,9,171,10],[175,2,175,10],[176,6,176,7],[176,9,176,10],[177,6,177,7],[177,9,177,10],[178,6,178,7],[178,9,178,10],[179,6,179,7],[179,9,179,10],[180,6,180,7],[180,9,180,10],[181,6,181,7],[181,9,181,10],[182,6,182,7],[182,9,182,10],[183,6,183,7],[183,9,183,10],[184,6,184,7],[184,9,184,10],[185,6,185,7],[185,9,185,10],[189,2,189,10],[190,6,190,7],[190,9,190,10],[191,6,191,7],[191,9,191,10],[192,6,192,7],[192,9,192,10],[193,6,193,7],[193,9,193,10],[194,6,194,7],[194,9,194,10],[195,6,195,7],[195,9,195,10],[196,6,196,7],[196,9,196,10],[197,6,197,7],[197,9,197,10],[201,2,201,10],[202,6,202,7],[202,9,202,10],[203,6,203,7],[203,9,203,10],[204,6,204,7],[204,9,204,10],[205,6,205,7],[205,9,205,10],[206,6,206,7],[206,9,206,10],[207,6,207,7],[207,9,207,10],[208,6,208,7],[208,9,208,10],[209,6,209,7],[209,9,209,10],[213,2,213,10],[214,6,214,7],[214,9,214,10],[215,6,215,7],[215,9,215,10],[216,6,216,7],[216,9,216,10],[217,6,217,7],[217,9,217,10],[218,6,218,7],[218,9,218,10],[222,2,222,10],[22,4,23,4],[24,4,47,4],[52,4,85,4],[90,4,97,4],[102,4,107,4],[112,4,121,4],[126,4,136,4],[141,4,146,4],[151,4,159,4],[164,4,171,4],[176,4,185,4],[190,4,197,4],[202,4,209,4],[214,4,218,4],[22,8,23,8],[176,2,185,3],[202,2,209,3],[24,2,47,3],[52,2,85,3],[90,2,97,3],[112,2,121,3],[126,2,136,3],[164,2,171,3],[22,9,23,10],[1,2,2,6],[102,2,107,3],[214,2,218,3],[22,2,23,3],[22,6,23,7],[190,2,197,3],[151,2,159,3],[141,2,146,3]]}
[]
[null,null,"OFICINA DE GESTIÓN DE LA CALIDAD Y DERECHOS DE LAS PERSONAS"]
[]
[]
[]
[null,null,"APLICATIVO GESTIÓN DEL RIESGO PARA LA  SEGURIDAD DEL PACIENTE"]
[]
[]
[]
[null,null,"FICHA DE EVALUACIÓN"]
[null,null,null,null,null,null,null,null,null,"IR A MENU "]
[]
[]
[null,null,"ÓRGANO DESCONCENTRADO:",null,null,null,{"$f":"'MENU PRINCIPAL'!C20","v":"INSTITUTO NACIONAL MATERNO PERINATAL"},"TRIMESTRE:","SELECCIONE","AÑO:","SELECCIONE"]
[null,null,"ESTABLECIMIENTO DE SALUD:",null,null,null,null,"FECHA EJECUCIÓN:",null,null,"(DD/MM/AAAA)"]
[null,null,"UPSS:",null,null,null,"CENTRO QUIRÚRGICO","ESPECIALIDAD:"]
[null,null,"DIRECTOR GEN/EJEC",null,null,null,{"$f":"IF('MENU PRINCIPAL'!C22=0,\" \",'MENU PRINCIPAL'!C22)","v":"Dr.EDWIN SOTO CCAYAHUALLPA"},"JEFE DE LA UPSS:"]
[null,null,"ADMINISTRADOR:",null,null,null,null,"JEF. OFICINA DE CALIDAD:"]
[null,null,"JEF. ENFERMERÍA:",null,null,null,null,"OTRAS JEFATURAS:"]
[]
[]
[]
[null,null,"BUENAS PRÁCTICAS",null,"%",null,"VERIFICADOR",null,"CUMPLIMIENTO","OBSERVACIONES"]
[]
[null,{"$f":"COUNTIF($I$24:I25,\"NO\")","v":0},"REGISTRO EN LA HISTORIA CLINICA \n\n(Jefe de la UPSS)",null,{"$f":"IFERROR(I51,\" \")","v":0.521739130434783},"A","Registro de la fecha y hora de atención en la Historia Clínica y/o Registros Médicos.",null,{"$f":"IFERROR(VLOOKUP(F25,PORC,4,FALSE),\"ER\")","v":"SI"}]
[null,{"$f":"COUNTIF($I$24:I26,\"NO\")","v":1},null,null,null,"B","Registro completo de la filiación del paciente: Datos del EESS, Nº de HCl, Nombres y Apellidos del Paciente, Lugar y fecha de nacimiento, Edad, Sexo, Domicilio, Procedencia, Teléfono, DNI, Seguro, Estado Civi, Instrucción, Ocupación, Religión, Acompañante o Responsable de ser el caso.",null,"NO"]
[null,{"$f":"COUNTIF($I$24:I27,\"NO\")","v":1},null,null,null,"C","Registro de la enfermedad actual.",null,"SI"]
[null,{"$f":"COUNTIF($I$24:I28,\"NO\")","v":2},null,null,null,"D","Registro de los antecedentes del paciente.",null,"NO"]
[null,{"$f":"COUNTIF($I$24:I29,\"NO\")","v":3},null,null,null,"E","Registro de la Funciones Biológicas: apetito, sed, sueño, orina, deposiciones, estado de animo. ",null,"NO"]
[null,{"$f":"COUNTIF($I$24:I30,\"NO\")","v":3},null,null,null,"F","Registro completo del examen físico clínico general y regional de corresponder.",null,"SI"]
[null,{"$f":"COUNTIF($I$24:I31,\"NO\")","v":3},null,null,null,"G","Registro de los diagnósticos con codificación CIE-10 ó DSM IV de corresponder (presuntivos o definitivos)",null,"SI"]
[null,{"$f":"COUNTIF($I$24:I32,\"NO\")","v":4},null,null,null,"H","Registro de evolución del paciente: Fecha y hora de atención, Apreciación Subjetiva, Apreciación Objetiva, Tratamiento, Dieta, Interpretación de exámenes y comentario, terapeútica y Plan de trabajo, firma, sello y colegiatura del médico responsable.",null,"NO"]
[null,{"$f":"COUNTIF($I$24:I33,\"NO\")","v":4},null,null,null,"I","Registro actualizado del Plan de Trabajo: Exámenes de Ayuda Diagnóstica, Procedimientos Médico-Quirúrgicos e Interconsultas.",null,"SI"]
[null,{"$f":"COUNTIF($I$24:I34,\"NO\")","v":4},null,null,null,"J","Registro actualizado del tratamiento del paciente (medicamento, dosis, vía, periodicidad).",null,"SI"]
[null,{"$f":"COUNTIF($I$24:I35,\"NO\")","v":5},null,null,null,"K","Registro y gráfico actualizado de la Funciones Vitales.",null,"NO"]
[null,{"$f":"COUNTIF($I$24:I36,\"NO\")","v":6},null,null,null,"L","Registro de la Hoja de Balance hidro - electrolítico actualizado.",null,"NO"]
[null,{"$f":"COUNTIF($I$24:I37,\"NO\")","v":7},null,null,null,"M","Registro e inclusión en la Historia Clínica de los resultados de examenes auxiliares y procedimientos del paciente.",null,"NO"]
[null,{"$f":"COUNTIF($I$24:I38,\"NO\")","v":7},null,null,null,"N","Correspondencia entre el diagnóstico presuntivo y/o definitivo con el plan de trabajo en la última atención o evaluación realizada.",null,"SI"]
[null,{"$f":"COUNTIF($I$24:I39,\"NO\")","v":7},null,null,null,"O","Correspondencia entre el plan de trabajo y los examenes de apoyo al diagnóstico solicitados en la última atención o evaluación realizada.",null,"SI"]
[null,{"$f":"COUNTIF($I$24:I40,\"NO\")","v":7},null,null,null,"P","Registro del nombre del paciente en todas las hojas de la HCl.",null,"SI"]
[null,{"$f":"COUNTIF($I$24:I41,\"NO\")","v":8},null,null,null,"Q","En caso de haberse producido un evento adverso, este ha sido registrado en la HCl o en algún medio de registro evidenciable.",null,"NO"]
[null,{"$f":"COUNTIF($I$24:I42,\"NO\")","v":9},null,null,null,"R","Registro completo del Consentimiento Informado de acuerdo a la normatividad vigente.",null,"NO"]
[null,{"$f":"COUNTIF($I$24:I43,\"NO\")","v":9},null,null,null,"S","Registro de la fecha y hora del alta del paciente",null,"SI"]
[null,{"$f":"COUNTIF($I$24:I44,\"NO\")","v":9},null,null,null,"T","Registro de las indicaciones de alta del paciente además de la epicrisis, incluyendo diagnóstico definitivo.",null,"NO APLICA"]
[null,{"$f":"COUNTIF($I$24:I45,\"NO\")","v":10},null,null,null,"U","Registro de los informes de los procedimientos realizados al paciente.",null,"NO"]
[null,{"$f":"COUNTIF($I$24:I46,\"NO\")","v":10},null,null,null,"V","Registro de la Contrarreferencia del paciente",null,"SI"]
[null,{"$f":"COUNTIF($I$24:I47,\"NO\")","v":11},null,null,null,"W","La letra de la Historia Clínica es legible",null,"NO"]
[null,{"$f":"COUNTIF($I$24:I48,\"NO\")","v":11},null,null,null,"X","Historia clínica ordenada y limpia.",null,"SI"]
[null,{"$f":"COUNTIF($I$24:I49,\"NO\")","v":11},null,null,null,null,"TOTAL DE VERIFICADORES VALIDOS",null,{"$f":"COUNTIF(I25:I48,\"SI\")+COUNTIF(I25:I48,\"NO\")","v":23}]
[null,{"$f":"COUNTIF($I$24:I50,\"NO\")","v":11},null,null,null,null,"TOTAL DE VERIFICADORES POSITIVOS",null,{"$f":"COUNTIF(I25:I48,\"SI\")","v":12}]
[null,{"$f":"COUNTIF($I$24:I51,\"NO\")","v":11},null,null,null,null,"PORCENTAJE DE CUMPLIMIENTO",null,{"$f":"I50/I49","v":0.521739130434783}]
[null,{"$f":"COUNTIF($I$24:I52,\"NO\")","v":11}]
[null,{"$f":"COUNTIF($I$24:I53,\"NO\")","v":11},"SEGURIDAD DEL PACIENTE EN LA UNIDAD PRODUCTORA DE SERVICIOS DE SALUD                          \n\n(Jefe de la UPSS)",null,{"$f":"IFERROR(I89,\" \")","v":0.416666666666667},"Y","Las Interconsultas se gestionan oportunamente durante el turno.",null,{"$f":"IFERROR(VLOOKUP(F53,PORC,4,FALSE),\"ER\")","v":"SI"}]
[null,{"$f":"COUNTIF($I$24:I54,\"NO\")","v":11},null,null,null,"Z","La solicitud de procedimientos de ayuda al diagnóstico y tratamiento se gestionan oportunamente durante el turno.",null,"SI"]
[null,{"$f":"COUNTIF($I$24:I55,\"NO\")","v":12},null,null,null,"AA","La solicitud de medicamentos e insumos se gestionan oportunamente durante el turno.",null,"NO"]
[null,{"$f":"COUNTIF($I$24:I56,\"NO\")","v":12},null,null,null,"AB","Cumplimiento de las indicaciones de la dieta del paciente según indicación del médico tratante.",null,"SI"]
[null,{"$f":"COUNTIF($I$24:I57,\"NO\")","v":12},null,null,null,"AC","Cumplimiento y verificación de la asistencia y permanencia del personal programado en el servicio para garantizar la atención oportuna de los pacientes.",null,"SI"]
[null,{"$f":"COUNTIF($I$24:I58,\"NO\")","v":12},null,null,null,"AD","Mecanismo de reemplazo para cubrir la ausencia del personal programado en el servicio a fin de garantizar la atención de los pacientes.",null,"SI"]
[null,{"$f":"COUNTIF($I$24:I59,\"NO\")","v":12},null,null,null,"AE","Personal en formación (internos, residentes, especialidad u otros) demuestran que tienen un personal asistencial que cumple el rol de tutoría y supervisión.",null,"NO APLICA"]
[null,{"$f":"COUNTIF($I$24:I60,\"NO\")","v":13},null,null,null,"AF","Personal conoce del sistema de registro y notificación de incidentes y eventos adversos.",null,"NO"]
[null,{"$f":"COUNTIF($I$24:I61,\"NO\")","v":14},null,null,null,"AG","Registro físico y/o virtual de los incidentes y eventos adversos en la UPSS.",null,"NO"]
[null,{"$f":"COUNTIF($I$24:I62,\"NO\")","v":15},null,null,null,"AH","Análisis y plan de intervención sobre la información de los incidentes y eventos adversos.",null,"NO"]
[null,{"$f":"COUNTIF($I$24:I63,\"NO\")","v":16},null,null,null,"AI","Registro físico o digital de notificación de accidentes de trabajo del personal asistencial.",null,"NO"]
[null,{"$f":"COUNTIF($I$24:I64,\"NO\")","v":16},null,null,null,"AJ","Utilización del formato de consentimiento informado para actividades de docencia.",null,"NO APLICA"]
[null,{"$f":"COUNTIF($I$24:I65,\"NO\")","v":17},null,null,null,"AK","Timbre o sistema de llamado se encuentra cerca del paciente y está operativo.",null,"NO"]
[null,{"$f":"COUNTIF($I$24:I66,\"NO\")","v":18},null,null,null,"AL","Barandas de las camas funcionan y están levantadas para proteger al paciente.",null,"NO"]
[null,{"$f":"COUNTIF($I$24:I67,\"NO\")","v":18},null,null,null,"AM","En Consultorio Obstetrico / Emergencia Obstétrica se evidencia el uso de gestogramas.",null,"ER"]
[null,{"$f":"COUNTIF($I$24:I68,\"NO\")","v":18},null,null,null,"AN","En Centro Obstetrico se evidencia el uso de partogramas con línea de alerta.",null,"ER"]
[null,{"$f":"COUNTIF($I$24:I69,\"NO\")","v":18},null,null,null,"AO","En Centro Obstetrico se evidencia que cuenta con Doppler fetal portátil operativo.",null,"ER"]
[null,{"$f":"COUNTIF($I$24:I70,\"NO\")","v":18},null,null,null,"AP","En Centro Obstetrico se evidencia que cuenta con Monitor fetal o Cardiotocógrafo operativo.",null,"ER"]
[null,{"$f":"COUNTIF($I$24:I71,\"NO\")","v":18},null,null,null,"AQ","En Centro Obstetrico se evidencia que cuenta con Ecógrafo operativo.",null,"ER"]
[null,{"$f":"COUNTIF($I$24:I72,\"NO\")","v":18},null,null,null,"AR","En Centro Obstetrico se evidencia que la atención del parto se realiza en condiciones de asepsia (mandil y guantes estériles, mascarilla, gorro, lentes protectores).",null,"ER"]
[null,{"$f":"COUNTIF($I$24:I73,\"NO\")","v":18},null,null,null,"AS","En Centro Obstetrico se evidencia que la parturienta tiene resultados de prueba rápida o ELISA para HIV-1 y HIV-2.",null,"ER"]
[null,{"$f":"COUNTIF($I$24:I74,\"NO\")","v":18},null,null,null,"AT","En Centro Quirurgico se evidencia el último informe remitido a la Dirección sobre el proceso de implementación de la Lista de Verificación de Seguridad de la Cirugía a cargo del Equipo Conductor y/o Comité de Seguridad del Paciente",null,"ER"]
[null,{"$f":"COUNTIF($I$24:I75,\"NO\")","v":18},null,null,null,"AU","En Centro Quirurgico se evidencia la última Encuesta Semestral remitida a la Dirección para evaluar el proceso de implementación de la Lista de Verificación de Seguridad de la Cirugía a cargo del Equipo Conductor y/o Comité de Seguridad del Paciente",null,"ER"]
[null,{"$f":"COUNTIF($I$24:I76,\"NO\")","v":18},null,null,null,"AV","En Centro Quirurgico se evidencia que existe un(a) Coordinador de la Lista de Verificación de Seguridad de la Cirugía correspondiente al Turno Quirúrgico.",null,"ER"]
[null,{"$f":"COUNTIF($I$24:I77,\"NO\")","v":18},null,null,null,"AW","En Centro Quirurgico se evidencia que el (la) Coordinador(a) aplica la Lista de Verificación de Seguridad de la Cirugía, en el periodo correspondiente a la ENTRADA.",null,"ER"]
[null,{"$f":"COUNTIF($I$24:I78,\"NO\")","v":18},null,null,null,"AX","En Centro Quirurgico se evidencia que el (la) Coordinador(a) aplica la Lista de Verificación de Seguridad de la Cirugía, en el periodo correspondiente a la PAUSA.",null,"ER"]
[null,{"$f":"COUNTIF($I$24:I79,\"NO\")","v":18},null,null,null,"AY","En Centro Quirurgico se evidencia que el (la) Coordinador(a) aplica la Lista de Verificación de Seguridad de la Cirugía, en el periodo correspondiente a la SALIDA.",null,"ER"]
[null,{"$f":"COUNTIF($I$24:I80,\"NO\")","v":18},null,null,null,"AZ","En Centro Quirurgico se evidencia que cuenta con coche de intubación difícil operativo.",null,"ER"]
[null,{"$f":"COUNTIF($I$24:I81,\"NO\")","v":18},null,null,null,"BA","En Centro Quirurgico se evidencia que cuenta con Unidad / Máquina de Anestesia operativo",null,"ER"]
[null,{"$f":"COUNTIF($I$24:I82,\"NO\")","v":18},null,null,null,"BB","En Centro Quirurgico se evidencia que cuenta con Columna de Gases Clínicos / Monitor Multiparámetro (de 6 a 8).",null,"ER"]
[null,{"$f":"COUNTIF($I$24:I83,\"NO\")","v":18},null,null,null,"BC","En Centro Quirurgico se evidencia que cuenta con bomba de perfusión operativa.",null,"ER"]
[null,{"$f":"COUNTIF($I$24:I84,\"NO\")","v":18},null,null,null,"BD","En Centro Quirurgico se evidencia que cuenta con Cialítica Portátil con batería operativa.",null,"ER"]
[null,{"$f":"COUNTIF($I$24:I85,\"NO\")","v":18},null,null,null,"BE","En Centro Quirurgico se evidencia que en recuperación, el paciente es recibido por la enfermera y el anestesiólogo.",null,"ER"]
[null,{"$f":"COUNTIF($I$24:I86,\"NO\")","v":18},null,null,null,"BF","En Centro Quirurgico se evidencia que existe registro de la evaluación pre, durante y post-anestésica en cada paciente intervenido, con firma y sello del anestesiologo responsable.",null,"ER"]
[null,{"$f":"COUNTIF($I$24:I87,\"NO\")","v":18},null,null,null,null,"TOTAL DE VERIFICADORES VALIDOS",null,{"$f":"COUNTIF(I53:I86,\"SI\")+COUNTIF(I53:I86,\"NO\")","v":12}]
[null,{"$f":"COUNTIF($I$24:I88,\"NO\")","v":18},null,null,null,null,"TOTAL DE VERIFICADORES POSITIVOS",null,{"$f":"COUNTIF(I53:I86,\"SI\")","v":5}]
[null,{"$f":"COUNTIF($I$24:I89,\"NO\")","v":18},null,null,null,null,"PORCENTAJE DE CUMPLIMIENTO",null,{"$f":"I88/I87","v":0.416666666666667}]
[null,{"$f":"COUNTIF($I$24:I90,\"NO\")","v":18}]
[null,{"$f":"COUNTIF($I$24:I91,\"NO\")","v":19},"IDENTIFICACIÓN CORRECTA DEL PACIENTE \n\n(Jefe de la Oficina de Calidad)",null,{"$f":"IFERROR(I101,\" \")","v":0},"BG","Paciente tiene brazalete de identificación y los datos registrados son correctos y completos.",null,{"$f":"IFERROR(VLOOKUP(F91,PORC,4,FALSE),\"ER\")","v":"NO"}]
[null,{"$f":"COUNTIF($I$24:I92,\"NO\")","v":20},null,null,null,"BH","Cartel visible que tenga registrado el nombre completo del paciente.",null,"NO"]
[null,{"$f":"COUNTIF($I$24:I93,\"NO\")","v":21},null,null,null,"BI","Datos proporcionados por el paciente, son similares a los registrados en la historia clínica.",null,"NO"]
[null,{"$f":"COUNTIF($I$24:I94,\"NO\")","v":22},null,null,null,"BJ","Verificación de la identidad del paciente con el brazalete antes de cualquier procedimiento.",null,"NO"]
[null,{"$f":"COUNTIF($I$24:I95,\"NO\")","v":23},null,null,null,"BK","Identificación de riesgo de caidas del paciente tanto en el brazalete del paciente como en el cartel visible.",null,"NO"]
[null,{"$f":"COUNTIF($I$24:I96,\"NO\")","v":23},null,null,null,"BL","Verificación de la identificación correcta de los paciente antes de realizar los examenes de laboratorio, radiológicos u otros.",null,"ER"]
[null,{"$f":"COUNTIF($I$24:I97,\"NO\")","v":24},null,null,null,"BM","Conocimiento del paciente o familiar responsable sobre su enfermedad, su evolución y pronóstico del mismo, el cual debe concordar con la información registrada en la historia clínica.",null,"NO"]
[null,{"$f":"COUNTIF($I$24:I98,\"NO\")","v":25},null,null,null,"BN","Paciente  informado al que se  le han aclado sus dudas y preguntas respecto a algún procedimiento o cirugía, evidenciandose la firma del Consentimiento respectivo.",null,"NO"]
[null,{"$f":"COUNTIF($I$24:I99,\"NO\")","v":25},null,null,null,null,"TOTAL DE VERIFICADORES VALIDOS",null,{"$f":"COUNTIF(I91:I98,\"SI\")+COUNTIF(I91:I98,\"NO\")","v":7}]
[null,{"$f":"COUNTIF($I$24:I100,\"NO\")","v":25},null,null,null,null,"TOTAL DE VERIFICADORES POSITIVOS",null,{"$f":"COUNTIF(I91:I98,\"SI\")","v":0}]
[null,{"$f":"COUNTIF($I$24:I101,\"NO\")","v":25},null,null,null,null,"PORCENTAJE DE CUMPLIMIENTO",null,{"$f":"I100/I99","v":0}]
[null,{"$f":"COUNTIF($I$24:I102,\"NO\")","v":25}]
[null,{"$f":"COUNTIF($I$24:I103,\"NO\")","v":26},"PREVENCIÓN DE LA FUGA DE PACIENTES\n\n(Jefe de la UPSS / Administrador)",null,{"$f":"IFERROR(I111,\" \")","v":0},"BO","Paciente cuenta con ropa de hospital facilmente identificable.",null,{"$f":"IFERROR(VLOOKUP(F103,PORC,4,FALSE),\"ER\")","v":"NO"}]
[null,{"$f":"COUNTIF($I$24:I104,\"NO\")","v":27},null,null,null,"BP","Vigilancia controla las pertenencias de los pacientes y las visitas para evitar el uso inadecuado de objetos potencialmente peligrosos.",null,"NO"]
[null,{"$f":"COUNTIF($I$24:I105,\"NO\")","v":28},null,null,null,"BQ","Tienen un sistema efectivo de control de las salidas y entradas del servicio de hospitalización.",null,"NO"]
[null,{"$f":"COUNTIF($I$24:I106,\"NO\")","v":29},null,null,null,"BR","Entrevistas con el paciente para valorar el riesgo potencial de fuga. Solo en casos de oposición activa y riesgo inminente de fuga se recurrirá a la contención mecánica.",null,"NO"]
[null,{"$f":"COUNTIF($I$24:I107,\"NO\")","v":30},null,null,null,"BS","Registro en la hoja de recomendaciones terapéuticas el riesgo de fuga del paciente y la activación de las medidas de supervisión oportunas.",null,"NO"]
[null,{"$f":"COUNTIF($I$24:I108,\"NO\")","v":31},null,null,null,"BT","Existencia de un procedimiento o protocolo que se active en caso de fuga de paciente.",null,"NO"]
[null,{"$f":"COUNTIF($I$24:I109,\"NO\")","v":31},null,null,null,null,"TOTAL DE VERIFICADORES VALIDOS",null,{"$f":"COUNTIF(I103:I108,\"SI\")+COUNTIF(I103:I108,\"NO\")","v":6}]
[null,{"$f":"COUNTIF($I$24:I110,\"NO\")","v":31},null,null,null,null,"TOTAL DE VERIFICADORES POSITIVOS",null,{"$f":"COUNTIF(I103:I108,\"SI\")","v":0}]
[null,{"$f":"COUNTIF($I$24:I111,\"NO\")","v":31},null,null,null,null,"PORCENTAJE DE CUMPLIMIENTO",null,{"$f":"I110/I109","v":0}]
[null,{"$f":"COUNTIF($I$24:I112,\"NO\")","v":31}]
[null,{"$f":"COUNTIF($I$24:I113,\"NO\")","v":32},"SEGURIDAD EN LA MEDICACIÓN  \n\n(Jefe de Enfermería / Obstetricia / Farmacia)",null,{"$f":"IFERROR(I125,\" \")","v":0.1},"BU","Paciente conoce que medicamentos recibe y a que hora corresponde que se lo administren.",null,{"$f":"IFERROR(VLOOKUP(F113,PORC,4,FALSE),\"ER\")","v":"NO"}]
[null,{"$f":"COUNTIF($I$24:I114,\"NO\")","v":33},null,null,null,"BV","Paciente conoce los efectos secundarios que pueden producirle los medicamentos que recibe.",null,"NO"]
[null,{"$f":"COUNTIF($I$24:I115,\"NO\")","v":34},null,null,null,"BW","Coche de paro cuenta con los insumos necesarios para atender situaciones críticas según normatividad vigente.",null,"NO"]
[null,{"$f":"COUNTIF($I$24:I116,\"NO\")","v":35},null,null,null,"BX","Soluciones endovenosas se encuentran debidamente rotulados con la fecha y  los componentes contenidas en ella.",null,"NO"]
[null,{"$f":"COUNTIF($I$24:I117,\"NO\")","v":36},null,null,null,"BY","Almacenamiento ordenado de los medicamentos  para evitar su confusión por su similitud de nombres o de presentación.",null,"NO"]
[null,{"$f":"COUNTIF($I$24:I118,\"NO\")","v":36},null,null,null,"BZ","Medicamentos se encuentran adecuadamente rotulados en caso de requerirlos.",null,"SI"]
[null,{"$f":"COUNTIF($I$24:I119,\"NO\")","v":37},null,null,null,"CA","Medicamentos se clasifican para su almacenamiento local según el nombre del paciente por dosis unitaria.",null,"NO"]
[null,{"$f":"COUNTIF($I$24:I120,\"NO\")","v":38},null,null,null,"CB","Medicamentos e insumos médicos cuentan con un mecanismo efectivo de control de vencimiento / caducidad.",null,"NO"]
[null,{"$f":"COUNTIF($I$24:I121,\"NO\")","v":39},null,null,null,"CC","Existencia de un registro de medicamentos controlados.",null,"NO"]
[null,{"$f":"COUNTIF($I$24:I122,\"NO\")","v":40},null,null,null,"CD","Profesional encargado del cuidado de los pacientes verifica los 5 correctos para la administración correcta de medicamentos.",null,"NO"]
[null,{"$f":"COUNTIF($I$24:I123,\"NO\")","v":40},null,null,null,null,"TOTAL DE VERIFICADORES VALIDOS",null,{"$f":"COUNTIF(I113:I122,\"SI\")+COUNTIF(I113:I122,\"NO\")","v":10}]
[null,{"$f":"COUNTIF($I$24:I124,\"NO\")","v":40},null,null,null,null,"TOTAL DE VERIFICADORES POSITIVOS",null,{"$f":"COUNTIF(I113:I122,\"SI\")","v":1}]
[null,{"$f":"COUNTIF($I$24:I125,\"NO\")","v":40},null,null,null,null,"PORCENTAJE DE CUMPLIMIENTO",null,{"$f":"I124/I123","v":0.1}]
[null,{"$f":"COUNTIF($I$24:I126,\"NO\")","v":40}]
[null,{"$f":"COUNTIF($I$24:I127,\"NO\")","v":41},"PREVENCIÓN DE LA CAIDA DE PACIENTES Y CONTENCION MECÁNICA\n\n(Jefe de la UPSS / Jefe de Enfermería)",null,{"$f":"IFERROR(I140,\" \")","v":0.181818181818182},"CE","Valoración del riesgo de caída de todo paciente que se hospitaliza.",null,{"$f":"IFERROR(VLOOKUP(F127,PORC,4,FALSE),\"ER\")","v":"NO"}]
[null,{"$f":"COUNTIF($I$24:I128,\"NO\")","v":42},null,null,null,"CF","Revaloración diaria de pacientes: ancianos, aquellos sometidos a polifarmacia, los drogodependientes y las personas con déficits neurológicos ‐ cognitivos.",null,"NO"]
[null,{"$f":"COUNTIF($I$24:I129,\"NO\")","v":43},null,null,null,"CG","Información a los pacientes sobre los efectos secundarios de la medicación que pueden afectar la orientación y el sensorio.",null,"NO"]
[null,{"$f":"COUNTIF($I$24:I130,\"NO\")","v":44},null,null,null,"CH","En casos de sedación y deterioro cognitivo severo se utilizarán barras de protección lateral o contención abdominal cuando el paciente se encuentre encamado.",null,"NO"]
[null,{"$f":"COUNTIF($I$24:I131,\"NO\")","v":45},null,null,null,"CI","Comunicar al paciente temas relacionados al uso de los baños, uso de las duchas, uso de los lavaderos, cambios posturales periodicos, etc.",null,"NO"]
[null,{"$f":"COUNTIF($I$24:I132,\"NO\")","v":46},null,null,null,"CJ","Protocolo que establezca población objetivo, indicaciones, medidas preventivas, profesionales responsables de la indicación y supervisión de los diversos mecanismos de sujeción mecanica.",null,"NO"]
[null,{"$f":"COUNTIF($I$24:I133,\"NO\")","v":47},null,null,null,"CK","Sistemas de registro específicos de todo paciente con sujeción mecánica, el que se debe de reevaluar periódicamente la situación y el tiempo de sujeción.",null,"NO"]
[null,{"$f":"COUNTIF($I$24:I134,\"NO\")","v":48},null,null,null,"CL","Asegurarse que las técnicas de inmovilización puedan ser retiradas fácilmente.",null,"NO"]
[null,{"$f":"COUNTIF($I$24:I135,\"NO\")","v":48},null,null,null,"CM","Si el paciente se encuentra en posición supina, comprobar que puede mover la cabeza libremente y levantarla de la cama.",null,"SI"]
[null,{"$f":"COUNTIF($I$24:I136,\"NO\")","v":48},null,null,null,"CN","Si el paciente se encuentra  en decúbito prono asegurar que las vías aéreas no están obstruidas en ningún momento y que la expansión pulmonar no se ve limitada.",null,"SI"]
[null,{"$f":"COUNTIF($I$24:I137,\"NO\")","v":49},null,null,null,"CO","Evidencia de cambio periódico de la posición de la inmovilización y evaluación de las zonas cutáneas sometidas a presión.",null,"NO"]
[null,{"$f":"COUNTIF($I$24:I138,\"NO\")","v":49},null,null,null,null,"TOTAL DE VERIFICADORES VALIDOS",null,{"$f":"COUNTIF(I127:I137,\"SI\")+COUNTIF(I127:I137,\"NO\")","v":11}]
[null,{"$f":"COUNTIF($I$24:I139,\"NO\")","v":49},null,null,null,null,"TOTAL DE VERIFICADORES POSITIVOS",null,{"$f":"COUNTIF(I127:I137,\"SI\")","v":2}]
[null,{"$f":"COUNTIF($I$24:I140,\"NO\")","v":49},null,null,null,null,"PORCENTAJE DE CUMPLIMIENTO",null,{"$f":"I139/I138","v":0.181818181818182}]
[null,{"$f":"COUNTIF($I$24:I141,\"NO\")","v":49}]
[null,{"$f":"COUNTIF($I$24:I142,\"NO\")","v":49},"SEGURIDAD SEXUAL\n\n(Jefe de la UPSS / Administrador)",null,{"$f":"IFERROR(I150,\" \")","v":0.333333333333333},"CP","Evaluación del paciente a su ingreso y durante el mismo de los riesgos de ser víctimas o de cometer agresiones sexuales: desinhibiciones maníacas, trastornos de la personalidad, aislamiento, poca aceptación en su medio.",null,{"$f":"IFERROR(VLOOKUP(F142,PORC,4,FALSE),\"ER\")","v":"SI"}]
[null,{"$f":"COUNTIF($I$24:I143,\"NO\")","v":50},null,null,null,"CQ","Información disponible y clara referente a las consecuencias penales de las agresiones sexuales.",null,"NO"]
[null,{"$f":"COUNTIF($I$24:I144,\"NO\")","v":51},null,null,null,"CR","El protocolo de recepción de un paciente establece la prohibición expresa de mantener relaciones sexuales durante la hospitalización.",null,"NO"]
[null,{"$f":"COUNTIF($I$24:I145,\"NO\")","v":52},null,null,null,"CS","Control de la entrada de pacientes a cualquier habitación que no sea la propia.",null,"NO"]
[null,{"$f":"COUNTIF($I$24:I146,\"NO\")","v":53},null,null,null,"CT","Al detectar conductas desinhibidas se comunicará al resto del equipo y se discutirán las medidas a tomar, que quedarán registradas en la hoja de recomendaciones terapéuticas.",null,"NO"]
[null,{"$f":"COUNTIF($I$24:I147,\"NO\")","v":53},null,null,null,"CU","Ante la sospecha de relaciones sexuales consumadas se aplicarán las medidas médicas y legales que resulten oportunas",null,"SI"]
[null,{"$f":"COUNTIF($I$24:I148,\"NO\")","v":53},null,null,null,null,"TOTAL DE VERIFICADORES VALIDOS",null,{"$f":"COUNTIF(I142:I147,\"SI\")+COUNTIF(I142:I147,\"NO\")","v":6}]
[null,{"$f":"COUNTIF($I$24:I149,\"NO\")","v":53},null,null,null,null,"TOTAL DE VERIFICADORES POSITIVOS",null,{"$f":"COUNTIF(I142:I147,\"SI\")","v":2}]
[null,{"$f":"COUNTIF($I$24:I150,\"NO\")","v":53},null,null,null,null,"PORCENTAJE DE CUMPLIMIENTO",null,{"$f":"I149/I148","v":0.333333333333333}]
[null,{"$f":"COUNTIF($I$24:I151,\"NO\")","v":53}]
[null,{"$f":"COUNTIF($I$24:I152,\"NO\")","v":54},"PREVENCIÓN Y REDUCCIÓN DEL RIESGO DE LAS ÚLCERAS POR PRESIÓN\n\n(Jefe de la UPSS / Jefe de Enfermería)",null,{"$f":"IFERROR(I163,\" \")","v":0.285714285714286},"CV","Evaluación inicial del riesgo de úlceras por presión en todos los pacientes al ingreso a servicios de hospitalización",null,{"$f":"IFERROR(VLOOKUP(F152,PORC,4,FALSE),\"ER\")","v":"NO"}]
[null,{"$f":"COUNTIF($I$24:I153,\"NO\")","v":54},null,null,null,"CW","Valoración del estado de la piel para detectar la presencia de úlceras por presión previas.",null,"NO APLICA"]
[null,{"$f":"COUNTIF($I$24:I154,\"NO\")","v":54},null,null,null,"CX","Reevaluación periódica del riesgo, siempre que cambie la situación clínica basal del paciente.",null,"SI"]
[null,{"$f":"COUNTIF($I$24:I155,\"NO\")","v":55},null,null,null,"CY","Protocolización de la guía de atención para la prevención y control de úlceras por presión.",null,"NO"]
[null,{"$f":"COUNTIF($I$24:I156,\"NO\")","v":55},null,null,null,"CZ","Educación al paciente y su familia para la prevención y cuidado de las úlceras por presión.",null,"SI"]
[null,{"$f":"COUNTIF($I$24:I157,\"NO\")","v":56},null,null,null,"DA","Planificación, ejecución y evaluación del programa educativo dirigido a paciente, su cuidador y la familia. ",null,"NO"]
[null,{"$f":"COUNTIF($I$24:I158,\"NO\")","v":57},null,null,null,"DB","Notificación de úlceras por presión (incidencia y prevalencia) en un registro diario instaurado en los servicios de hospitalización.",null,"NO"]
[null,{"$f":"COUNTIF($I$24:I159,\"NO\")","v":58},null,null,null,"DC","Aplicación de guía de curación de úlceras por presión según estadíos.",null,"NO"]
[null,{"$f":"COUNTIF($I$24:I160,\"NO\")","v":58},null,null,null,"DD","Protocolizar el seguimiento de la evolución de los pacientes con úlceras por presión, tanto en pacientes hospitalizados como en aquellos atendidos en domicilio",null,"NO APLICA"]
[null,{"$f":"COUNTIF($I$24:I161,\"NO\")","v":58},null,null,null,null,"TOTAL DE VERIFICADORES VALIDOS",null,{"$f":"COUNTIF(I152:I160,\"SI\")+COUNTIF(I152:I160,\"NO\")","v":7}]
[null,{"$f":"COUNTIF($I$24:I162,\"NO\")","v":58},null,null,null,null,"TOTAL DE VERIFICADORES POSITIVOS",null,{"$f":"COUNTIF(I152:I160,\"SI\")","v":2}]
[null,{"$f":"COUNTIF($I$24:I163,\"NO\")","v":58},null,null,null,null,"PORCENTAJE DE CUMPLIMIENTO",null,{"$f":"I162/I161","v":0.285714285714286}]
[null,{"$f":"COUNTIF($I$24:I164,\"NO\")","v":58}]
[null,{"$f":"COUNTIF($I$24:I165,\"NO\")","v":58},"PREVENCIÓN DEL SUICIDO Y LESIONES\n\n(Jefe de la UPSS / Jefe de Enfermería)",null,{"$f":"IFERROR(I175,\" \")","v":0.714285714285714},"DE","Identificación del Riesgo de Suicidio: antecedentes de enfermedad mental y/o abuso de sustancias, enfermedad somática grave crónica, antecedentes de conducta violenta o autolesiva, intentos suicidas previos, conductas suicidas en el entorno cercano.",null,{"$f":"IFERROR(VLOOKUP(F165,PORC,4,FALSE),\"ER\")","v":"SI"}]
[null,{"$f":"COUNTIF($I$24:I166,\"NO\")","v":58},null,null,null,"DF","Identificación de un paciente en riesgo de suicidio debe poner en marcha estrategias específicas de abordaje (evaluación, monitorización y tratamiento específicos)",null,"SI"]
[null,{"$f":"COUNTIF($I$24:I167,\"NO\")","v":59},null,null,null,"DG","Ubicar al paciente en el Servicio / Unidad más adecuada a sus necesidades y en función del riesgo detectado.",null,"NO"]
[null,{"$f":"COUNTIF($I$24:I168,\"NO\")","v":59},null,null,null,"DH","Los pacientes y los familiares deben ser informados de la prohibición de introducir en el servicio elementos que puedan suponer un riesgo de auto o heteroagresividad.",null,"SI"]
[null,{"$f":"COUNTIF($I$24:I169,\"NO\")","v":59},null,null,null,"DI","El botiquín / almacén de medicamentos del servicio permanece en todo momento cerrado bajo llave. La llave la custodiará el personal de enfermería.",null,"SI"]
[null,{"$f":"COUNTIF($I$24:I170,\"NO\")","v":59},null,null,null,"DJ","El coche de limpieza transportará los productos peligrosos de la forma más inaccesible posible, sin dejarlo nunca sin supervisión o al alcance de los pacientes",null,"SI"]
[null,{"$f":"COUNTIF($I$24:I171,\"NO\")","v":59},null,null,null,"DK","La entrega como  la retirada de las comidas, el personal responsable procederán al recuento de las piezas de vajilla y cubiertos. Si se detecta la desaparición de alguna de ellas, se procederá al registro.",null,"NO APLICA"]
[null,{"$f":"COUNTIF($I$24:I172,\"NO\")","v":60},null,null,null,"DL","El protocolo de prevención de conductas suicidas debe incluir correcta ubicación del paciente, la necesidad o no de sujeción mecánica, la supervisión así como la constancia en el registro de cualquier incidencia, el control de salidas y de visitas.",null,"NO"]
[null,{"$f":"COUNTIF($I$24:I173,\"NO\")","v":60},null,null,null,null,"TOTAL DE VERIFICADORES VALIDOS",null,{"$f":"COUNTIF(I165:I172,\"SI\")+COUNTIF(I165:I172,\"NO\")","v":7}]
[null,{"$f":"COUNTIF($I$24:I174,\"NO\")","v":60},null,null,null,null,"TOTAL DE VERIFICADORES POSITIVOS",null,{"$f":"COUNTIF(I165:I172,\"SI\")","v":5}]
[null,{"$f":"COUNTIF($I$24:I175,\"NO\")","v":60},null,null,null,null,"PORCENTAJE DE CUMPLIMIENTO",null,{"$f":"I174/I173","v":0.714285714285714}]
[null,{"$f":"COUNTIF($I$24:I176,\"NO\")","v":60}]
[null,{"$f":"COUNTIF($I$24:I177,\"NO\")","v":61},"COMUNICACIÓN EFECTIVA  \n\n(Jefe de la UPSS / Jefe de Enfermería)",null,{"$f":"IFERROR(I189,\" \")","v":0.9},"DM","La UPSS proporciona información sobre sus servicios, horarios de atención a pacientes y/o familiares y el proceso para obtener atención.",null,{"$f":"IFERROR(VLOOKUP(F177,PORC,4,FALSE),\"ER\")","v":"NO"}]
[null,{"$f":"COUNTIF($I$24:I178,\"NO\")","v":61},null,null,null,"DN","Los pacientes y las familias reciben información sobre cómo acceder a los servicios de la UPSS.",null,"SI"]
[null,{"$f":"COUNTIF($I$24:I179,\"NO\")","v":61},null,null,null,"DO","La comunicación y la educación del paciente y de la familia se dan en un idioma comprensible y con palabras de comprensión común.",null,"SI"]
[null,{"$f":"COUNTIF($I$24:I180,\"NO\")","v":61},null,null,null,"DP","Se evidencian comunicaciones reciprocas entre el Jefe de la UPSS y la Dirección del Establecimiento tanto en temas clínicos como administrativos.",null,"SI"]
[null,{"$f":"COUNTIF($I$24:I181,\"NO\")","v":61},null,null,null,"DQ","Se evidencia comunicación (verbal, escrita o electrónica) e intercambio de información entre los profesionales médicos al momento de cambio de turno (cambio de guardia), relacionado al estado de salud de los pacientes, resumen de la atención prestada durante el turno (guardia) y la evolución de los pacientes.",null,"SI"]
[null,{"$f":"COUNTIF($I$24:I182,\"NO\")","v":61},null,null,null,"DR","Se evidencia comunicación (verbal, escrita o electrónica) e intercambio de información entre los profesionales encargados del cuidado del paciente al momento de cambio de turno (cambio de guardia), relacionado al estado de salud de los pacientes, resumen de la atención prestada durante el turno (guardia) y la evolución de los pacientes.",null,"SI"]
[null,{"$f":"COUNTIF($I$24:I183,\"NO\")","v":61},null,null,null,"DS","Las historias clínicas están a disposición de los profesionales de la salud que las necesitan para atender al paciente.",null,"SI"]
[null,{"$f":"COUNTIF($I$24:I184,\"NO\")","v":61},null,null,null,"DT","Las historias clínicas están actualizadas para asegurar la comunicación de la información más reciente.",null,"SI"]
[null,{"$f":"COUNTIF($I$24:I185,\"NO\")","v":61},null,null,null,"DU","La historia clínica del paciente o un resumen de información de su atención se transfiere junto al paciente a otro servicio o unidad dentro del establecimiento.",null,"SI"]
[null,{"$f":"COUNTIF($I$24:I186,\"NO\")","v":61},null,null,null,"DV","El resumen de la información del traslado de un paciente incluye: el motivo de admisión, los hallazgos relevantes, los diagnósticos, todos los procedimientos realizados, todos los medicamentos y demás tratamientos administrados, el estado del paciente al momento de la transferencia.",null,"SI"]
[null,{"$f":"COUNTIF($I$24:I187,\"NO\")","v":61},null,null,null,null,"TOTAL DE VERIFICADORES VALIDOS",null,{"$f":"COUNTIF(I177:I186,\"SI\")+COUNTIF(I177:I186,\"NO\")","v":10}]
[null,{"$f":"COUNTIF($I$24:I188,\"NO\")","v":61},null,null,null,null,"TOTAL DE VERIFICADORES POSITIVOS",null,{"$f":"COUNTIF(I177:I186,\"SI\")","v":9}]
[null,{"$f":"COUNTIF($I$24:I189,\"NO\")","v":61},null,null,null,null,"PORCENTAJE DE CUMPLIMIENTO",null,{"$f":"I188/I187","v":0.9}]
[null,{"$f":"COUNTIF($I$24:I190,\"NO\")","v":61}]
[null,{"$f":"COUNTIF($I$24:I191,\"NO\")","v":62},"HIGIENE DE MANOS  \n\n(Jefe de Epidemiología / Inteligencia Sanitaria)",null,{"$f":"IFERROR(I201,\" \")","v":0},"DW","Disponibilidad de dispensadores con preparados de base alcohólica para manos.",null,{"$f":"IFERROR(VLOOKUP(F191,PORC,4,FALSE),\"ER\")","v":"NO"}]
[null,{"$f":"COUNTIF($I$24:I192,\"NO\")","v":63},null,null,null,"DX","Disponibilidad de lavamanos con suministro de agua y jabón.",null,"NO"]
[null,{"$f":"COUNTIF($I$24:I193,\"NO\")","v":64},null,null,null,"DY","Disponibilidad de papel toalla en todos los lavamanos.",null,"NO"]
[null,{"$f":"COUNTIF($I$24:I194,\"NO\")","v":65},null,null,null,"DZ","Cumplimiento del ratio lavamanos/ paciente-cama de al menos 1:10",null,"NO"]
[null,{"$f":"COUNTIF($I$24:I195,\"NO\")","v":66},null,null,null,"EA","Cumplimiento de los 08 pasos de la desinfección de manos (pasos y tiempo).",null,"NO"]
[null,{"$f":"COUNTIF($I$24:I196,\"NO\")","v":67},null,null,null,"EB","Cumplimiento de los 11 pasos del lavado de manos (pasos y tiempo).",null,"NO"]
[null,{"$f":"COUNTIF($I$24:I197,\"NO\")","v":68},null,null,null,"EC","Porcentaje de cumplimiento > 80%, del requisito de realizar la higiene de las manos durante su actividad asistencial de acuerdo con los cinco momentos de la higiene de manos.",null,"NO"]
[null,{"$f":"COUNTIF($I$24:I198,\"NO\")","v":69},null,null,null,"ED","Mensajes y dibujos que promueven la adherencia a la higiene de manos colocados en sitios estratégicos.",null,"NO"]
[null,{"$f":"COUNTIF($I$24:I199,\"NO\")","v":69},null,null,null,null,"TOTAL DE VERIFICADORES VALIDOS",null,{"$f":"COUNTIF(I191:I198,\"SI\")+COUNTIF(I191:I198,\"NO\")","v":8}]
[null,{"$f":"COUNTIF($I$24:I200,\"NO\")","v":69},null,null,null,null,"TOTAL DE VERIFICADORES POSITIVOS",null,{"$f":"COUNTIF(I191:I198,\"SI\")","v":0}]
[null,{"$f":"COUNTIF($I$24:I201,\"NO\")","v":69},null,null,null,null,"PORCENTAJE DE CUMPLIMIENTO",null,{"$f":"I200/I199","v":0}]
[null,{"$f":"COUNTIF($I$24:I202,\"NO\")","v":69}]
[null,{"$f":"COUNTIF($I$24:I203,\"NO\")","v":70},"BIOSEGURIDAD  \n\n(Jefe de Epidemiología / Jefe de la UPSS)",null,{"$f":"IFERROR(I213,\" \")","v":0.125},"EE","Disposición de residuos sólidos de acuerdo a las normas.",null,{"$f":"IFERROR(VLOOKUP(F203,PORC,4,FALSE),\"ER\")","v":"NO"}]
[null,{"$f":"COUNTIF($I$24:I204,\"NO\")","v":71},null,null,null,"EF","Eliminación de material punzo cortante y agujas de acuerdo a las normas.",null,"NO"]
[null,{"$f":"COUNTIF($I$24:I205,\"NO\")","v":71},null,null,null,"EG","Cuidado y manejo de los catéteres se realiza de acuerdo a normas.",null,"SI"]
[null,{"$f":"COUNTIF($I$24:I206,\"NO\")","v":72},null,null,null,"EH","Cumplimiento de las medidas de aislamiento.",null,"NO"]
[null,{"$f":"COUNTIF($I$24:I207,\"NO\")","v":73},null,null,null,"EI","El servicio ha implementado el uso de 'Care Bundle\" o Paquete de Medidas para la prevención de las IAAS basadas en evidencia médica. ",null,"NO"]
[null,{"$f":"COUNTIF($I$24:I208,\"NO\")","v":74},null,null,null,"EJ","Evidencia de desarrollo de actividades de vigilancia epidemiológica activa, selectiva y localizada de IAAS en la UPSS.",null,"NO"]
[null,{"$f":"COUNTIF($I$24:I209,\"NO\")","v":75},null,null,null,"EK","Se observa si se encuentran señalizados las zonas rígidas y semirígidas de la Unidad Productora de Servicios de Salud.",null,"NO"]
[null,{"$f":"COUNTIF($I$24:I210,\"NO\")","v":76},null,null,null,"EL","Se observa si se respetan las zonas rígidas y semirígidas de la Unidad Productora de Servicios de Salud.",null,"NO"]
[null,{"$f":"COUNTIF($I$24:I211,\"NO\")","v":76},null,null,null,null,"TOTAL DE VERIFICADORES VALIDOS",null,{"$f":"COUNTIF(I203:I210,\"SI\")+COUNTIF(I203:I210,\"NO\")","v":8}]
[null,{"$f":"COUNTIF($I$24:I212,\"NO\")","v":76},null,null,null,null,"TOTAL DE VERIFICADORES POSITIVOS",null,{"$f":"COUNTIF(I203:I210,\"SI\")","v":1}]
[null,{"$f":"COUNTIF($I$24:I213,\"NO\")","v":76},null,null,null,null,"PORCENTAJE DE CUMPLIMIENTO",null,{"$f":"I212/I211","v":0.125}]
[null,{"$f":"COUNTIF($I$24:I214,\"NO\")","v":76}]
[null,{"$f":"COUNTIF($I$24:I215,\"NO\")","v":77},"FUNCIONAMIENTO Y MANEJO DE EQUIPOS \n\n   (Jefe de Inteligencia Sanitaria / Recursos Médicos)",null,{"$f":"IFERROR(I222,\" \")","v":0},"EM","Equipos biomédicos accesibles según le corresponda a la UPSS y de acuerdo al nivel de complejidad",null,{"$f":"IFERROR(VLOOKUP(F215,PORC,4,FALSE),\"ER\")","v":"NO"}]
[null,{"$f":"COUNTIF($I$24:I216,\"NO\")","v":78},null,null,null,"EN","Equipos biomédicos operativos según le corresponda a la UPSS y de acuerdo al nivel de complejidad",null,{"$f":"IFERROR(VLOOKUP(F216,PORC,4,FALSE),\"ER\")","v":"NO"}]
[null,{"$f":"COUNTIF($I$24:I217,\"NO\")","v":79},null,null,null,"EO","Verificación del conocimiento del personal sobre el funcionamiento de los equipos biomédicos, según responsabilidad.",null,{"$f":"IFERROR(VLOOKUP(F217,PORC,4,FALSE),\"ER\")","v":"NO"}]
[null,{"$f":"COUNTIF($I$24:I218,\"NO\")","v":80},null,null,null,"EP","Verificación de que la UPSS cuenta con un Plan Anual de Mantenimiento Preventivo de todos sus equipo biomédicos (inclusive los nuevos).",null,{"$f":"IFERROR(VLOOKUP(F218,PORC,4,FALSE),\"ER\")","v":"NO"}]
[null,{"$f":"COUNTIF($I$24:I219,\"NO\")","v":81},null,null,null,"EQ","Verificación de que la UPSS cumple con ejecutar su Plan Anual de Mantenimiento Preventivo de todos sus equipo biomédicos (inclusive los nuevos), mediante la visualización de las respectivas tarjetas.",null,{"$f":"IFERROR(VLOOKUP(F219,PORC,4,FALSE),\"ER\")","v":"NO"}]
[null,null,null,null,null,null,"TOTAL DE VERIFICADORES VALIDOS",null,{"$f":"COUNTIF(I215:I219,\"SI\")+COUNTIF(I215:I219,\"NO\")","v":5}]
[null,null,null,null,null,null,"TOTAL DE VERIFICADORES POSITIVOS",null,{"$f":"COUNTIF(I215:I219,\"SI\")","v":0}]
[null,null,null,null,null,null,"PORCENTAJE DE CUMPLIMIENTO",null,{"$f":"I221/I220","v":0}]

{"sheet":"RESULTADOS EVALUACIÓN","index":3,"n_rows":41,"n_cols":22,"rows_kept":41,"cut":false,"hidden":false,"merged":[[5,1,5,9],[7,1,7,9],[9,1,9,9],[11,1,11,9],[13,1,13,3],[14,1,14,3],[15,1,15,3],[15,7,15,9],[16,1,16,3],[16,7,16,9],[17,1,17,3],[17,7,17,9],[18,1,18,3],[18,7,18,9],[1,1,2,5]]}
[]
[null,"UNIDAD FUNCIONAL DE GESTIÓN DE LA CALIDAD EN SALUD"]
[]
[]
[]
[null,{"$f":"+'MENU PRINCIPAL'!B2","v":"APLICATIVO  DE RONDAS  DE SEGURIDAD DEL PACIENTE PARA LA GESTIÓN DEL RIESGO EN LA ATENCION DE SALUD"}]
[]
[]
[]
[null,"RESULTADOS DE EVALUACIÓN"]
[null,null,null,null,null,null,null,null,"IR A MENU "]
[]
[]
[null,"ÓRGANO DESCONCENTRADO:",null,null,null,{"$f":"'MENU PRINCIPAL'!C20","v":"INSTITUTO NACIONAL MATERNO PERINATAL"},"TRIMESTRE:",{"$f":"'FICHA EVALUACIÓN'!J14","v":"I TRIMESTRE"},"AÑO:",{"$f":"'FICHA EVALUACIÓN'!L14","v":2023}]
[null,"IPRESS:",null,null,null,{"$f":"IF('FICHA EVALUACIÓN'!H15=0,\" \",'FICHA EVALUACIÓN'!H15)","v":"HOSPITAL DE ESPINAR"},"FECHA APLICACION:",null,{"$f":"IF('FICHA EVALUACIÓN'!K15=0,\" \",'FICHA EVALUACIÓN'!K15)","v":"2023-03-29"},"(dd/mm/aaaa)"]
[null,"UPSS:",null,null,null,{"$f":"'FICHA EVALUACIÓN'!H16","v":"EMERGENCIA"},"RESP.EPIDEMIOLOGIA:",{"$f":"IF('FICHA EVALUACIÓN'!J16=0,\" \",'FICHA EVALUACIÓN'!J16)","v":"LIC. ISABEL ROMERO JACHA"}]
[null,"TITULAR/RESPONSABLE IPRESS:",null,null,null,{"$f":"IF('MENU PRINCIPAL'!C22=0,\" \",'MENU PRINCIPAL'!C22)","v":"Dr.EDWIN SOTO CCAYAHUALLPA"},"RESP. DE LA UPSS:",{"$f":"IF('FICHA EVALUACIÓN'!J17=0,\" \",'FICHA EVALUACIÓN'!J17)","v":"DR. EDINSON VALDERRAMA MAMANI"}]
[null,"RESP. DE ADMINISTRACION:",null,null,null,{"$f":"IF('FICHA EVALUACIÓN'!H18=0,\" \",'FICHA EVALUACIÓN'!H18)","v":"LIC. JUVENAL TAIRO ZAMBRANO"},"RESP.OFIC./UNIDAD CALIDAD:",{"$f":"IF('FICHA EVALUACIÓN'!J18=0,\" \",'FICHA EVALUACIÓN'!J18)","v":"LIC. JUDITH K. CAHUATA TURO"}]
[null,"RESP. DPTO/SERVICIO ENFERMERÍA:",null,null,null,{"$f":"IF('FICHA EVALUACIÓN'!H19=0,\" \",'FICHA EVALUACIÓN'!H19)","v":"LIC. MARIO CHOQUE ROMERO."},"OTROS RESPONSABLES:",{"$f":"IF('FICHA EVALUACIÓN'!J19=0,\" \",'FICHA EVALUACIÓN'!J19)","v":"LIC. IRMA LUPACA JIHUAÑA"}]
[]
[]
[]
[]
[null,null,null,null,null,"BUENAS PRÁCTICAS EVALUADAS","% CUMPLIMIENTO"]
[null,null,null,null,1,{"$f":"IFERROR(VLOOKUP(E25,RESULT,2,FALSE),\" \")","v":"REGISTRO EN LA HISTORIA CLÍNICA"},{"$f":"IFERROR(VLOOKUP(E25,RESULT,3,FALSE),\" \")","v":0.521739130434783}]
[null,null,null,null,2,"SEGURIDAD DEL PACIENTE EN LA UPSS",0.416666666666667]
[null,null,null,null,3,"IDENTIFICACIÓN CORRECTA",0,null,null,null,null,null,null,null,null,null,null,null,null,null,"Etiquetas de fila","Máx. de % CUMPLIMIENTO"]
[null,null,null,null,4,"PREVENCIÓN DE FUGA",0]
[null,null,null,null,5,"SEGURIDAD EN LA MEDICACIÓN",0.1]
[null,null,null,null,6,"PREVENCION DE CAIDAS Y CONTENCION MECANICA",0.181818181818182]
[null,null,null,null,7,"SEGURIDAD SEXUAL",0.333333333333333]
[null,null,null,null,8,"PREVENCIÓN Y REDUCCIÓN DEL RIESGO DE LAS UPP",0.285714285714286]
[null,null,null,null,9,{"$f":"IFERROR(VLOOKUP(E33,RESULT,2,FALSE),\" \")","v":"PREVENCIÓN DEL SUICIDO Y LESIONES"},{"$f":"IFERROR(VLOOKUP(E33,RESULT,3,FALSE),-1)","v":0.714285714285714}]
[null,null,null,null,10,"COMUNICACIÓN EFECTIVA",{"$f":"IFERROR(VLOOKUP(E34,RESULT,3,FALSE),-1)","v":0.9}]
[null,null,null,null,11,"HIGIENE DE MANOS",{"$f":"IFERROR(VLOOKUP(E35,RESULT,3,FALSE),-1)","v":0}]
[null,null,null,null,12,"BIOSEGURIDAD ",{"$f":"IFERROR(VLOOKUP(E36,RESULT,3,FALSE),-1)","v":0.125}]
[null,null,null,null,13,"FUNCIONAMIENTO Y MANEJO DE EQUIPOS",{"$f":"IFERROR(VLOOKUP(E37,RESULT,3,FALSE),-1)","v":0}]
[null,null,null,null,null,"PROMEDIO",{"$f":"IFERROR('POR UPSS'!V180,\" \")","v":0.275273639404074}]
[]
[]
[null,null,null,null,null,"PROMEDIO DE CUMPLIMIENTO",{"$f":"IFERROR(G38,\" \")","v":0.275273639404074}]

{"sheet":"POR UPSS","index":4,"n_rows":180,"n_cols":23,"rows_kept":180,"cut":false,"hidden":true,"merged":[]}
[]
[]
[]
[]
[]
[]
[{"$f":"VLOOKUP('FICHA EVALUACIÓN'!H16,ULT,2,FALSE)","v":"E"},"CONSULTA EXTERNA ","HOSPITALIZACIÓN","EMERGENCIA","CENTRO OBSTÉTRICO","CENTRO QUIRÚRGICO","CUIDADOS INTENSIVOS","PATOLOGÍA CLÍNICA","DIAGNÓSTICO POR IMÁGENES","ANATOMÍA PATOLÓGICA","FARMACIA","CENTRAL DE ESTERILIZACIÓN","MEDICINA DE REHABILITACIÓN","HEMODIÁLISIS","NUTRICIÓN Y DIETÉTICA","RADIOTERAPIA","MEDICINA NUCLEAR","CENTRO DE HEMOTERAPIA","PRIMER NIVEL DE ATENCIÓN"]
[{"$f":"IF($A$7=\"CE\",COUNTIF(B$7:B8,\"x\"),IF($A$7=\"HOS\",COUNTIF(C$7:C8,\"x\"),IF($A$7=\"E\",COUNTIF(D$7:D8,\"x\"),IF($A$7=\"CEO\",COUNTIF(E$7:E8,\"x\"),IF($A$7=\"CEQ\",COUNTIF(F$7:F8,\"x\"),IF($A$7=\"CI\",COUNTIF(G$7:G8,\"x\"),IF($A$7=\"PC\",COUNTIF(H$7:H8,\"x\"),IF($A$7=\"DPI\",COUNTIF(I$7:I8,\"x\"),IF($A$7=\"AP\",COUNTIF(J$7:J8,\"x\"),IF($A$7=\"F\",COUNTIF(K$7:K8,\"x\"),IF($A$7=\"CDE\",COUNTIF(L$7:L8,\"x\"),IF($A$7=\"MR\",COUNTIF(M$7:M8,\"x\"),IF($A$7=\"H\",COUNTIF(N$7:N8,\"x\"),IF($A$7=\"NYD\",COUNTIF(O$7:O8,\"x\"),IF($A$7=\"R\",COUNTIF(P$7:P8,\"x\"),IF($A$7=\"MN\",COUNTIF(Q$7:Q8,\"x\"),IF($A$7=\"CDH\",COUNTIF(R$7:R8,\"x\"),IF($A$7=\"PNA\",COUNTIF(S$7:S8,\"x\"),\" \"))))))))))))))))))","v":1},"x","x","x","x","x","x","x","x","x","x",null,"x","x","x","x","x","x","x","HISTORIA CLINICA ",{"$f":"'FICHA OCULTA'!G25","v":"Registro de la fecha y hora de atención en la Historia Clínica y/o Registros Médicos."},"A",{"$f":"'FICHA OCULTA'!$I$51","v":0.521739130434783}]
[{"$f":"IF($A$7=\"CE\",COUNTIF(B$7:B9,\"x\"),IF($A$7=\"HOS\",COUNTIF(C$7:C9,\"x\"),IF($A$7=\"E\",COUNTIF(D$7:D9,\"x\"),IF($A$7=\"CEO\",COUNTIF(E$7:E9,\"x\"),IF($A$7=\"CEQ\",COUNTIF(F$7:F9,\"x\"),IF($A$7=\"CI\",COUNTIF(G$7:G9,\"x\"),IF($A$7=\"PC\",COUNTIF(H$7:H9,\"x\"),IF($A$7=\"DPI\",COUNTIF(I$7:I9,\"x\"),IF($A$7=\"AP\",COUNTIF(J$7:J9,\"x\"),IF($A$7=\"F\",COUNTIF(K$7:K9,\"x\"),IF($A$7=\"CDE\",COUNTIF(L$7:L9,\"x\"),IF($A$7=\"MR\",COUNTIF(M$7:M9,\"x\"),IF($A$7=\"H\",COUNTIF(N$7:N9,\"x\"),IF($A$7=\"NYD\",COUNTIF(O$7:O9,\"x\"),IF($A$7=\"R\",COUNTIF(P$7:P9,\"x\"),IF($A$7=\"MN\",COUNTIF(Q$7:Q9,\"x\"),IF($A$7=\"CDH\",COUNTIF(R$7:R9,\"x\"),IF($A$7=\"PNA\",COUNTIF(S$7:S9,\"x\"),\" \"))))))))))))))))))","v":2},"x","x","x","x","x","x","x","x","x","x",null,"x","x","x","x","x","x","x","HISTORIA CLINICA ",{"$f":"'FICHA OCULTA'!G26","v":"Registro completo de la filiación del paciente: Datos del EESS, Nº de HCl, Nombres y Apellidos del Paciente, Lugar y fecha de nacimiento, Edad, Sexo, Domicilio, Procedencia, Teléfono, DNI, Seguro, Estado Civi, Instrucción, Ocupación, Religión, Acompañante o Responsable de ser el caso."},"B",{"$f":"'FICHA OCULTA'!$I$51","v":0.521739130434783}]
[{"$f":"IF($A$7=\"CE\",COUNTIF(B$7:B10,\"x\"),IF($A$7=\"HOS\",COUNTIF(C$7:C10,\"x\"),IF($A$7=\"E\",COUNTIF(D$7:D10,\"x\"),IF($A$7=\"CEO\",COUNTIF(E$7:E10,\"x\"),IF($A$7=\"CEQ\",COUNTIF(F$7:F10,\"x\"),IF($A$7=\"CI\",COUNTIF(G$7:G10,\"x\"),IF($A$7=\"PC\",COUNTIF(H$7:H10,\"x\"),IF($A$7=\"DPI\",COUNTIF(I$7:I10,\"x\"),IF($A$7=\"AP\",COUNTIF(J$7:J10,\"x\"),IF($A$7=\"F\",COUNTIF(K$7:K10,\"x\"),IF($A$7=\"CDE\",COUNTIF(L$7:L10,\"x\"),IF($A$7=\"MR\",COUNTIF(M$7:M10,\"x\"),IF($A$7=\"H\",COUNTIF(N$7:N10,\"x\"),IF($A$7=\"NYD\",COUNTIF(O$7:O10,\"x\"),IF($A$7=\"R\",COUNTIF(P$7:P10,\"x\"),IF($A$7=\"MN\",COUNTIF(Q$7:Q10,\"x\"),IF($A$7=\"CDH\",COUNTIF(R$7:R10,\"x\"),IF($A$7=\"PNA\",COUNTIF(S$7:S10,\"x\"),\" \"))))))))))))))))))","v":3},"x","x","x","x","x","x","x","x","x","x",null,"x","x","x","x","x",null,"x","HISTORIA CLINICA ",{"$f":"'FICHA OCULTA'!G27","v":"Registro de la enfermedad actual."},"C",{"$f":"'FICHA OCULTA'!$I$51","v":0.521739130434783}]
[{"$f":"IF($A$7=\"CE\",COUNTIF(B$7:B11,\"x\"),IF($A$7=\"HOS\",COUNTIF(C$7:C11,\"x\"),IF($A$7=\"E\",COUNTIF(D$7:D11,\"x\"),IF($A$7=\"CEO\",COUNTIF(E$7:E11,\"x\"),IF($A$7=\"CEQ\",COUNTIF(F$7:F11,\"x\"),IF($A$7=\"CI\",COUNTIF(G$7:G11,\"x\"),IF($A$7=\"PC\",COUNTIF(H$7:H11,\"x\"),IF($A$7=\"DPI\",COUNTIF(I$7:I11,\"x\"),IF($A$7=\"AP\",COUNTIF(J$7:J11,\"x\"),IF($A$7=\"F\",COUNTIF(K$7:K11,\"x\"),IF($A$7=\"CDE\",COUNTIF(L$7:L11,\"x\"),IF($A$7=\"MR\",COUNTIF(M$7:M11,\"x\"),IF($A$7=\"H\",COUNTIF(N$7:N11,\"x\"),IF($A$7=\"NYD\",COUNTIF(O$7:O11,\"x\"),IF($A$7=\"R\",COUNTIF(P$7:P11,\"x\"),IF($A$7=\"MN\",COUNTIF(Q$7:Q11,\"x\"),IF($A$7=\"CDH\",COUNTIF(R$7:R11,\"x\"),IF($A$7=\"PNA\",COUNTIF(S$7:S11,\"x\"),\" \"))))))))))))))))))","v":4},"x","x","x","x","x","x","x","x","x",null,null,"x","x",null,null,null,null,"x","HISTORIA CLINICA ",{"$f":"'FICHA OCULTA'!G28","v":"Registro de los antecedentes del paciente."},"D",{"$f":"'FICHA OCULTA'!$I$51","v":0.521739130434783}]
[{"$f":"IF($A$7=\"CE\",COUNTIF(B$7:B12,\"x\"),IF($A$7=\"HOS\",COUNTIF(C$7:C12,\"x\"),IF($A$7=\"E\",COUNTIF(D$7:D12,\"x\"),IF($A$7=\"CEO\",COUNTIF(E$7:E12,\"x\"),IF($A$7=\"CEQ\",COUNTIF(F$7:F12,\"x\"),IF($A$7=\"CI\",COUNTIF(G$7:G12,\"x\"),IF($A$7=\"PC\",COUNTIF(H$7:H12,\"x\"),IF($A$7=\"DPI\",COUNTIF(I$7:I12,\"x\"),IF($A$7=\"AP\",COUNTIF(J$7:J12,\"x\"),IF($A$7=\"F\",COUNTIF(K$7:K12,\"x\"),IF($A$7=\"CDE\",COUNTIF(L$7:L12,\"x\"),IF($A$7=\"MR\",COUNTIF(M$7:M12,\"x\"),IF($A$7=\"H\",COUNTIF(N$7:N12,\"x\"),IF($A$7=\"NYD\",COUNTIF(O$7:O12,\"x\"),IF($A$7=\"R\",COUNTIF(P$7:P12,\"x\"),IF($A$7=\"MN\",COUNTIF(Q$7:Q12,\"x\"),IF($A$7=\"CDH\",COUNTIF(R$7:R12,\"x\"),IF($A$7=\"PNA\",COUNTIF(S$7:S12,\"x\"),\" \"))))))))))))))))))","v":5},"x","x","x","x","x","x",null,null,null,null,null,null,"x",null,null,null,null,"x","HISTORIA CLINICA ",{"$f":"'FICHA OCULTA'!G29","v":"Registro de la Funciones Biológicas: apetito, sed, sueño, orina, deposiciones, estado de animo. "},"E",{"$f":"'FICHA OCULTA'!$I$51","v":0.521739130434783}]
[{"$f":"IF($A$7=\"CE\",COUNTIF(B$7:B13,\"x\"),IF($A$7=\"HOS\",COUNTIF(C$7:C13,\"x\"),IF($A$7=\"E\",COUNTIF(D$7:D13,\"x\"),IF($A$7=\"CEO\",COUNTIF(E$7:E13,\"x\"),IF($A$7=\"CEQ\",COUNTIF(F$7:F13,\"x\"),IF($A$7=\"CI\",COUNTIF(G$7:G13,\"x\"),IF($A$7=\"PC\",COUNTIF(H$7:H13,\"x\"),IF($A$7=\"DPI\",COUNTIF(I$7:I13,\"x\"),IF($A$7=\"AP\",COUNTIF(J$7:J13,\"x\"),IF($A$7=\"F\",COUNTIF(K$7:K13,\"x\"),IF($A$7=\"CDE\",COUNTIF(L$7:L13,\"x\"),IF($A$7=\"MR\",COUNTIF(M$7:M13,\"x\"),IF($A$7=\"H\",COUNTIF(N$7:N13,\"x\"),IF($A$7=\"NYD\",COUNTIF(O$7:O13,\"x\"),IF($A$7=\"R\",COUNTIF(P$7:P13,\"x\"),IF($A$7=\"MN\",COUNTIF(Q$7:Q13,\"x\"),IF($A$7=\"CDH\",COUNTIF(R$7:R13,\"x\"),IF($A$7=\"PNA\",COUNTIF(S$7:S13,\"x\"),\" \"))))))))))))))))))","v":6},null,"x","x","x","x","x",null,null,null,null,null,null,"x",null,null,null,null,null,"HISTORIA CLINICA ",{"$f":"'FICHA OCULTA'!G30","v":"Registro completo del examen físico clínico general y regional de corresponder."},"F",{"$f":"'FICHA OCULTA'!$I$51","v":0.521739130434783}]
[{"$f":"IF($A$7=\"CE\",COUNTIF(B$7:B14,\"x\"),IF($A$7=\"HOS\",COUNTIF(C$7:C14,\"x\"),IF($A$7=\"E\",COUNTIF(D$7:D14,\"x\"),IF($A$7=\"CEO\",COUNTIF(E$7:E14,\"x\"),IF($A$7=\"CEQ\",COUNTIF(F$7:F14,\"x\"),IF($A$7=\"CI\",COUNTIF(G$7:G14,\"x\"),IF($A$7=\"PC\",COUNTIF(H$7:H14,\"x\"),IF($A$7=\"DPI\",COUNTIF(I$7:I14,\"x\"),IF($A$7=\"AP\",COUNTIF(J$7:J14,\"x\"),IF($A$7=\"F\",COUNTIF(K$7:K14,\"x\"),IF($A$7=\"CDE\",COUNTIF(L$7:L14,\"x\"),IF($A$7=\"MR\",COUNTIF(M$7:M14,\"x\"),IF($A$7=\"H\",COUNTIF(N$7:N14,\"x\"),IF($A$7=\"NYD\",COUNTIF(O$7:O14,\"x\"),IF($A$7=\"R\",COUNTIF(P$7:P14,\"x\"),IF($A$7=\"MN\",COUNTIF(Q$7:Q14,\"x\"),IF($A$7=\"CDH\",COUNTIF(R$7:R14,\"x\"),IF($A$7=\"PNA\",COUNTIF(S$7:S14,\"x\"),\" \"))))))))))))))))))","v":7},"x","x","x","x","x","x","x","x","x","x",null,"x","x","x","x","x","x","x","HISTORIA CLINICA ",{"$f":"'FICHA OCULTA'!G31","v":"Registro de los diagnósticos con codificación CIE-10 ó DSM IV de corresponder (presuntivos o definitivos)"},"G",{"$f":"'FICHA OCULTA'!$I$51","v":0.521739130434783}]
[{"$f":"IF($A$7=\"CE\",COUNTIF(B$7:B15,\"x\"),IF($A$7=\"HOS\",COUNTIF(C$7:C15,\"x\"),IF($A$7=\"E\",COUNTIF(D$7:D15,\"x\"),IF($A$7=\"CEO\",COUNTIF(E$7:E15,\"x\"),IF($A$7=\"CEQ\",COUNTIF(F$7:F15,\"x\"),IF($A$7=\"CI\",COUNTIF(G$7:G15,\"x\"),IF($A$7=\"PC\",COUNTIF(H$7:H15,\"x\"),IF($A$7=\"DPI\",COUNTIF(I$7:I15,\"x\"),IF($A$7=\"AP\",COUNTIF(J$7:J15,\"x\"),IF($A$7=\"F\",COUNTIF(K$7:K15,\"x\"),IF($A$7=\"CDE\",COUNTIF(L$7:L15,\"x\"),IF($A$7=\"MR\",COUNTIF(M$7:M15,\"x\"),IF($A$7=\"H\",COUNTIF(N$7:N15,\"x\"),IF($A$7=\"NYD\",COUNTIF(O$7:O15,\"x\"),IF($A$7=\"R\",COUNTIF(P$7:P15,\"x\"),IF($A$7=\"MN\",COUNTIF(Q$7:Q15,\"x\"),IF($A$7=\"CDH\",COUNTIF(R$7:R15,\"x\"),IF($A$7=\"PNA\",COUNTIF(S$7:S15,\"x\"),\" \"))))))))))))))))))","v":8},"x","x","x","x",null,"x",null,null,null,null,null,null,null,"x",null,null,null,"x","HISTORIA CLINICA ",{"$f":"'FICHA OCULTA'!G32","v":"Registro de evolución del paciente: Fecha y hora de atención, Apreciación Subjetiva, Apreciación Objetiva, Tratamiento, Dieta, Interpretación de exámenes y comentario, terapeútica y Plan de trabajo, firma, sello y colegiatura del médico responsable."},"H",{"$f":"'FICHA OCULTA'!$I$51","v":0.521739130434783}]
[{"$f":"IF($A$7=\"CE\",COUNTIF(B$7:B16,\"x\"),IF($A$7=\"HOS\",COUNTIF(C$7:C16,\"x\"),IF($A$7=\"E\",COUNTIF(D$7:D16,\"x\"),IF($A$7=\"CEO\",COUNTIF(E$7:E16,\"x\"),IF($A$7=\"CEQ\",COUNTIF(F$7:F16,\"x\"),IF($A$7=\"CI\",COUNTIF(G$7:G16,\"x\"),IF($A$7=\"PC\",COUNTIF(H$7:H16,\"x\"),IF($A$7=\"DPI\",COUNTIF(I$7:I16,\"x\"),IF($A$7=\"AP\",COUNTIF(J$7:J16,\"x\"),IF($A$7=\"F\",COUNTIF(K$7:K16,\"x\"),IF($A$7=\"CDE\",COUNTIF(L$7:L16,\"x\"),IF($A$7=\"MR\",COUNTIF(M$7:M16,\"x\"),IF($A$7=\"H\",COUNTIF(N$7:N16,\"x\"),IF($A$7=\"NYD\",COUNTIF(O$7:O16,\"x\"),IF($A$7=\"R\",COUNTIF(P$7:P16,\"x\"),IF($A$7=\"MN\",COUNTIF(Q$7:Q16,\"x\"),IF($A$7=\"CDH\",COUNTIF(R$7:R16,\"x\"),IF($A$7=\"PNA\",COUNTIF(S$7:S16,\"x\"),\" \"))))))))))))))))))","v":9},"x","x","x","x",null,"x",null,null,null,null,null,null,null,null,null,null,null,"x","HISTORIA CLINICA ",{"$f":"'FICHA OCULTA'!G33","v":"Registro actualizado del Plan de Trabajo: Exámenes de Ayuda Diagnóstica, Procedimientos Médico-Quirúrgicos e Interconsultas."},"I",{"$f":"'FICHA OCULTA'!$I$51","v":0.521739130434783}]
[{"$f":"IF($A$7=\"CE\",COUNTIF(B$7:B17,\"x\"),IF($A$7=\"HOS\",COUNTIF(C$7:C17,\"x\"),IF($A$7=\"E\",COUNTIF(D$7:D17,\"x\"),IF($A$7=\"CEO\",COUNTIF(E$7:E17,\"x\"),IF($A$7=\"CEQ\",COUNTIF(F$7:F17,\"x\"),IF($A$7=\"CI\",COUNTIF(G$7:G17,\"x\"),IF($A$7=\"PC\",COUNTIF(H$7:H17,\"x\"),IF($A$7=\"DPI\",COUNTIF(I$7:I17,\"x\"),IF($A$7=\"AP\",COUNTIF(J$7:J17,\"x\"),IF($A$7=\"F\",COUNTIF(K$7:K17,\"x\"),IF($A$7=\"CDE\",COUNTIF(L$7:L17,\"x\"),IF($A$7=\"MR\",COUNTIF(M$7:M17,\"x\"),IF($A$7=\"H\",COUNTIF(N$7:N17,\"x\"),IF($A$7=\"NYD\",COUNTIF(O$7:O17,\"x\"),IF($A$7=\"R\",COUNTIF(P$7:P17,\"x\"),IF($A$7=\"MN\",COUNTIF(Q$7:Q17,\"x\"),IF($A$7=\"CDH\",COUNTIF(R$7:R17,\"x\"),IF($A$7=\"PNA\",COUNTIF(S$7:S17,\"x\"),\" \"))))))))))))))))))","v":10},"x","x","x","x",null,null,null,"x",null,"x",null,"x","x","x",null,null,null,"x","HISTORIA CLINICA ",{"$f":"'FICHA OCULTA'!G34","v":"Registro actualizado del tratamiento del paciente (medicamento, dosis, vía, periodicidad)."},"J",{"$f":"'FICHA OCULTA'!$I$51","v":0.521739130434783}]
[{"$f":"IF($A$7=\"CE\",COUNTIF(B$7:B18,\"x\"),IF($A$7=\"HOS\",COUNTIF(C$7:C18,\"x\"),IF($A$7=\"E\",COUNTIF(D$7:D18,\"x\"),IF($A$7=\"CEO\",COUNTIF(E$7:E18,\"x\"),IF($A$7=\"CEQ\",COUNTIF(F$7:F18,\"x\"),IF($A$7=\"CI\",COUNTIF(G$7:G18,\"x\"),IF($A$7=\"PC\",COUNTIF(H$7:H18,\"x\"),IF($A$7=\"DPI\",COUNTIF(I$7:I18,\"x\"),IF($A$7=\"AP\",COUNTIF(J$7:J18,\"x\"),IF($A$7=\"F\",COUNTIF(K$7:K18,\"x\"),IF($A$7=\"CDE\",COUNTIF(L$7:L18,\"x\"),IF($A$7=\"MR\",COUNTIF(M$7:M18,\"x\"),IF($A$7=\"H\",COUNTIF(N$7:N18,\"x\"),IF($A$7=\"NYD\",COUNTIF(O$7:O18,\"x\"),IF($A$7=\"R\",COUNTIF(P$7:P18,\"x\"),IF($A$7=\"MN\",COUNTIF(Q$7:Q18,\"x\"),IF($A$7=\"CDH\",COUNTIF(R$7:R18,\"x\"),IF($A$7=\"PNA\",COUNTIF(S$7:S18,\"x\"),\" \"))))))))))))))))))","v":11},null,"x","x","x","x","x",null,"x",null,null,null,null,"x",null,"x","x","x",null,"HISTORIA CLINICA ",{"$f":"'FICHA OCULTA'!G35","v":"Registro y gráfico actualizado de la Funciones Vitales."},"K",{"$f":"'FICHA OCULTA'!$I$51","v":0.521739130434783}]
[{"$f":"IF($A$7=\"CE\",COUNTIF(B$7:B19,\"x\"),IF($A$7=\"HOS\",COUNTIF(C$7:C19,\"x\"),IF($A$7=\"E\",COUNTIF(D$7:D19,\"x\"),IF($A$7=\"CEO\",COUNTIF(E$7:E19,\"x\"),IF($A$7=\"CEQ\",COUNTIF(F$7:F19,\"x\"),IF($A$7=\"CI\",COUNTIF(G$7:G19,\"x\"),IF($A$7=\"PC\",COUNTIF(H$7:H19,\"x\"),IF($A$7=\"DPI\",COUNTIF(I$7:I19,\"x\"),IF($A$7=\"AP\",COUNTIF(J$7:J19,\"x\"),IF($A$7=\"F\",COUNTIF(K$7:K19,\"x\"),IF($A$7=\"CDE\",COUNTIF(L$7:L19,\"x\"),IF($A$7=\"MR\",COUNTIF(M$7:M19,\"x\"),IF($A$7=\"H\",COUNTIF(N$7:N19,\"x\"),IF($A$7=\"NYD\",COUNTIF(O$7:O19,\"x\"),IF($A$7=\"R\",COUNTIF(P$7:P19,\"x\"),IF($A$7=\"MN\",COUNTIF(Q$7:Q19,\"x\"),IF($A$7=\"CDH\",COUNTIF(R$7:R19,\"x\"),IF($A$7=\"PNA\",COUNTIF(S$7:S19,\"x\"),\" \"))))))))))))))))))","v":12},null,"x","x",null,"x","x",null,null,null,null,null,null,"x",null,null,null,null,null,"HISTORIA CLINICA ",{"$f":"'FICHA OCULTA'!G36","v":"Registro de la Hoja de Balance hidro - electrolítico actualizado."},"L",{"$f":"'FICHA OCULTA'!$I$51","v":0.521739130434783}]
[{"$f":"IF($A$7=\"CE\",COUNTIF(B$7:B20,\"x\"),IF($A$7=\"HOS\",COUNTIF(C$7:C20,\"x\"),IF($A$7=\"E\",COUNTIF(D$7:D20,\"x\"),IF($A$7=\"CEO\",COUNTIF(E$7:E20,\"x\"),IF($A$7=\"CEQ\",COUNTIF(F$7:F20,\"x\"),IF($A$7=\"CI\",COUNTIF(G$7:G20,\"x\"),IF($A$7=\"PC\",COUNTIF(H$7:H20,\"x\"),IF($A$7=\"DPI\",COUNTIF(I$7:I20,\"x\"),IF($A$7=\"AP\",COUNTIF(J$7:J20,\"x\"),IF($A$7=\"F\",COUNTIF(K$7:K20,\"x\"),IF($A$7=\"CDE\",COUNTIF(L$7:L20,\"x\"),IF($A$7=\"MR\",COUNTIF(M$7:M20,\"x\"),IF($A$7=\"H\",COUNTIF(N$7:N20,\"x\"),IF($A$7=\"NYD\",COUNTIF(O$7:O20,\"x\"),IF($A$7=\"R\",COUNTIF(P$7:P20,\"x\"),IF($A$7=\"MN\",COUNTIF(Q$7:Q20,\"x\"),IF($A$7=\"CDH\",COUNTIF(R$7:R20,\"x\"),IF($A$7=\"PNA\",COUNTIF(S$7:S20,\"x\"),\" \"))))))))))))))))))","v":13},"x","x","x","x","x","x","x","x","x",null,null,"x","x",null,"x","x","x","x","HISTORIA CLINICA ",{"$f":"'FICHA OCULTA'!G37","v":"Registro e inclusión en la Historia Clínica de los resultados de examenes auxiliares y procedimientos del paciente."},"M",{"$f":"'FICHA OCULTA'!$I$51","v":0.521739130434783}]
[{"$f":"IF($A$7=\"CE\",COUNTIF(B$7:B21,\"x\"),IF($A$7=\"HOS\",COUNTIF(C$7:C21,\"x\"),IF($A$7=\"E\",COUNTIF(D$7:D21,\"x\"),IF($A$7=\"CEO\",COUNTIF(E$7:E21,\"x\"),IF($A$7=\"CEQ\",COUNTIF(F$7:F21,\"x\"),IF($A$7=\"CI\",COUNTIF(G$7:G21,\"x\"),IF($A$7=\"PC\",COUNTIF(H$7:H21,\"x\"),IF($A$7=\"DPI\",COUNTIF(I$7:I21,\"x\"),IF($A$7=\"AP\",COUNTIF(J$7:J21,\"x\"),IF($A$7=\"F\",COUNTIF(K$7:K21,\"x\"),IF($A$7=\"CDE\",COUNTIF(L$7:L21,\"x\"),IF($A$7=\"MR\",COUNTIF(M$7:M21,\"x\"),IF($A$7=\"H\",COUNTIF(N$7:N21,\"x\"),IF($A$7=\"NYD\",COUNTIF(O$7:O21,\"x\"),IF($A$7=\"R\",COUNTIF(P$7:P21,\"x\"),IF($A$7=\"MN\",COUNTIF(Q$7:Q21,\"x\"),IF($A$7=\"CDH\",COUNTIF(R$7:R21,\"x\"),IF($A$7=\"PNA\",COUNTIF(S$7:S21,\"x\"),\" \"))))))))))))))))))","v":14},"x","x","x","x","x","x",null,null,null,null,null,"x","x",null,null,null,null,"x","HISTORIA CLINICA ",{"$f":"'FICHA OCULTA'!G38","v":"Correspondencia entre el diagnóstico presuntivo y/o definitivo con el plan de trabajo en la última atención o evaluación realizada."},"N",{"$f":"'FICHA OCULTA'!$I$51","v":0.521739130434783}]
[{"$f":"IF($A$7=\"CE\",COUNTIF(B$7:B22,\"x\"),IF($A$7=\"HOS\",COUNTIF(C$7:C22,\"x\"),IF($A$7=\"E\",COUNTIF(D$7:D22,\"x\"),IF($A$7=\"CEO\",COUNTIF(E$7:E22,\"x\"),IF($A$7=\"CEQ\",COUNTIF(F$7:F22,\"x\"),IF($A$7=\"CI\",COUNTIF(G$7:G22,\"x\"),IF($A$7=\"PC\",COUNTIF(H$7:H22,\"x\"),IF($A$7=\"DPI\",COUNTIF(I$7:I22,\"x\"),IF($A$7=\"AP\",COUNTIF(J$7:J22,\"x\"),IF($A$7=\"F\",COUNTIF(K$7:K22,\"x\"),IF($A$7=\"CDE\",COUNTIF(L$7:L22,\"x\"),IF($A$7=\"MR\",COUNTIF(M$7:M22,\"x\"),IF($A$7=\"H\",COUNTIF(N$7:N22,\"x\"),IF($A$7=\"NYD\",COUNTIF(O$7:O22,\"x\"),IF($A$7=\"R\",COUNTIF(P$7:P22,\"x\"),IF($A$7=\"MN\",COUNTIF(Q$7:Q22,\"x\"),IF($A$7=\"CDH\",COUNTIF(R$7:R22,\"x\"),IF($A$7=\"PNA\",COUNTIF(S$7:S22,\"x\"),\" \"))))))))))))))))))","v":15},"x","x","x","x","x","x",null,null,null,null,null,"x","x",null,null,null,null,"x","HISTORIA CLINICA ",{"$f":"'FICHA OCULTA'!G39","v":"Correspondencia entre el plan de trabajo y los examenes de apoyo al diagnóstico solicitados en la última atención o evaluación realizada."},"O",{"$f":"'FICHA OCULTA'!$I$51","v":0.521739130434783}]
[{"$f":"IF($A$7=\"CE\",COUNTIF(B$7:B23,\"x\"),IF($A$7=\"HOS\",COUNTIF(C$7:C23,\"x\"),IF($A$7=\"E\",COUNTIF(D$7:D23,\"x\"),IF($A$7=\"CEO\",COUNTIF(E$7:E23,\"x\"),IF($A$7=\"CEQ\",COUNTIF(F$7:F23,\"x\"),IF($A$7=\"CI\",COUNTIF(G$7:G23,\"x\"),IF($A$7=\"PC\",COUNTIF(H$7:H23,\"x\"),IF($A$7=\"DPI\",COUNTIF(I$7:I23,\"x\"),IF($A$7=\"AP\",COUNTIF(J$7:J23,\"x\"),IF($A$7=\"F\",COUNTIF(K$7:K23,\"x\"),IF($A$7=\"CDE\",COUNTIF(L$7:L23,\"x\"),IF($A$7=\"MR\",COUNTIF(M$7:M23,\"x\"),IF($A$7=\"H\",COUNTIF(N$7:N23,\"x\"),IF($A$7=\"NYD\",COUNTIF(O$7:O23,\"x\"),IF($A$7=\"R\",COUNTIF(P$7:P23,\"x\"),IF($A$7=\"MN\",COUNTIF(Q$7:Q23,\"x\"),IF($A$7=\"CDH\",COUNTIF(R$7:R23,\"x\"),IF($A$7=\"PNA\",COUNTIF(S$7:S23,\"x\"),\" \"))))))))))))))))))","v":16},"x","x","x","x","x","x","x","x","x","x",null,"x","x","x","x","x","x","x","HISTORIA CLINICA ",{"$f":"'FICHA OCULTA'!G40","v":"Registro del nombre del paciente en todas las hojas de la HCl."},"P",{"$f":"'FICHA OCULTA'!$I$51","v":0.521739130434783}]
[{"$f":"IF($A$7=\"CE\",COUNTIF(B$7:B24,\"x\"),IF($A$7=\"HOS\",COUNTIF(C$7:C24,\"x\"),IF($A$7=\"E\",COUNTIF(D$7:D24,\"x\"),IF($A$7=\"CEO\",COUNTIF(E$7:E24,\"x\"),IF($A$7=\"CEQ\",COUNTIF(F$7:F24,\"x\"),IF($A$7=\"CI\",COUNTIF(G$7:G24,\"x\"),IF($A$7=\"PC\",COUNTIF(H$7:H24,\"x\"),IF($A$7=\"DPI\",COUNTIF(I$7:I24,\"x\"),IF($A$7=\"AP\",COUNTIF(J$7:J24,\"x\"),IF($A$7=\"F\",COUNTIF(K$7:K24,\"x\"),IF($A$7=\"CDE\",COUNTIF(L$7:L24,\"x\"),IF($A$7=\"MR\",COUNTIF(M$7:M24,\"x\"),IF($A$7=\"H\",COUNTIF(N$7:N24,\"x\"),IF($A$7=\"NYD\",COUNTIF(O$7:O24,\"x\"),IF($A$7=\"R\",COUNTIF(P$7:P24,\"x\"),IF($A$7=\"MN\",COUNTIF(Q$7:Q24,\"x\"),IF($A$7=\"CDH\",COUNTIF(R$7:R24,\"x\"),IF($A$7=\"PNA\",COUNTIF(S$7:S24,\"x\"),\" \"))))))))))))))))))","v":17},"x","x","x","x","x","x","x","x","x","x","x","x","x","x","x","x","x","x","HISTORIA CLINICA ",{"$f":"'FICHA OCULTA'!G41","v":"En caso de haberse producido un evento adverso, este ha sido registrado en la HCl o en algún medio de registro evidenciable."},"Q",{"$f":"'FICHA OCULTA'!$I$51","v":0.521739130434783}]
[{"$f":"IF($A$7=\"CE\",COUNTIF(B$7:B25,\"x\"),IF($A$7=\"HOS\",COUNTIF(C$7:C25,\"x\"),IF($A$7=\"E\",COUNTIF(D$7:D25,\"x\"),IF($A$7=\"CEO\",COUNTIF(E$7:E25,\"x\"),IF($A$7=\"CEQ\",COUNTIF(F$7:F25,\"x\"),IF($A$7=\"CI\",COUNTIF(G$7:G25,\"x\"),IF($A$7=\"PC\",COUNTIF(H$7:H25,\"x\"),IF($A$7=\"DPI\",COUNTIF(I$7:I25,\"x\"),IF($A$7=\"AP\",COUNTIF(J$7:J25,\"x\"),IF($A$7=\"F\",COUNTIF(K$7:K25,\"x\"),IF($A$7=\"CDE\",COUNTIF(L$7:L25,\"x\"),IF($A$7=\"MR\",COUNTIF(M$7:M25,\"x\"),IF($A$7=\"H\",COUNTIF(N$7:N25,\"x\"),IF($A$7=\"NYD\",COUNTIF(O$7:O25,\"x\"),IF($A$7=\"R\",COUNTIF(P$7:P25,\"x\"),IF($A$7=\"MN\",COUNTIF(Q$7:Q25,\"x\"),IF($A$7=\"CDH\",COUNTIF(R$7:R25,\"x\"),IF($A$7=\"PNA\",COUNTIF(S$7:S25,\"x\"),\" \"))))))))))))))))))","v":18},"x","x","x","x","x","x","x","x","x","x",null,"x","x","x","x","x","x","x","HISTORIA CLINICA ",{"$f":"'FICHA OCULTA'!G42","v":"Registro completo del Consentimiento Informado de acuerdo a la normatividad vigente."},"R",{"$f":"'FICHA OCULTA'!$I$51","v":0.521739130434783}]
[{"$f":"IF($A$7=\"CE\",COUNTIF(B$7:B26,\"x\"),IF($A$7=\"HOS\",COUNTIF(C$7:C26,\"x\"),IF($A$7=\"E\",COUNTIF(D$7:D26,\"x\"),IF($A$7=\"CEO\",COUNTIF(E$7:E26,\"x\"),IF($A$7=\"CEQ\",COUNTIF(F$7:F26,\"x\"),IF($A$7=\"CI\",COUNTIF(G$7:G26,\"x\"),IF($A$7=\"PC\",COUNTIF(H$7:H26,\"x\"),IF($A$7=\"DPI\",COUNTIF(I$7:I26,\"x\"),IF($A$7=\"AP\",COUNTIF(J$7:J26,\"x\"),IF($A$7=\"F\",COUNTIF(K$7:K26,\"x\"),IF($A$7=\"CDE\",COUNTIF(L$7:L26,\"x\"),IF($A$7=\"MR\",COUNTIF(M$7:M26,\"x\"),IF($A$7=\"H\",COUNTIF(N$7:N26,\"x\"),IF($A$7=\"NYD\",COUNTIF(O$7:O26,\"x\"),IF($A$7=\"R\",COUNTIF(P$7:P26,\"x\"),IF($A$7=\"MN\",COUNTIF(Q$7:Q26,\"x\"),IF($A$7=\"CDH\",COUNTIF(R$7:R26,\"x\"),IF($A$7=\"PNA\",COUNTIF(S$7:S26,\"x\"),\" \"))))))))))))))))))","v":19},null,"x","x",null,null,null,null,null,null,null,null,null,null,null,null,null,null,null,"HISTORIA CLINICA ",{"$f":"'FICHA OCULTA'!G43","v":"Registro de la fecha y hora del alta del paciente"},"S",{"$f":"'FICHA OCULTA'!$I$51","v":0.521739130434783}]
[{"$f":"IF($A$7=\"CE\",COUNTIF(B$7:B27,\"x\"),IF($A$7=\"HOS\",COUNTIF(C$7:C27,\"x\"),IF($A$7=\"E\",COUNTIF(D$7:D27,\"x\"),IF($A$7=\"CEO\",COUNTIF(E$7:E27,\"x\"),IF($A$7=\"CEQ\",COUNTIF(F$7:F27,\"x\"),IF($A$7=\"CI\",COUNTIF(G$7:G27,\"x\"),IF($A$7=\"PC\",COUNTIF(H$7:H27,\"x\"),IF($A$7=\"DPI\",COUNTIF(I$7:I27,\"x\"),IF($A$7=\"AP\",COUNTIF(J$7:J27,\"x\"),IF($A$7=\"F\",COUNTIF(K$7:K27,\"x\"),IF($A$7=\"CDE\",COUNTIF(L$7:L27,\"x\"),IF($A$7=\"MR\",COUNTIF(M$7:M27,\"x\"),IF($A$7=\"H\",COUNTIF(N$7:N27,\"x\"),IF($A$7=\"NYD\",COUNTIF(O$7:O27,\"x\"),IF($A$7=\"R\",COUNTIF(P$7:P27,\"x\"),IF($A$7=\"MN\",COUNTIF(Q$7:Q27,\"x\"),IF($A$7=\"CDH\",COUNTIF(R$7:R27,\"x\"),IF($A$7=\"PNA\",COUNTIF(S$7:S27,\"x\"),\" \"))))))))))))))))))","v":20},null,"x","x",null,null,null,null,null,null,null,null,null,null,null,null,null,null,null,"HISTORIA CLINICA ",{"$f":"'FICHA OCULTA'!G44","v":"Registro de las indicaciones de alta del paciente además de la epicrisis, incluyendo diagnóstico definitivo."},"T",{"$f":"'FICHA OCULTA'!$I$51","v":0.521739130434783}]
[{"$f":"IF($A$7=\"CE\",COUNTIF(B$7:B28,\"x\"),IF($A$7=\"HOS\",COUNTIF(C$7:C28,\"x\"),IF($A$7=\"E\",COUNTIF(D$7:D28,\"x\"),IF($A$7=\"CEO\",COUNTIF(E$7:E28,\"x\"),IF($A$7=\"CEQ\",COUNTIF(F$7:F28,\"x\"),IF($A$7=\"CI\",COUNTIF(G$7:G28,\"x\"),IF($A$7=\"PC\",COUNTIF(H$7:H28,\"x\"),IF($A$7=\"DPI\",COUNTIF(I$7:I28,\"x\"),IF($A$7=\"AP\",COUNTIF(J$7:J28,\"x\"),IF($A$7=\"F\",COUNTIF(K$7:K28,\"x\"),IF($A$7=\"CDE\",COUNTIF(L$7:L28,\"x\"),IF($A$7=\"MR\",COUNTIF(M$7:M28,\"x\"),IF($A$7=\"H\",COUNTIF(N$7:N28,\"x\"),IF($A$7=\"NYD\",COUNTIF(O$7:O28,\"x\"),IF($A$7=\"R\",COUNTIF(P$7:P28,\"x\"),IF($A$7=\"MN\",COUNTIF(Q$7:Q28,\"x\"),IF($A$7=\"CDH\",COUNTIF(R$7:R28,\"x\"),IF($A$7=\"PNA\",COUNTIF(S$7:S28,\"x\"),\" \"))))))))))))))))))","v":21},"x","x","x","x","x","x","x","x","x","x",null,"x","x","x","x","x","x","x","HISTORIA CLINICA ",{"$f":"'FICHA OCULTA'!G45","v":"Registro de los informes de los procedimientos realizados al paciente."},"U",{"$f":"'FICHA OCULTA'!$I$51","v":0.521739130434783}]
[{"$f":"IF($A$7=\"CE\",COUNTIF(B$7:B29,\"x\"),IF($A$7=\"HOS\",COUNTIF(C$7:C29,\"x\"),IF($A$7=\"E\",COUNTIF(D$7:D29,\"x\"),IF($A$7=\"CEO\",COUNTIF(E$7:E29,\"x\"),IF($A$7=\"CEQ\",COUNTIF(F$7:F29,\"x\"),IF($A$7=\"CI\",COUNTIF(G$7:G29,\"x\"),IF($A$7=\"PC\",COUNTIF(H$7:H29,\"x\"),IF($A$7=\"DPI\",COUNTIF(I$7:I29,\"x\"),IF($A$7=\"AP\",COUNTIF(J$7:J29,\"x\"),IF($A$7=\"F\",COUNTIF(K$7:K29,\"x\"),IF($A$7=\"CDE\",COUNTIF(L$7:L29,\"x\"),IF($A$7=\"MR\",COUNTIF(M$7:M29,\"x\"),IF($A$7=\"H\",COUNTIF(N$7:N29,\"x\"),IF($A$7=\"NYD\",COUNTIF(O$7:O29,\"x\"),IF($A$7=\"R\",COUNTIF(P$7:P29,\"x\"),IF($A$7=\"MN\",COUNTIF(Q$7:Q29,\"x\"),IF($A$7=\"CDH\",COUNTIF(R$7:R29,\"x\"),IF($A$7=\"PNA\",COUNTIF(S$7:S29,\"x\"),\" \"))))))))))))))))))","v":22},"x","x","x",null,null,null,null,null,null,null,null,null,null,null,null,null,null,"x","HISTORIA CLINICA ",{"$f":"'FICHA OCULTA'!G46","v":"Registro de la Contrarreferencia del paciente"},"V",{"$f":"'FICHA OCULTA'!$I$51","v":0.521739130434783}]
[{"$f":"IF($A$7=\"CE\",COUNTIF(B$7:B30,\"x\"),IF($A$7=\"HOS\",COUNTIF(C$7:C30,\"x\"),IF($A$7=\"E\",COUNTIF(D$7:D30,\"x\"),IF($A$7=\"CEO\",COUNTIF(E$7:E30,\"x\"),IF($A$7=\"CEQ\",COUNTIF(F$7:F30,\"x\"),IF($A$7=\"CI\",COUNTIF(G$7:G30,\"x\"),IF($A$7=\"PC\",COUNTIF(H$7:H30,\"x\"),IF($A$7=\"DPI\",COUNTIF(I$7:I30,\"x\"),IF($A$7=\"AP\",COUNTIF(J$7:J30,\"x\"),IF($A$7=\"F\",COUNTIF(K$7:K30,\"x\"),IF($A$7=\"CDE\",COUNTIF(L$7:L30,\"x\"),IF($A$7=\"MR\",COUNTIF(M$7:M30,\"x\"),IF($A$7=\"H\",COUNTIF(N$7:N30,\"x\"),IF($A$7=\"NYD\",COUNTIF(O$7:O30,\"x\"),IF($A$7=\"R\",COUNTIF(P$7:P30,\"x\"),IF($A$7=\"MN\",COUNTIF(Q$7:Q30,\"x\"),IF($A$7=\"CDH\",COUNTIF(R$7:R30,\"x\"),IF($A$7=\"PNA\",COUNTIF(S$7:S30,\"x\"),\" \"))))))))))))))))))","v":23},"x","x","x","x","x","x","x","x","x","x",null,"x","x","x","x","x","x","x","HISTORIA CLINICA ",{"$f":"'FICHA OCULTA'!G47","v":"La letra de la Historia Clínica es legible"},"W",{"$f":"'FICHA OCULTA'!$I$51","v":0.521739130434783}]
[{"$f":"IF($A$7=\"CE\",COUNTIF(B$7:B31,\"x\"),IF($A$7=\"HOS\",COUNTIF(C$7:C31,\"x\"),IF($A$7=\"E\",COUNTIF(D$7:D31,\"x\"),IF($A$7=\"CEO\",COUNTIF(E$7:E31,\"x\"),IF($A$7=\"CEQ\",COUNTIF(F$7:F31,\"x\"),IF($A$7=\"CI\",COUNTIF(G$7:G31,\"x\"),IF($A$7=\"PC\",COUNTIF(H$7:H31,\"x\"),IF($A$7=\"DPI\",COUNTIF(I$7:I31,\"x\"),IF($A$7=\"AP\",COUNTIF(J$7:J31,\"x\"),IF($A$7=\"F\",COUNTIF(K$7:K31,\"x\"),IF($A$7=\"CDE\",COUNTIF(L$7:L31,\"x\"),IF($A$7=\"MR\",COUNTIF(M$7:M31,\"x\"),IF($A$7=\"H\",COUNTIF(N$7:N31,\"x\"),IF($A$7=\"NYD\",COUNTIF(O$7:O31,\"x\"),IF($A$7=\"R\",COUNTIF(P$7:P31,\"x\"),IF($A$7=\"MN\",COUNTIF(Q$7:Q31,\"x\"),IF($A$7=\"CDH\",COUNTIF(R$7:R31,\"x\"),IF($A$7=\"PNA\",COUNTIF(S$7:S31,\"x\"),\" \"))))))))))))))))))","v":24},"x","x","x","x","x","x","x","x","x","x",null,"x","x","x","x","x","x","x","HISTORIA CLINICA ",{"$f":"'FICHA OCULTA'!G48","v":"Historia clínica ordenada y limpia."},"X",{"$f":"'FICHA OCULTA'!$I$51","v":0.521739130434783}]
[{"$f":"IF($A$7=\"CE\",COUNTIF(B$7:B32,\"x\"),IF($A$7=\"HOS\",COUNTIF(C$7:C32,\"x\"),IF($A$7=\"E\",COUNTIF(D$7:D32,\"x\"),IF($A$7=\"CEO\",COUNTIF(E$7:E32,\"x\"),IF($A$7=\"CEQ\",COUNTIF(F$7:F32,\"x\"),IF($A$7=\"CI\",COUNTIF(G$7:G32,\"x\"),IF($A$7=\"PC\",COUNTIF(H$7:H32,\"x\"),IF($A$7=\"DPI\",COUNTIF(I$7:I32,\"x\"),IF($A$7=\"AP\",COUNTIF(J$7:J32,\"x\"),IF($A$7=\"F\",COUNTIF(K$7:K32,\"x\"),IF($A$7=\"CDE\",COUNTIF(L$7:L32,\"x\"),IF($A$7=\"MR\",COUNTIF(M$7:M32,\"x\"),IF($A$7=\"H\",COUNTIF(N$7:N32,\"x\"),IF($A$7=\"NYD\",COUNTIF(O$7:O32,\"x\"),IF($A$7=\"R\",COUNTIF(P$7:P32,\"x\"),IF($A$7=\"MN\",COUNTIF(Q$7:Q32,\"x\"),IF($A$7=\"CDH\",COUNTIF(R$7:R32,\"x\"),IF($A$7=\"PNA\",COUNTIF(S$7:S32,\"x\"),\" \"))))))))))))))))))","v":25},null,"x","x",null,null,"x",null,null,null,null,null,null,null,null,null,null,null,null,"SEGURIDAD EN LA UPSS",{"$f":"'FICHA OCULTA'!G53","v":"Las Interconsultas se gestionan oportunamente durante el turno."},"Y",{"$f":"'FICHA OCULTA'!$I$89","v":0.416666666666667}]
[{"$f":"IF($A$7=\"CE\",COUNTIF(B$7:B33,\"x\"),IF($A$7=\"HOS\",COUNTIF(C$7:C33,\"x\"),IF($A$7=\"E\",COUNTIF(D$7:D33,\"x\"),IF($A$7=\"CEO\",COUNTIF(E$7:E33,\"x\"),IF($A$7=\"CEQ\",COUNTIF(F$7:F33,\"x\"),IF($A$7=\"CI\",COUNTIF(G$7:G33,\"x\"),IF($A$7=\"PC\",COUNTIF(H$7:H33,\"x\"),IF($A$7=\"DPI\",COUNTIF(I$7:I33,\"x\"),IF($A$7=\"AP\",COUNTIF(J$7:J33,\"x\"),IF($A$7=\"F\",COUNTIF(K$7:K33,\"x\"),IF($A$7=\"CDE\",COUNTIF(L$7:L33,\"x\"),IF($A$7=\"MR\",COUNTIF(M$7:M33,\"x\"),IF($A$7=\"H\",COUNTIF(N$7:N33,\"x\"),IF($A$7=\"NYD\",COUNTIF(O$7:O33,\"x\"),IF($A$7=\"R\",COUNTIF(P$7:P33,\"x\"),IF($A$7=\"MN\",COUNTIF(Q$7:Q33,\"x\"),IF($A$7=\"CDH\",COUNTIF(R$7:R33,\"x\"),IF($A$7=\"PNA\",COUNTIF(S$7:S33,\"x\"),\" \"))))))))))))))))))","v":26},null,"x","x",null,null,"x",null,null,null,null,null,null,null,null,null,null,null,null,"SEGURIDAD EN LA UPSS",{"$f":"'FICHA OCULTA'!G54","v":"La solicitud de procedimientos de ayuda al diagnóstico y tratamiento se gestionan oportunamente durante el turno."},"Z",{"$f":"'FICHA OCULTA'!$I$89","v":0.416666666666667}]
[{"$f":"IF($A$7=\"CE\",COUNTIF(B$7:B34,\"x\"),IF($A$7=\"HOS\",COUNTIF(C$7:C34,\"x\"),IF($A$7=\"E\",COUNTIF(D$7:D34,\"x\"),IF($A$7=\"CEO\",COUNTIF(E$7:E34,\"x\"),IF($A$7=\"CEQ\",COUNTIF(F$7:F34,\"x\"),IF($A$7=\"CI\",COUNTIF(G$7:G34,\"x\"),IF($A$7=\"PC\",COUNTIF(H$7:H34,\"x\"),IF($A$7=\"DPI\",COUNTIF(I$7:I34,\"x\"),IF($A$7=\"AP\",COUNTIF(J$7:J34,\"x\"),IF($A$7=\"F\",COUNTIF(K$7:K34,\"x\"),IF($A$7=\"CDE\",COUNTIF(L$7:L34,\"x\"),IF($A$7=\"MR\",COUNTIF(M$7:M34,\"x\"),IF($A$7=\"H\",COUNTIF(N$7:N34,\"x\"),IF($A$7=\"NYD\",COUNTIF(O$7:O34,\"x\"),IF($A$7=\"R\",COUNTIF(P$7:P34,\"x\"),IF($A$7=\"MN\",COUNTIF(Q$7:Q34,\"x\"),IF($A$7=\"CDH\",COUNTIF(R$7:R34,\"x\"),IF($A$7=\"PNA\",COUNTIF(S$7:S34,\"x\"),\" \"))))))))))))))))))","v":27},null,"x","x",null,null,"x",null,null,null,null,null,null,null,null,null,null,null,null,"SEGURIDAD EN LA UPSS",{"$f":"'FICHA OCULTA'!G55","v":"La solicitud de medicamentos e insumos se gestionan oportunamente durante el turno."},"AA",{"$f":"'FICHA OCULTA'!$I$89","v":0.416666666666667}]
[{"$f":"IF($A$7=\"CE\",COUNTIF(B$7:B35,\"x\"),IF($A$7=\"HOS\",COUNTIF(C$7:C35,\"x\"),IF($A$7=\"E\",COUNTIF(D$7:D35,\"x\"),IF($A$7=\"CEO\",COUNTIF(E$7:E35,\"x\"),IF($A$7=\"CEQ\",COUNTIF(F$7:F35,\"x\"),IF($A$7=\"CI\",COUNTIF(G$7:G35,\"x\"),IF($A$7=\"PC\",COUNTIF(H$7:H35,\"x\"),IF($A$7=\"DPI\",COUNTIF(I$7:I35,\"x\"),IF($A$7=\"AP\",COUNTIF(J$7:J35,\"x\"),IF($A$7=\"F\",COUNTIF(K$7:K35,\"x\"),IF($A$7=\"CDE\",COUNTIF(L$7:L35,\"x\"),IF($A$7=\"MR\",COUNTIF(M$7:M35,\"x\"),IF($A$7=\"H\",COUNTIF(N$7:N35,\"x\"),IF($A$7=\"NYD\",COUNTIF(O$7:O35,\"x\"),IF($A$7=\"R\",COUNTIF(P$7:P35,\"x\"),IF($A$7=\"MN\",COUNTIF(Q$7:Q35,\"x\"),IF($A$7=\"CDH\",COUNTIF(R$7:R35,\"x\"),IF($A$7=\"PNA\",COUNTIF(S$7:S35,\"x\"),\" \"))))))))))))))))))","v":28},null,"x","x",null,null,"x",null,null,null,null,null,null,null,"x",null,null,null,null,"SEGURIDAD EN LA UPSS",{"$f":"'FICHA OCULTA'!G56","v":"Cumplimiento de las indicaciones de la dieta del paciente según indicación del médico tratante."},"AB",{"$f":"'FICHA OCULTA'!$I$89","v":0.416666666666667}]
[{"$f":"IF($A$7=\"CE\",COUNTIF(B$7:B36,\"x\"),IF($A$7=\"HOS\",COUNTIF(C$7:C36,\"x\"),IF($A$7=\"E\",COUNTIF(D$7:D36,\"x\"),IF($A$7=\"CEO\",COUNTIF(E$7:E36,\"x\"),IF($A$7=\"CEQ\",COUNTIF(F$7:F36,\"x\"),IF($A$7=\"CI\",COUNTIF(G$7:G36,\"x\"),IF($A$7=\"PC\",COUNTIF(H$7:H36,\"x\"),IF($A$7=\"DPI\",COUNTIF(I$7:I36,\"x\"),IF($A$7=\"AP\",COUNTIF(J$7:J36,\"x\"),IF($A$7=\"F\",COUNTIF(K$7:K36,\"x\"),IF($A$7=\"CDE\",COUNTIF(L$7:L36,\"x\"),IF($A$7=\"MR\",COUNTIF(M$7:M36,\"x\"),IF($A$7=\"H\",COUNTIF(N$7:N36,\"x\"),IF($A$7=\"NYD\",COUNTIF(O$7:O36,\"x\"),IF($A$7=\"R\",COUNTIF(P$7:P36,\"x\"),IF($A$7=\"MN\",COUNTIF(Q$7:Q36,\"x\"),IF($A$7=\"CDH\",COUNTIF(R$7:R36,\"x\"),IF($A$7=\"PNA\",COUNTIF(S$7:S36,\"x\"),\" \"))))))))))))))))))","v":29},"x","x","x","x","x","x","x","x","x","x","x","x","x","x","x","x","x",null,"SEGURIDAD EN LA UPSS",{"$f":"'FICHA OCULTA'!G57","v":"Cumplimiento y verificación de la asistencia y permanencia del personal programado en el servicio para garantizar la atención oportuna de los pacientes."},"AC",{"$f":"'FICHA OCULTA'!$I$89","v":0.416666666666667}]
[{"$f":"IF($A$7=\"CE\",COUNTIF(B$7:B37,\"x\"),IF($A$7=\"HOS\",COUNTIF(C$7:C37,\"x\"),IF($A$7=\"E\",COUNTIF(D$7:D37,\"x\"),IF($A$7=\"CEO\",COUNTIF(E$7:E37,\"x\"),IF($A$7=\"CEQ\",COUNTIF(F$7:F37,\"x\"),IF($A$7=\"CI\",COUNTIF(G$7:G37,\"x\"),IF($A$7=\"PC\",COUNTIF(H$7:H37,\"x\"),IF($A$7=\"DPI\",COUNTIF(I$7:I37,\"x\"),IF($A$7=\"AP\",COUNTIF(J$7:J37,\"x\"),IF($A$7=\"F\",COUNTIF(K$7:K37,\"x\"),IF($A$7=\"CDE\",COUNTIF(L$7:L37,\"x\"),IF($A$7=\"MR\",COUNTIF(M$7:M37,\"x\"),IF($A$7=\"H\",COUNTIF(N$7:N37,\"x\"),IF($A$7=\"NYD\",COUNTIF(O$7:O37,\"x\"),IF($A$7=\"R\",COUNTIF(P$7:P37,\"x\"),IF($A$7=\"MN\",COUNTIF(Q$7:Q37,\"x\"),IF($A$7=\"CDH\",COUNTIF(R$7:R37,\"x\"),IF($A$7=\"PNA\",COUNTIF(S$7:S37,\"x\"),\" \"))))))))))))))))))","v":30},"x","x","x","x","x","x","x","x","x","x","x","x","x","x","x","x","x","x","SEGURIDAD EN LA UPSS",{"$f":"'FICHA OCULTA'!G58","v":"Mecanismo de reemplazo para cubrir la ausencia del personal programado en el servicio a fin de garantizar la atención de los pacientes."},"AD",{"$f":"'FICHA OCULTA'!$I$89","v":0.416666666666667}]
[{"$f":"IF($A$7=\"CE\",COUNTIF(B$7:B38,\"x\"),IF($A$7=\"HOS\",COUNTIF(C$7:C38,\"x\"),IF($A$7=\"E\",COUNTIF(D$7:D38,\"x\"),IF($A$7=\"CEO\",COUNTIF(E$7:E38,\"x\"),IF($A$7=\"CEQ\",COUNTIF(F$7:F38,\"x\"),IF($A$7=\"CI\",COUNTIF(G$7:G38,\"x\"),IF($A$7=\"PC\",COUNTIF(H$7:H38,\"x\"),IF($A$7=\"DPI\",COUNTIF(I$7:I38,\"x\"),IF($A$7=\"AP\",COUNTIF(J$7:J38,\"x\"),IF($A$7=\"F\",COUNTIF(K$7:K38,\"x\"),IF($A$7=\"CDE\",COUNTIF(L$7:L38,\"x\"),IF($A$7=\"MR\",COUNTIF(M$7:M38,\"x\"),IF($A$7=\"H\",COUNTIF(N$7:N38,\"x\"),IF($A$7=\"NYD\",COUNTIF(O$7:O38,\"x\"),IF($A$7=\"R\",COUNTIF(P$7:P38,\"x\"),IF($A$7=\"MN\",COUNTIF(Q$7:Q38,\"x\"),IF($A$7=\"CDH\",COUNTIF(R$7:R38,\"x\"),IF($A$7=\"PNA\",COUNTIF(S$7:S38,\"x\"),\" \"))))))))))))))))))","v":31},"x","x","x","x","x","x","x","x","x","x","x","x","x","x","x","x","x","x","SEGURIDAD EN LA UPSS",{"$f":"'FICHA OCULTA'!G59","v":"Personal en formación (internos, residentes, especialidad u otros) demuestran que tienen un personal asistencial que cumple el rol de tutoría y supervisión."},"AE",{"$f":"'FICHA OCULTA'!$I$89","v":0.416666666666667}]
[{"$f":"IF($A$7=\"CE\",COUNTIF(B$7:B39,\"x\"),IF($A$7=\"HOS\",COUNTIF(C$7:C39,\"x\"),IF($A$7=\"E\",COUNTIF(D$7:D39,\"x\"),IF($A$7=\"CEO\",COUNTIF(E$7:E39,\"x\"),IF($A$7=\"CEQ\",COUNTIF(F$7:F39,\"x\"),IF($A$7=\"CI\",COUNTIF(G$7:G39,\"x\"),IF($A$7=\"PC\",COUNTIF(H$7:H39,\"x\"),IF($A$7=\"DPI\",COUNTIF(I$7:I39,\"x\"),IF($A$7=\"AP\",COUNTIF(J$7:J39,\"x\"),IF($A$7=\"F\",COUNTIF(K$7:K39,\"x\"),IF($A$7=\"CDE\",COUNTIF(L$7:L39,\"x\"),IF($A$7=\"MR\",COUNTIF(M$7:M39,\"x\"),IF($A$7=\"H\",COUNTIF(N$7:N39,\"x\"),IF($A$7=\"NYD\",COUNTIF(O$7:O39,\"x\"),IF($A$7=\"R\",COUNTIF(P$7:P39,\"x\"),IF($A$7=\"MN\",COUNTIF(Q$7:Q39,\"x\"),IF($A$7=\"CDH\",COUNTIF(R$7:R39,\"x\"),IF($A$7=\"PNA\",COUNTIF(S$7:S39,\"x\"),\" \"))))))))))))))))))","v":32},"x","x","x","x","x","x","x","x","x","x","x","x","x","x","x","x","x","x","SEGURIDAD EN LA UPSS",{"$f":"'FICHA OCULTA'!G60","v":"Personal conoce del sistema de registro y notificación de incidentes y eventos adversos."},"AF",{"$f":"'FICHA OCULTA'!$I$89","v":0.416666666666667}]
[{"$f":"IF($A$7=\"CE\",COUNTIF(B$7:B40,\"x\"),IF($A$7=\"HOS\",COUNTIF(C$7:C40,\"x\"),IF($A$7=\"E\",COUNTIF(D$7:D40,\"x\"),IF($A$7=\"CEO\",COUNTIF(E$7:E40,\"x\"),IF($A$7=\"CEQ\",COUNTIF(F$7:F40,\"x\"),IF($A$7=\"CI\",COUNTIF(G$7:G40,\"x\"),IF($A$7=\"PC\",COUNTIF(H$7:H40,\"x\"),IF($A$7=\"DPI\",COUNTIF(I$7:I40,\"x\"),IF($A$7=\"AP\",COUNTIF(J$7:J40,\"x\"),IF($A$7=\"F\",COUNTIF(K$7:K40,\"x\"),IF($A$7=\"CDE\",COUNTIF(L$7:L40,\"x\"),IF($A$7=\"MR\",COUNTIF(M$7:M40,\"x\"),IF($A$7=\"H\",COUNTIF(N$7:N40,\"x\"),IF($A$7=\"NYD\",COUNTIF(O$7:O40,\"x\"),IF($A$7=\"R\",COUNTIF(P$7:P40,\"x\"),IF($A$7=\"MN\",COUNTIF(Q$7:Q40,\"x\"),IF($A$7=\"CDH\",COUNTIF(R$7:R40,\"x\"),IF($A$7=\"PNA\",COUNTIF(S$7:S40,\"x\"),\" \"))))))))))))))))))","v":33},"x","x","x","x","x","x","x","x","x","x","x","x","x","x","x","x","x","x","SEGURIDAD EN LA UPSS",{"$f":"'FICHA OCULTA'!G61","v":"Registro físico y/o virtual de los incidentes y eventos adversos en la UPSS."},"AG",{"$f":"'FICHA OCULTA'!$I$89","v":0.416666666666667}]
[{"$f":"IF($A$7=\"CE\",COUNTIF(B$7:B41,\"x\"),IF($A$7=\"HOS\",COUNTIF(C$7:C41,\"x\"),IF($A$7=\"E\",COUNTIF(D$7:D41,\"x\"),IF($A$7=\"CEO\",COUNTIF(E$7:E41,\"x\"),IF($A$7=\"CEQ\",COUNTIF(F$7:F41,\"x\"),IF($A$7=\"CI\",COUNTIF(G$7:G41,\"x\"),IF($A$7=\"PC\",COUNTIF(H$7:H41,\"x\"),IF($A$7=\"DPI\",COUNTIF(I$7:I41,\"x\"),IF($A$7=\"AP\",COUNTIF(J$7:J41,\"x\"),IF($A$7=\"F\",COUNTIF(K$7:K41,\"x\"),IF($A$7=\"CDE\",COUNTIF(L$7:L41,\"x\"),IF($A$7=\"MR\",COUNTIF(M$7:M41,\"x\"),IF($A$7=\"H\",COUNTIF(N$7:N41,\"x\"),IF($A$7=\"NYD\",COUNTIF(O$7:O41,\"x\"),IF($A$7=\"R\",COUNTIF(P$7:P41,\"x\"),IF($A$7=\"MN\",COUNTIF(Q$7:Q41,\"x\"),IF($A$7=\"CDH\",COUNTIF(R$7:R41,\"x\"),IF($A$7=\"PNA\",COUNTIF(S$7:S41,\"x\"),\" \"))))))))))))))))))","v":34},"x","x","x","x","x","x","x","x","x","x","x","x","x","x","x","x","x","x","SEGURIDAD EN LA UPSS",{"$f":"'FICHA OCULTA'!G62","v":"Análisis y plan de intervención sobre la información de los incidentes y eventos adversos."},"AH",{"$f":"'FICHA OCULTA'!$I$89","v":0.416666666666667}]
[{"$f":"IF($A$7=\"CE\",COUNTIF(B$7:B42,\"x\"),IF($A$7=\"HOS\",COUNTIF(C$7:C42,\"x\"),IF($A$7=\"E\",COUNTIF(D$7:D42,\"x\"),IF($A$7=\"CEO\",COUNTIF(E$7:E42,\"x\"),IF($A$7=\"CEQ\",COUNTIF(F$7:F42,\"x\"),IF($A$7=\"CI\",COUNTIF(G$7:G42,\"x\"),IF($A$7=\"PC\",COUNTIF(H$7:H42,\"x\"),IF($A$7=\"DPI\",COUNTIF(I$7:I42,\"x\"),IF($A$7=\"AP\",COUNTIF(J$7:J42,\"x\"),IF($A$7=\"F\",COUNTIF(K$7:K42,\"x\"),IF($A$7=\"CDE\",COUNTIF(L$7:L42,\"x\"),IF($A$7=\"MR\",COUNTIF(M$7:M42,\"x\"),IF($A$7=\"H\",COUNTIF(N$7:N42,\"x\"),IF($A$7=\"NYD\",COUNTIF(O$7:O42,\"x\"),IF($A$7=\"R\",COUNTIF(P$7:P42,\"x\"),IF($A$7=\"MN\",COUNTIF(Q$7:Q42,\"x\"),IF($A$7=\"CDH\",COUNTIF(R$7:R42,\"x\"),IF($A$7=\"PNA\",COUNTIF(S$7:S42,\"x\"),\" \"))))))))))))))))))","v":35},"x","x","x","x","x","x","x","x","x","x","x","x","x","x","x","x","x","x","SEGURIDAD EN LA UPSS",{"$f":"'FICHA OCULTA'!G63","v":"Registro físico o digital de notificación de accidentes de trabajo del personal asistencial."},"AI",{"$f":"'FICHA OCULTA'!$I$89","v":0.416666666666667}]
[{"$f":"IF($A$7=\"CE\",COUNTIF(B$7:B43,\"x\"),IF($A$7=\"HOS\",COUNTIF(C$7:C43,\"x\"),IF($A$7=\"E\",COUNTIF(D$7:D43,\"x\"),IF($A$7=\"CEO\",COUNTIF(E$7:E43,\"x\"),IF($A$7=\"CEQ\",COUNTIF(F$7:F43,\"x\"),IF($A$7=\"CI\",COUNTIF(G$7:G43,\"x\"),IF($A$7=\"PC\",COUNTIF(H$7:H43,\"x\"),IF($A$7=\"DPI\",COUNTIF(I$7:I43,\"x\"),IF($A$7=\"AP\",COUNTIF(J$7:J43,\"x\"),IF($A$7=\"F\",COUNTIF(K$7:K43,\"x\"),IF($A$7=\"CDE\",COUNTIF(L$7:L43,\"x\"),IF($A$7=\"MR\",COUNTIF(M$7:M43,\"x\"),IF($A$7=\"H\",COUNTIF(N$7:N43,\"x\"),IF($A$7=\"NYD\",COUNTIF(O$7:O43,\"x\"),IF($A$7=\"R\",COUNTIF(P$7:P43,\"x\"),IF($A$7=\"MN\",COUNTIF(Q$7:Q43,\"x\"),IF($A$7=\"CDH\",COUNTIF(R$7:R43,\"x\"),IF($A$7=\"PNA\",COUNTIF(S$7:S43,\"x\"),\" \"))))))))))))))))))","v":36},"x","x","x","x","x","x","x","x","x","x","x","x","x","x","x","x","x","x","SEGURIDAD EN LA UPSS",{"$f":"'FICHA OCULTA'!G64","v":"Utilización del formato de consentimiento informado para actividades de docencia."},"AJ",{"$f":"'FICHA OCULTA'!$I$89","v":0.416666666666667}]
[{"$f":"IF($A$7=\"CE\",COUNTIF(B$7:B44,\"x\"),IF($A$7=\"HOS\",COUNTIF(C$7:C44,\"x\"),IF($A$7=\"E\",COUNTIF(D$7:D44,\"x\"),IF($A$7=\"CEO\",COUNTIF(E$7:E44,\"x\"),IF($A$7=\"CEQ\",COUNTIF(F$7:F44,\"x\"),IF($A$7=\"CI\",COUNTIF(G$7:G44,\"x\"),IF($A$7=\"PC\",COUNTIF(H$7:H44,\"x\"),IF($A$7=\"DPI\",COUNTIF(I$7:I44,\"x\"),IF($A$7=\"AP\",COUNTIF(J$7:J44,\"x\"),IF($A$7=\"F\",COUNTIF(K$7:K44,\"x\"),IF($A$7=\"CDE\",COUNTIF(L$7:L44,\"x\"),IF($A$7=\"MR\",COUNTIF(M$7:M44,\"x\"),IF($A$7=\"H\",COUNTIF(N$7:N44,\"x\"),IF($A$7=\"NYD\",COUNTIF(O$7:O44,\"x\"),IF($A$7=\"R\",COUNTIF(P$7:P44,\"x\"),IF($A$7=\"MN\",COUNTIF(Q$7:Q44,\"x\"),IF($A$7=\"CDH\",COUNTIF(R$7:R44,\"x\"),IF($A$7=\"PNA\",COUNTIF(S$7:S44,\"x\"),\" \"))))))))))))))))))","v":37},null,"x","x",null,null,"x",null,null,null,null,null,null,null,null,null,null,null,null,"SEGURIDAD EN LA UPSS",{"$f":"'FICHA OCULTA'!G65","v":"Timbre o sistema de llamado se encuentra cerca del paciente y está operativo."},"AK",{"$f":"'FICHA OCULTA'!$I$89","v":0.416666666666667}]
[{"$f":"IF($A$7=\"CE\",COUNTIF(B$7:B45,\"x\"),IF($A$7=\"HOS\",COUNTIF(C$7:C45,\"x\"),IF($A$7=\"E\",COUNTIF(D$7:D45,\"x\"),IF($A$7=\"CEO\",COUNTIF(E$7:E45,\"x\"),IF($A$7=\"CEQ\",COUNTIF(F$7:F45,\"x\"),IF($A$7=\"CI\",COUNTIF(G$7:G45,\"x\"),IF($A$7=\"PC\",COUNTIF(H$7:H45,\"x\"),IF($A$7=\"DPI\",COUNTIF(I$7:I45,\"x\"),IF($A$7=\"AP\",COUNTIF(J$7:J45,\"x\"),IF($A$7=\"F\",COUNTIF(K$7:K45,\"x\"),IF($A$7=\"CDE\",COUNTIF(L$7:L45,\"x\"),IF($A$7=\"MR\",COUNTIF(M$7:M45,\"x\"),IF($A$7=\"H\",COUNTIF(N$7:N45,\"x\"),IF($A$7=\"NYD\",COUNTIF(O$7:O45,\"x\"),IF($A$7=\"R\",COUNTIF(P$7:P45,\"x\"),IF($A$7=\"MN\",COUNTIF(Q$7:Q45,\"x\"),IF($A$7=\"CDH\",COUNTIF(R$7:R45,\"x\"),IF($A$7=\"PNA\",COUNTIF(S$7:S45,\"x\"),\" \"))))))))))))))))))","v":38},null,"x","x","x","x","x",null,"x",null,null,null,null,null,null,"x","x","x",null,"SEGURIDAD EN LA UPSS",{"$f":"'FICHA OCULTA'!G66","v":"Barandas de las camas funcionan y están levantadas para proteger al paciente."},"AL",{"$f":"'FICHA OCULTA'!$I$89","v":0.416666666666667}]
[{"$f":"IF($A$7=\"CE\",COUNTIF(B$7:B46,\"x\"),IF($A$7=\"HOS\",COUNTIF(C$7:C46,\"x\"),IF($A$7=\"E\",COUNTIF(D$7:D46,\"x\"),IF($A$7=\"CEO\",COUNTIF(E$7:E46,\"x\"),IF($A$7=\"CEQ\",COUNTIF(F$7:F46,\"x\"),IF($A$7=\"CI\",COUNTIF(G$7:G46,\"x\"),IF($A$7=\"PC\",COUNTIF(H$7:H46,\"x\"),IF($A$7=\"DPI\",COUNTIF(I$7:I46,\"x\"),IF($A$7=\"AP\",COUNTIF(J$7:J46,\"x\"),IF($A$7=\"F\",COUNTIF(K$7:K46,\"x\"),IF($A$7=\"CDE\",COUNTIF(L$7:L46,\"x\"),IF($A$7=\"MR\",COUNTIF(M$7:M46,\"x\"),IF($A$7=\"H\",COUNTIF(N$7:N46,\"x\"),IF($A$7=\"NYD\",COUNTIF(O$7:O46,\"x\"),IF($A$7=\"R\",COUNTIF(P$7:P46,\"x\"),IF($A$7=\"MN\",COUNTIF(Q$7:Q46,\"x\"),IF($A$7=\"CDH\",COUNTIF(R$7:R46,\"x\"),IF($A$7=\"PNA\",COUNTIF(S$7:S46,\"x\"),\" \"))))))))))))))))))","v":38},"x",null,null,null,null,null,null,null,null,null,null,null,null,null,null,null,null,"x","SEGURIDAD EN LA UPSS",{"$f":"'FICHA OCULTA'!G67","v":"En Consultorio Obstetrico / Emergencia Obstétrica se evidencia el uso de gestogramas."},"AM",{"$f":"'FICHA OCULTA'!$I$89","v":0.416666666666667}]
[{"$f":"IF($A$7=\"CE\",COUNTIF(B$7:B47,\"x\"),IF($A$7=\"HOS\",COUNTIF(C$7:C47,\"x\"),IF($A$7=\"E\",COUNTIF(D$7:D47,\"x\"),IF($A$7=\"CEO\",COUNTIF(E$7:E47,\"x\"),IF($A$7=\"CEQ\",COUNTIF(F$7:F47,\"x\"),IF($A$7=\"CI\",COUNTIF(G$7:G47,\"x\"),IF($A$7=\"PC\",COUNTIF(H$7:H47,\"x\"),IF($A$7=\"DPI\",COUNTIF(I$7:I47,\"x\"),IF($A$7=\"AP\",COUNTIF(J$7:J47,\"x\"),IF($A$7=\"F\",COUNTIF(K$7:K47,\"x\"),IF($A$7=\"CDE\",COUNTIF(L$7:L47,\"x\"),IF($A$7=\"MR\",COUNTIF(M$7:M47,\"x\"),IF($A$7=\"H\",COUNTIF(N$7:N47,\"x\"),IF($A$7=\"NYD\",COUNTIF(O$7:O47,\"x\"),IF($A$7=\"R\",COUNTIF(P$7:P47,\"x\"),IF($A$7=\"MN\",COUNTIF(Q$7:Q47,\"x\"),IF($A$7=\"CDH\",COUNTIF(R$7:R47,\"x\"),IF($A$7=\"PNA\",COUNTIF(S$7:S47,\"x\"),\" \"))))))))))))))))))","v":38},null,null,null,"x",null,null,null,null,null,null,null,null,null,null,null,null,null,null,"SEGURIDAD EN LA UPSS",{"$f":"'FICHA OCULTA'!G68","v":"En Centro Obstetrico se evidencia el uso de partogramas con línea de alerta."},"AN",{"$f":"'FICHA OCULTA'!$I$89","v":0.416666666666667}]
[{"$f":"IF($A$7=\"CE\",COUNTIF(B$7:B48,\"x\"),IF($A$7=\"HOS\",COUNTIF(C$7:C48,\"x\"),IF($A$7=\"E\",COUNTIF(D$7:D48,\"x\"),IF($A$7=\"CEO\",COUNTIF(E$7:E48,\"x\"),IF($A$7=\"CEQ\",COUNTIF(F$7:F48,\"x\"),IF($A$7=\"CI\",COUNTIF(G$7:G48,\"x\"),IF($A$7=\"PC\",COUNTIF(H$7:H48,\"x\"),IF($A$7=\"DPI\",COUNTIF(I$7:I48,\"x\"),IF($A$7=\"AP\",COUNTIF(J$7:J48,\"x\"),IF($A$7=\"F\",COUNTIF(K$7:K48,\"x\"),IF($A$7=\"CDE\",COUNTIF(L$7:L48,\"x\"),IF($A$7=\"MR\",COUNTIF(M$7:M48,\"x\"),IF($A$7=\"H\",COUNTIF(N$7:N48,\"x\"),IF($A$7=\"NYD\",COUNTIF(O$7:O48,\"x\"),IF($A$7=\"R\",COUNTIF(P$7:P48,\"x\"),IF($A$7=\"MN\",COUNTIF(Q$7:Q48,\"x\"),IF($A$7=\"CDH\",COUNTIF(R$7:R48,\"x\"),IF($A$7=\"PNA\",COUNTIF(S$7:S48,\"x\"),\" \"))))))))))))))))))","v":38},null,null,null,"x",null,null,null,null,null,null,null,null,null,null,null,null,null,null,"SEGURIDAD EN LA UPSS",{"$f":"'FICHA OCULTA'!G69","v":"En Centro Obstetrico se evidencia que cuenta con Doppler fetal portátil operativo."},"AO",{"$f":"'FICHA OCULTA'!$I$89","v":0.416666666666667}]
[{"$f":"IF($A$7=\"CE\",COUNTIF(B$7:B49,\"x\"),IF($A$7=\"HOS\",COUNTIF(C$7:C49,\"x\"),IF($A$7=\"E\",COUNTIF(D$7:D49,\"x\"),IF($A$7=\"CEO\",COUNTIF(E$7:E49,\"x\"),IF($A$7=\"CEQ\",COUNTIF(F$7:F49,\"x\"),IF($A$7=\"CI\",COUNTIF(G$7:G49,\"x\"),IF($A$7=\"PC\",COUNTIF(H$7:H49,\"x\"),IF($A$7=\"DPI\",COUNTIF(I$7:I49,\"x\"),IF($A$7=\"AP\",COUNTIF(J$7:J49,\"x\"),IF($A$7=\"F\",COUNTIF(K$7:K49,\"x\"),IF($A$7=\"CDE\",COUNTIF(L$7:L49,\"x\"),IF($A$7=\"MR\",COUNTIF(M$7:M49,\"x\"),IF($A$7=\"H\",COUNTIF(N$7:N49,\"x\"),IF($A$7=\"NYD\",COUNTIF(O$7:O49,\"x\"),IF($A$7=\"R\",COUNTIF(P$7:P49,\"x\"),IF($A$7=\"MN\",COUNTIF(Q$7:Q49,\"x\"),IF($A$7=\"CDH\",COUNTIF(R$7:R49,\"x\"),IF($A$7=\"PNA\",COUNTIF(S$7:S49,\"x\"),\" \"))))))))))))))))))","v":38},null,null,null,"x",null,null,null,null,null,null,null,null,null,null,null,null,null,null,"SEGURIDAD EN LA UPSS",{"$f":"'FICHA OCULTA'!G70","v":"En Centro Obstetrico se evidencia que cuenta con Monitor fetal o Cardiotocógrafo operativo."},"AP",{"$f":"'FICHA OCULTA'!$I$89","v":0.416666666666667}]
[{"$f":"IF($A$7=\"CE\",COUNTIF(B$7:B50,\"x\"),IF($A$7=\"HOS\",COUNTIF(C$7:C50,\"x\"),IF($A$7=\"E\",COUNTIF(D$7:D50,\"x\"),IF($A$7=\"CEO\",COUNTIF(E$7:E50,\"x\"),IF($A$7=\"CEQ\",COUNTIF(F$7:F50,\"x\"),IF($A$7=\"CI\",COUNTIF(G$7:G50,\"x\"),IF($A$7=\"PC\",COUNTIF(H$7:H50,\"x\"),IF($A$7=\"DPI\",COUNTIF(I$7:I50,\"x\"),IF($A$7=\"AP\",COUNTIF(J$7:J50,\"x\"),IF($A$7=\"F\",COUNTIF(K$7:K50,\"x\"),IF($A$7=\"CDE\",COUNTIF(L$7:L50,\"x\"),IF($A$7=\"MR\",COUNTIF(M$7:M50,\"x\"),IF($A$7=\"H\",COUNTIF(N$7:N50,\"x\"),IF($A$7=\"NYD\",COUNTIF(O$7:O50,\"x\"),IF($A$7=\"R\",COUNTIF(P$7:P50,\"x\"),IF($A$7=\"MN\",COUNTIF(Q$7:Q50,\"x\"),IF($A$7=\"CDH\",COUNTIF(R$7:R50,\"x\"),IF($A$7=\"PNA\",COUNTIF(S$7:S50,\"x\"),\" \"))))))))))))))))))","v":38},null,null,null,"x",null,null,null,null,null,null,null,null,null,null,null,null,null,null,"SEGURIDAD EN LA UPSS",{"$f":"'FICHA OCULTA'!G71","v":"En Centro Obstetrico se evidencia que cuenta con Ecógrafo operativo."},"AQ",{"$f":"'FICHA OCULTA'!$I$89","v":0.416666666666667}]
[{"$f":"IF($A$7=\"CE\",COUNTIF(B$7:B51,\"x\"),IF($A$7=\"HOS\",COUNTIF(C$7:C51,\"x\"),IF($A$7=\"E\",COUNTIF(D$7:D51,\"x\"),IF($A$7=\"CEO\",COUNTIF(E$7:E51,\"x\"),IF($A$7=\"CEQ\",COUNTIF(F$7:F51,\"x\"),IF($A$7=\"CI\",COUNTIF(G$7:G51,\"x\"),IF($A$7=\"PC\",COUNTIF(H$7:H51,\"x\"),IF($A$7=\"DPI\",COUNTIF(I$7:I51,\"x\"),IF($A$7=\"AP\",COUNTIF(J$7:J51,\"x\"),IF($A$7=\"F\",COUNTIF(K$7:K51,\"x\"),IF($A$7=\"CDE\",COUNTIF(L$7:L51,\"x\"),IF($A$7=\"MR\",COUNTIF(M$7:M51,\"x\"),IF($A$7=\"H\",COUNTIF(N$7:N51,\"x\"),IF($A$7=\"NYD\",COUNTIF(O$7:O51,\"x\"),IF($A$7=\"R\",COUNTIF(P$7:P51,\"x\"),IF($A$7=\"MN\",COUNTIF(Q$7:Q51,\"x\"),IF($A$7=\"CDH\",COUNTIF(R$7:R51,\"x\"),IF($A$7=\"PNA\",COUNTIF(S$7:S51,\"x\"),\" \"))))))))))))))))))","v":38},null,null,null,"x",null,null,null,null,null,null,null,null,null,null,null,null,null,null,"SEGURIDAD EN LA UPSS",{"$f":"'FICHA OCULTA'!G72","v":"En Centro Obstetrico se evidencia que la atención del parto se realiza en condiciones de asepsia (mandil y guantes estériles, mascarilla, gorro, lentes protectores)."},"AR",{"$f":"'FICHA OCULTA'!$I$89","v":0.416666666666667}]
[{"$f":"IF($A$7=\"CE\",COUNTIF(B$7:B52,\"x\"),IF($A$7=\"HOS\",COUNTIF(C$7:C52,\"x\"),IF($A$7=\"E\",COUNTIF(D$7:D52,\"x\"),IF($A$7=\"CEO\",COUNTIF(E$7:E52,\"x\"),IF($A$7=\"CEQ\",COUNTIF(F$7:F52,\"x\"),IF($A$7=\"CI\",COUNTIF(G$7:G52,\"x\"),IF($A$7=\"PC\",COUNTIF(H$7:H52,\"x\"),IF($A$7=\"DPI\",COUNTIF(I$7:I52,\"x\"),IF($A$7=\"AP\",COUNTIF(J$7:J52,\"x\"),IF($A$7=\"F\",COUNTIF(K$7:K52,\"x\"),IF($A$7=\"CDE\",COUNTIF(L$7:L52,\"x\"),IF($A$7=\"MR\",COUNTIF(M$7:M52,\"x\"),IF($A$7=\"H\",COUNTIF(N$7:N52,\"x\"),IF($A$7=\"NYD\",COUNTIF(O$7:O52,\"x\"),IF($A$7=\"R\",COUNTIF(P$7:P52,\"x\"),IF($A$7=\"MN\",COUNTIF(Q$7:Q52,\"x\"),IF($A$7=\"CDH\",COUNTIF(R$7:R52,\"x\"),IF($A$7=\"PNA\",COUNTIF(S$7:S52,\"x\"),\" \"))))))))))))))))))","v":38},null,null,null,"x",null,null,null,null,null,null,null,null,null,null,null,null,null,null,"SEGURIDAD EN LA UPSS",{"$f":"'FICHA OCULTA'!G73","v":"En Centro Obstetrico se evidencia que la parturienta tiene resultados de prueba rápida o ELISA para HIV-1 y HIV-2."},"AS",{"$f":"'FICHA OCULTA'!$I$89","v":0.416666666666667}]
[{"$f":"IF($A$7=\"CE\",COUNTIF(B$7:B53,\"x\"),IF($A$7=\"HOS\",COUNTIF(C$7:C53,\"x\"),IF($A$7=\"E\",COUNTIF(D$7:D53,\"x\"),IF($A$7=\"CEO\",COUNTIF(E$7:E53,\"x\"),IF($A$7=\"CEQ\",COUNTIF(F$7:F53,\"x\"),IF($A$7=\"CI\",COUNTIF(G$7:G53,\"x\"),IF($A$7=\"PC\",COUNTIF(H$7:H53,\"x\"),IF($A$7=\"DPI\",COUNTIF(I$7:I53,\"x\"),IF($A$7=\"AP\",COUNTIF(J$7:J53,\"x\"),IF($A$7=\"F\",COUNTIF(K$7:K53,\"x\"),IF($A$7=\"CDE\",COUNTIF(L$7:L53,\"x\"),IF($A$7=\"MR\",COUNTIF(M$7:M53,\"x\"),IF($A$7=\"H\",COUNTIF(N$7:N53,\"x\"),IF($A$7=\"NYD\",COUNTIF(O$7:O53,\"x\"),IF($A$7=\"R\",COUNTIF(P$7:P53,\"x\"),IF($A$7=\"MN\",COUNTIF(Q$7:Q53,\"x\"),IF($A$7=\"CDH\",COUNTIF(R$7:R53,\"x\"),IF($A$7=\"PNA\",COUNTIF(S$7:S53,\"x\"),\" \"))))))))))))))))))","v":38},null,null,null,null,"x",null,null,null,null,null,null,null,null,null,null,null,null,null,"SEGURIDAD EN LA UPSS",{"$f":"'FICHA OCULTA'!G74","v":"En Centro Quirurgico se evidencia el último informe remitido a la Dirección sobre el proceso de implementación de la Lista de Verificación de Seguridad de la Cirugía a cargo del Equipo Conductor y/o Comité de Seguridad del Paciente"},"AT",{"$f":"'FICHA OCULTA'!$I$89","v":0.416666666666667}]
[{"$f":"IF($A$7=\"CE\",COUNTIF(B$7:B54,\"x\"),IF($A$7=\"HOS\",COUNTIF(C$7:C54,\"x\"),IF($A$7=\"E\",COUNTIF(D$7:D54,\"x\"),IF($A$7=\"CEO\",COUNTIF(E$7:E54,\"x\"),IF($A$7=\"CEQ\",COUNTIF(F$7:F54,\"x\"),IF($A$7=\"CI\",COUNTIF(G$7:G54,\"x\"),IF($A$7=\"PC\",COUNTIF(H$7:H54,\"x\"),IF($A$7=\"DPI\",COUNTIF(I$7:I54,\"x\"),IF($A$7=\"AP\",COUNTIF(J$7:J54,\"x\"),IF($A$7=\"F\",COUNTIF(K$7:K54,\"x\"),IF($A$7=\"CDE\",COUNTIF(L$7:L54,\"x\"),IF($A$7=\"MR\",COUNTIF(M$7:M54,\"x\"),IF($A$7=\"H\",COUNTIF(N$7:N54,\"x\"),IF($A$7=\"NYD\",COUNTIF(O$7:O54,\"x\"),IF($A$7=\"R\",COUNTIF(P$7:P54,\"x\"),IF($A$7=\"MN\",COUNTIF(Q$7:Q54,\"x\"),IF($A$7=\"CDH\",COUNTIF(R$7:R54,\"x\"),IF($A$7=\"PNA\",COUNTIF(S$7:S54,\"x\"),\" \"))))))))))))))))))","v":38},null,null,null,null,"x",null,null,null,null,null,null,null,null,null,null,null,null,null,"SEGURIDAD EN LA UPSS",{"$f":"'FICHA OCULTA'!G75","v":"En Centro Quirurgico se evidencia la última Encuesta Semestral remitida a la Dirección para evaluar el proceso de implementación de la Lista de Verificación de Seguridad de la Cirugía a cargo del Equipo Conductor y/o Comité de Seguridad del Paciente"},"AU",{"$f":"'FICHA OCULTA'!$I$89","v":0.416666666666667}]
[{"$f":"IF($A$7=\"CE\",COUNTIF(B$7:B55,\"x\"),IF($A$7=\"HOS\",COUNTIF(C$7:C55,\"x\"),IF($A$7=\"E\",COUNTIF(D$7:D55,\"x\"),IF($A$7=\"CEO\",COUNTIF(E$7:E55,\"x\"),IF($A$7=\"CEQ\",COUNTIF(F$7:F55,\"x\"),IF($A$7=\"CI\",COUNTIF(G$7:G55,\"x\"),IF($A$7=\"PC\",COUNTIF(H$7:H55,\"x\"),IF($A$7=\"DPI\",COUNTIF(I$7:I55,\"x\"),IF($A$7=\"AP\",COUNTIF(J$7:J55,\"x\"),IF($A$7=\"F\",COUNTIF(K$7:K55,\"x\"),IF($A$7=\"CDE\",COUNTIF(L$7:L55,\"x\"),IF($A$7=\"MR\",COUNTIF(M$7:M55,\"x\"),IF($A$7=\"H\",COUNTIF(N$7:N55,\"x\"),IF($A$7=\"NYD\",COUNTIF(O$7:O55,\"x\"),IF($A$7=\"R\",COUNTIF(P$7:P55,\"x\"),IF($A$7=\"MN\",COUNTIF(Q$7:Q55,\"x\"),IF($A$7=\"CDH\",COUNTIF(R$7:R55,\"x\"),IF($A$7=\"PNA\",COUNTIF(S$7:S55,\"x\"),\" \"))))))))))))))))))","v":38},null,null,null,null,"x",null,null,null,null,null,null,null,null,null,null,null,null,null,"SEGURIDAD EN LA UPSS",{"$f":"'FICHA OCULTA'!G76","v":"En Centro Quirurgico se evidencia que existe un(a) Coordinador de la Lista de Verificación de Seguridad de la Cirugía correspondiente al Turno Quirúrgico."},"AV",{"$f":"'FICHA OCULTA'!$I$89","v":0.416666666666667}]
[{"$f":"IF($A$7=\"CE\",COUNTIF(B$7:B56,\"x\"),IF($A$7=\"HOS\",COUNTIF(C$7:C56,\"x\"),IF($A$7=\"E\",COUNTIF(D$7:D56,\"x\"),IF($A$7=\"CEO\",COUNTIF(E$7:E56,\"x\"),IF($A$7=\"CEQ\",COUNTIF(F$7:F56,\"x\"),IF($A$7=\"CI\",COUNTIF(G$7:G56,\"x\"),IF($A$7=\"PC\",COUNTIF(H$7:H56,\"x\"),IF($A$7=\"DPI\",COUNTIF(I$7:I56,\"x\"),IF($A$7=\"AP\",COUNTIF(J$7:J56,\"x\"),IF($A$7=\"F\",COUNTIF(K$7:K56,\"x\"),IF($A$7=\"CDE\",COUNTIF(L$7:L56,\"x\"),IF($A$7=\"MR\",COUNTIF(M$7:M56,\"x\"),IF($A$7=\"H\",COUNTIF(N$7:N56,\"x\"),IF($A$7=\"NYD\",COUNTIF(O$7:O56,\"x\"),IF($A$7=\"R\",COUNTIF(P$7:P56,\"x\"),IF($A$7=\"MN\",COUNTIF(Q$7:Q56,\"x\"),IF($A$7=\"CDH\",COUNTIF(R$7:R56,\"x\"),IF($A$7=\"PNA\",COUNTIF(S$7:S56,\"x\"),\" \"))))))))))))))))))","v":38},null,null,null,null,"x",null,null,null,null,null,null,null,null,null,null,null,null,null,"SEGURIDAD EN LA UPSS",{"$f":"'FICHA OCULTA'!G77","v":"En Centro Quirurgico se evidencia que el (la) Coordinador(a) aplica la Lista de Verificación de Seguridad de la Cirugía, en el periodo correspondiente a la ENTRADA."},"AW",{"$f":"'FICHA OCULTA'!$I$89","v":0.416666666666667}]
[{"$f":"IF($A$7=\"CE\",COUNTIF(B$7:B57,\"x\"),IF($A$7=\"HOS\",COUNTIF(C$7:C57,\"x\"),IF($A$7=\"E\",COUNTIF(D$7:D57,\"x\"),IF($A$7=\"CEO\",COUNTIF(E$7:E57,\"x\"),IF($A$7=\"CEQ\",COUNTIF(F$7:F57,\"x\"),IF($A$7=\"CI\",COUNTIF(G$7:G57,\"x\"),IF($A$7=\"PC\",COUNTIF(H$7:H57,\"x\"),IF($A$7=\"DPI\",COUNTIF(I$7:I57,\"x\"),IF($A$7=\"AP\",COUNTIF(J$7:J57,\"x\"),IF($A$7=\"F\",COUNTIF(K$7:K57,\"x\"),IF($A$7=\"CDE\",COUNTIF(L$7:L57,\"x\"),IF($A$7=\"MR\",COUNTIF(M$7:M57,\"x\"),IF($A$7=\"H\",COUNTIF(N$7:N57,\"x\"),IF($A$7=\"NYD\",COUNTIF(O$7:O57,\"x\"),IF($A$7=\"R\",COUNTIF(P$7:P57,\"x\"),IF($A$7=\"MN\",COUNTIF(Q$7:Q57,\"x\"),IF($A$7=\"CDH\",COUNTIF(R$7:R57,\"x\"),IF($A$7=\"PNA\",COUNTIF(S$7:S57,\"x\"),\" \"))))))))))))))))))","v":38},null,null,null,null,"x",null,null,null,null,null,null,null,null,null,null,null,null,null,"SEGURIDAD EN LA UPSS",{"$f":"'FICHA OCULTA'!G78","v":"En Centro Quirurgico se evidencia que el (la) Coordinador(a) aplica la Lista de Verificación de Seguridad de la Cirugía, en el periodo correspondiente a la PAUSA."},"AX",{"$f":"'FICHA OCULTA'!$I$89","v":0.416666666666667}]
[{"$f":"IF($A$7=\"CE\",COUNTIF(B$7:B58,\"x\"),IF($A$7=\"HOS\",COUNTIF(C$7:C58,\"x\"),IF($A$7=\"E\",COUNTIF(D$7:D58,\"x\"),IF($A$7=\"CEO\",COUNTIF(E$7:E58,\"x\"),IF($A$7=\"CEQ\",COUNTIF(F$7:F58,\"x\"),IF($A$7=\"CI\",COUNTIF(G$7:G58,\"x\"),IF($A$7=\"PC\",COUNTIF(H$7:H58,\"x\"),IF($A$7=\"DPI\",COUNTIF(I$7:I58,\"x\"),IF($A$7=\"AP\",COUNTIF(J$7:J58,\"x\"),IF($A$7=\"F\",COUNTIF(K$7:K58,\"x\"),IF($A$7=\"CDE\",COUNTIF(L$7:L58,\"x\"),IF($A$7=\"MR\",COUNTIF(M$7:M58,\"x\"),IF($A$7=\"H\",COUNTIF(N$7:N58,\"x\"),IF($A$7=\"NYD\",COUNTIF(O$7:O58,\"x\"),IF($A$7=\"R\",COUNTIF(P$7:P58,\"x\"),IF($A$7=\"MN\",COUNTIF(Q$7:Q58,\"x\"),IF($A$7=\"CDH\",COUNTIF(R$7:R58,\"x\"),IF($A$7=\"PNA\",COUNTIF(S$7:S58,\"x\"),\" \"))))))))))))))))))","v":38},null,null,null,null,"x",null,null,null,null,null,null,null,null,null,null,null,null,null,"SEGURIDAD EN LA UPSS",{"$f":"'FICHA OCULTA'!G79","v":"En Centro Quirurgico se evidencia que el (la) Coordinador(a) aplica la Lista de Verificación de Seguridad de la Cirugía, en el periodo correspondiente a la SALIDA."},"AY",{"$f":"'FICHA OCULTA'!$I$89","v":0.416666666666667}]
[{"$f":"IF($A$7=\"CE\",COUNTIF(B$7:B59,\"x\"),IF($A$7=\"HOS\",COUNTIF(C$7:C59,\"x\"),IF($A$7=\"E\",COUNTIF(D$7:D59,\"x\"),IF($A$7=\"CEO\",COUNTIF(E$7:E59,\"x\"),IF($A$7=\"CEQ\",COUNTIF(F$7:F59,\"x\"),IF($A$7=\"CI\",COUNTIF(G$7:G59,\"x\"),IF($A$7=\"PC\",COUNTIF(H$7:H59,\"x\"),IF($A$7=\"DPI\",COUNTIF(I$7:I59,\"x\"),IF($A$7=\"AP\",COUNTIF(J$7:J59,\"x\"),IF($A$7=\"F\",COUNTIF(K$7:K59,\"x\"),IF($A$7=\"CDE\",COUNTIF(L$7:L59,\"x\"),IF($A$7=\"MR\",COUNTIF(M$7:M59,\"x\"),IF($A$7=\"H\",COUNTIF(N$7:N59,\"x\"),IF($A$7=\"NYD\",COUNTIF(O$7:O59,\"x\"),IF($A$7=\"R\",COUNTIF(P$7:P59,\"x\"),IF($A$7=\"MN\",COUNTIF(Q$7:Q59,\"x\"),IF($A$7=\"CDH\",COUNTIF(R$7:R59,\"x\"),IF($A$7=\"PNA\",COUNTIF(S$7:S59,\"x\"),\" \"))))))))))))))))))","v":38},null,null,null,null,"x",null,null,null,null,null,null,null,null,null,null,null,null,null,"SEGURIDAD EN LA UPSS",{"$f":"'FICHA OCULTA'!G80","v":"En Centro Quirurgico se evidencia que cuenta con coche de intubación difícil operativo."},"AZ",{"$f":"'FICHA OCULTA'!$I$89","v":0.416666666666667}]
[{"$f":"IF($A$7=\"CE\",COUNTIF(B$7:B60,\"x\"),IF($A$7=\"HOS\",COUNTIF(C$7:C60,\"x\"),IF($A$7=\"E\",COUNTIF(D$7:D60,\"x\"),IF($A$7=\"CEO\",COUNTIF(E$7:E60,\"x\"),IF($A$7=\"CEQ\",COUNTIF(F$7:F60,\"x\"),IF($A$7=\"CI\",COUNTIF(G$7:G60,\"x\"),IF($A$7=\"PC\",COUNTIF(H$7:H60,\"x\"),IF($A$7=\"DPI\",COUNTIF(I$7:I60,\"x\"),IF($A$7=\"AP\",COUNTIF(J$7:J60,\"x\"),IF($A$7=\"F\",COUNTIF(K$7:K60,\"x\"),IF($A$7=\"CDE\",COUNTIF(L$7:L60,\"x\"),IF($A$7=\"MR\",COUNTIF(M$7:M60,\"x\"),IF($A$7=\"H\",COUNTIF(N$7:N60,\"x\"),IF($A$7=\"NYD\",COUNTIF(O$7:O60,\"x\"),IF($A$7=\"R\",COUNTIF(P$7:P60,\"x\"),IF($A$7=\"MN\",COUNTIF(Q$7:Q60,\"x\"),IF($A$7=\"CDH\",COUNTIF(R$7:R60,\"x\"),IF($A$7=\"PNA\",COUNTIF(S$7:S60,\"x\"),\" \"))))))))))))))))))","v":38},null,null,null,null,"x",null,null,null,null,null,null,null,null,null,null,null,null,null,"SEGURIDAD EN LA UPSS",{"$f":"'FICHA OCULTA'!G81","v":"En Centro Quirurgico se evidencia que cuenta con Unidad / Máquina de Anestesia operativo"},"BA",{"$f":"'FICHA OCULTA'!$I$89","v":0.416666666666667}]
[{"$f":"IF($A$7=\"CE\",COUNTIF(B$7:B61,\"x\"),IF($A$7=\"HOS\",COUNTIF(C$7:C61,\"x\"),IF($A$7=\"E\",COUNTIF(D$7:D61,\"x\"),IF($A$7=\"CEO\",COUNTIF(E$7:E61,\"x\"),IF($A$7=\"CEQ\",COUNTIF(F$7:F61,\"x\"),IF($A$7=\"CI\",COUNTIF(G$7:G61,\"x\"),IF($A$7=\"PC\",COUNTIF(H$7:H61,\"x\"),IF($A$7=\"DPI\",COUNTIF(I$7:I61,\"x\"),IF($A$7=\"AP\",COUNTIF(J$7:J61,\"x\"),IF($A$7=\"F\",COUNTIF(K$7:K61,\"x\"),IF($A$7=\"CDE\",COUNTIF(L$7:L61,\"x\"),IF($A$7=\"MR\",COUNTIF(M$7:M61,\"x\"),IF($A$7=\"H\",COUNTIF(N$7:N61,\"x\"),IF($A$7=\"NYD\",COUNTIF(O$7:O61,\"x\"),IF($A$7=\"R\",COUNTIF(P$7:P61,\"x\"),IF($A$7=\"MN\",COUNTIF(Q$7:Q61,\"x\"),IF($A$7=\"CDH\",COUNTIF(R$7:R61,\"x\"),IF($A$7=\"PNA\",COUNTIF(S$7:S61,\"x\"),\" \"))))))))))))))))))","v":38},null,null,null,null,"x",null,null,null,null,null,null,null,null,null,null,null,null,null,"SEGURIDAD EN LA UPSS",{"$f":"'FICHA OCULTA'!G82","v":"En Centro Quirurgico se evidencia que cuenta con Columna de Gases Clínicos / Monitor Multiparámetro (de 6 a 8)."},"BB",{"$f":"'FICHA OCULTA'!$I$89","v":0.416666666666667}]
[{"$f":"IF($A$7=\"CE\",COUNTIF(B$7:B62,\"x\"),IF($A$7=\"HOS\",COUNTIF(C$7:C62,\"x\"),IF($A$7=\"E\",COUNTIF(D$7:D62,\"x\"),IF($A$7=\"CEO\",COUNTIF(E$7:E62,\"x\"),IF($A$7=\"CEQ\",COUNTIF(F$7:F62,\"x\"),IF($A$7=\"CI\",COUNTIF(G$7:G62,\"x\"),IF($A$7=\"PC\",COUNTIF(H$7:H62,\"x\"),IF($A$7=\"DPI\",COUNTIF(I$7:I62,\"x\"),IF($A$7=\"AP\",COUNTIF(J$7:J62,\"x\"),IF($A$7=\"F\",COUNTIF(K$7:K62,\"x\"),IF($A$7=\"CDE\",COUNTIF(L$7:L62,\"x\"),IF($A$7=\"MR\",COUNTIF(M$7:M62,\"x\"),IF($A$7=\"H\",COUNTIF(N$7:N62,\"x\"),IF($A$7=\"NYD\",COUNTIF(O$7:O62,\"x\"),IF($A$7=\"R\",COUNTIF(P$7:P62,\"x\"),IF($A$7=\"MN\",COUNTIF(Q$7:Q62,\"x\"),IF($A$7=\"CDH\",COUNTIF(R$7:R62,\"x\"),IF($A$7=\"PNA\",COUNTIF(S$7:S62,\"x\"),\" \"))))))))))))))))))","v":38},null,null,null,null,"x",null,null,null,null,null,null,null,null,null,null,null,null,null,"SEGURIDAD EN LA UPSS",{"$f":"'FICHA OCULTA'!G83","v":"En Centro Quirurgico se evidencia que cuenta con bomba de perfusión operativa."},"BC",{"$f":"'FICHA OCULTA'!$I$89","v":0.416666666666667}]
[{"$f":"IF($A$7=\"CE\",COUNTIF(B$7:B63,\"x\"),IF($A$7=\"HOS\",COUNTIF(C$7:C63,\"x\"),IF($A$7=\"E\",COUNTIF(D$7:D63,\"x\"),IF($A$7=\"CEO\",COUNTIF(E$7:E63,\"x\"),IF($A$7=\"CEQ\",COUNTIF(F$7:F63,\"x\"),IF($A$7=\"CI\",COUNTIF(G$7:G63,\"x\"),IF($A$7=\"PC\",COUNTIF(H$7:H63,\"x\"),IF($A$7=\"DPI\",COUNTIF(I$7:I63,\"x\"),IF($A$7=\"AP\",COUNTIF(J$7:J63,\"x\"),IF($A$7=\"F\",COUNTIF(K$7:K63,\"x\"),IF($A$7=\"CDE\",COUNTIF(L$7:L63,\"x\"),IF($A$7=\"MR\",COUNTIF(M$7:M63,\"x\"),IF($A$7=\"H\",COUNTIF(N$7:N63,\"x\"),IF($A$7=\"NYD\",COUNTIF(O$7:O63,\"x\"),IF($A$7=\"R\",COUNTIF(P$7:P63,\"x\"),IF($A$7=\"MN\",COUNTIF(Q$7:Q63,\"x\"),IF($A$7=\"CDH\",COUNTIF(R$7:R63,\"x\"),IF($A$7=\"PNA\",COUNTIF(S$7:S63,\"x\"),\" \"))))))))))))))))))","v":38},null,null,null,null,"x",null,null,null,null,null,null,null,null,null,null,null,null,null,"SEGURIDAD EN LA UPSS",{"$f":"'FICHA OCULTA'!G84","v":"En Centro Quirurgico se evidencia que cuenta con Cialítica Portátil con batería operativa."},"BD",{"$f":"'FICHA OCULTA'!$I$89","v":0.416666666666667}]
[{"$f":"IF($A$7=\"CE\",COUNTIF(B$7:B64,\"x\"),IF($A$7=\"HOS\",COUNTIF(C$7:C64,\"x\"),IF($A$7=\"E\",COUNTIF(D$7:D64,\"x\"),IF($A$7=\"CEO\",COUNTIF(E$7:E64,\"x\"),IF($A$7=\"CEQ\",COUNTIF(F$7:F64,\"x\"),IF($A$7=\"CI\",COUNTIF(G$7:G64,\"x\"),IF($A$7=\"PC\",COUNTIF(H$7:H64,\"x\"),IF($A$7=\"DPI\",COUNTIF(I$7:I64,\"x\"),IF($A$7=\"AP\",COUNTIF(J$7:J64,\"x\"),IF($A$7=\"F\",COUNTIF(K$7:K64,\"x\"),IF($A$7=\"CDE\",COUNTIF(L$7:L64,\"x\"),IF($A$7=\"MR\",COUNTIF(M$7:M64,\"x\"),IF($A$7=\"H\",COUNTIF(N$7:N64,\"x\"),IF($A$7=\"NYD\",COUNTIF(O$7:O64,\"x\"),IF($A$7=\"R\",COUNTIF(P$7:P64,\"x\"),IF($A$7=\"MN\",COUNTIF(Q$7:Q64,\"x\"),IF($A$7=\"CDH\",COUNTIF(R$7:R64,\"x\"),IF($A$7=\"PNA\",COUNTIF(S$7:S64,\"x\"),\" \"))))))))))))))))))","v":38},null,null,null,null,"x",null,null,null,null,null,null,null,null,null,null,null,null,null,"SEGURIDAD EN LA UPSS",{"$f":"'FICHA OCULTA'!G85","v":"En Centro Quirurgico se evidencia que en recuperación, el paciente es recibido por la enfermera y el anestesiólogo."},"BE",{"$f":"'FICHA OCULTA'!$I$89","v":0.416666666666667}]
[{"$f":"IF($A$7=\"CE\",COUNTIF(B$7:B65,\"x\"),IF($A$7=\"HOS\",COUNTIF(C$7:C65,\"x\"),IF($A$7=\"E\",COUNTIF(D$7:D65,\"x\"),IF($A$7=\"CEO\",COUNTIF(E$7:E65,\"x\"),IF($A$7=\"CEQ\",COUNTIF(F$7:F65,\"x\"),IF($A$7=\"CI\",COUNTIF(G$7:G65,\"x\"),IF($A$7=\"PC\",COUNTIF(H$7:H65,\"x\"),IF($A$7=\"DPI\",COUNTIF(I$7:I65,\"x\"),IF($A$7=\"AP\",COUNTIF(J$7:J65,\"x\"),IF($A$7=\"F\",COUNTIF(K$7:K65,\"x\"),IF($A$7=\"CDE\",COUNTIF(L$7:L65,\"x\"),IF($A$7=\"MR\",COUNTIF(M$7:M65,\"x\"),IF($A$7=\"H\",COUNTIF(N$7:N65,\"x\"),IF($A$7=\"NYD\",COUNTIF(O$7:O65,\"x\"),IF($A$7=\"R\",COUNTIF(P$7:P65,\"x\"),IF($A$7=\"MN\",COUNTIF(Q$7:Q65,\"x\"),IF($A$7=\"CDH\",COUNTIF(R$7:R65,\"x\"),IF($A$7=\"PNA\",COUNTIF(S$7:S65,\"x\"),\" \"))))))))))))))))))","v":38},null,null,null,null,"x",null,null,null,null,null,null,null,null,null,null,null,null,null,"SEGURIDAD EN LA UPSS",{"$f":"'FICHA OCULTA'!G86","v":"En Centro Quirurgico se evidencia que existe registro de la evaluación pre, durante y post-anestésica en cada paciente intervenido, con firma y sello del anestesiologo responsable."},"BF",{"$f":"'FICHA OCULTA'!$I$89","v":0.416666666666667}]
[{"$f":"IF($A$7=\"CE\",COUNTIF(B$7:B66,\"x\"),IF($A$7=\"HOS\",COUNTIF(C$7:C66,\"x\"),IF($A$7=\"E\",COUNTIF(D$7:D66,\"x\"),IF($A$7=\"CEO\",COUNTIF(E$7:E66,\"x\"),IF($A$7=\"CEQ\",COUNTIF(F$7:F66,\"x\"),IF($A$7=\"CI\",COUNTIF(G$7:G66,\"x\"),IF($A$7=\"PC\",COUNTIF(H$7:H66,\"x\"),IF($A$7=\"DPI\",COUNTIF(I$7:I66,\"x\"),IF($A$7=\"AP\",COUNTIF(J$7:J66,\"x\"),IF($A$7=\"F\",COUNTIF(K$7:K66,\"x\"),IF($A$7=\"CDE\",COUNTIF(L$7:L66,\"x\"),IF($A$7=\"MR\",COUNTIF(M$7:M66,\"x\"),IF($A$7=\"H\",COUNTIF(N$7:N66,\"x\"),IF($A$7=\"NYD\",COUNTIF(O$7:O66,\"x\"),IF($A$7=\"R\",COUNTIF(P$7:P66,\"x\"),IF($A$7=\"MN\",COUNTIF(Q$7:Q66,\"x\"),IF($A$7=\"CDH\",COUNTIF(R$7:R66,\"x\"),IF($A$7=\"PNA\",COUNTIF(S$7:S66,\"x\"),\" \"))))))))))))))))))","v":39},null,"x","x","x","x","x","x","x",null,null,null,null,"x",null,"x","x","x",null,"IDENTIFICACIÓN CORRECTA DEL PACIENTE ",{"$f":"'FICHA OCULTA'!G91","v":"Paciente tiene brazalete de identificación y los datos registrados son correctos y completos."},"BG",{"$f":"'FICHA OCULTA'!$I$101","v":0}]
[{"$f":"IF($A$7=\"CE\",COUNTIF(B$7:B67,\"x\"),IF($A$7=\"HOS\",COUNTIF(C$7:C67,\"x\"),IF($A$7=\"E\",COUNTIF(D$7:D67,\"x\"),IF($A$7=\"CEO\",COUNTIF(E$7:E67,\"x\"),IF($A$7=\"CEQ\",COUNTIF(F$7:F67,\"x\"),IF($A$7=\"CI\",COUNTIF(G$7:G67,\"x\"),IF($A$7=\"PC\",COUNTIF(H$7:H67,\"x\"),IF($A$7=\"DPI\",COUNTIF(I$7:I67,\"x\"),IF($A$7=\"AP\",COUNTIF(J$7:J67,\"x\"),IF($A$7=\"F\",COUNTIF(K$7:K67,\"x\"),IF($A$7=\"CDE\",COUNTIF(L$7:L67,\"x\"),IF($A$7=\"MR\",COUNTIF(M$7:M67,\"x\"),IF($A$7=\"H\",COUNTIF(N$7:N67,\"x\"),IF($A$7=\"NYD\",COUNTIF(O$7:O67,\"x\"),IF($A$7=\"R\",COUNTIF(P$7:P67,\"x\"),IF($A$7=\"MN\",COUNTIF(Q$7:Q67,\"x\"),IF($A$7=\"CDH\",COUNTIF(R$7:R67,\"x\"),IF($A$7=\"PNA\",COUNTIF(S$7:S67,\"x\"),\" \"))))))))))))))))))","v":40},null,"x","x","x",null,"x",null,null,null,null,null,null,null,null,null,null,null,null,"IDENTIFICACIÓN CORRECTA DEL PACIENTE ",{"$f":"'FICHA OCULTA'!G92","v":"Cartel visible que tenga registrado el nombre completo del paciente."},"BH",{"$f":"'FICHA OCULTA'!$I$101","v":0}]
[{"$f":"IF($A$7=\"CE\",COUNTIF(B$7:B68,\"x\"),IF($A$7=\"HOS\",COUNTIF(C$7:C68,\"x\"),IF($A$7=\"E\",COUNTIF(D$7:D68,\"x\"),IF($A$7=\"CEO\",COUNTIF(E$7:E68,\"x\"),IF($A$7=\"CEQ\",COUNTIF(F$7:F68,\"x\"),IF($A$7=\"CI\",COUNTIF(G$7:G68,\"x\"),IF($A$7=\"PC\",COUNTIF(H$7:H68,\"x\"),IF($A$7=\"DPI\",COUNTIF(I$7:I68,\"x\"),IF($A$7=\"AP\",COUNTIF(J$7:J68,\"x\"),IF($A$7=\"F\",COUNTIF(K$7:K68,\"x\"),IF($A$7=\"CDE\",COUNTIF(L$7:L68,\"x\"),IF($A$7=\"MR\",COUNTIF(M$7:M68,\"x\"),IF($A$7=\"H\",COUNTIF(N$7:N68,\"x\"),IF($A$7=\"NYD\",COUNTIF(O$7:O68,\"x\"),IF($A$7=\"R\",COUNTIF(P$7:P68,\"x\"),IF($A$7=\"MN\",COUNTIF(Q$7:Q68,\"x\"),IF($A$7=\"CDH\",COUNTIF(R$7:R68,\"x\"),IF($A$7=\"PNA\",COUNTIF(S$7:S68,\"x\"),\" \"))))))))))))))))))","v":41},null,"x","x","x","x","x","x","x","x",null,null,null,"x",null,"x","x","x","x","IDENTIFICACIÓN CORRECTA DEL PACIENTE ",{"$f":"'FICHA OCULTA'!G93","v":"Datos proporcionados por el paciente, son similares a los registrados en la historia clínica."},"BI",{"$f":"'FICHA OCULTA'!$I$101","v":0}]
[{"$f":"IF($A$7=\"CE\",COUNTIF(B$7:B69,\"x\"),IF($A$7=\"HOS\",COUNTIF(C$7:C69,\"x\"),IF($A$7=\"E\",COUNTIF(D$7:D69,\"x\"),IF($A$7=\"CEO\",COUNTIF(E$7:E69,\"x\"),IF($A$7=\"CEQ\",COUNTIF(F$7:F69,\"x\"),IF($A$7=\"CI\",COUNTIF(G$7:G69,\"x\"),IF($A$7=\"PC\",COUNTIF(H$7:H69,\"x\"),IF($A$7=\"DPI\",COUNTIF(I$7:I69,\"x\"),IF($A$7=\"AP\",COUNTIF(J$7:J69,\"x\"),IF($A$7=\"F\",COUNTIF(K$7:K69,\"x\"),IF($A$7=\"CDE\",COUNTIF(L$7:L69,\"x\"),IF($A$7=\"MR\",COUNTIF(M$7:M69,\"x\"),IF($A$7=\"H\",COUNTIF(N$7:N69,\"x\"),IF($A$7=\"NYD\",COUNTIF(O$7:O69,\"x\"),IF($A$7=\"R\",COUNTIF(P$7:P69,\"x\"),IF($A$7=\"MN\",COUNTIF(Q$7:Q69,\"x\"),IF($A$7=\"CDH\",COUNTIF(R$7:R69,\"x\"),IF($A$7=\"PNA\",COUNTIF(S$7:S69,\"x\"),\" \"))))))))))))))))))","v":42},"x","x","x","x","x","x","x","x","x",null,null,null,"x",null,"x","x","x","x","IDENTIFICACIÓN CORRECTA DEL PACIENTE ",{"$f":"'FICHA OCULTA'!G94","v":"Verificación de la identidad del paciente con el brazalete antes de cualquier procedimiento."},"BJ",{"$f":"'FICHA OCULTA'!$I$101","v":0}]
[{"$f":"IF($A$7=\"CE\",COUNTIF(B$7:B70,\"x\"),IF($A$7=\"HOS\",COUNTIF(C$7:C70,\"x\"),IF($A$7=\"E\",COUNTIF(D$7:D70,\"x\"),IF($A$7=\"CEO\",COUNTIF(E$7:E70,\"x\"),IF($A$7=\"CEQ\",COUNTIF(F$7:F70,\"x\"),IF($A$7=\"CI\",COUNTIF(G$7:G70,\"x\"),IF($A$7=\"PC\",COUNTIF(H$7:H70,\"x\"),IF($A$7=\"DPI\",COUNTIF(I$7:I70,\"x\"),IF($A$7=\"AP\",COUNTIF(J$7:J70,\"x\"),IF($A$7=\"F\",COUNTIF(K$7:K70,\"x\"),IF($A$7=\"CDE\",COUNTIF(L$7:L70,\"x\"),IF($A$7=\"MR\",COUNTIF(M$7:M70,\"x\"),IF($A$7=\"H\",COUNTIF(N$7:N70,\"x\"),IF($A$7=\"NYD\",COUNTIF(O$7:O70,\"x\"),IF($A$7=\"R\",COUNTIF(P$7:P70,\"x\"),IF($A$7=\"MN\",COUNTIF(Q$7:Q70,\"x\"),IF($A$7=\"CDH\",COUNTIF(R$7:R70,\"x\"),IF($A$7=\"PNA\",COUNTIF(S$7:S70,\"x\"),\" \"))))))))))))))))))","v":43},null,"x","x","x","x","x","x","x","x",null,null,null,"x",null,"x","x","x",null,"IDENTIFICACIÓN CORRECTA DEL PACIENTE ",{"$f":"'FICHA OCULTA'!G95","v":"Identificación de riesgo de caidas del paciente tanto en el brazalete del paciente como en el cartel visible."},"BK",{"$f":"'FICHA OCULTA'!$I$101","v":0}]
[{"$f":"IF($A$7=\"CE\",COUNTIF(B$7:B71,\"x\"),IF($A$7=\"HOS\",COUNTIF(C$7:C71,\"x\"),IF($A$7=\"E\",COUNTIF(D$7:D71,\"x\"),IF($A$7=\"CEO\",COUNTIF(E$7:E71,\"x\"),IF($A$7=\"CEQ\",COUNTIF(F$7:F71,\"x\"),IF($A$7=\"CI\",COUNTIF(G$7:G71,\"x\"),IF($A$7=\"PC\",COUNTIF(H$7:H71,\"x\"),IF($A$7=\"DPI\",COUNTIF(I$7:I71,\"x\"),IF($A$7=\"AP\",COUNTIF(J$7:J71,\"x\"),IF($A$7=\"F\",COUNTIF(K$7:K71,\"x\"),IF($A$7=\"CDE\",COUNTIF(L$7:L71,\"x\"),IF($A$7=\"MR\",COUNTIF(M$7:M71,\"x\"),IF($A$7=\"H\",COUNTIF(N$7:N71,\"x\"),IF($A$7=\"NYD\",COUNTIF(O$7:O71,\"x\"),IF($A$7=\"R\",COUNTIF(P$7:P71,\"x\"),IF($A$7=\"MN\",COUNTIF(Q$7:Q71,\"x\"),IF($A$7=\"CDH\",COUNTIF(R$7:R71,\"x\"),IF($A$7=\"PNA\",COUNTIF(S$7:S71,\"x\"),\" \"))))))))))))))))))","v":43},null,null,null,null,null,null,"x","x","x",null,null,null,null,null,null,null,null,"x","IDENTIFICACIÓN CORRECTA DEL PACIENTE ",{"$f":"'FICHA OCULTA'!G96","v":"Verificación de la identificación correcta de los paciente antes de realizar los examenes de laboratorio, radiológicos u otros."},"BL",{"$f":"'FICHA OCULTA'!$I$101","v":0}]
[{"$f":"IF($A$7=\"CE\",COUNTIF(B$7:B72,\"x\"),IF($A$7=\"HOS\",COUNTIF(C$7:C72,\"x\"),IF($A$7=\"E\",COUNTIF(D$7:D72,\"x\"),IF($A$7=\"CEO\",COUNTIF(E$7:E72,\"x\"),IF($A$7=\"CEQ\",COUNTIF(F$7:F72,\"x\"),IF($A$7=\"CI\",COUNTIF(G$7:G72,\"x\"),IF($A$7=\"PC\",COUNTIF(H$7:H72,\"x\"),IF($A$7=\"DPI\",COUNTIF(I$7:I72,\"x\"),IF($A$7=\"AP\",COUNTIF(J$7:J72,\"x\"),IF($A$7=\"F\",COUNTIF(K$7:K72,\"x\"),IF($A$7=\"CDE\",COUNTIF(L$7:L72,\"x\"),IF($A$7=\"MR\",COUNTIF(M$7:M72,\"x\"),IF($A$7=\"H\",COUNTIF(N$7:N72,\"x\"),IF($A$7=\"NYD\",COUNTIF(O$7:O72,\"x\"),IF($A$7=\"R\",COUNTIF(P$7:P72,\"x\"),IF($A$7=\"MN\",COUNTIF(Q$7:Q72,\"x\"),IF($A$7=\"CDH\",COUNTIF(R$7:R72,\"x\"),IF($A$7=\"PNA\",COUNTIF(S$7:S72,\"x\"),\" \"))))))))))))))))))","v":44},"x","x","x","x","x","x","x","x","x","x",null,"x","x","x","x","x","x",null,"IDENTIFICACIÓN CORRECTA DEL PACIENTE ",{"$f":"'FICHA OCULTA'!G97","v":"Conocimiento del paciente o familiar responsable sobre su enfermedad, su evolución y pronóstico del mismo, el cual debe concordar con la información registrada en la historia clínica."},"BM",{"$f":"'FICHA OCULTA'!$I$101","v":0}]
[{"$f":"IF($A$7=\"CE\",COUNTIF(B$7:B73,\"x\"),IF($A$7=\"HOS\",COUNTIF(C$7:C73,\"x\"),IF($A$7=\"E\",COUNTIF(D$7:D73,\"x\"),IF($A$7=\"CEO\",COUNTIF(E$7:E73,\"x\"),IF($A$7=\"CEQ\",COUNTIF(F$7:F73,\"x\"),IF($A$7=\"CI\",COUNTIF(G$7:G73,\"x\"),IF($A$7=\"PC\",COUNTIF(H$7:H73,\"x\"),IF($A$7=\"DPI\",COUNTIF(I$7:I73,\"x\"),IF($A$7=\"AP\",COUNTIF(J$7:J73,\"x\"),IF($A$7=\"F\",COUNTIF(K$7:K73,\"x\"),IF($A$7=\"CDE\",COUNTIF(L$7:L73,\"x\"),IF($A$7=\"MR\",COUNTIF(M$7:M73,\"x\"),IF($A$7=\"H\",COUNTIF(N$7:N73,\"x\"),IF($A$7=\"NYD\",COUNTIF(O$7:O73,\"x\"),IF($A$7=\"R\",COUNTIF(P$7:P73,\"x\"),IF($A$7=\"MN\",COUNTIF(Q$7:Q73,\"x\"),IF($A$7=\"CDH\",COUNTIF(R$7:R73,\"x\"),IF($A$7=\"PNA\",COUNTIF(S$7:S73,\"x\"),\" \"))))))))))))))))))","v":45},"x","x","x","x","x","x","x","x","x","x",null,"x","x","x","x","x","x",null,"IDENTIFICACIÓN CORRECTA DEL PACIENTE ",{"$f":"'FICHA OCULTA'!G98","v":"Paciente  informado al que se  le han aclado sus dudas y preguntas respecto a algún procedimiento o cirugía, evidenciandose la firma del Consentimiento respectivo."},"BN",{"$f":"'FICHA OCULTA'!$I$101","v":0}]
[{"$f":"IF($A$7=\"CE\",COUNTIF(B$7:B74,\"x\"),IF($A$7=\"HOS\",COUNTIF(C$7:C74,\"x\"),IF($A$7=\"E\",COUNTIF(D$7:D74,\"x\"),IF($A$7=\"CEO\",COUNTIF(E$7:E74,\"x\"),IF($A$7=\"CEQ\",COUNTIF(F$7:F74,\"x\"),IF($A$7=\"CI\",COUNTIF(G$7:G74,\"x\"),IF($A$7=\"PC\",COUNTIF(H$7:H74,\"x\"),IF($A$7=\"DPI\",COUNTIF(I$7:I74,\"x\"),IF($A$7=\"AP\",COUNTIF(J$7:J74,\"x\"),IF($A$7=\"F\",COUNTIF(K$7:K74,\"x\"),IF($A$7=\"CDE\",COUNTIF(L$7:L74,\"x\"),IF($A$7=\"MR\",COUNTIF(M$7:M74,\"x\"),IF($A$7=\"H\",COUNTIF(N$7:N74,\"x\"),IF($A$7=\"NYD\",COUNTIF(O$7:O74,\"x\"),IF($A$7=\"R\",COUNTIF(P$7:P74,\"x\"),IF($A$7=\"MN\",COUNTIF(Q$7:Q74,\"x\"),IF($A$7=\"CDH\",COUNTIF(R$7:R74,\"x\"),IF($A$7=\"PNA\",COUNTIF(S$7:S74,\"x\"),\" \"))))))))))))))))))","v":46},null,"x","x","x","x","x","x","x",null,null,null,null,"x",null,"x","x","x",null,"PREVENCIÓN DE LA FUGA DE PACIENTES",{"$f":"'FICHA OCULTA'!G103","v":"Paciente cuenta con ropa de hospital facilmente identificable."},"BO",{"$f":"'FICHA OCULTA'!$I$111","v":0}]
[{"$f":"IF($A$7=\"CE\",COUNTIF(B$7:B75,\"x\"),IF($A$7=\"HOS\",COUNTIF(C$7:C75,\"x\"),IF($A$7=\"E\",COUNTIF(D$7:D75,\"x\"),IF($A$7=\"CEO\",COUNTIF(E$7:E75,\"x\"),IF($A$7=\"CEQ\",COUNTIF(F$7:F75,\"x\"),IF($A$7=\"CI\",COUNTIF(G$7:G75,\"x\"),IF($A$7=\"PC\",COUNTIF(H$7:H75,\"x\"),IF($A$7=\"DPI\",COUNTIF(I$7:I75,\"x\"),IF($A$7=\"AP\",COUNTIF(J$7:J75,\"x\"),IF($A$7=\"F\",COUNTIF(K$7:K75,\"x\"),IF($A$7=\"CDE\",COUNTIF(L$7:L75,\"x\"),IF($A$7=\"MR\",COUNTIF(M$7:M75,\"x\"),IF($A$7=\"H\",COUNTIF(N$7:N75,\"x\"),IF($A$7=\"NYD\",COUNTIF(O$7:O75,\"x\"),IF($A$7=\"R\",COUNTIF(P$7:P75,\"x\"),IF($A$7=\"MN\",COUNTIF(Q$7:Q75,\"x\"),IF($A$7=\"CDH\",COUNTIF(R$7:R75,\"x\"),IF($A$7=\"PNA\",COUNTIF(S$7:S75,\"x\"),\" \"))))))))))))))))))","v":47},null,"x","x","x","x","x","x","x","x",null,null,"x","x",null,"x","x","x","x","PREVENCIÓN DE LA FUGA DE PACIENTES",{"$f":"'FICHA OCULTA'!G104","v":"Vigilancia controla las pertenencias de los pacientes y las visitas para evitar el uso inadecuado de objetos potencialmente peligrosos."},"BP",{"$f":"'FICHA OCULTA'!$I$111","v":0}]
[{"$f":"IF($A$7=\"CE\",COUNTIF(B$7:B76,\"x\"),IF($A$7=\"HOS\",COUNTIF(C$7:C76,\"x\"),IF($A$7=\"E\",COUNTIF(D$7:D76,\"x\"),IF($A$7=\"CEO\",COUNTIF(E$7:E76,\"x\"),IF($A$7=\"CEQ\",COUNTIF(F$7:F76,\"x\"),IF($A$7=\"CI\",COUNTIF(G$7:G76,\"x\"),IF($A$7=\"PC\",COUNTIF(H$7:H76,\"x\"),IF($A$7=\"DPI\",COUNTIF(I$7:I76,\"x\"),IF($A$7=\"AP\",COUNTIF(J$7:J76,\"x\"),IF($A$7=\"F\",COUNTIF(K$7:K76,\"x\"),IF($A$7=\"CDE\",COUNTIF(L$7:L76,\"x\"),IF($A$7=\"MR\",COUNTIF(M$7:M76,\"x\"),IF($A$7=\"H\",COUNTIF(N$7:N76,\"x\"),IF($A$7=\"NYD\",COUNTIF(O$7:O76,\"x\"),IF($A$7=\"R\",COUNTIF(P$7:P76,\"x\"),IF($A$7=\"MN\",COUNTIF(Q$7:Q76,\"x\"),IF($A$7=\"CDH\",COUNTIF(R$7:R76,\"x\"),IF($A$7=\"PNA\",COUNTIF(S$7:S76,\"x\"),\" \"))))))))))))))))))","v":48},null,"x","x","x","x","x",null,"x",null,null,null,null,"x",null,"x","x","x",null,"PREVENCIÓN DE LA FUGA DE PACIENTES",{"$f":"'FICHA OCULTA'!G105","v":"Tienen un sistema efectivo de control de las salidas y entradas del servicio de hospitalización."},"BQ",{"$f":"'FICHA OCULTA'!$I$111","v":0}]
[{"$f":"IF($A$7=\"CE\",COUNTIF(B$7:B77,\"x\"),IF($A$7=\"HOS\",COUNTIF(C$7:C77,\"x\"),IF($A$7=\"E\",COUNTIF(D$7:D77,\"x\"),IF($A$7=\"CEO\",COUNTIF(E$7:E77,\"x\"),IF($A$7=\"CEQ\",COUNTIF(F$7:F77,\"x\"),IF($A$7=\"CI\",COUNTIF(G$7:G77,\"x\"),IF($A$7=\"PC\",COUNTIF(H$7:H77,\"x\"),IF($A$7=\"DPI\",COUNTIF(I$7:I77,\"x\"),IF($A$7=\"AP\",COUNTIF(J$7:J77,\"x\"),IF($A$7=\"F\",COUNTIF(K$7:K77,\"x\"),IF($A$7=\"CDE\",COUNTIF(L$7:L77,\"x\"),IF($A$7=\"MR\",COUNTIF(M$7:M77,\"x\"),IF($A$7=\"H\",COUNTIF(N$7:N77,\"x\"),IF($A$7=\"NYD\",COUNTIF(O$7:O77,\"x\"),IF($A$7=\"R\",COUNTIF(P$7:P77,\"x\"),IF($A$7=\"MN\",COUNTIF(Q$7:Q77,\"x\"),IF($A$7=\"CDH\",COUNTIF(R$7:R77,\"x\"),IF($A$7=\"PNA\",COUNTIF(S$7:S77,\"x\"),\" \"))))))))))))))))))","v":49},null,"x","x","x","x","x",null,"x",null,null,null,null,"x",null,"x","x","x",null,"PREVENCIÓN DE LA FUGA DE PACIENTES",{"$f":"'FICHA OCULTA'!G106","v":"Entrevistas con el paciente para valorar el riesgo potencial de fuga. Solo en casos de oposición activa y riesgo inminente de fuga se recurrirá a la contención mecánica."},"BR",{"$f":"'FICHA OCULTA'!$I$111","v":0}]
[{"$f":"IF($A$7=\"CE\",COUNTIF(B$7:B78,\"x\"),IF($A$7=\"HOS\",COUNTIF(C$7:C78,\"x\"),IF($A$7=\"E\",COUNTIF(D$7:D78,\"x\"),IF($A$7=\"CEO\",COUNTIF(E$7:E78,\"x\"),IF($A$7=\"CEQ\",COUNTIF(F$7:F78,\"x\"),IF($A$7=\"CI\",COUNTIF(G$7:G78,\"x\"),IF($A$7=\"PC\",COUNTIF(H$7:H78,\"x\"),IF($A$7=\"DPI\",COUNTIF(I$7:I78,\"x\"),IF($A$7=\"AP\",COUNTIF(J$7:J78,\"x\"),IF($A$7=\"F\",COUNTIF(K$7:K78,\"x\"),IF($A$7=\"CDE\",COUNTIF(L$7:L78,\"x\"),IF($A$7=\"MR\",COUNTIF(M$7:M78,\"x\"),IF($A$7=\"H\",COUNTIF(N$7:N78,\"x\"),IF($A$7=\"NYD\",COUNTIF(O$7:O78,\"x\"),IF($A$7=\"R\",COUNTIF(P$7:P78,\"x\"),IF($A$7=\"MN\",COUNTIF(Q$7:Q78,\"x\"),IF($A$7=\"CDH\",COUNTIF(R$7:R78,\"x\"),IF($A$7=\"PNA\",COUNTIF(S$7:S78,\"x\"),\" \"))))))))))))))))))","v":50},null,"x","x","x","x","x",null,"x",null,null,null,null,"x",null,"x","x","x",null,"PREVENCIÓN DE LA FUGA DE PACIENTES",{"$f":"'FICHA OCULTA'!G107","v":"Registro en la hoja de recomendaciones terapéuticas el riesgo de fuga del paciente y la activación de las medidas de supervisión oportunas."},"BS",{"$f":"'FICHA OCULTA'!$I$111","v":0}]
[{"$f":"IF($A$7=\"CE\",COUNTIF(B$7:B79,\"x\"),IF($A$7=\"HOS\",COUNTIF(C$7:C79,\"x\"),IF($A$7=\"E\",COUNTIF(D$7:D79,\"x\"),IF($A$7=\"CEO\",COUNTIF(E$7:E79,\"x\"),IF($A$7=\"CEQ\",COUNTIF(F$7:F79,\"x\"),IF($A$7=\"CI\",COUNTIF(G$7:G79,\"x\"),IF($A$7=\"PC\",COUNTIF(H$7:H79,\"x\"),IF($A$7=\"DPI\",COUNTIF(I$7:I79,\"x\"),IF($A$7=\"AP\",COUNTIF(J$7:J79,\"x\"),IF($A$7=\"F\",COUNTIF(K$7:K79,\"x\"),IF($A$7=\"CDE\",COUNTIF(L$7:L79,\"x\"),IF($A$7=\"MR\",COUNTIF(M$7:M79,\"x\"),IF($A$7=\"H\",COUNTIF(N$7:N79,\"x\"),IF($A$7=\"NYD\",COUNTIF(O$7:O79,\"x\"),IF($A$7=\"R\",COUNTIF(P$7:P79,\"x\"),IF($A$7=\"MN\",COUNTIF(Q$7:Q79,\"x\"),IF($A$7=\"CDH\",COUNTIF(R$7:R79,\"x\"),IF($A$7=\"PNA\",COUNTIF(S$7:S79,\"x\"),\" \"))))))))))))))))))","v":51},null,"x","x","x","x","x",null,"x",null,null,null,null,"x",null,"x","x","x",null,"PREVENCIÓN DE LA FUGA DE PACIENTES",{"$f":"'FICHA OCULTA'!G108","v":"Existencia de un procedimiento o protocolo que se active en caso de fuga de paciente."},"BT",{"$f":"'FICHA OCULTA'!$I$111","v":0}]
[{"$f":"IF($A$7=\"CE\",COUNTIF(B$7:B80,\"x\"),IF($A$7=\"HOS\",COUNTIF(C$7:C80,\"x\"),IF($A$7=\"E\",COUNTIF(D$7:D80,\"x\"),IF($A$7=\"CEO\",COUNTIF(E$7:E80,\"x\"),IF($A$7=\"CEQ\",COUNTIF(F$7:F80,\"x\"),IF($A$7=\"CI\",COUNTIF(G$7:G80,\"x\"),IF($A$7=\"PC\",COUNTIF(H$7:H80,\"x\"),IF($A$7=\"DPI\",COUNTIF(I$7:I80,\"x\"),IF($A$7=\"AP\",COUNTIF(J$7:J80,\"x\"),IF($A$7=\"F\",COUNTIF(K$7:K80,\"x\"),IF($A$7=\"CDE\",COUNTIF(L$7:L80,\"x\"),IF($A$7=\"MR\",COUNTIF(M$7:M80,\"x\"),IF($A$7=\"H\",COUNTIF(N$7:N80,\"x\"),IF($A$7=\"NYD\",COUNTIF(O$7:O80,\"x\"),IF($A$7=\"R\",COUNTIF(P$7:P80,\"x\"),IF($A$7=\"MN\",COUNTIF(Q$7:Q80,\"x\"),IF($A$7=\"CDH\",COUNTIF(R$7:R80,\"x\"),IF($A$7=\"PNA\",COUNTIF(S$7:S80,\"x\"),\" \"))))))))))))))))))","v":52},"x","x","x","x",null,null,null,null,null,null,null,null,"x",null,null,null,null,"x","SEGURIDAD EN LA MEDICACIÓN  ",{"$f":"'FICHA OCULTA'!G113","v":"Paciente conoce que medicamentos recibe y a que hora corresponde que se lo administren."},"BU",{"$f":"'FICHA OCULTA'!$I$125","v":0.1}]
[{"$f":"IF($A$7=\"CE\",COUNTIF(B$7:B81,\"x\"),IF($A$7=\"HOS\",COUNTIF(C$7:C81,\"x\"),IF($A$7=\"E\",COUNTIF(D$7:D81,\"x\"),IF($A$7=\"CEO\",COUNTIF(E$7:E81,\"x\"),IF($A$7=\"CEQ\",COUNTIF(F$7:F81,\"x\"),IF($A$7=\"CI\",COUNTIF(G$7:G81,\"x\"),IF($A$7=\"PC\",COUNTIF(H$7:H81,\"x\"),IF($A$7=\"DPI\",COUNTIF(I$7:I81,\"x\"),IF($A$7=\"AP\",COUNTIF(J$7:J81,\"x\"),IF($A$7=\"F\",COUNTIF(K$7:K81,\"x\"),IF($A$7=\"CDE\",COUNTIF(L$7:L81,\"x\"),IF($A$7=\"MR\",COUNTIF(M$7:M81,\"x\"),IF($A$7=\"H\",COUNTIF(N$7:N81,\"x\"),IF($A$7=\"NYD\",COUNTIF(O$7:O81,\"x\"),IF($A$7=\"R\",COUNTIF(P$7:P81,\"x\"),IF($A$7=\"MN\",COUNTIF(Q$7:Q81,\"x\"),IF($A$7=\"CDH\",COUNTIF(R$7:R81,\"x\"),IF($A$7=\"PNA\",COUNTIF(S$7:S81,\"x\"),\" \"))))))))))))))))))","v":53},"x","x","x","x",null,null,null,null,null,null,null,null,"x",null,null,null,null,"x","SEGURIDAD EN LA MEDICACIÓN  ",{"$f":"'FICHA OCULTA'!G114","v":"Paciente conoce los efectos secundarios que pueden producirle los medicamentos que recibe."},"BV",{"$f":"'FICHA OCULTA'!$I$125","v":0.1}]
[{"$f":"IF($A$7=\"CE\",COUNTIF(B$7:B82,\"x\"),IF($A$7=\"HOS\",COUNTIF(C$7:C82,\"x\"),IF($A$7=\"E\",COUNTIF(D$7:D82,\"x\"),IF($A$7=\"CEO\",COUNTIF(E$7:E82,\"x\"),IF($A$7=\"CEQ\",COUNTIF(F$7:F82,\"x\"),IF($A$7=\"CI\",COUNTIF(G$7:G82,\"x\"),IF($A$7=\"PC\",COUNTIF(H$7:H82,\"x\"),IF($A$7=\"DPI\",COUNTIF(I$7:I82,\"x\"),IF($A$7=\"AP\",COUNTIF(J$7:J82,\"x\"),IF($A$7=\"F\",COUNTIF(K$7:K82,\"x\"),IF($A$7=\"CDE\",COUNTIF(L$7:L82,\"x\"),IF($A$7=\"MR\",COUNTIF(M$7:M82,\"x\"),IF($A$7=\"H\",COUNTIF(N$7:N82,\"x\"),IF($A$7=\"NYD\",COUNTIF(O$7:O82,\"x\"),IF($A$7=\"R\",COUNTIF(P$7:P82,\"x\"),IF($A$7=\"MN\",COUNTIF(Q$7:Q82,\"x\"),IF($A$7=\"CDH\",COUNTIF(R$7:R82,\"x\"),IF($A$7=\"PNA\",COUNTIF(S$7:S82,\"x\"),\" \"))))))))))))))))))","v":54},"x","x","x","x","x","x",null,"x",null,null,null,"x","x",null,"x","x","x","x","SEGURIDAD EN LA MEDICACIÓN  ",{"$f":"'FICHA OCULTA'!G115","v":"Coche de paro cuenta con los insumos necesarios para atender situaciones críticas según normatividad vigente."},"BW",{"$f":"'FICHA OCULTA'!$I$125","v":0.1}]
[{"$f":"IF($A$7=\"CE\",COUNTIF(B$7:B83,\"x\"),IF($A$7=\"HOS\",COUNTIF(C$7:C83,\"x\"),IF($A$7=\"E\",COUNTIF(D$7:D83,\"x\"),IF($A$7=\"CEO\",COUNTIF(E$7:E83,\"x\"),IF($A$7=\"CEQ\",COUNTIF(F$7:F83,\"x\"),IF($A$7=\"CI\",COUNTIF(G$7:G83,\"x\"),IF($A$7=\"PC\",COUNTIF(H$7:H83,\"x\"),IF($A$7=\"DPI\",COUNTIF(I$7:I83,\"x\"),IF($A$7=\"AP\",COUNTIF(J$7:J83,\"x\"),IF($A$7=\"F\",COUNTIF(K$7:K83,\"x\"),IF($A$7=\"CDE\",COUNTIF(L$7:L83,\"x\"),IF($A$7=\"MR\",COUNTIF(M$7:M83,\"x\"),IF($A$7=\"H\",COUNTIF(N$7:N83,\"x\"),IF($A$7=\"NYD\",COUNTIF(O$7:O83,\"x\"),IF($A$7=\"R\",COUNTIF(P$7:P83,\"x\"),IF($A$7=\"MN\",COUNTIF(Q$7:Q83,\"x\"),IF($A$7=\"CDH\",COUNTIF(R$7:R83,\"x\"),IF($A$7=\"PNA\",COUNTIF(S$7:S83,\"x\"),\" \"))))))))))))))))))","v":55},"x","x","x","x","x","x",null,"x",null,null,null,null,"x",null,"x","x","x","x","SEGURIDAD EN LA MEDICACIÓN  ",{"$f":"'FICHA OCULTA'!G116","v":"Soluciones endovenosas se encuentran debidamente rotulados con la fecha y  los componentes contenidas en ella."},"BX",{"$f":"'FICHA OCULTA'!$I$125","v":0.1}]
[{"$f":"IF($A$7=\"CE\",COUNTIF(B$7:B84,\"x\"),IF($A$7=\"HOS\",COUNTIF(C$7:C84,\"x\"),IF($A$7=\"E\",COUNTIF(D$7:D84,\"x\"),IF($A$7=\"CEO\",COUNTIF(E$7:E84,\"x\"),IF($A$7=\"CEQ\",COUNTIF(F$7:F84,\"x\"),IF($A$7=\"CI\",COUNTIF(G$7:G84,\"x\"),IF($A$7=\"PC\",COUNTIF(H$7:H84,\"x\"),IF($A$7=\"DPI\",COUNTIF(I$7:I84,\"x\"),IF($A$7=\"AP\",COUNTIF(J$7:J84,\"x\"),IF($A$7=\"F\",COUNTIF(K$7:K84,\"x\"),IF($A$7=\"CDE\",COUNTIF(L$7:L84,\"x\"),IF($A$7=\"MR\",COUNTIF(M$7:M84,\"x\"),IF($A$7=\"H\",COUNTIF(N$7:N84,\"x\"),IF($A$7=\"NYD\",COUNTIF(O$7:O84,\"x\"),IF($A$7=\"R\",COUNTIF(P$7:P84,\"x\"),IF($A$7=\"MN\",COUNTIF(Q$7:Q84,\"x\"),IF($A$7=\"CDH\",COUNTIF(R$7:R84,\"x\"),IF($A$7=\"PNA\",COUNTIF(S$7:S84,\"x\"),\" \"))))))))))))))))))","v":56},"x","x","x","x","x","x","x","x","x","x",null,"x","x",null,"x","x","x","x","SEGURIDAD EN LA MEDICACIÓN  ",{"$f":"'FICHA OCULTA'!G117","v":"Almacenamiento ordenado de los medicamentos  para evitar su confusión por su similitud de nombres o de presentación."},"BY",{"$f":"'FICHA OCULTA'!$I$125","v":0.1}]
[{"$f":"IF($A$7=\"CE\",COUNTIF(B$7:B85,\"x\"),IF($A$7=\"HOS\",COUNTIF(C$7:C85,\"x\"),IF($A$7=\"E\",COUNTIF(D$7:D85,\"x\"),IF($A$7=\"CEO\",COUNTIF(E$7:E85,\"x\"),IF($A$7=\"CEQ\",COUNTIF(F$7:F85,\"x\"),IF($A$7=\"CI\",COUNTIF(G$7:G85,\"x\"),IF($A$7=\"PC\",COUNTIF(H$7:H85,\"x\"),IF($A$7=\"DPI\",COUNTIF(I$7:I85,\"x\"),IF($A$7=\"AP\",COUNTIF(J$7:J85,\"x\"),IF($A$7=\"F\",COUNTIF(K$7:K85,\"x\"),IF($A$7=\"CDE\",COUNTIF(L$7:L85,\"x\"),IF($A$7=\"MR\",COUNTIF(M$7:M85,\"x\"),IF($A$7=\"H\",COUNTIF(N$7:N85,\"x\"),IF($A$7=\"NYD\",COUNTIF(O$7:O85,\"x\"),IF($A$7=\"R\",COUNTIF(P$7:P85,\"x\"),IF($A$7=\"MN\",COUNTIF(Q$7:Q85,\"x\"),IF($A$7=\"CDH\",COUNTIF(R$7:R85,\"x\"),IF($A$7=\"PNA\",COUNTIF(S$7:S85,\"x\"),\" \"))))))))))))))))))","v":57},"x","x","x","x","x","x","x","x","x","x",null,"x","x",null,"x","x","x","x","SEGURIDAD EN LA MEDICACIÓN  ",{"$f":"'FICHA OCULTA'!G118","v":"Medicamentos se encuentran adecuadamente rotulados en caso de requerirlos."},"BZ",{"$f":"'FICHA OCULTA'!$I$125","v":0.1}]
[{"$f":"IF($A$7=\"CE\",COUNTIF(B$7:B86,\"x\"),IF($A$7=\"HOS\",COUNTIF(C$7:C86,\"x\"),IF($A$7=\"E\",COUNTIF(D$7:D86,\"x\"),IF($A$7=\"CEO\",COUNTIF(E$7:E86,\"x\"),IF($A$7=\"CEQ\",COUNTIF(F$7:F86,\"x\"),IF($A$7=\"CI\",COUNTIF(G$7:G86,\"x\"),IF($A$7=\"PC\",COUNTIF(H$7:H86,\"x\"),IF($A$7=\"DPI\",COUNTIF(I$7:I86,\"x\"),IF($A$7=\"AP\",COUNTIF(J$7:J86,\"x\"),IF($A$7=\"F\",COUNTIF(K$7:K86,\"x\"),IF($A$7=\"CDE\",COUNTIF(L$7:L86,\"x\"),IF($A$7=\"MR\",COUNTIF(M$7:M86,\"x\"),IF($A$7=\"H\",COUNTIF(N$7:N86,\"x\"),IF($A$7=\"NYD\",COUNTIF(O$7:O86,\"x\"),IF($A$7=\"R\",COUNTIF(P$7:P86,\"x\"),IF($A$7=\"MN\",COUNTIF(Q$7:Q86,\"x\"),IF($A$7=\"CDH\",COUNTIF(R$7:R86,\"x\"),IF($A$7=\"PNA\",COUNTIF(S$7:S86,\"x\"),\" \"))))))))))))))))))","v":58},null,"x","x","x","x","x",null,null,null,null,null,null,"x",null,"x","x",null,"x","SEGURIDAD EN LA MEDICACIÓN  ",{"$f":"'FICHA OCULTA'!G119","v":"Medicamentos se clasifican para su almacenamiento local según el nombre del paciente por dosis unitaria."},"CA",{"$f":"'FICHA OCULTA'!$I$125","v":0.1}]
[{"$f":"IF($A$7=\"CE\",COUNTIF(B$7:B87,\"x\"),IF($A$7=\"HOS\",COUNTIF(C$7:C87,\"x\"),IF($A$7=\"E\",COUNTIF(D$7:D87,\"x\"),IF($A$7=\"CEO\",COUNTIF(E$7:E87,\"x\"),IF($A$7=\"CEQ\",COUNTIF(F$7:F87,\"x\"),IF($A$7=\"CI\",COUNTIF(G$7:G87,\"x\"),IF($A$7=\"PC\",COUNTIF(H$7:H87,\"x\"),IF($A$7=\"DPI\",COUNTIF(I$7:I87,\"x\"),IF($A$7=\"AP\",COUNTIF(J$7:J87,\"x\"),IF($A$7=\"F\",COUNTIF(K$7:K87,\"x\"),IF($A$7=\"CDE\",COUNTIF(L$7:L87,\"x\"),IF($A$7=\"MR\",COUNTIF(M$7:M87,\"x\"),IF($A$7=\"H\",COUNTIF(N$7:N87,\"x\"),IF($A$7=\"NYD\",COUNTIF(O$7:O87,\"x\"),IF($A$7=\"R\",COUNTIF(P$7:P87,\"x\"),IF($A$7=\"MN\",COUNTIF(Q$7:Q87,\"x\"),IF($A$7=\"CDH\",COUNTIF(R$7:R87,\"x\"),IF($A$7=\"PNA\",COUNTIF(S$7:S87,\"x\"),\" \"))))))))))))))))))","v":59},"x","x","x","x","x","x","x","x","x","x",null,"x","x",null,"x","x","x","x","SEGURIDAD EN LA MEDICACIÓN  ",{"$f":"'FICHA OCULTA'!G120","v":"Medicamentos e insumos médicos cuentan con un mecanismo efectivo de control de vencimiento / caducidad."},"CB",{"$f":"'FICHA OCULTA'!$I$125","v":0.1}]
[{"$f":"IF($A$7=\"CE\",COUNTIF(B$7:B88,\"x\"),IF($A$7=\"HOS\",COUNTIF(C$7:C88,\"x\"),IF($A$7=\"E\",COUNTIF(D$7:D88,\"x\"),IF($A$7=\"CEO\",COUNTIF(E$7:E88,\"x\"),IF($A$7=\"CEQ\",COUNTIF(F$7:F88,\"x\"),IF($A$7=\"CI\",COUNTIF(G$7:G88,\"x\"),IF($A$7=\"PC\",COUNTIF(H$7:H88,\"x\"),IF($A$7=\"DPI\",COUNTIF(I$7:I88,\"x\"),IF($A$7=\"AP\",COUNTIF(J$7:J88,\"x\"),IF($A$7=\"F\",COUNTIF(K$7:K88,\"x\"),IF($A$7=\"CDE\",COUNTIF(L$7:L88,\"x\"),IF($A$7=\"MR\",COUNTIF(M$7:M88,\"x\"),IF($A$7=\"H\",COUNTIF(N$7:N88,\"x\"),IF($A$7=\"NYD\",COUNTIF(O$7:O88,\"x\"),IF($A$7=\"R\",COUNTIF(P$7:P88,\"x\"),IF($A$7=\"MN\",COUNTIF(Q$7:Q88,\"x\"),IF($A$7=\"CDH\",COUNTIF(R$7:R88,\"x\"),IF($A$7=\"PNA\",COUNTIF(S$7:S88,\"x\"),\" \"))))))))))))))))))","v":60},null,"x","x","x","x","x",null,null,null,null,null,null,"x",null,"x","x",null,"x","SEGURIDAD EN LA MEDICACIÓN  ",{"$f":"'FICHA OCULTA'!G121","v":"Existencia de un registro de medicamentos controlados."},"CC",{"$f":"'FICHA OCULTA'!$I$125","v":0.1}]
[{"$f":"IF($A$7=\"CE\",COUNTIF(B$7:B89,\"x\"),IF($A$7=\"HOS\",COUNTIF(C$7:C89,\"x\"),IF($A$7=\"E\",COUNTIF(D$7:D89,\"x\"),IF($A$7=\"CEO\",COUNTIF(E$7:E89,\"x\"),IF($A$7=\"CEQ\",COUNTIF(F$7:F89,\"x\"),IF($A$7=\"CI\",COUNTIF(G$7:G89,\"x\"),IF($A$7=\"PC\",COUNTIF(H$7:H89,\"x\"),IF($A$7=\"DPI\",COUNTIF(I$7:I89,\"x\"),IF($A$7=\"AP\",COUNTIF(J$7:J89,\"x\"),IF($A$7=\"F\",COUNTIF(K$7:K89,\"x\"),IF($A$7=\"CDE\",COUNTIF(L$7:L89,\"x\"),IF($A$7=\"MR\",COUNTIF(M$7:M89,\"x\"),IF($A$7=\"H\",COUNTIF(N$7:N89,\"x\"),IF($A$7=\"NYD\",COUNTIF(O$7:O89,\"x\"),IF($A$7=\"R\",COUNTIF(P$7:P89,\"x\"),IF($A$7=\"MN\",COUNTIF(Q$7:Q89,\"x\"),IF($A$7=\"CDH\",COUNTIF(R$7:R89,\"x\"),IF($A$7=\"PNA\",COUNTIF(S$7:S89,\"x\"),\" \"))))))))))))))))))","v":61},"x","x","x","x","x","x","x","x","x","x",null,"x","x",null,"x","x","x","x","SEGURIDAD EN LA MEDICACIÓN  ",{"$f":"'FICHA OCULTA'!G122","v":"Profesional encargado del cuidado de los pacientes verifica los 5 correctos para la administración correcta de medicamentos."},"CD",{"$f":"'FICHA OCULTA'!$I$125","v":0.1}]
[{"$f":"IF($A$7=\"CE\",COUNTIF(B$7:B90,\"x\"),IF($A$7=\"HOS\",COUNTIF(C$7:C90,\"x\"),IF($A$7=\"E\",COUNTIF(D$7:D90,\"x\"),IF($A$7=\"CEO\",COUNTIF(E$7:E90,\"x\"),IF($A$7=\"CEQ\",COUNTIF(F$7:F90,\"x\"),IF($A$7=\"CI\",COUNTIF(G$7:G90,\"x\"),IF($A$7=\"PC\",COUNTIF(H$7:H90,\"x\"),IF($A$7=\"DPI\",COUNTIF(I$7:I90,\"x\"),IF($A$7=\"AP\",COUNTIF(J$7:J90,\"x\"),IF($A$7=\"F\",COUNTIF(K$7:K90,\"x\"),IF($A$7=\"CDE\",COUNTIF(L$7:L90,\"x\"),IF($A$7=\"MR\",COUNTIF(M$7:M90,\"x\"),IF($A$7=\"H\",COUNTIF(N$7:N90,\"x\"),IF($A$7=\"NYD\",COUNTIF(O$7:O90,\"x\"),IF($A$7=\"R\",COUNTIF(P$7:P90,\"x\"),IF($A$7=\"MN\",COUNTIF(Q$7:Q90,\"x\"),IF($A$7=\"CDH\",COUNTIF(R$7:R90,\"x\"),IF($A$7=\"PNA\",COUNTIF(S$7:S90,\"x\"),\" \"))))))))))))))))))","v":62},"x","x","x","x",null,null,null,null,null,null,null,null,null,null,null,null,null,null,"PREVENCIÓN DE CAIDA DE PACIENTES Y CONTENCION MECÁNICA",{"$f":"'FICHA OCULTA'!G127","v":"Valoración del riesgo de caída de todo paciente que se hospitaliza."},"CE",{"$f":"'FICHA OCULTA'!$I$140","v":0.181818181818182}]
[{"$f":"IF($A$7=\"CE\",COUNTIF(B$7:B91,\"x\"),IF($A$7=\"HOS\",COUNTIF(C$7:C91,\"x\"),IF($A$7=\"E\",COUNTIF(D$7:D91,\"x\"),IF($A$7=\"CEO\",COUNTIF(E$7:E91,\"x\"),IF($A$7=\"CEQ\",COUNTIF(F$7:F91,\"x\"),IF($A$7=\"CI\",COUNTIF(G$7:G91,\"x\"),IF($A$7=\"PC\",COUNTIF(H$7:H91,\"x\"),IF($A$7=\"DPI\",COUNTIF(I$7:I91,\"x\"),IF($A$7=\"AP\",COUNTIF(J$7:J91,\"x\"),IF($A$7=\"F\",COUNTIF(K$7:K91,\"x\"),IF($A$7=\"CDE\",COUNTIF(L$7:L91,\"x\"),IF($A$7=\"MR\",COUNTIF(M$7:M91,\"x\"),IF($A$7=\"H\",COUNTIF(N$7:N91,\"x\"),IF($A$7=\"NYD\",COUNTIF(O$7:O91,\"x\"),IF($A$7=\"R\",COUNTIF(P$7:P91,\"x\"),IF($A$7=\"MN\",COUNTIF(Q$7:Q91,\"x\"),IF($A$7=\"CDH\",COUNTIF(R$7:R91,\"x\"),IF($A$7=\"PNA\",COUNTIF(S$7:S91,\"x\"),\" \"))))))))))))))))))","v":63},"x","x","x","x",null,"x",null,null,null,null,null,null,"x",null,"x","x","x",null,"PREVENCIÓN DE CAIDA DE PACIENTES Y CONTENCION MECÁNICA",{"$f":"'FICHA OCULTA'!G128","v":"Revaloración diaria de pacientes: ancianos, aquellos sometidos a polifarmacia, los drogodependientes y las personas con déficits neurológicos ‐ cognitivos."},"CF",{"$f":"'FICHA OCULTA'!$I$140","v":0.181818181818182}]
[{"$f":"IF($A$7=\"CE\",COUNTIF(B$7:B92,\"x\"),IF($A$7=\"HOS\",COUNTIF(C$7:C92,\"x\"),IF($A$7=\"E\",COUNTIF(D$7:D92,\"x\"),IF($A$7=\"CEO\",COUNTIF(E$7:E92,\"x\"),IF($A$7=\"CEQ\",COUNTIF(F$7:F92,\"x\"),IF($A$7=\"CI\",COUNTIF(G$7:G92,\"x\"),IF($A$7=\"PC\",COUNTIF(H$7:H92,\"x\"),IF($A$7=\"DPI\",COUNTIF(I$7:I92,\"x\"),IF($A$7=\"AP\",COUNTIF(J$7:J92,\"x\"),IF($A$7=\"F\",COUNTIF(K$7:K92,\"x\"),IF($A$7=\"CDE\",COUNTIF(L$7:L92,\"x\"),IF($A$7=\"MR\",COUNTIF(M$7:M92,\"x\"),IF($A$7=\"H\",COUNTIF(N$7:N92,\"x\"),IF($A$7=\"NYD\",COUNTIF(O$7:O92,\"x\"),IF($A$7=\"R\",COUNTIF(P$7:P92,\"x\"),IF($A$7=\"MN\",COUNTIF(Q$7:Q92,\"x\"),IF($A$7=\"CDH\",COUNTIF(R$7:R92,\"x\"),IF($A$7=\"PNA\",COUNTIF(S$7:S92,\"x\"),\" \"))))))))))))))))))","v":64},null,"x","x","x",null,"x",null,null,null,null,null,null,null,null,null,null,null,null,"PREVENCIÓN DE CAIDA DE PACIENTES Y CONTENCION MECÁNICA",{"$f":"'FICHA OCULTA'!G129","v":"Información a los pacientes sobre los efectos secundarios de la medicación que pueden afectar la orientación y el sensorio."},"CG",{"$f":"'FICHA OCULTA'!$I$140","v":0.181818181818182}]
[{"$f":"IF($A$7=\"CE\",COUNTIF(B$7:B93,\"x\"),IF($A$7=\"HOS\",COUNTIF(C$7:C93,\"x\"),IF($A$7=\"E\",COUNTIF(D$7:D93,\"x\"),IF($A$7=\"CEO\",COUNTIF(E$7:E93,\"x\"),IF($A$7=\"CEQ\",COUNTIF(F$7:F93,\"x\"),IF($A$7=\"CI\",COUNTIF(G$7:G93,\"x\"),IF($A$7=\"PC\",COUNTIF(H$7:H93,\"x\"),IF($A$7=\"DPI\",COUNTIF(I$7:I93,\"x\"),IF($A$7=\"AP\",COUNTIF(J$7:J93,\"x\"),IF($A$7=\"F\",COUNTIF(K$7:K93,\"x\"),IF($A$7=\"CDE\",COUNTIF(L$7:L93,\"x\"),IF($A$7=\"MR\",COUNTIF(M$7:M93,\"x\"),IF($A$7=\"H\",COUNTIF(N$7:N93,\"x\"),IF($A$7=\"NYD\",COUNTIF(O$7:O93,\"x\"),IF($A$7=\"R\",COUNTIF(P$7:P93,\"x\"),IF($A$7=\"MN\",COUNTIF(Q$7:Q93,\"x\"),IF($A$7=\"CDH\",COUNTIF(R$7:R93,\"x\"),IF($A$7=\"PNA\",COUNTIF(S$7:S93,\"x\"),\" \"))))))))))))))))))","v":65},"x","x","x","x","x","x","x","x","x",null,null,"x","x",null,"x","x","x",null,"PREVENCIÓN DE CAIDA DE PACIENTES Y CONTENCION MECÁNICA",{"$f":"'FICHA OCULTA'!G130","v":"En casos de sedación y deterioro cognitivo severo se utilizarán barras de protección lateral o contención abdominal cuando el paciente se encuentre encamado."},"CH",{"$f":"'FICHA OCULTA'!$I$140","v":0.181818181818182}]
[{"$f":"IF($A$7=\"CE\",COUNTIF(B$7:B94,\"x\"),IF($A$7=\"HOS\",COUNTIF(C$7:C94,\"x\"),IF($A$7=\"E\",COUNTIF(D$7:D94,\"x\"),IF($A$7=\"CEO\",COUNTIF(E$7:E94,\"x\"),IF($A$7=\"CEQ\",COUNTIF(F$7:F94,\"x\"),IF($A$7=\"CI\",COUNTIF(G$7:G94,\"x\"),IF($A$7=\"PC\",COUNTIF(H$7:H94,\"x\"),IF($A$7=\"DPI\",COUNTIF(I$7:I94,\"x\"),IF($A$7=\"AP\",COUNTIF(J$7:J94,\"x\"),IF($A$7=\"F\",COUNTIF(K$7:K94,\"x\"),IF($A$7=\"CDE\",COUNTIF(L$7:L94,\"x\"),IF($A$7=\"MR\",COUNTIF(M$7:M94,\"x\"),IF($A$7=\"H\",COUNTIF(N$7:N94,\"x\"),IF($A$7=\"NYD\",COUNTIF(O$7:O94,\"x\"),IF($A$7=\"R\",COUNTIF(P$7:P94,\"x\"),IF($A$7=\"MN\",COUNTIF(Q$7:Q94,\"x\"),IF($A$7=\"CDH\",COUNTIF(R$7:R94,\"x\"),IF($A$7=\"PNA\",COUNTIF(S$7:S94,\"x\"),\" \"))))))))))))))))))","v":66},null,"x","x","x",null,"x",null,null,null,null,null,null,null,null,null,null,null,null,"PREVENCIÓN DE CAIDA DE PACIENTES Y CONTENCION MECÁNICA",{"$f":"'FICHA OCULTA'!G131","v":"Comunicar al paciente temas relacionados al uso de los baños, uso de las duchas, uso de los lavaderos, cambios posturales periodicos, etc."},"CI",{"$f":"'FICHA OCULTA'!$I$140","v":0.181818181818182}]
[{"$f":"IF($A$7=\"CE\",COUNTIF(B$7:B95,\"x\"),IF($A$7=\"HOS\",COUNTIF(C$7:C95,\"x\"),IF($A$7=\"E\",COUNTIF(D$7:D95,\"x\"),IF($A$7=\"CEO\",COUNTIF(E$7:E95,\"x\"),IF($A$7=\"CEQ\",COUNTIF(F$7:F95,\"x\"),IF($A$7=\"CI\",COUNTIF(G$7:G95,\"x\"),IF($A$7=\"PC\",COUNTIF(H$7:H95,\"x\"),IF($A$7=\"DPI\",COUNTIF(I$7:I95,\"x\"),IF($A$7=\"AP\",COUNTIF(J$7:J95,\"x\"),IF($A$7=\"F\",COUNTIF(K$7:K95,\"x\"),IF($A$7=\"CDE\",COUNTIF(L$7:L95,\"x\"),IF($A$7=\"MR\",COUNTIF(M$7:M95,\"x\"),IF($A$7=\"H\",COUNTIF(N$7:N95,\"x\"),IF($A$7=\"NYD\",COUNTIF(O$7:O95,\"x\"),IF($A$7=\"R\",COUNTIF(P$7:P95,\"x\"),IF($A$7=\"MN\",COUNTIF(Q$7:Q95,\"x\"),IF($A$7=\"CDH\",COUNTIF(R$7:R95,\"x\"),IF($A$7=\"PNA\",COUNTIF(S$7:S95,\"x\"),\" \"))))))))))))))))))","v":67},null,"x","x","x","x","x",null,null,null,null,null,null,null,null,"x","x","x",null,"PREVENCIÓN DE CAIDA DE PACIENTES Y CONTENCION MECÁNICA",{"$f":"'FICHA OCULTA'!G132","v":"Protocolo que establezca población objetivo, indicaciones, medidas preventivas, profesionales responsables de la indicación y supervisión de los diversos mecanismos de sujeción mecanica."},"CJ",{"$f":"'FICHA OCULTA'!$I$140","v":0.181818181818182}]
[{"$f":"IF($A$7=\"CE\",COUNTIF(B$7:B96,\"x\"),IF($A$7=\"HOS\",COUNTIF(C$7:C96,\"x\"),IF($A$7=\"E\",COUNTIF(D$7:D96,\"x\"),IF($A$7=\"CEO\",COUNTIF(E$7:E96,\"x\"),IF($A$7=\"CEQ\",COUNTIF(F$7:F96,\"x\"),IF($A$7=\"CI\",COUNTIF(G$7:G96,\"x\"),IF($A$7=\"PC\",COUNTIF(H$7:H96,\"x\"),IF($A$7=\"DPI\",COUNTIF(I$7:I96,\"x\"),IF($A$7=\"AP\",COUNTIF(J$7:J96,\"x\"),IF($A$7=\"F\",COUNTIF(K$7:K96,\"x\"),IF($A$7=\"CDE\",COUNTIF(L$7:L96,\"x\"),IF($A$7=\"MR\",COUNTIF(M$7:M96,\"x\"),IF($A$7=\"H\",COUNTIF(N$7:N96,\"x\"),IF($A$7=\"NYD\",COUNTIF(O$7:O96,\"x\"),IF($A$7=\"R\",COUNTIF(P$7:P96,\"x\"),IF($A$7=\"MN\",COUNTIF(Q$7:Q96,\"x\"),IF($A$7=\"CDH\",COUNTIF(R$7:R96,\"x\"),IF($A$7=\"PNA\",COUNTIF(S$7:S96,\"x\"),\" \"))))))))))))))))))","v":68},null,"x","x","x","x","x",null,null,null,null,null,null,null,null,"x","x","x",null,"PREVENCIÓN DE CAIDA DE PACIENTES Y CONTENCION MECÁNICA",{"$f":"'FICHA OCULTA'!G133","v":"Sistemas de registro específicos de todo paciente con sujeción mecánica, el que se debe de reevaluar periódicamente la situación y el tiempo de sujeción."},"CK",{"$f":"'FICHA OCULTA'!$I$140","v":0.181818181818182}]
[{"$f":"IF($A$7=\"CE\",COUNTIF(B$7:B97,\"x\"),IF($A$7=\"HOS\",COUNTIF(C$7:C97,\"x\"),IF($A$7=\"E\",COUNTIF(D$7:D97,\"x\"),IF($A$7=\"CEO\",COUNTIF(E$7:E97,\"x\"),IF($A$7=\"CEQ\",COUNTIF(F$7:F97,\"x\"),IF($A$7=\"CI\",COUNTIF(G$7:G97,\"x\"),IF($A$7=\"PC\",COUNTIF(H$7:H97,\"x\"),IF($A$7=\"DPI\",COUNTIF(I$7:I97,\"x\"),IF($A$7=\"AP\",COUNTIF(J$7:J97,\"x\"),IF($A$7=\"F\",COUNTIF(K$7:K97,\"x\"),IF($A$7=\"CDE\",COUNTIF(L$7:L97,\"x\"),IF($A$7=\"MR\",COUNTIF(M$7:M97,\"x\"),IF($A$7=\"H\",COUNTIF(N$7:N97,\"x\"),IF($A$7=\"NYD\",COUNTIF(O$7:O97,\"x\"),IF($A$7=\"R\",COUNTIF(P$7:P97,\"x\"),IF($A$7=\"MN\",COUNTIF(Q$7:Q97,\"x\"),IF($A$7=\"CDH\",COUNTIF(R$7:R97,\"x\"),IF($A$7=\"PNA\",COUNTIF(S$7:S97,\"x\"),\" \"))))))))))))))))))","v":69},null,"x","x","x",null,"x",null,null,null,null,null,null,null,null,"x","x","x",null,"PREVENCIÓN DE CAIDA DE PACIENTES Y CONTENCION MECÁNICA",{"$f":"'FICHA OCULTA'!G134","v":"Asegurarse que las técnicas de inmovilización puedan ser retiradas fácilmente."},"CL",{"$f":"'FICHA OCULTA'!$I$140","v":0.181818181818182}]
[{"$f":"IF($A$7=\"CE\",COUNTIF(B$7:B98,\"x\"),IF($A$7=\"HOS\",COUNTIF(C$7:C98,\"x\"),IF($A$7=\"E\",COUNTIF(D$7:D98,\"x\"),IF($A$7=\"CEO\",COUNTIF(E$7:E98,\"x\"),IF($A$7=\"CEQ\",COUNTIF(F$7:F98,\"x\"),IF($A$7=\"CI\",COUNTIF(G$7:G98,\"x\"),IF($A$7=\"PC\",COUNTIF(H$7:H98,\"x\"),IF($A$7=\"DPI\",COUNTIF(I$7:I98,\"x\"),IF($A$7=\"AP\",COUNTIF(J$7:J98,\"x\"),IF($A$7=\"F\",COUNTIF(K$7:K98,\"x\"),IF($A$7=\"CDE\",COUNTIF(L$7:L98,\"x\"),IF($A$7=\"MR\",COUNTIF(M$7:M98,\"x\"),IF($A$7=\"H\",COUNTIF(N$7:N98,\"x\"),IF($A$7=\"NYD\",COUNTIF(O$7:O98,\"x\"),IF($A$7=\"R\",COUNTIF(P$7:P98,\"x\"),IF($A$7=\"MN\",COUNTIF(Q$7:Q98,\"x\"),IF($A$7=\"CDH\",COUNTIF(R$7:R98,\"x\"),IF($A$7=\"PNA\",COUNTIF(S$7:S98,\"x\"),\" \"))))))))))))))))))","v":70},null,"x","x","x",null,"x",null,null,null,null,null,null,null,null,"x","x","x",null,"PREVENCIÓN DE CAIDA DE PACIENTES Y CONTENCION MECÁNICA",{"$f":"'FICHA OCULTA'!G135","v":"Si el paciente se encuentra en posición supina, comprobar que puede mover la cabeza libremente y levantarla de la cama."},"CM",{"$f":"'FICHA OCULTA'!$I$140","v":0.181818181818182}]
[{"$f":"IF($A$7=\"CE\",COUNTIF(B$7:B99,\"x\"),IF($A$7=\"HOS\",COUNTIF(C$7:C99,\"x\"),IF($A$7=\"E\",COUNTIF(D$7:D99,\"x\"),IF($A$7=\"CEO\",COUNTIF(E$7:E99,\"x\"),IF($A$7=\"CEQ\",COUNTIF(F$7:F99,\"x\"),IF($A$7=\"CI\",COUNTIF(G$7:G99,\"x\"),IF($A$7=\"PC\",COUNTIF(H$7:H99,\"x\"),IF($A$7=\"DPI\",COUNTIF(I$7:I99,\"x\"),IF($A$7=\"AP\",COUNTIF(J$7:J99,\"x\"),IF($A$7=\"F\",COUNTIF(K$7:K99,\"x\"),IF($A$7=\"CDE\",COUNTIF(L$7:L99,\"x\"),IF($A$7=\"MR\",COUNTIF(M$7:M99,\"x\"),IF($A$7=\"H\",COUNTIF(N$7:N99,\"x\"),IF($A$7=\"NYD\",COUNTIF(O$7:O99,\"x\"),IF($A$7=\"R\",COUNTIF(P$7:P99,\"x\"),IF($A$7=\"MN\",COUNTIF(Q$7:Q99,\"x\"),IF($A$7=\"CDH\",COUNTIF(R$7:R99,\"x\"),IF($A$7=\"PNA\",COUNTIF(S$7:S99,\"x\"),\" \"))))))))))))))))))","v":71},null,"x","x","x",null,"x",null,null,null,null,null,null,null,null,"x","x","x",null,"PREVENCIÓN DE CAIDA DE PACIENTES Y CONTENCION MECÁNICA",{"$f":"'FICHA OCULTA'!G136","v":"Si el paciente se encuentra  en decúbito prono asegurar que las vías aéreas no están obstruidas en ningún momento y que la expansión pulmonar no se ve limitada."},"CN",{"$f":"'FICHA OCULTA'!$I$140","v":0.181818181818182}]
[{"$f":"IF($A$7=\"CE\",COUNTIF(B$7:B100,\"x\"),IF($A$7=\"HOS\",COUNTIF(C$7:C100,\"x\"),IF($A$7=\"E\",COUNTIF(D$7:D100,\"x\"),IF($A$7=\"CEO\",COUNTIF(E$7:E100,\"x\"),IF($A$7=\"CEQ\",COUNTIF(F$7:F100,\"x\"),IF($A$7=\"CI\",COUNTIF(G$7:G100,\"x\"),IF($A$7=\"PC\",COUNTIF(H$7:H100,\"x\"),IF($A$7=\"DPI\",COUNTIF(I$7:I100,\"x\"),IF($A$7=\"AP\",COUNTIF(J$7:J100,\"x\"),IF($A$7=\"F\",COUNTIF(K$7:K100,\"x\"),IF($A$7=\"CDE\",COUNTIF(L$7:L100,\"x\"),IF($A$7=\"MR\",COUNTIF(M$7:M100,\"x\"),IF($A$7=\"H\",COUNTIF(N$7:N100,\"x\"),IF($A$7=\"NYD\",COUNTIF(O$7:O100,\"x\"),IF($A$7=\"R\",COUNTIF(P$7:P100,\"x\"),IF($A$7=\"MN\",COUNTIF(Q$7:Q100,\"x\"),IF($A$7=\"CDH\",COUNTIF(R$7:R100,\"x\"),IF($A$7=\"PNA\",COUNTIF(S$7:S100,\"x\"),\" \"))))))))))))))))))","v":72},null,"x","x","x",null,"x",null,null,null,null,null,null,null,null,null,null,null,null,"PREVENCIÓN DE CAIDA DE PACIENTES Y CONTENCION MECÁNICA",{"$f":"'FICHA OCULTA'!G137","v":"Evidencia de cambio periódico de la posición de la inmovilización y evaluación de las zonas cutáneas sometidas a presión."},"CO",{"$f":"'FICHA OCULTA'!$I$140","v":0.181818181818182}]
[{"$f":"IF($A$7=\"CE\",COUNTIF(B$7:B101,\"x\"),IF($A$7=\"HOS\",COUNTIF(C$7:C101,\"x\"),IF($A$7=\"E\",COUNTIF(D$7:D101,\"x\"),IF($A$7=\"CEO\",COUNTIF(E$7:E101,\"x\"),IF($A$7=\"CEQ\",COUNTIF(F$7:F101,\"x\"),IF($A$7=\"CI\",COUNTIF(G$7:G101,\"x\"),IF($A$7=\"PC\",COUNTIF(H$7:H101,\"x\"),IF($A$7=\"DPI\",COUNTIF(I$7:I101,\"x\"),IF($A$7=\"AP\",COUNTIF(J$7:J101,\"x\"),IF($A$7=\"F\",COUNTIF(K$7:K101,\"x\"),IF($A$7=\"CDE\",COUNTIF(L$7:L101,\"x\"),IF($A$7=\"MR\",COUNTIF(M$7:M101,\"x\"),IF($A$7=\"H\",COUNTIF(N$7:N101,\"x\"),IF($A$7=\"NYD\",COUNTIF(O$7:O101,\"x\"),IF($A$7=\"R\",COUNTIF(P$7:P101,\"x\"),IF($A$7=\"MN\",COUNTIF(Q$7:Q101,\"x\"),IF($A$7=\"CDH\",COUNTIF(R$7:R101,\"x\"),IF($A$7=\"PNA\",COUNTIF(S$7:S101,\"x\"),\" \"))))))))))))))))))","v":73},null,"x","x","x",null,"x",null,null,null,null,null,null,null,null,null,null,null,null,"SEGURIDAD SEXUAL",{"$f":"'FICHA OCULTA'!G142","v":"Evaluación del paciente a su ingreso y durante el mismo de los riesgos de ser víctimas o de cometer agresiones sexuales: desinhibiciones maníacas, trastornos de la personalidad, aislamiento, poca aceptación en su medio."},"CP",{"$f":"'FICHA OCULTA'!$I$150","v":0.333333333333333}]
[{"$f":"IF($A$7=\"CE\",COUNTIF(B$7:B102,\"x\"),IF($A$7=\"HOS\",COUNTIF(C$7:C102,\"x\"),IF($A$7=\"E\",COUNTIF(D$7:D102,\"x\"),IF($A$7=\"CEO\",COUNTIF(E$7:E102,\"x\"),IF($A$7=\"CEQ\",COUNTIF(F$7:F102,\"x\"),IF($A$7=\"CI\",COUNTIF(G$7:G102,\"x\"),IF($A$7=\"PC\",COUNTIF(H$7:H102,\"x\"),IF($A$7=\"DPI\",COUNTIF(I$7:I102,\"x\"),IF($A$7=\"AP\",COUNTIF(J$7:J102,\"x\"),IF($A$7=\"F\",COUNTIF(K$7:K102,\"x\"),IF($A$7=\"CDE\",COUNTIF(L$7:L102,\"x\"),IF($A$7=\"MR\",COUNTIF(M$7:M102,\"x\"),IF($A$7=\"H\",COUNTIF(N$7:N102,\"x\"),IF($A$7=\"NYD\",COUNTIF(O$7:O102,\"x\"),IF($A$7=\"R\",COUNTIF(P$7:P102,\"x\"),IF($A$7=\"MN\",COUNTIF(Q$7:Q102,\"x\"),IF($A$7=\"CDH\",COUNTIF(R$7:R102,\"x\"),IF($A$7=\"PNA\",COUNTIF(S$7:S102,\"x\"),\" \"))))))))))))))))))","v":74},"x","x","x","x","x","x","x","x","x","x",null,"x","x","x","x","x","x","x","SEGURIDAD SEXUAL",{"$f":"'FICHA OCULTA'!G143","v":"Información disponible y clara referente a las consecuencias penales de las agresiones sexuales."},"CQ",{"$f":"'FICHA OCULTA'!$I$150","v":0.333333333333333}]
[{"$f":"IF($A$7=\"CE\",COUNTIF(B$7:B103,\"x\"),IF($A$7=\"HOS\",COUNTIF(C$7:C103,\"x\"),IF($A$7=\"E\",COUNTIF(D$7:D103,\"x\"),IF($A$7=\"CEO\",COUNTIF(E$7:E103,\"x\"),IF($A$7=\"CEQ\",COUNTIF(F$7:F103,\"x\"),IF($A$7=\"CI\",COUNTIF(G$7:G103,\"x\"),IF($A$7=\"PC\",COUNTIF(H$7:H103,\"x\"),IF($A$7=\"DPI\",COUNTIF(I$7:I103,\"x\"),IF($A$7=\"AP\",COUNTIF(J$7:J103,\"x\"),IF($A$7=\"F\",COUNTIF(K$7:K103,\"x\"),IF($A$7=\"CDE\",COUNTIF(L$7:L103,\"x\"),IF($A$7=\"MR\",COUNTIF(M$7:M103,\"x\"),IF($A$7=\"H\",COUNTIF(N$7:N103,\"x\"),IF($A$7=\"NYD\",COUNTIF(O$7:O103,\"x\"),IF($A$7=\"R\",COUNTIF(P$7:P103,\"x\"),IF($A$7=\"MN\",COUNTIF(Q$7:Q103,\"x\"),IF($A$7=\"CDH\",COUNTIF(R$7:R103,\"x\"),IF($A$7=\"PNA\",COUNTIF(S$7:S103,\"x\"),\" \"))))))))))))))))))","v":75},null,"x","x","x",null,"x",null,null,null,null,null,null,null,null,null,null,null,null,"SEGURIDAD SEXUAL",{"$f":"'FICHA OCULTA'!G144","v":"El protocolo de recepción de un paciente establece la prohibición expresa de mantener relaciones sexuales durante la hospitalización."},"CR",{"$f":"'FICHA OCULTA'!$I$150","v":0.333333333333333}]
[{"$f":"IF($A$7=\"CE\",COUNTIF(B$7:B104,\"x\"),IF($A$7=\"HOS\",COUNTIF(C$7:C104,\"x\"),IF($A$7=\"E\",COUNTIF(D$7:D104,\"x\"),IF($A$7=\"CEO\",COUNTIF(E$7:E104,\"x\"),IF($A$7=\"CEQ\",COUNTIF(F$7:F104,\"x\"),IF($A$7=\"CI\",COUNTIF(G$7:G104,\"x\"),IF($A$7=\"PC\",COUNTIF(H$7:H104,\"x\"),IF($A$7=\"DPI\",COUNTIF(I$7:I104,\"x\"),IF($A$7=\"AP\",COUNTIF(J$7:J104,\"x\"),IF($A$7=\"F\",COUNTIF(K$7:K104,\"x\"),IF($A$7=\"CDE\",COUNTIF(L$7:L104,\"x\"),IF($A$7=\"MR\",COUNTIF(M$7:M104,\"x\"),IF($A$7=\"H\",COUNTIF(N$7:N104,\"x\"),IF($A$7=\"NYD\",COUNTIF(O$7:O104,\"x\"),IF($A$7=\"R\",COUNTIF(P$7:P104,\"x\"),IF($A$7=\"MN\",COUNTIF(Q$7:Q104,\"x\"),IF($A$7=\"CDH\",COUNTIF(R$7:R104,\"x\"),IF($A$7=\"PNA\",COUNTIF(S$7:S104,\"x\"),\" \"))))))))))))))))))","v":76},null,"x","x","x",null,"x",null,null,null,null,null,null,null,null,null,null,null,null,"SEGURIDAD SEXUAL",{"$f":"'FICHA OCULTA'!G145","v":"Control de la entrada de pacientes a cualquier habitación que no sea la propia."},"CS",{"$f":"'FICHA OCULTA'!$I$150","v":0.333333333333333}]
[{"$f":"IF($A$7=\"CE\",COUNTIF(B$7:B105,\"x\"),IF($A$7=\"HOS\",COUNTIF(C$7:C105,\"x\"),IF($A$7=\"E\",COUNTIF(D$7:D105,\"x\"),IF($A$7=\"CEO\",COUNTIF(E$7:E105,\"x\"),IF($A$7=\"CEQ\",COUNTIF(F$7:F105,\"x\"),IF($A$7=\"CI\",COUNTIF(G$7:G105,\"x\"),IF($A$7=\"PC\",COUNTIF(H$7:H105,\"x\"),IF($A$7=\"DPI\",COUNTIF(I$7:I105,\"x\"),IF($A$7=\"AP\",COUNTIF(J$7:J105,\"x\"),IF($A$7=\"F\",COUNTIF(K$7:K105,\"x\"),IF($A$7=\"CDE\",COUNTIF(L$7:L105,\"x\"),IF($A$7=\"MR\",COUNTIF(M$7:M105,\"x\"),IF($A$7=\"H\",COUNTIF(N$7:N105,\"x\"),IF($A$7=\"NYD\",COUNTIF(O$7:O105,\"x\"),IF($A$7=\"R\",COUNTIF(P$7:P105,\"x\"),IF($A$7=\"MN\",COUNTIF(Q$7:Q105,\"x\"),IF($A$7=\"CDH\",COUNTIF(R$7:R105,\"x\"),IF($A$7=\"PNA\",COUNTIF(S$7:S105,\"x\"),\" \"))))))))))))))))))","v":77},null,"x","x","x",null,"x",null,null,null,null,null,null,null,null,null,null,null,null,"SEGURIDAD SEXUAL",{"$f":"'FICHA OCULTA'!G146","v":"Al detectar conductas desinhibidas se comunicará al resto del equipo y se discutirán las medidas a tomar, que quedarán registradas en la hoja de recomendaciones terapéuticas."},"CT",{"$f":"'FICHA OCULTA'!$I$150","v":0.333333333333333}]
[{"$f":"IF($A$7=\"CE\",COUNTIF(B$7:B106,\"x\"),IF($A$7=\"HOS\",COUNTIF(C$7:C106,\"x\"),IF($A$7=\"E\",COUNTIF(D$7:D106,\"x\"),IF($A$7=\"CEO\",COUNTIF(E$7:E106,\"x\"),IF($A$7=\"CEQ\",COUNTIF(F$7:F106,\"x\"),IF($A$7=\"CI\",COUNTIF(G$7:G106,\"x\"),IF($A$7=\"PC\",COUNTIF(H$7:H106,\"x\"),IF($A$7=\"DPI\",COUNTIF(I$7:I106,\"x\"),IF($A$7=\"AP\",COUNTIF(J$7:J106,\"x\"),IF($A$7=\"F\",COUNTIF(K$7:K106,\"x\"),IF($A$7=\"CDE\",COUNTIF(L$7:L106,\"x\"),IF($A$7=\"MR\",COUNTIF(M$7:M106,\"x\"),IF($A$7=\"H\",COUNTIF(N$7:N106,\"x\"),IF($A$7=\"NYD\",COUNTIF(O$7:O106,\"x\"),IF($A$7=\"R\",COUNTIF(P$7:P106,\"x\"),IF($A$7=\"MN\",COUNTIF(Q$7:Q106,\"x\"),IF($A$7=\"CDH\",COUNTIF(R$7:R106,\"x\"),IF($A$7=\"PNA\",COUNTIF(S$7:S106,\"x\"),\" \"))))))))))))))))))","v":78},null,"x","x","x",null,"x",null,null,null,null,null,null,null,null,null,null,null,null,"SEGURIDAD SEXUAL",{"$f":"'FICHA OCULTA'!G147","v":"Ante la sospecha de relaciones sexuales consumadas se aplicarán las medidas médicas y legales que resulten oportunas"},"CU",{"$f":"'FICHA OCULTA'!$I$150","v":0.333333333333333}]
[{"$f":"IF($A$7=\"CE\",COUNTIF(B$7:B107,\"x\"),IF($A$7=\"HOS\",COUNTIF(C$7:C107,\"x\"),IF($A$7=\"E\",COUNTIF(D$7:D107,\"x\"),IF($A$7=\"CEO\",COUNTIF(E$7:E107,\"x\"),IF($A$7=\"CEQ\",COUNTIF(F$7:F107,\"x\"),IF($A$7=\"CI\",COUNTIF(G$7:G107,\"x\"),IF($A$7=\"PC\",COUNTIF(H$7:H107,\"x\"),IF($A$7=\"DPI\",COUNTIF(I$7:I107,\"x\"),IF($A$7=\"AP\",COUNTIF(J$7:J107,\"x\"),IF($A$7=\"F\",COUNTIF(K$7:K107,\"x\"),IF($A$7=\"CDE\",COUNTIF(L$7:L107,\"x\"),IF($A$7=\"MR\",COUNTIF(M$7:M107,\"x\"),IF($A$7=\"H\",COUNTIF(N$7:N107,\"x\"),IF($A$7=\"NYD\",COUNTIF(O$7:O107,\"x\"),IF($A$7=\"R\",COUNTIF(P$7:P107,\"x\"),IF($A$7=\"MN\",COUNTIF(Q$7:Q107,\"x\"),IF($A$7=\"CDH\",COUNTIF(R$7:R107,\"x\"),IF($A$7=\"PNA\",COUNTIF(S$7:S107,\"x\"),\" \"))))))))))))))))))","v":79},null,"x","x",null,null,"x",null,null,null,null,null,null,null,null,null,null,null,null,"PREVENCIÓN Y REDUCCIÓN DEL RIESGO DE LAS ÚLCERAS POR PRESIÓN",{"$f":"'FICHA OCULTA'!G152","v":"Evaluación inicial del riesgo de úlceras por presión en todos los pacientes al ingreso a servicios de hospitalización"},"CV",{"$f":"'FICHA OCULTA'!$I$163","v":0.285714285714286}]
[{"$f":"IF($A$7=\"CE\",COUNTIF(B$7:B108,\"x\"),IF($A$7=\"HOS\",COUNTIF(C$7:C108,\"x\"),IF($A$7=\"E\",COUNTIF(D$7:D108,\"x\"),IF($A$7=\"CEO\",COUNTIF(E$7:E108,\"x\"),IF($A$7=\"CEQ\",COUNTIF(F$7:F108,\"x\"),IF($A$7=\"CI\",COUNTIF(G$7:G108,\"x\"),IF($A$7=\"PC\",COUNTIF(H$7:H108,\"x\"),IF($A$7=\"DPI\",COUNTIF(I$7:I108,\"x\"),IF($A$7=\"AP\",COUNTIF(J$7:J108,\"x\"),IF($A$7=\"F\",COUNTIF(K$7:K108,\"x\"),IF($A$7=\"CDE\",COUNTIF(L$7:L108,\"x\"),IF($A$7=\"MR\",COUNTIF(M$7:M108,\"x\"),IF($A$7=\"H\",COUNTIF(N$7:N108,\"x\"),IF($A$7=\"NYD\",COUNTIF(O$7:O108,\"x\"),IF($A$7=\"R\",COUNTIF(P$7:P108,\"x\"),IF($A$7=\"MN\",COUNTIF(Q$7:Q108,\"x\"),IF($A$7=\"CDH\",COUNTIF(R$7:R108,\"x\"),IF($A$7=\"PNA\",COUNTIF(S$7:S108,\"x\"),\" \"))))))))))))))))))","v":80},null,"x","x",null,null,"x",null,null,null,null,null,null,null,null,null,null,null,null,"PREVENCIÓN Y REDUCCIÓN DEL RIESGO DE LAS ÚLCERAS POR PRESIÓN",{"$f":"'FICHA OCULTA'!G153","v":"Valoración del estado de la piel para detectar la presencia de úlceras por presión previas."},"CW",{"$f":"'FICHA OCULTA'!$I$163","v":0.285714285714286}]
[{"$f":"IF($A$7=\"CE\",COUNTIF(B$7:B109,\"x\"),IF($A$7=\"HOS\",COUNTIF(C$7:C109,\"x\"),IF($A$7=\"E\",COUNTIF(D$7:D109,\"x\"),IF($A$7=\"CEO\",COUNTIF(E$7:E109,\"x\"),IF($A$7=\"CEQ\",COUNTIF(F$7:F109,\"x\"),IF($A$7=\"CI\",COUNTIF(G$7:G109,\"x\"),IF($A$7=\"PC\",COUNTIF(H$7:H109,\"x\"),IF($A$7=\"DPI\",COUNTIF(I$7:I109,\"x\"),IF($A$7=\"AP\",COUNTIF(J$7:J109,\"x\"),IF($A$7=\"F\",COUNTIF(K$7:K109,\"x\"),IF($A$7=\"CDE\",COUNTIF(L$7:L109,\"x\"),IF($A$7=\"MR\",COUNTIF(M$7:M109,\"x\"),IF($A$7=\"H\",COUNTIF(N$7:N109,\"x\"),IF($A$7=\"NYD\",COUNTIF(O$7:O109,\"x\"),IF($A$7=\"R\",COUNTIF(P$7:P109,\"x\"),IF($A$7=\"MN\",COUNTIF(Q$7:Q109,\"x\"),IF($A$7=\"CDH\",COUNTIF(R$7:R109,\"x\"),IF($A$7=\"PNA\",COUNTIF(S$7:S109,\"x\"),\" \"))))))))))))))))))","v":81},null,"x","x",null,null,"x",null,null,null,null,null,null,null,null,null,null,null,null,"PREVENCIÓN Y REDUCCIÓN DEL RIESGO DE LAS ÚLCERAS POR PRESIÓN",{"$f":"'FICHA OCULTA'!G154","v":"Reevaluación periódica del riesgo, siempre que cambie la situación clínica basal del paciente."},"CX",{"$f":"'FICHA OCULTA'!$I$163","v":0.285714285714286}]
[{"$f":"IF($A$7=\"CE\",COUNTIF(B$7:B110,\"x\"),IF($A$7=\"HOS\",COUNTIF(C$7:C110,\"x\"),IF($A$7=\"E\",COUNTIF(D$7:D110,\"x\"),IF($A$7=\"CEO\",COUNTIF(E$7:E110,\"x\"),IF($A$7=\"CEQ\",COUNTIF(F$7:F110,\"x\"),IF($A$7=\"CI\",COUNTIF(G$7:G110,\"x\"),IF($A$7=\"PC\",COUNTIF(H$7:H110,\"x\"),IF($A$7=\"DPI\",COUNTIF(I$7:I110,\"x\"),IF($A$7=\"AP\",COUNTIF(J$7:J110,\"x\"),IF($A$7=\"F\",COUNTIF(K$7:K110,\"x\"),IF($A$7=\"CDE\",COUNTIF(L$7:L110,\"x\"),IF($A$7=\"MR\",COUNTIF(M$7:M110,\"x\"),IF($A$7=\"H\",COUNTIF(N$7:N110,\"x\"),IF($A$7=\"NYD\",COUNTIF(O$7:O110,\"x\"),IF($A$7=\"R\",COUNTIF(P$7:P110,\"x\"),IF($A$7=\"MN\",COUNTIF(Q$7:Q110,\"x\"),IF($A$7=\"CDH\",COUNTIF(R$7:R110,\"x\"),IF($A$7=\"PNA\",COUNTIF(S$7:S110,\"x\"),\" \"))))))))))))))))))","v":82},"x","x","x",null,null,"x",null,null,null,null,null,"x",null,"x",null,null,null,null,"PREVENCIÓN Y REDUCCIÓN DEL RIESGO DE LAS ÚLCERAS POR PRESIÓN",{"$f":"'FICHA OCULTA'!G155","v":"Protocolización de la guía de atención para la prevención y control de úlceras por presión."},"CY",{"$f":"'FICHA OCULTA'!$I$163","v":0.285714285714286}]
[{"$f":"IF($A$7=\"CE\",COUNTIF(B$7:B111,\"x\"),IF($A$7=\"HOS\",COUNTIF(C$7:C111,\"x\"),IF($A$7=\"E\",COUNTIF(D$7:D111,\"x\"),IF($A$7=\"CEO\",COUNTIF(E$7:E111,\"x\"),IF($A$7=\"CEQ\",COUNTIF(F$7:F111,\"x\"),IF($A$7=\"CI\",COUNTIF(G$7:G111,\"x\"),IF($A$7=\"PC\",COUNTIF(H$7:H111,\"x\"),IF($A$7=\"DPI\",COUNTIF(I$7:I111,\"x\"),IF($A$7=\"AP\",COUNTIF(J$7:J111,\"x\"),IF($A$7=\"F\",COUNTIF(K$7:K111,\"x\"),IF($A$7=\"CDE\",COUNTIF(L$7:L111,\"x\"),IF($A$7=\"MR\",COUNTIF(M$7:M111,\"x\"),IF($A$7=\"H\",COUNTIF(N$7:N111,\"x\"),IF($A$7=\"NYD\",COUNTIF(O$7:O111,\"x\"),IF($A$7=\"R\",COUNTIF(P$7:P111,\"x\"),IF($A$7=\"MN\",COUNTIF(Q$7:Q111,\"x\"),IF($A$7=\"CDH\",COUNTIF(R$7:R111,\"x\"),IF($A$7=\"PNA\",COUNTIF(S$7:S111,\"x\"),\" \"))))))))))))))))))","v":83},"x","x","x",null,null,"x",null,null,null,null,null,"x",null,"x",null,null,null,null,"PREVENCIÓN Y REDUCCIÓN DEL RIESGO DE LAS ÚLCERAS POR PRESIÓN",{"$f":"'FICHA OCULTA'!G156","v":"Educación al paciente y su familia para la prevención y cuidado de las úlceras por presión."},"CZ",{"$f":"'FICHA OCULTA'!$I$163","v":0.285714285714286}]
[{"$f":"IF($A$7=\"CE\",COUNTIF(B$7:B112,\"x\"),IF($A$7=\"HOS\",COUNTIF(C$7:C112,\"x\"),IF($A$7=\"E\",COUNTIF(D$7:D112,\"x\"),IF($A$7=\"CEO\",COUNTIF(E$7:E112,\"x\"),IF($A$7=\"CEQ\",COUNTIF(F$7:F112,\"x\"),IF($A$7=\"CI\",COUNTIF(G$7:G112,\"x\"),IF($A$7=\"PC\",COUNTIF(H$7:H112,\"x\"),IF($A$7=\"DPI\",COUNTIF(I$7:I112,\"x\"),IF($A$7=\"AP\",COUNTIF(J$7:J112,\"x\"),IF($A$7=\"F\",COUNTIF(K$7:K112,\"x\"),IF($A$7=\"CDE\",COUNTIF(L$7:L112,\"x\"),IF($A$7=\"MR\",COUNTIF(M$7:M112,\"x\"),IF($A$7=\"H\",COUNTIF(N$7:N112,\"x\"),IF($A$7=\"NYD\",COUNTIF(O$7:O112,\"x\"),IF($A$7=\"R\",COUNTIF(P$7:P112,\"x\"),IF($A$7=\"MN\",COUNTIF(Q$7:Q112,\"x\"),IF($A$7=\"CDH\",COUNTIF(R$7:R112,\"x\"),IF($A$7=\"PNA\",COUNTIF(S$7:S112,\"x\"),\" \"))))))))))))))))))","v":84},"x","x","x",null,null,"x",null,null,null,null,null,"x",null,"x",null,null,null,null,"PREVENCIÓN Y REDUCCIÓN DEL RIESGO DE LAS ÚLCERAS POR PRESIÓN",{"$f":"'FICHA OCULTA'!G157","v":"Planificación, ejecución y evaluación del programa educativo dirigido a paciente, su cuidador y la familia. "},"DA",{"$f":"'FICHA OCULTA'!$I$163","v":0.285714285714286}]
[{"$f":"IF($A$7=\"CE\",COUNTIF(B$7:B113,\"x\"),IF($A$7=\"HOS\",COUNTIF(C$7:C113,\"x\"),IF($A$7=\"E\",COUNTIF(D$7:D113,\"x\"),IF($A$7=\"CEO\",COUNTIF(E$7:E113,\"x\"),IF($A$7=\"CEQ\",COUNTIF(F$7:F113,\"x\"),IF($A$7=\"CI\",COUNTIF(G$7:G113,\"x\"),IF($A$7=\"PC\",COUNTIF(H$7:H113,\"x\"),IF($A$7=\"DPI\",COUNTIF(I$7:I113,\"x\"),IF($A$7=\"AP\",COUNTIF(J$7:J113,\"x\"),IF($A$7=\"F\",COUNTIF(K$7:K113,\"x\"),IF($A$7=\"CDE\",COUNTIF(L$7:L113,\"x\"),IF($A$7=\"MR\",COUNTIF(M$7:M113,\"x\"),IF($A$7=\"H\",COUNTIF(N$7:N113,\"x\"),IF($A$7=\"NYD\",COUNTIF(O$7:O113,\"x\"),IF($A$7=\"R\",COUNTIF(P$7:P113,\"x\"),IF($A$7=\"MN\",COUNTIF(Q$7:Q113,\"x\"),IF($A$7=\"CDH\",COUNTIF(R$7:R113,\"x\"),IF($A$7=\"PNA\",COUNTIF(S$7:S113,\"x\"),\" \"))))))))))))))))))","v":85},"x","x","x",null,null,"x",null,null,null,null,null,null,null,null,null,null,null,null,"PREVENCIÓN Y REDUCCIÓN DEL RIESGO DE LAS ÚLCERAS POR PRESIÓN",{"$f":"'FICHA OCULTA'!G158","v":"Notificación de úlceras por presión (incidencia y prevalencia) en un registro diario instaurado en los servicios de hospitalización."},"DB",{"$f":"'FICHA OCULTA'!$I$163","v":0.285714285714286}]
[{"$f":"IF($A$7=\"CE\",COUNTIF(B$7:B114,\"x\"),IF($A$7=\"HOS\",COUNTIF(C$7:C114,\"x\"),IF($A$7=\"E\",COUNTIF(D$7:D114,\"x\"),IF($A$7=\"CEO\",COUNTIF(E$7:E114,\"x\"),IF($A$7=\"CEQ\",COUNTIF(F$7:F114,\"x\"),IF($A$7=\"CI\",COUNTIF(G$7:G114,\"x\"),IF($A$7=\"PC\",COUNTIF(H$7:H114,\"x\"),IF($A$7=\"DPI\",COUNTIF(I$7:I114,\"x\"),IF($A$7=\"AP\",COUNTIF(J$7:J114,\"x\"),IF($A$7=\"F\",COUNTIF(K$7:K114,\"x\"),IF($A$7=\"CDE\",COUNTIF(L$7:L114,\"x\"),IF($A$7=\"MR\",COUNTIF(M$7:M114,\"x\"),IF($A$7=\"H\",COUNTIF(N$7:N114,\"x\"),IF($A$7=\"NYD\",COUNTIF(O$7:O114,\"x\"),IF($A$7=\"R\",COUNTIF(P$7:P114,\"x\"),IF($A$7=\"MN\",COUNTIF(Q$7:Q114,\"x\"),IF($A$7=\"CDH\",COUNTIF(R$7:R114,\"x\"),IF($A$7=\"PNA\",COUNTIF(S$7:S114,\"x\"),\" \"))))))))))))))))))","v":86},"x","x","x",null,null,"x",null,null,null,null,null,null,null,null,null,null,null,null,"PREVENCIÓN Y REDUCCIÓN DEL RIESGO DE LAS ÚLCERAS POR PRESIÓN",{"$f":"'FICHA OCULTA'!G159","v":"Aplicación de guía de curación de úlceras por presión según estadíos."},"DC",{"$f":"'FICHA OCULTA'!$I$163","v":0.285714285714286}]
[{"$f":"IF($A$7=\"CE\",COUNTIF(B$7:B115,\"x\"),IF($A$7=\"HOS\",COUNTIF(C$7:C115,\"x\"),IF($A$7=\"E\",COUNTIF(D$7:D115,\"x\"),IF($A$7=\"CEO\",COUNTIF(E$7:E115,\"x\"),IF($A$7=\"CEQ\",COUNTIF(F$7:F115,\"x\"),IF($A$7=\"CI\",COUNTIF(G$7:G115,\"x\"),IF($A$7=\"PC\",COUNTIF(H$7:H115,\"x\"),IF($A$7=\"DPI\",COUNTIF(I$7:I115,\"x\"),IF($A$7=\"AP\",COUNTIF(J$7:J115,\"x\"),IF($A$7=\"F\",COUNTIF(K$7:K115,\"x\"),IF($A$7=\"CDE\",COUNTIF(L$7:L115,\"x\"),IF($A$7=\"MR\",COUNTIF(M$7:M115,\"x\"),IF($A$7=\"H\",COUNTIF(N$7:N115,\"x\"),IF($A$7=\"NYD\",COUNTIF(O$7:O115,\"x\"),IF($A$7=\"R\",COUNTIF(P$7:P115,\"x\"),IF($A$7=\"MN\",COUNTIF(Q$7:Q115,\"x\"),IF($A$7=\"CDH\",COUNTIF(R$7:R115,\"x\"),IF($A$7=\"PNA\",COUNTIF(S$7:S115,\"x\"),\" \"))))))))))))))))))","v":87},"x","x","x",null,null,"x",null,null,null,null,null,null,null,null,null,null,null,null,"PREVENCIÓN Y REDUCCIÓN DEL RIESGO DE LAS ÚLCERAS POR PRESIÓN",{"$f":"'FICHA OCULTA'!G160","v":"Protocolizar el seguimiento de la evolución de los pacientes con úlceras por presión, tanto en pacientes hospitalizados como en aquellos atendidos en domicilio"},"DD",{"$f":"'FICHA OCULTA'!$I$163","v":0.285714285714286}]
[{"$f":"IF($A$7=\"CE\",COUNTIF(B$7:B116,\"x\"),IF($A$7=\"HOS\",COUNTIF(C$7:C116,\"x\"),IF($A$7=\"E\",COUNTIF(D$7:D116,\"x\"),IF($A$7=\"CEO\",COUNTIF(E$7:E116,\"x\"),IF($A$7=\"CEQ\",COUNTIF(F$7:F116,\"x\"),IF($A$7=\"CI\",COUNTIF(G$7:G116,\"x\"),IF($A$7=\"PC\",COUNTIF(H$7:H116,\"x\"),IF($A$7=\"DPI\",COUNTIF(I$7:I116,\"x\"),IF($A$7=\"AP\",COUNTIF(J$7:J116,\"x\"),IF($A$7=\"F\",COUNTIF(K$7:K116,\"x\"),IF($A$7=\"CDE\",COUNTIF(L$7:L116,\"x\"),IF($A$7=\"MR\",COUNTIF(M$7:M116,\"x\"),IF($A$7=\"H\",COUNTIF(N$7:N116,\"x\"),IF($A$7=\"NYD\",COUNTIF(O$7:O116,\"x\"),IF($A$7=\"R\",COUNTIF(P$7:P116,\"x\"),IF($A$7=\"MN\",COUNTIF(Q$7:Q116,\"x\"),IF($A$7=\"CDH\",COUNTIF(R$7:R116,\"x\"),IF($A$7=\"PNA\",COUNTIF(S$7:S116,\"x\"),\" \"))))))))))))))))))","v":88},"x","x","x",null,null,"x",null,null,null,null,null,null,null,null,null,null,null,null,"PREVENCIÓN DEL SUICIDO Y LESIONES",{"$f":"'FICHA OCULTA'!G165","v":"Identificación del Riesgo de Suicidio: antecedentes de enfermedad mental y/o abuso de sustancias, enfermedad somática grave crónica, antecedentes de conducta violenta o autolesiva, intentos suicidas previos, conductas suicidas en el entorno cercano."},"DE",{"$f":"'FICHA OCULTA'!$I$175","v":0.714285714285714}]
[{"$f":"IF($A$7=\"CE\",COUNTIF(B$7:B117,\"x\"),IF($A$7=\"HOS\",COUNTIF(C$7:C117,\"x\"),IF($A$7=\"E\",COUNTIF(D$7:D117,\"x\"),IF($A$7=\"CEO\",COUNTIF(E$7:E117,\"x\"),IF($A$7=\"CEQ\",COUNTIF(F$7:F117,\"x\"),IF($A$7=\"CI\",COUNTIF(G$7:G117,\"x\"),IF($A$7=\"PC\",COUNTIF(H$7:H117,\"x\"),IF($A$7=\"DPI\",COUNTIF(I$7:I117,\"x\"),IF($A$7=\"AP\",COUNTIF(J$7:J117,\"x\"),IF($A$7=\"F\",COUNTIF(K$7:K117,\"x\"),IF($A$7=\"CDE\",COUNTIF(L$7:L117,\"x\"),IF($A$7=\"MR\",COUNTIF(M$7:M117,\"x\"),IF($A$7=\"H\",COUNTIF(N$7:N117,\"x\"),IF($A$7=\"NYD\",COUNTIF(O$7:O117,\"x\"),IF($A$7=\"R\",COUNTIF(P$7:P117,\"x\"),IF($A$7=\"MN\",COUNTIF(Q$7:Q117,\"x\"),IF($A$7=\"CDH\",COUNTIF(R$7:R117,\"x\"),IF($A$7=\"PNA\",COUNTIF(S$7:S117,\"x\"),\" \"))))))))))))))))))","v":89},"x","x","x",null,null,"x",null,null,null,null,null,null,null,null,null,null,null,null,"PREVENCIÓN DEL SUICIDO Y LESIONES",{"$f":"'FICHA OCULTA'!G166","v":"Identificación de un paciente en riesgo de suicidio debe poner en marcha estrategias específicas de abordaje (evaluación, monitorización y tratamiento específicos)"},"DF",{"$f":"'FICHA OCULTA'!$I$175","v":0.714285714285714}]
[{"$f":"IF($A$7=\"CE\",COUNTIF(B$7:B118,\"x\"),IF($A$7=\"HOS\",COUNTIF(C$7:C118,\"x\"),IF($A$7=\"E\",COUNTIF(D$7:D118,\"x\"),IF($A$7=\"CEO\",COUNTIF(E$7:E118,\"x\"),IF($A$7=\"CEQ\",COUNTIF(F$7:F118,\"x\"),IF($A$7=\"CI\",COUNTIF(G$7:G118,\"x\"),IF($A$7=\"PC\",COUNTIF(H$7:H118,\"x\"),IF($A$7=\"DPI\",COUNTIF(I$7:I118,\"x\"),IF($A$7=\"AP\",COUNTIF(J$7:J118,\"x\"),IF($A$7=\"F\",COUNTIF(K$7:K118,\"x\"),IF($A$7=\"CDE\",COUNTIF(L$7:L118,\"x\"),IF($A$7=\"MR\",COUNTIF(M$7:M118,\"x\"),IF($A$7=\"H\",COUNTIF(N$7:N118,\"x\"),IF($A$7=\"NYD\",COUNTIF(O$7:O118,\"x\"),IF($A$7=\"R\",COUNTIF(P$7:P118,\"x\"),IF($A$7=\"MN\",COUNTIF(Q$7:Q118,\"x\"),IF($A$7=\"CDH\",COUNTIF(R$7:R118,\"x\"),IF($A$7=\"PNA\",COUNTIF(S$7:S118,\"x\"),\" \"))))))))))))))))))","v":90},"x","x","x",null,null,"x",null,null,null,null,null,null,null,null,null,null,null,null,"PREVENCIÓN DEL SUICIDO Y LESIONES",{"$f":"'FICHA OCULTA'!G167","v":"Ubicar al paciente en el Servicio / Unidad más adecuada a sus necesidades y en función del riesgo detectado."},"DG",{"$f":"'FICHA OCULTA'!$I$175","v":0.714285714285714}]
[{"$f":"IF($A$7=\"CE\",COUNTIF(B$7:B119,\"x\"),IF($A$7=\"HOS\",COUNTIF(C$7:C119,\"x\"),IF($A$7=\"E\",COUNTIF(D$7:D119,\"x\"),IF($A$7=\"CEO\",COUNTIF(E$7:E119,\"x\"),IF($A$7=\"CEQ\",COUNTIF(F$7:F119,\"x\"),IF($A$7=\"CI\",COUNTIF(G$7:G119,\"x\"),IF($A$7=\"PC\",COUNTIF(H$7:H119,\"x\"),IF($A$7=\"DPI\",COUNTIF(I$7:I119,\"x\"),IF($A$7=\"AP\",COUNTIF(J$7:J119,\"x\"),IF($A$7=\"F\",COUNTIF(K$7:K119,\"x\"),IF($A$7=\"CDE\",COUNTIF(L$7:L119,\"x\"),IF($A$7=\"MR\",COUNTIF(M$7:M119,\"x\"),IF($A$7=\"H\",COUNTIF(N$7:N119,\"x\"),IF($A$7=\"NYD\",COUNTIF(O$7:O119,\"x\"),IF($A$7=\"R\",COUNTIF(P$7:P119,\"x\"),IF($A$7=\"MN\",COUNTIF(Q$7:Q119,\"x\"),IF($A$7=\"CDH\",COUNTIF(R$7:R119,\"x\"),IF($A$7=\"PNA\",COUNTIF(S$7:S119,\"x\"),\" \"))))))))))))))))))","v":91},"x","x","x",null,null,"x",null,null,null,null,null,null,null,null,null,null,null,null,"PREVENCIÓN DEL SUICIDO Y LESIONES",{"$f":"'FICHA OCULTA'!G168","v":"Los pacientes y los familiares deben ser informados de la prohibición de introducir en el servicio elementos que puedan suponer un riesgo de auto o heteroagresividad."},"DH",{"$f":"'FICHA OCULTA'!$I$175","v":0.714285714285714}]
[{"$f":"IF($A$7=\"CE\",COUNTIF(B$7:B120,\"x\"),IF($A$7=\"HOS\",COUNTIF(C$7:C120,\"x\"),IF($A$7=\"E\",COUNTIF(D$7:D120,\"x\"),IF($A$7=\"CEO\",COUNTIF(E$7:E120,\"x\"),IF($A$7=\"CEQ\",COUNTIF(F$7:F120,\"x\"),IF($A$7=\"CI\",COUNTIF(G$7:G120,\"x\"),IF($A$7=\"PC\",COUNTIF(H$7:H120,\"x\"),IF($A$7=\"DPI\",COUNTIF(I$7:I120,\"x\"),IF($A$7=\"AP\",COUNTIF(J$7:J120,\"x\"),IF($A$7=\"F\",COUNTIF(K$7:K120,\"x\"),IF($A$7=\"CDE\",COUNTIF(L$7:L120,\"x\"),IF($A$7=\"MR\",COUNTIF(M$7:M120,\"x\"),IF($A$7=\"H\",COUNTIF(N$7:N120,\"x\"),IF($A$7=\"NYD\",COUNTIF(O$7:O120,\"x\"),IF($A$7=\"R\",COUNTIF(P$7:P120,\"x\"),IF($A$7=\"MN\",COUNTIF(Q$7:Q120,\"x\"),IF($A$7=\"CDH\",COUNTIF(R$7:R120,\"x\"),IF($A$7=\"PNA\",COUNTIF(S$7:S120,\"x\"),\" \"))))))))))))))))))","v":92},"x","x","x",null,null,"x",null,null,null,null,null,null,null,null,null,null,null,null,"PREVENCIÓN DEL SUICIDO Y LESIONES",{"$f":"'FICHA OCULTA'!G169","v":"El botiquín / almacén de medicamentos del servicio permanece en todo momento cerrado bajo llave. La llave la custodiará el personal de enfermería."},"DI",{"$f":"'FICHA OCULTA'!$I$175","v":0.714285714285714}]
[{"$f":"IF($A$7=\"CE\",COUNTIF(B$7:B121,\"x\"),IF($A$7=\"HOS\",COUNTIF(C$7:C121,\"x\"),IF($A$7=\"E\",COUNTIF(D$7:D121,\"x\"),IF($A$7=\"CEO\",COUNTIF(E$7:E121,\"x\"),IF($A$7=\"CEQ\",COUNTIF(F$7:F121,\"x\"),IF($A$7=\"CI\",COUNTIF(G$7:G121,\"x\"),IF($A$7=\"PC\",COUNTIF(H$7:H121,\"x\"),IF($A$7=\"DPI\",COUNTIF(I$7:I121,\"x\"),IF($A$7=\"AP\",COUNTIF(J$7:J121,\"x\"),IF($A$7=\"F\",COUNTIF(K$7:K121,\"x\"),IF($A$7=\"CDE\",COUNTIF(L$7:L121,\"x\"),IF($A$7=\"MR\",COUNTIF(M$7:M121,\"x\"),IF($A$7=\"H\",COUNTIF(N$7:N121,\"x\"),IF($A$7=\"NYD\",COUNTIF(O$7:O121,\"x\"),IF($A$7=\"R\",COUNTIF(P$7:P121,\"x\"),IF($A$7=\"MN\",COUNTIF(Q$7:Q121,\"x\"),IF($A$7=\"CDH\",COUNTIF(R$7:R121,\"x\"),IF($A$7=\"PNA\",COUNTIF(S$7:S121,\"x\"),\" \"))))))))))))))))))","v":93},"x","x","x",null,null,"x",null,null,null,null,null,null,null,null,null,null,null,null,"PREVENCIÓN DEL SUICIDO Y LESIONES",{"$f":"'FICHA OCULTA'!G170","v":"El coche de limpieza transportará los productos peligrosos de la forma más inaccesible posible, sin dejarlo nunca sin supervisión o al alcance de los pacientes"},"DJ",{"$f":"'FICHA OCULTA'!$I$175","v":0.714285714285714}]
[{"$f":"IF($A$7=\"CE\",COUNTIF(B$7:B122,\"x\"),IF($A$7=\"HOS\",COUNTIF(C$7:C122,\"x\"),IF($A$7=\"E\",COUNTIF(D$7:D122,\"x\"),IF($A$7=\"CEO\",COUNTIF(E$7:E122,\"x\"),IF($A$7=\"CEQ\",COUNTIF(F$7:F122,\"x\"),IF($A$7=\"CI\",COUNTIF(G$7:G122,\"x\"),IF($A$7=\"PC\",COUNTIF(H$7:H122,\"x\"),IF($A$7=\"DPI\",COUNTIF(I$7:I122,\"x\"),IF($A$7=\"AP\",COUNTIF(J$7:J122,\"x\"),IF($A$7=\"F\",COUNTIF(K$7:K122,\"x\"),IF($A$7=\"CDE\",COUNTIF(L$7:L122,\"x\"),IF($A$7=\"MR\",COUNTIF(M$7:M122,\"x\"),IF($A$7=\"H\",COUNTIF(N$7:N122,\"x\"),IF($A$7=\"NYD\",COUNTIF(O$7:O122,\"x\"),IF($A$7=\"R\",COUNTIF(P$7:P122,\"x\"),IF($A$7=\"MN\",COUNTIF(Q$7:Q122,\"x\"),IF($A$7=\"CDH\",COUNTIF(R$7:R122,\"x\"),IF($A$7=\"PNA\",COUNTIF(S$7:S122,\"x\"),\" \"))))))))))))))))))","v":94},null,"x","x",null,null,"x",null,null,null,null,null,null,null,"x",null,null,null,null,"PREVENCIÓN DEL SUICIDO Y LESIONES",{"$f":"'FICHA OCULTA'!G171","v":"La entrega como  la retirada de las comidas, el personal responsable procederán al recuento de las piezas de vajilla y cubiertos. Si se detecta la desaparición de alguna de ellas, se procederá al registro."},"DK",{"$f":"'FICHA OCULTA'!$I$175","v":0.714285714285714}]
[{"$f":"IF($A$7=\"CE\",COUNTIF(B$7:B123,\"x\"),IF($A$7=\"HOS\",COUNTIF(C$7:C123,\"x\"),IF($A$7=\"E\",COUNTIF(D$7:D123,\"x\"),IF($A$7=\"CEO\",COUNTIF(E$7:E123,\"x\"),IF($A$7=\"CEQ\",COUNTIF(F$7:F123,\"x\"),IF($A$7=\"CI\",COUNTIF(G$7:G123,\"x\"),IF($A$7=\"PC\",COUNTIF(H$7:H123,\"x\"),IF($A$7=\"DPI\",COUNTIF(I$7:I123,\"x\"),IF($A$7=\"AP\",COUNTIF(J$7:J123,\"x\"),IF($A$7=\"F\",COUNTIF(K$7:K123,\"x\"),IF($A$7=\"CDE\",COUNTIF(L$7:L123,\"x\"),IF($A$7=\"MR\",COUNTIF(M$7:M123,\"x\"),IF($A$7=\"H\",COUNTIF(N$7:N123,\"x\"),IF($A$7=\"NYD\",COUNTIF(O$7:O123,\"x\"),IF($A$7=\"R\",COUNTIF(P$7:P123,\"x\"),IF($A$7=\"MN\",COUNTIF(Q$7:Q123,\"x\"),IF($A$7=\"CDH\",COUNTIF(R$7:R123,\"x\"),IF($A$7=\"PNA\",COUNTIF(S$7:S123,\"x\"),\" \"))))))))))))))))))","v":95},null,"x","x",null,null,"x",null,null,null,null,null,null,null,null,null,null,null,null,"PREVENCIÓN DEL SUICIDO Y LESIONES",{"$f":"'FICHA OCULTA'!G172","v":"El protocolo de prevención de conductas suicidas debe incluir correcta ubicación del paciente, la necesidad o no de sujeción mecánica, la supervisión así como la constancia en el registro de cualquier incidencia, el control de salidas y de visitas."},"DL",{"$f":"'FICHA OCULTA'!$I$175","v":0.714285714285714}]
[{"$f":"IF($A$7=\"CE\",COUNTIF(B$7:B124,\"x\"),IF($A$7=\"HOS\",COUNTIF(C$7:C124,\"x\"),IF($A$7=\"E\",COUNTIF(D$7:D124,\"x\"),IF($A$7=\"CEO\",COUNTIF(E$7:E124,\"x\"),IF($A$7=\"CEQ\",COUNTIF(F$7:F124,\"x\"),IF($A$7=\"CI\",COUNTIF(G$7:G124,\"x\"),IF($A$7=\"PC\",COUNTIF(H$7:H124,\"x\"),IF($A$7=\"DPI\",COUNTIF(I$7:I124,\"x\"),IF($A$7=\"AP\",COUNTIF(J$7:J124,\"x\"),IF($A$7=\"F\",COUNTIF(K$7:K124,\"x\"),IF($A$7=\"CDE\",COUNTIF(L$7:L124,\"x\"),IF($A$7=\"MR\",COUNTIF(M$7:M124,\"x\"),IF($A$7=\"H\",COUNTIF(N$7:N124,\"x\"),IF($A$7=\"NYD\",COUNTIF(O$7:O124,\"x\"),IF($A$7=\"R\",COUNTIF(P$7:P124,\"x\"),IF($A$7=\"MN\",COUNTIF(Q$7:Q124,\"x\"),IF($A$7=\"CDH\",COUNTIF(R$7:R124,\"x\"),IF($A$7=\"PNA\",COUNTIF(S$7:S124,\"x\"),\" \"))))))))))))))))))","v":96},"x","x","x","x","x","x","x","x","x","x",null,"x","x","x","x","x","x","x","COMUNICACIÓN EFECTIVA",{"$f":"'FICHA OCULTA'!G177","v":"La UPSS proporciona información sobre sus servicios, horarios de atención a pacientes y/o familiares y el proceso para obtener atención."},"DM",{"$f":"'FICHA OCULTA'!$I$189","v":0.9}]
[{"$f":"IF($A$7=\"CE\",COUNTIF(B$7:B125,\"x\"),IF($A$7=\"HOS\",COUNTIF(C$7:C125,\"x\"),IF($A$7=\"E\",COUNTIF(D$7:D125,\"x\"),IF($A$7=\"CEO\",COUNTIF(E$7:E125,\"x\"),IF($A$7=\"CEQ\",COUNTIF(F$7:F125,\"x\"),IF($A$7=\"CI\",COUNTIF(G$7:G125,\"x\"),IF($A$7=\"PC\",COUNTIF(H$7:H125,\"x\"),IF($A$7=\"DPI\",COUNTIF(I$7:I125,\"x\"),IF($A$7=\"AP\",COUNTIF(J$7:J125,\"x\"),IF($A$7=\"F\",COUNTIF(K$7:K125,\"x\"),IF($A$7=\"CDE\",COUNTIF(L$7:L125,\"x\"),IF($A$7=\"MR\",COUNTIF(M$7:M125,\"x\"),IF($A$7=\"H\",COUNTIF(N$7:N125,\"x\"),IF($A$7=\"NYD\",COUNTIF(O$7:O125,\"x\"),IF($A$7=\"R\",COUNTIF(P$7:P125,\"x\"),IF($A$7=\"MN\",COUNTIF(Q$7:Q125,\"x\"),IF($A$7=\"CDH\",COUNTIF(R$7:R125,\"x\"),IF($A$7=\"PNA\",COUNTIF(S$7:S125,\"x\"),\" \"))))))))))))))))))","v":97},"x","x","x","x","x","x","x","x","x","x",null,"x","x","x","x","x","x","x","COMUNICACIÓN EFECTIVA",{"$f":"'FICHA OCULTA'!G178","v":"Los pacientes y las familias reciben información sobre cómo acceder a los servicios de la UPSS."},"DN",{"$f":"'FICHA OCULTA'!$I$189","v":0.9}]
[{"$f":"IF($A$7=\"CE\",COUNTIF(B$7:B126,\"x\"),IF($A$7=\"HOS\",COUNTIF(C$7:C126,\"x\"),IF($A$7=\"E\",COUNTIF(D$7:D126,\"x\"),IF($A$7=\"CEO\",COUNTIF(E$7:E126,\"x\"),IF($A$7=\"CEQ\",COUNTIF(F$7:F126,\"x\"),IF($A$7=\"CI\",COUNTIF(G$7:G126,\"x\"),IF($A$7=\"PC\",COUNTIF(H$7:H126,\"x\"),IF($A$7=\"DPI\",COUNTIF(I$7:I126,\"x\"),IF($A$7=\"AP\",COUNTIF(J$7:J126,\"x\"),IF($A$7=\"F\",COUNTIF(K$7:K126,\"x\"),IF($A$7=\"CDE\",COUNTIF(L$7:L126,\"x\"),IF($A$7=\"MR\",COUNTIF(M$7:M126,\"x\"),IF($A$7=\"H\",COUNTIF(N$7:N126,\"x\"),IF($A$7=\"NYD\",COUNTIF(O$7:O126,\"x\"),IF($A$7=\"R\",COUNTIF(P$7:P126,\"x\"),IF($A$7=\"MN\",COUNTIF(Q$7:Q126,\"x\"),IF($A$7=\"CDH\",COUNTIF(R$7:R126,\"x\"),IF($A$7=\"PNA\",COUNTIF(S$7:S126,\"x\"),\" \"))))))))))))))))))","v":98},"x","x","x","x","x","x","x","x","x","x",null,"x","x","x","x","x","x","x","COMUNICACIÓN EFECTIVA",{"$f":"'FICHA OCULTA'!G179","v":"La comunicación y la educación del paciente y de la familia se dan en un idioma comprensible y con palabras de comprensión común."},"DO",{"$f":"'FICHA OCULTA'!$I$189","v":0.9}]
[{"$f":"IF($A$7=\"CE\",COUNTIF(B$7:B127,\"x\"),IF($A$7=\"HOS\",COUNTIF(C$7:C127,\"x\"),IF($A$7=\"E\",COUNTIF(D$7:D127,\"x\"),IF($A$7=\"CEO\",COUNTIF(E$7:E127,\"x\"),IF($A$7=\"CEQ\",COUNTIF(F$7:F127,\"x\"),IF($A$7=\"CI\",COUNTIF(G$7:G127,\"x\"),IF($A$7=\"PC\",COUNTIF(H$7:H127,\"x\"),IF($A$7=\"DPI\",COUNTIF(I$7:I127,\"x\"),IF($A$7=\"AP\",COUNTIF(J$7:J127,\"x\"),IF($A$7=\"F\",COUNTIF(K$7:K127,\"x\"),IF($A$7=\"CDE\",COUNTIF(L$7:L127,\"x\"),IF($A$7=\"MR\",COUNTIF(M$7:M127,\"x\"),IF($A$7=\"H\",COUNTIF(N$7:N127,\"x\"),IF($A$7=\"NYD\",COUNTIF(O$7:O127,\"x\"),IF($A$7=\"R\",COUNTIF(P$7:P127,\"x\"),IF($A$7=\"MN\",COUNTIF(Q$7:Q127,\"x\"),IF($A$7=\"CDH\",COUNTIF(R$7:R127,\"x\"),IF($A$7=\"PNA\",COUNTIF(S$7:S127,\"x\"),\" \"))))))))))))))))))","v":99},"x","x","x","x","x","x","x","x","x","x",null,"x","x","x","x","x","x","x","COMUNICACIÓN EFECTIVA",{"$f":"'FICHA OCULTA'!G180","v":"Se evidencian comunicaciones reciprocas entre el Jefe de la UPSS y la Dirección del Establecimiento tanto en temas clínicos como administrativos."},"DP",{"$f":"'FICHA OCULTA'!$I$189","v":0.9}]
[{"$f":"IF($A$7=\"CE\",COUNTIF(B$7:B128,\"x\"),IF($A$7=\"HOS\",COUNTIF(C$7:C128,\"x\"),IF($A$7=\"E\",COUNTIF(D$7:D128,\"x\"),IF($A$7=\"CEO\",COUNTIF(E$7:E128,\"x\"),IF($A$7=\"CEQ\",COUNTIF(F$7:F128,\"x\"),IF($A$7=\"CI\",COUNTIF(G$7:G128,\"x\"),IF($A$7=\"PC\",COUNTIF(H$7:H128,\"x\"),IF($A$7=\"DPI\",COUNTIF(I$7:I128,\"x\"),IF($A$7=\"AP\",COUNTIF(J$7:J128,\"x\"),IF($A$7=\"F\",COUNTIF(K$7:K128,\"x\"),IF($A$7=\"CDE\",COUNTIF(L$7:L128,\"x\"),IF($A$7=\"MR\",COUNTIF(M$7:M128,\"x\"),IF($A$7=\"H\",COUNTIF(N$7:N128,\"x\"),IF($A$7=\"NYD\",COUNTIF(O$7:O128,\"x\"),IF($A$7=\"R\",COUNTIF(P$7:P128,\"x\"),IF($A$7=\"MN\",COUNTIF(Q$7:Q128,\"x\"),IF($A$7=\"CDH\",COUNTIF(R$7:R128,\"x\"),IF($A$7=\"PNA\",COUNTIF(S$7:S128,\"x\"),\" \"))))))))))))))))))","v":100},null,"x","x","x","x","x",null,null,null,null,null,null,null,null,null,null,null,"x","COMUNICACIÓN EFECTIVA",{"$f":"'FICHA OCULTA'!G181","v":"Se evidencia comunicación (verbal, escrita o electrónica) e intercambio de información entre los profesionales médicos al momento de cambio de turno (cambio de guardia), relacionado al estado de salud de los pacientes, resumen de la atención prestada durante el turno (guardia) y la evolución de los pacientes."},"DQ",{"$f":"'FICHA OCULTA'!$I$189","v":0.9}]
[{"$f":"IF($A$7=\"CE\",COUNTIF(B$7:B129,\"x\"),IF($A$7=\"HOS\",COUNTIF(C$7:C129,\"x\"),IF($A$7=\"E\",COUNTIF(D$7:D129,\"x\"),IF($A$7=\"CEO\",COUNTIF(E$7:E129,\"x\"),IF($A$7=\"CEQ\",COUNTIF(F$7:F129,\"x\"),IF($A$7=\"CI\",COUNTIF(G$7:G129,\"x\"),IF($A$7=\"PC\",COUNTIF(H$7:H129,\"x\"),IF($A$7=\"DPI\",COUNTIF(I$7:I129,\"x\"),IF($A$7=\"AP\",COUNTIF(J$7:J129,\"x\"),IF($A$7=\"F\",COUNTIF(K$7:K129,\"x\"),IF($A$7=\"CDE\",COUNTIF(L$7:L129,\"x\"),IF($A$7=\"MR\",COUNTIF(M$7:M129,\"x\"),IF($A$7=\"H\",COUNTIF(N$7:N129,\"x\"),IF($A$7=\"NYD\",COUNTIF(O$7:O129,\"x\"),IF($A$7=\"R\",COUNTIF(P$7:P129,\"x\"),IF($A$7=\"MN\",COUNTIF(Q$7:Q129,\"x\"),IF($A$7=\"CDH\",COUNTIF(R$7:R129,\"x\"),IF($A$7=\"PNA\",COUNTIF(S$7:S129,\"x\"),\" \"))))))))))))))))))","v":101},null,"x","x","x","x","x",null,null,null,null,null,null,null,null,null,null,null,"x","COMUNICACIÓN EFECTIVA",{"$f":"'FICHA OCULTA'!G182","v":"Se evidencia comunicación (verbal, escrita o electrónica) e intercambio de información entre los profesionales encargados del cuidado del paciente al momento de cambio de turno (cambio de guardia), relacionado al estado de salud de los pacientes, resumen de la atención prestada durante el turno (guardia) y la evolución de los pacientes."},"DR",{"$f":"'FICHA OCULTA'!$I$189","v":0.9}]
[{"$f":"IF($A$7=\"CE\",COUNTIF(B$7:B130,\"x\"),IF($A$7=\"HOS\",COUNTIF(C$7:C130,\"x\"),IF($A$7=\"E\",COUNTIF(D$7:D130,\"x\"),IF($A$7=\"CEO\",COUNTIF(E$7:E130,\"x\"),IF($A$7=\"CEQ\",COUNTIF(F$7:F130,\"x\"),IF($A$7=\"CI\",COUNTIF(G$7:G130,\"x\"),IF($A$7=\"PC\",COUNTIF(H$7:H130,\"x\"),IF($A$7=\"DPI\",COUNTIF(I$7:I130,\"x\"),IF($A$7=\"AP\",COUNTIF(J$7:J130,\"x\"),IF($A$7=\"F\",COUNTIF(K$7:K130,\"x\"),IF($A$7=\"CDE\",COUNTIF(L$7:L130,\"x\"),IF($A$7=\"MR\",COUNTIF(M$7:M130,\"x\"),IF($A$7=\"H\",COUNTIF(N$7:N130,\"x\"),IF($A$7=\"NYD\",COUNTIF(O$7:O130,\"x\"),IF($A$7=\"R\",COUNTIF(P$7:P130,\"x\"),IF($A$7=\"MN\",COUNTIF(Q$7:Q130,\"x\"),IF($A$7=\"CDH\",COUNTIF(R$7:R130,\"x\"),IF($A$7=\"PNA\",COUNTIF(S$7:S130,\"x\"),\" \"))))))))))))))))))","v":102},"x","x","x","x","x","x","x","x","x",null,null,"x","x","x","x","x","x","x","COMUNICACIÓN EFECTIVA",{"$f":"'FICHA OCULTA'!G183","v":"Las historias clínicas están a disposición de los profesionales de la salud que las necesitan para atender al paciente."},"DS",{"$f":"'FICHA OCULTA'!$I$189","v":0.9}]
[{"$f":"IF($A$7=\"CE\",COUNTIF(B$7:B131,\"x\"),IF($A$7=\"HOS\",COUNTIF(C$7:C131,\"x\"),IF($A$7=\"E\",COUNTIF(D$7:D131,\"x\"),IF($A$7=\"CEO\",COUNTIF(E$7:E131,\"x\"),IF($A$7=\"CEQ\",COUNTIF(F$7:F131,\"x\"),IF($A$7=\"CI\",COUNTIF(G$7:G131,\"x\"),IF($A$7=\"PC\",COUNTIF(H$7:H131,\"x\"),IF($A$7=\"DPI\",COUNTIF(I$7:I131,\"x\"),IF($A$7=\"AP\",COUNTIF(J$7:J131,\"x\"),IF($A$7=\"F\",COUNTIF(K$7:K131,\"x\"),IF($A$7=\"CDE\",COUNTIF(L$7:L131,\"x\"),IF($A$7=\"MR\",COUNTIF(M$7:M131,\"x\"),IF($A$7=\"H\",COUNTIF(N$7:N131,\"x\"),IF($A$7=\"NYD\",COUNTIF(O$7:O131,\"x\"),IF($A$7=\"R\",COUNTIF(P$7:P131,\"x\"),IF($A$7=\"MN\",COUNTIF(Q$7:Q131,\"x\"),IF($A$7=\"CDH\",COUNTIF(R$7:R131,\"x\"),IF($A$7=\"PNA\",COUNTIF(S$7:S131,\"x\"),\" \"))))))))))))))))))","v":103},"x","x","x","x","x","x","x","x","x",null,null,"x","x","x","x","x","x","x","COMUNICACIÓN EFECTIVA",{"$f":"'FICHA OCULTA'!G184","v":"Las historias clínicas están actualizadas para asegurar la comunicación de la información más reciente."},"DT",{"$f":"'FICHA OCULTA'!$I$189","v":0.9}]
[{"$f":"IF($A$7=\"CE\",COUNTIF(B$7:B132,\"x\"),IF($A$7=\"HOS\",COUNTIF(C$7:C132,\"x\"),IF($A$7=\"E\",COUNTIF(D$7:D132,\"x\"),IF($A$7=\"CEO\",COUNTIF(E$7:E132,\"x\"),IF($A$7=\"CEQ\",COUNTIF(F$7:F132,\"x\"),IF($A$7=\"CI\",COUNTIF(G$7:G132,\"x\"),IF($A$7=\"PC\",COUNTIF(H$7:H132,\"x\"),IF($A$7=\"DPI\",COUNTIF(I$7:I132,\"x\"),IF($A$7=\"AP\",COUNTIF(J$7:J132,\"x\"),IF($A$7=\"F\",COUNTIF(K$7:K132,\"x\"),IF($A$7=\"CDE\",COUNTIF(L$7:L132,\"x\"),IF($A$7=\"MR\",COUNTIF(M$7:M132,\"x\"),IF($A$7=\"H\",COUNTIF(N$7:N132,\"x\"),IF($A$7=\"NYD\",COUNTIF(O$7:O132,\"x\"),IF($A$7=\"R\",COUNTIF(P$7:P132,\"x\"),IF($A$7=\"MN\",COUNTIF(Q$7:Q132,\"x\"),IF($A$7=\"CDH\",COUNTIF(R$7:R132,\"x\"),IF($A$7=\"PNA\",COUNTIF(S$7:S132,\"x\"),\" \"))))))))))))))))))","v":104},"x","x","x","x","x","x",null,null,null,null,null,null,"x",null,"x","x","x","x","COMUNICACIÓN EFECTIVA",{"$f":"'FICHA OCULTA'!G185","v":"La historia clínica del paciente o un resumen de información de su atención se transfiere junto al paciente a otro servicio o unidad dentro del establecimiento."},"DU",{"$f":"'FICHA OCULTA'!$I$189","v":0.9}]
[{"$f":"IF($A$7=\"CE\",COUNTIF(B$7:B133,\"x\"),IF($A$7=\"HOS\",COUNTIF(C$7:C133,\"x\"),IF($A$7=\"E\",COUNTIF(D$7:D133,\"x\"),IF($A$7=\"CEO\",COUNTIF(E$7:E133,\"x\"),IF($A$7=\"CEQ\",COUNTIF(F$7:F133,\"x\"),IF($A$7=\"CI\",COUNTIF(G$7:G133,\"x\"),IF($A$7=\"PC\",COUNTIF(H$7:H133,\"x\"),IF($A$7=\"DPI\",COUNTIF(I$7:I133,\"x\"),IF($A$7=\"AP\",COUNTIF(J$7:J133,\"x\"),IF($A$7=\"F\",COUNTIF(K$7:K133,\"x\"),IF($A$7=\"CDE\",COUNTIF(L$7:L133,\"x\"),IF($A$7=\"MR\",COUNTIF(M$7:M133,\"x\"),IF($A$7=\"H\",COUNTIF(N$7:N133,\"x\"),IF($A$7=\"NYD\",COUNTIF(O$7:O133,\"x\"),IF($A$7=\"R\",COUNTIF(P$7:P133,\"x\"),IF($A$7=\"MN\",COUNTIF(Q$7:Q133,\"x\"),IF($A$7=\"CDH\",COUNTIF(R$7:R133,\"x\"),IF($A$7=\"PNA\",COUNTIF(S$7:S133,\"x\"),\" \"))))))))))))))))))","v":105},null,"x","x","x","x","x",null,null,null,null,null,null,null,null,null,null,null,"x","COMUNICACIÓN EFECTIVA",{"$f":"'FICHA OCULTA'!G186","v":"El resumen de la información del traslado de un paciente incluye: el motivo de admisión, los hallazgos relevantes, los diagnósticos, todos los procedimientos realizados, todos los medicamentos y demás tratamientos administrados, el estado del paciente al momento de la transferencia."},"DV",{"$f":"'FICHA OCULTA'!$I$189","v":0.9}]
[{"$f":"IF($A$7=\"CE\",COUNTIF(B$7:B134,\"x\"),IF($A$7=\"HOS\",COUNTIF(C$7:C134,\"x\"),IF($A$7=\"E\",COUNTIF(D$7:D134,\"x\"),IF($A$7=\"CEO\",COUNTIF(E$7:E134,\"x\"),IF($A$7=\"CEQ\",COUNTIF(F$7:F134,\"x\"),IF($A$7=\"CI\",COUNTIF(G$7:G134,\"x\"),IF($A$7=\"PC\",COUNTIF(H$7:H134,\"x\"),IF($A$7=\"DPI\",COUNTIF(I$7:I134,\"x\"),IF($A$7=\"AP\",COUNTIF(J$7:J134,\"x\"),IF($A$7=\"F\",COUNTIF(K$7:K134,\"x\"),IF($A$7=\"CDE\",COUNTIF(L$7:L134,\"x\"),IF($A$7=\"MR\",COUNTIF(M$7:M134,\"x\"),IF($A$7=\"H\",COUNTIF(N$7:N134,\"x\"),IF($A$7=\"NYD\",COUNTIF(O$7:O134,\"x\"),IF($A$7=\"R\",COUNTIF(P$7:P134,\"x\"),IF($A$7=\"MN\",COUNTIF(Q$7:Q134,\"x\"),IF($A$7=\"CDH\",COUNTIF(R$7:R134,\"x\"),IF($A$7=\"PNA\",COUNTIF(S$7:S134,\"x\"),\" \"))))))))))))))))))","v":106},"x","x","x","x","x","x","x","x","x","x","x","x","x","x","x","x","x","x","HIGIENE DE MANOS",{"$f":"'FICHA OCULTA'!G191","v":"Disponibilidad de dispensadores con preparados de base alcohólica para manos."},"DW",{"$f":"'FICHA OCULTA'!$I$201","v":0}]
[{"$f":"IF($A$7=\"CE\",COUNTIF(B$7:B135,\"x\"),IF($A$7=\"HOS\",COUNTIF(C$7:C135,\"x\"),IF($A$7=\"E\",COUNTIF(D$7:D135,\"x\"),IF($A$7=\"CEO\",COUNTIF(E$7:E135,\"x\"),IF($A$7=\"CEQ\",COUNTIF(F$7:F135,\"x\"),IF($A$7=\"CI\",COUNTIF(G$7:G135,\"x\"),IF($A$7=\"PC\",COUNTIF(H$7:H135,\"x\"),IF($A$7=\"DPI\",COUNTIF(I$7:I135,\"x\"),IF($A$7=\"AP\",COUNTIF(J$7:J135,\"x\"),IF($A$7=\"F\",COUNTIF(K$7:K135,\"x\"),IF($A$7=\"CDE\",COUNTIF(L$7:L135,\"x\"),IF($A$7=\"MR\",COUNTIF(M$7:M135,\"x\"),IF($A$7=\"H\",COUNTIF(N$7:N135,\"x\"),IF($A$7=\"NYD\",COUNTIF(O$7:O135,\"x\"),IF($A$7=\"R\",COUNTIF(P$7:P135,\"x\"),IF($A$7=\"MN\",COUNTIF(Q$7:Q135,\"x\"),IF($A$7=\"CDH\",COUNTIF(R$7:R135,\"x\"),IF($A$7=\"PNA\",COUNTIF(S$7:S135,\"x\"),\" \"))))))))))))))))))","v":107},"x","x","x","x","x","x","x","x","x","x","x","x","x","x","x","x","x","x","HIGIENE DE MANOS",{"$f":"'FICHA OCULTA'!G192","v":"Disponibilidad de lavamanos con suministro de agua y jabón."},"DX",{"$f":"'FICHA OCULTA'!$I$201","v":0}]
[{"$f":"IF($A$7=\"CE\",COUNTIF(B$7:B136,\"x\"),IF($A$7=\"HOS\",COUNTIF(C$7:C136,\"x\"),IF($A$7=\"E\",COUNTIF(D$7:D136,\"x\"),IF($A$7=\"CEO\",COUNTIF(E$7:E136,\"x\"),IF($A$7=\"CEQ\",COUNTIF(F$7:F136,\"x\"),IF($A$7=\"CI\",COUNTIF(G$7:G136,\"x\"),IF($A$7=\"PC\",COUNTIF(H$7:H136,\"x\"),IF($A$7=\"DPI\",COUNTIF(I$7:I136,\"x\"),IF($A$7=\"AP\",COUNTIF(J$7:J136,\"x\"),IF($A$7=\"F\",COUNTIF(K$7:K136,\"x\"),IF($A$7=\"CDE\",COUNTIF(L$7:L136,\"x\"),IF($A$7=\"MR\",COUNTIF(M$7:M136,\"x\"),IF($A$7=\"H\",COUNTIF(N$7:N136,\"x\"),IF($A$7=\"NYD\",COUNTIF(O$7:O136,\"x\"),IF($A$7=\"R\",COUNTIF(P$7:P136,\"x\"),IF($A$7=\"MN\",COUNTIF(Q$7:Q136,\"x\"),IF($A$7=\"CDH\",COUNTIF(R$7:R136,\"x\"),IF($A$7=\"PNA\",COUNTIF(S$7:S136,\"x\"),\" \"))))))))))))))))))","v":108},"x","x","x","x","x","x","x","x","x","x","x","x","x","x","x","x","x","x","HIGIENE DE MANOS",{"$f":"'FICHA OCULTA'!G193","v":"Disponibilidad de papel toalla en todos los lavamanos."},"DY",{"$f":"'FICHA OCULTA'!$I$201","v":0}]
[{"$f":"IF($A$7=\"CE\",COUNTIF(B$7:B137,\"x\"),IF($A$7=\"HOS\",COUNTIF(C$7:C137,\"x\"),IF($A$7=\"E\",COUNTIF(D$7:D137,\"x\"),IF($A$7=\"CEO\",COUNTIF(E$7:E137,\"x\"),IF($A$7=\"CEQ\",COUNTIF(F$7:F137,\"x\"),IF($A$7=\"CI\",COUNTIF(G$7:G137,\"x\"),IF($A$7=\"PC\",COUNTIF(H$7:H137,\"x\"),IF($A$7=\"DPI\",COUNTIF(I$7:I137,\"x\"),IF($A$7=\"AP\",COUNTIF(J$7:J137,\"x\"),IF($A$7=\"F\",COUNTIF(K$7:K137,\"x\"),IF($A$7=\"CDE\",COUNTIF(L$7:L137,\"x\"),IF($A$7=\"MR\",COUNTIF(M$7:M137,\"x\"),IF($A$7=\"H\",COUNTIF(N$7:N137,\"x\"),IF($A$7=\"NYD\",COUNTIF(O$7:O137,\"x\"),IF($A$7=\"R\",COUNTIF(P$7:P137,\"x\"),IF($A$7=\"MN\",COUNTIF(Q$7:Q137,\"x\"),IF($A$7=\"CDH\",COUNTIF(R$7:R137,\"x\"),IF($A$7=\"PNA\",COUNTIF(S$7:S137,\"x\"),\" \"))))))))))))))))))","v":109},null,"x","x",null,null,"x",null,null,null,null,null,null,"x",null,null,null,null,null,"HIGIENE DE MANOS",{"$f":"'FICHA OCULTA'!G194","v":"Cumplimiento del ratio lavamanos/ paciente-cama de al menos 1:10"},"DZ",{"$f":"'FICHA OCULTA'!$I$201","v":0}]
[{"$f":"IF($A$7=\"CE\",COUNTIF(B$7:B138,\"x\"),IF($A$7=\"HOS\",COUNTIF(C$7:C138,\"x\"),IF($A$7=\"E\",COUNTIF(D$7:D138,\"x\"),IF($A$7=\"CEO\",COUNTIF(E$7:E138,\"x\"),IF($A$7=\"CEQ\",COUNTIF(F$7:F138,\"x\"),IF($A$7=\"CI\",COUNTIF(G$7:G138,\"x\"),IF($A$7=\"PC\",COUNTIF(H$7:H138,\"x\"),IF($A$7=\"DPI\",COUNTIF(I$7:I138,\"x\"),IF($A$7=\"AP\",COUNTIF(J$7:J138,\"x\"),IF($A$7=\"F\",COUNTIF(K$7:K138,\"x\"),IF($A$7=\"CDE\",COUNTIF(L$7:L138,\"x\"),IF($A$7=\"MR\",COUNTIF(M$7:M138,\"x\"),IF($A$7=\"H\",COUNTIF(N$7:N138,\"x\"),IF($A$7=\"NYD\",COUNTIF(O$7:O138,\"x\"),IF($A$7=\"R\",COUNTIF(P$7:P138,\"x\"),IF($A$7=\"MN\",COUNTIF(Q$7:Q138,\"x\"),IF($A$7=\"CDH\",COUNTIF(R$7:R138,\"x\"),IF($A$7=\"PNA\",COUNTIF(S$7:S138,\"x\"),\" \"))))))))))))))))))","v":110},"x","x","x","x","x","x","x","x","x","x","x","x","x","x","x","x","x","x","HIGIENE DE MANOS",{"$f":"'FICHA OCULTA'!G195","v":"Cumplimiento de los 08 pasos de la desinfección de manos (pasos y tiempo)."},"EA",{"$f":"'FICHA OCULTA'!$I$201","v":0}]
[{"$f":"IF($A$7=\"CE\",COUNTIF(B$7:B139,\"x\"),IF($A$7=\"HOS\",COUNTIF(C$7:C139,\"x\"),IF($A$7=\"E\",COUNTIF(D$7:D139,\"x\"),IF($A$7=\"CEO\",COUNTIF(E$7:E139,\"x\"),IF($A$7=\"CEQ\",COUNTIF(F$7:F139,\"x\"),IF($A$7=\"CI\",COUNTIF(G$7:G139,\"x\"),IF($A$7=\"PC\",COUNTIF(H$7:H139,\"x\"),IF($A$7=\"DPI\",COUNTIF(I$7:I139,\"x\"),IF($A$7=\"AP\",COUNTIF(J$7:J139,\"x\"),IF($A$7=\"F\",COUNTIF(K$7:K139,\"x\"),IF($A$7=\"CDE\",COUNTIF(L$7:L139,\"x\"),IF($A$7=\"MR\",COUNTIF(M$7:M139,\"x\"),IF($A$7=\"H\",COUNTIF(N$7:N139,\"x\"),IF($A$7=\"NYD\",COUNTIF(O$7:O139,\"x\"),IF($A$7=\"R\",COUNTIF(P$7:P139,\"x\"),IF($A$7=\"MN\",COUNTIF(Q$7:Q139,\"x\"),IF($A$7=\"CDH\",COUNTIF(R$7:R139,\"x\"),IF($A$7=\"PNA\",COUNTIF(S$7:S139,\"x\"),\" \"))))))))))))))))))","v":111},"x","x","x","x","x","x","x","x","x","x","x","x","x","x","x","x","x","x","HIGIENE DE MANOS",{"$f":"'FICHA OCULTA'!G196","v":"Cumplimiento de los 11 pasos del lavado de manos (pasos y tiempo)."},"EB",{"$f":"'FICHA OCULTA'!$I$201","v":0}]
[{"$f":"IF($A$7=\"CE\",COUNTIF(B$7:B140,\"x\"),IF($A$7=\"HOS\",COUNTIF(C$7:C140,\"x\"),IF($A$7=\"E\",COUNTIF(D$7:D140,\"x\"),IF($A$7=\"CEO\",COUNTIF(E$7:E140,\"x\"),IF($A$7=\"CEQ\",COUNTIF(F$7:F140,\"x\"),IF($A$7=\"CI\",COUNTIF(G$7:G140,\"x\"),IF($A$7=\"PC\",COUNTIF(H$7:H140,\"x\"),IF($A$7=\"DPI\",COUNTIF(I$7:I140,\"x\"),IF($A$7=\"AP\",COUNTIF(J$7:J140,\"x\"),IF($A$7=\"F\",COUNTIF(K$7:K140,\"x\"),IF($A$7=\"CDE\",COUNTIF(L$7:L140,\"x\"),IF($A$7=\"MR\",COUNTIF(M$7:M140,\"x\"),IF($A$7=\"H\",COUNTIF(N$7:N140,\"x\"),IF($A$7=\"NYD\",COUNTIF(O$7:O140,\"x\"),IF($A$7=\"R\",COUNTIF(P$7:P140,\"x\"),IF($A$7=\"MN\",COUNTIF(Q$7:Q140,\"x\"),IF($A$7=\"CDH\",COUNTIF(R$7:R140,\"x\"),IF($A$7=\"PNA\",COUNTIF(S$7:S140,\"x\"),\" \"))))))))))))))))))","v":112},"x","x","x","x","x","x","x","x","x","x","x","x","x","x","x","x","x","x","HIGIENE DE MANOS",{"$f":"'FICHA OCULTA'!G197","v":"Porcentaje de cumplimiento > 80%, del requisito de realizar la higiene de las manos durante su actividad asistencial de acuerdo con los cinco momentos de la higiene de manos."},"EC",{"$f":"'FICHA OCULTA'!$I$201","v":0}]
[{"$f":"IF($A$7=\"CE\",COUNTIF(B$7:B141,\"x\"),IF($A$7=\"HOS\",COUNTIF(C$7:C141,\"x\"),IF($A$7=\"E\",COUNTIF(D$7:D141,\"x\"),IF($A$7=\"CEO\",COUNTIF(E$7:E141,\"x\"),IF($A$7=\"CEQ\",COUNTIF(F$7:F141,\"x\"),IF($A$7=\"CI\",COUNTIF(G$7:G141,\"x\"),IF($A$7=\"PC\",COUNTIF(H$7:H141,\"x\"),IF($A$7=\"DPI\",COUNTIF(I$7:I141,\"x\"),IF($A$7=\"AP\",COUNTIF(J$7:J141,\"x\"),IF($A$7=\"F\",COUNTIF(K$7:K141,\"x\"),IF($A$7=\"CDE\",COUNTIF(L$7:L141,\"x\"),IF($A$7=\"MR\",COUNTIF(M$7:M141,\"x\"),IF($A$7=\"H\",COUNTIF(N$7:N141,\"x\"),IF($A$7=\"NYD\",COUNTIF(O$7:O141,\"x\"),IF($A$7=\"R\",COUNTIF(P$7:P141,\"x\"),IF($A$7=\"MN\",COUNTIF(Q$7:Q141,\"x\"),IF($A$7=\"CDH\",COUNTIF(R$7:R141,\"x\"),IF($A$7=\"PNA\",COUNTIF(S$7:S141,\"x\"),\" \"))))))))))))))))))","v":113},"x","x","x","x","x","x","x","x","x","x","x","x","x","x","x","x","x","x","HIGIENE DE MANOS",{"$f":"'FICHA OCULTA'!G198","v":"Mensajes y dibujos que promueven la adherencia a la higiene de manos colocados en sitios estratégicos."},"ED",{"$f":"'FICHA OCULTA'!$I$201","v":0}]
[{"$f":"IF($A$7=\"CE\",COUNTIF(B$7:B142,\"x\"),IF($A$7=\"HOS\",COUNTIF(C$7:C142,\"x\"),IF($A$7=\"E\",COUNTIF(D$7:D142,\"x\"),IF($A$7=\"CEO\",COUNTIF(E$7:E142,\"x\"),IF($A$7=\"CEQ\",COUNTIF(F$7:F142,\"x\"),IF($A$7=\"CI\",COUNTIF(G$7:G142,\"x\"),IF($A$7=\"PC\",COUNTIF(H$7:H142,\"x\"),IF($A$7=\"DPI\",COUNTIF(I$7:I142,\"x\"),IF($A$7=\"AP\",COUNTIF(J$7:J142,\"x\"),IF($A$7=\"F\",COUNTIF(K$7:K142,\"x\"),IF($A$7=\"CDE\",COUNTIF(L$7:L142,\"x\"),IF($A$7=\"MR\",COUNTIF(M$7:M142,\"x\"),IF($A$7=\"H\",COUNTIF(N$7:N142,\"x\"),IF($A$7=\"NYD\",COUNTIF(O$7:O142,\"x\"),IF($A$7=\"R\",COUNTIF(P$7:P142,\"x\"),IF($A$7=\"MN\",COUNTIF(Q$7:Q142,\"x\"),IF($A$7=\"CDH\",COUNTIF(R$7:R142,\"x\"),IF($A$7=\"PNA\",COUNTIF(S$7:S142,\"x\"),\" \"))))))))))))))))))","v":114},"x","x","x","x","x","x","x","x","x","x","x","x","x","x","x","x","x","x","BIOSEGURIDAD",{"$f":"'FICHA OCULTA'!G203","v":"Disposición de residuos sólidos de acuerdo a las normas."},"EE",{"$f":"'FICHA OCULTA'!$I$213","v":0.125}]
[{"$f":"IF($A$7=\"CE\",COUNTIF(B$7:B143,\"x\"),IF($A$7=\"HOS\",COUNTIF(C$7:C143,\"x\"),IF($A$7=\"E\",COUNTIF(D$7:D143,\"x\"),IF($A$7=\"CEO\",COUNTIF(E$7:E143,\"x\"),IF($A$7=\"CEQ\",COUNTIF(F$7:F143,\"x\"),IF($A$7=\"CI\",COUNTIF(G$7:G143,\"x\"),IF($A$7=\"PC\",COUNTIF(H$7:H143,\"x\"),IF($A$7=\"DPI\",COUNTIF(I$7:I143,\"x\"),IF($A$7=\"AP\",COUNTIF(J$7:J143,\"x\"),IF($A$7=\"F\",COUNTIF(K$7:K143,\"x\"),IF($A$7=\"CDE\",COUNTIF(L$7:L143,\"x\"),IF($A$7=\"MR\",COUNTIF(M$7:M143,\"x\"),IF($A$7=\"H\",COUNTIF(N$7:N143,\"x\"),IF($A$7=\"NYD\",COUNTIF(O$7:O143,\"x\"),IF($A$7=\"R\",COUNTIF(P$7:P143,\"x\"),IF($A$7=\"MN\",COUNTIF(Q$7:Q143,\"x\"),IF($A$7=\"CDH\",COUNTIF(R$7:R143,\"x\"),IF($A$7=\"PNA\",COUNTIF(S$7:S143,\"x\"),\" \"))))))))))))))))))","v":115},"x","x","x","x","x","x","x","x","x","x","x","x","x","x","x","x","x","x","BIOSEGURIDAD",{"$f":"'FICHA OCULTA'!G204","v":"Eliminación de material punzo cortante y agujas de acuerdo a las normas."},"EF",{"$f":"'FICHA OCULTA'!$I$213","v":0.125}]
[{"$f":"IF($A$7=\"CE\",COUNTIF(B$7:B144,\"x\"),IF($A$7=\"HOS\",COUNTIF(C$7:C144,\"x\"),IF($A$7=\"E\",COUNTIF(D$7:D144,\"x\"),IF($A$7=\"CEO\",COUNTIF(E$7:E144,\"x\"),IF($A$7=\"CEQ\",COUNTIF(F$7:F144,\"x\"),IF($A$7=\"CI\",COUNTIF(G$7:G144,\"x\"),IF($A$7=\"PC\",COUNTIF(H$7:H144,\"x\"),IF($A$7=\"DPI\",COUNTIF(I$7:I144,\"x\"),IF($A$7=\"AP\",COUNTIF(J$7:J144,\"x\"),IF($A$7=\"F\",COUNTIF(K$7:K144,\"x\"),IF($A$7=\"CDE\",COUNTIF(L$7:L144,\"x\"),IF($A$7=\"MR\",COUNTIF(M$7:M144,\"x\"),IF($A$7=\"H\",COUNTIF(N$7:N144,\"x\"),IF($A$7=\"NYD\",COUNTIF(O$7:O144,\"x\"),IF($A$7=\"R\",COUNTIF(P$7:P144,\"x\"),IF($A$7=\"MN\",COUNTIF(Q$7:Q144,\"x\"),IF($A$7=\"CDH\",COUNTIF(R$7:R144,\"x\"),IF($A$7=\"PNA\",COUNTIF(S$7:S144,\"x\"),\" \"))))))))))))))))))","v":116},"x","x","x","x","x","x","x","x","x",null,null,"x","x",null,"x","x","x","x","BIOSEGURIDAD",{"$f":"'FICHA OCULTA'!G205","v":"Cuidado y manejo de los catéteres se realiza de acuerdo a normas."},"EG",{"$f":"'FICHA OCULTA'!$I$213","v":0.125}]
[{"$f":"IF($A$7=\"CE\",COUNTIF(B$7:B145,\"x\"),IF($A$7=\"HOS\",COUNTIF(C$7:C145,\"x\"),IF($A$7=\"E\",COUNTIF(D$7:D145,\"x\"),IF($A$7=\"CEO\",COUNTIF(E$7:E145,\"x\"),IF($A$7=\"CEQ\",COUNTIF(F$7:F145,\"x\"),IF($A$7=\"CI\",COUNTIF(G$7:G145,\"x\"),IF($A$7=\"PC\",COUNTIF(H$7:H145,\"x\"),IF($A$7=\"DPI\",COUNTIF(I$7:I145,\"x\"),IF($A$7=\"AP\",COUNTIF(J$7:J145,\"x\"),IF($A$7=\"F\",COUNTIF(K$7:K145,\"x\"),IF($A$7=\"CDE\",COUNTIF(L$7:L145,\"x\"),IF($A$7=\"MR\",COUNTIF(M$7:M145,\"x\"),IF($A$7=\"H\",COUNTIF(N$7:N145,\"x\"),IF($A$7=\"NYD\",COUNTIF(O$7:O145,\"x\"),IF($A$7=\"R\",COUNTIF(P$7:P145,\"x\"),IF($A$7=\"MN\",COUNTIF(Q$7:Q145,\"x\"),IF($A$7=\"CDH\",COUNTIF(R$7:R145,\"x\"),IF($A$7=\"PNA\",COUNTIF(S$7:S145,\"x\"),\" \"))))))))))))))))))","v":117},"x","x","x","x","x","x","x","x","x",null,null,"x","x",null,"x","x","x","x","BIOSEGURIDAD",{"$f":"'FICHA OCULTA'!G206","v":"Cumplimiento de las medidas de aislamiento."},"EH",{"$f":"'FICHA OCULTA'!$I$213","v":0.125}]
[{"$f":"IF($A$7=\"CE\",COUNTIF(B$7:B146,\"x\"),IF($A$7=\"HOS\",COUNTIF(C$7:C146,\"x\"),IF($A$7=\"E\",COUNTIF(D$7:D146,\"x\"),IF($A$7=\"CEO\",COUNTIF(E$7:E146,\"x\"),IF($A$7=\"CEQ\",COUNTIF(F$7:F146,\"x\"),IF($A$7=\"CI\",COUNTIF(G$7:G146,\"x\"),IF($A$7=\"PC\",COUNTIF(H$7:H146,\"x\"),IF($A$7=\"DPI\",COUNTIF(I$7:I146,\"x\"),IF($A$7=\"AP\",COUNTIF(J$7:J146,\"x\"),IF($A$7=\"F\",COUNTIF(K$7:K146,\"x\"),IF($A$7=\"CDE\",COUNTIF(L$7:L146,\"x\"),IF($A$7=\"MR\",COUNTIF(M$7:M146,\"x\"),IF($A$7=\"H\",COUNTIF(N$7:N146,\"x\"),IF($A$7=\"NYD\",COUNTIF(O$7:O146,\"x\"),IF($A$7=\"R\",COUNTIF(P$7:P146,\"x\"),IF($A$7=\"MN\",COUNTIF(Q$7:Q146,\"x\"),IF($A$7=\"CDH\",COUNTIF(R$7:R146,\"x\"),IF($A$7=\"PNA\",COUNTIF(S$7:S146,\"x\"),\" \"))))))))))))))))))","v":118},"x","x","x","x","x","x","x","x","x",null,null,"x","x",null,"x","x","x","x","BIOSEGURIDAD",{"$f":"'FICHA OCULTA'!G207","v":"El servicio ha implementado el uso de 'Care Bundle\" o Paquete de Medidas para la prevención de las IAAS basadas en evidencia médica. "},"EI",{"$f":"'FICHA OCULTA'!$I$213","v":0.125}]
[{"$f":"IF($A$7=\"CE\",COUNTIF(B$7:B147,\"x\"),IF($A$7=\"HOS\",COUNTIF(C$7:C147,\"x\"),IF($A$7=\"E\",COUNTIF(D$7:D147,\"x\"),IF($A$7=\"CEO\",COUNTIF(E$7:E147,\"x\"),IF($A$7=\"CEQ\",COUNTIF(F$7:F147,\"x\"),IF($A$7=\"CI\",COUNTIF(G$7:G147,\"x\"),IF($A$7=\"PC\",COUNTIF(H$7:H147,\"x\"),IF($A$7=\"DPI\",COUNTIF(I$7:I147,\"x\"),IF($A$7=\"AP\",COUNTIF(J$7:J147,\"x\"),IF($A$7=\"F\",COUNTIF(K$7:K147,\"x\"),IF($A$7=\"CDE\",COUNTIF(L$7:L147,\"x\"),IF($A$7=\"MR\",COUNTIF(M$7:M147,\"x\"),IF($A$7=\"H\",COUNTIF(N$7:N147,\"x\"),IF($A$7=\"NYD\",COUNTIF(O$7:O147,\"x\"),IF($A$7=\"R\",COUNTIF(P$7:P147,\"x\"),IF($A$7=\"MN\",COUNTIF(Q$7:Q147,\"x\"),IF($A$7=\"CDH\",COUNTIF(R$7:R147,\"x\"),IF($A$7=\"PNA\",COUNTIF(S$7:S147,\"x\"),\" \"))))))))))))))))))","v":119},"x","x","x","x","x","x","x","x","x",null,null,"x","x",null,"x","x","x","x","BIOSEGURIDAD",{"$f":"'FICHA OCULTA'!G208","v":"Evidencia de desarrollo de actividades de vigilancia epidemiológica activa, selectiva y localizada de IAAS en la UPSS."},"EJ",{"$f":"'FICHA OCULTA'!$I$213","v":0.125}]
[{"$f":"IF($A$7=\"CE\",COUNTIF(B$7:B148,\"x\"),IF($A$7=\"HOS\",COUNTIF(C$7:C148,\"x\"),IF($A$7=\"E\",COUNTIF(D$7:D148,\"x\"),IF($A$7=\"CEO\",COUNTIF(E$7:E148,\"x\"),IF($A$7=\"CEQ\",COUNTIF(F$7:F148,\"x\"),IF($A$7=\"CI\",COUNTIF(G$7:G148,\"x\"),IF($A$7=\"PC\",COUNTIF(H$7:H148,\"x\"),IF($A$7=\"DPI\",COUNTIF(I$7:I148,\"x\"),IF($A$7=\"AP\",COUNTIF(J$7:J148,\"x\"),IF($A$7=\"F\",COUNTIF(K$7:K148,\"x\"),IF($A$7=\"CDE\",COUNTIF(L$7:L148,\"x\"),IF($A$7=\"MR\",COUNTIF(M$7:M148,\"x\"),IF($A$7=\"H\",COUNTIF(N$7:N148,\"x\"),IF($A$7=\"NYD\",COUNTIF(O$7:O148,\"x\"),IF($A$7=\"R\",COUNTIF(P$7:P148,\"x\"),IF($A$7=\"MN\",COUNTIF(Q$7:Q148,\"x\"),IF($A$7=\"CDH\",COUNTIF(R$7:R148,\"x\"),IF($A$7=\"PNA\",COUNTIF(S$7:S148,\"x\"),\" \"))))))))))))))))))","v":120},"x","x","x","x","x","x","x","x","x",null,null,"x","x",null,"x","x","x","x","BIOSEGURIDAD",{"$f":"'FICHA OCULTA'!G209","v":"Se observa si se encuentran señalizados las zonas rígidas y semirígidas de la Unidad Productora de Servicios de Salud."},"EK",{"$f":"'FICHA OCULTA'!$I$213","v":0.125}]
[{"$f":"IF($A$7=\"CE\",COUNTIF(B$7:B149,\"x\"),IF($A$7=\"HOS\",COUNTIF(C$7:C149,\"x\"),IF($A$7=\"E\",COUNTIF(D$7:D149,\"x\"),IF($A$7=\"CEO\",COUNTIF(E$7:E149,\"x\"),IF($A$7=\"CEQ\",COUNTIF(F$7:F149,\"x\"),IF($A$7=\"CI\",COUNTIF(G$7:G149,\"x\"),IF($A$7=\"PC\",COUNTIF(H$7:H149,\"x\"),IF($A$7=\"DPI\",COUNTIF(I$7:I149,\"x\"),IF($A$7=\"AP\",COUNTIF(J$7:J149,\"x\"),IF($A$7=\"F\",COUNTIF(K$7:K149,\"x\"),IF($A$7=\"CDE\",COUNTIF(L$7:L149,\"x\"),IF($A$7=\"MR\",COUNTIF(M$7:M149,\"x\"),IF($A$7=\"H\",COUNTIF(N$7:N149,\"x\"),IF($A$7=\"NYD\",COUNTIF(O$7:O149,\"x\"),IF($A$7=\"R\",COUNTIF(P$7:P149,\"x\"),IF($A$7=\"MN\",COUNTIF(Q$7:Q149,\"x\"),IF($A$7=\"CDH\",COUNTIF(R$7:R149,\"x\"),IF($A$7=\"PNA\",COUNTIF(S$7:S149,\"x\"),\" \"))))))))))))))))))","v":121},"x","x","x","x","x","x","x","x","x",null,null,"x","x",null,"x","x","x","x","BIOSEGURIDAD",{"$f":"'FICHA OCULTA'!G210","v":"Se observa si se respetan las zonas rígidas y semirígidas de la Unidad Productora de Servicios de Salud."},"EL",{"$f":"'FICHA OCULTA'!$I$213","v":0.125}]
[{"$f":"IF($A$7=\"CE\",COUNTIF(B$7:B150,\"x\"),IF($A$7=\"HOS\",COUNTIF(C$7:C150,\"x\"),IF($A$7=\"E\",COUNTIF(D$7:D150,\"x\"),IF($A$7=\"CEO\",COUNTIF(E$7:E150,\"x\"),IF($A$7=\"CEQ\",COUNTIF(F$7:F150,\"x\"),IF($A$7=\"CI\",COUNTIF(G$7:G150,\"x\"),IF($A$7=\"PC\",COUNTIF(H$7:H150,\"x\"),IF($A$7=\"DPI\",COUNTIF(I$7:I150,\"x\"),IF($A$7=\"AP\",COUNTIF(J$7:J150,\"x\"),IF($A$7=\"F\",COUNTIF(K$7:K150,\"x\"),IF($A$7=\"CDE\",COUNTIF(L$7:L150,\"x\"),IF($A$7=\"MR\",COUNTIF(M$7:M150,\"x\"),IF($A$7=\"H\",COUNTIF(N$7:N150,\"x\"),IF($A$7=\"NYD\",COUNTIF(O$7:O150,\"x\"),IF($A$7=\"R\",COUNTIF(P$7:P150,\"x\"),IF($A$7=\"MN\",COUNTIF(Q$7:Q150,\"x\"),IF($A$7=\"CDH\",COUNTIF(R$7:R150,\"x\"),IF($A$7=\"PNA\",COUNTIF(S$7:S150,\"x\"),\" \"))))))))))))))))))","v":122},"x","x","x","x","x","x","x","x","x","x","x","x","x","x","x","x","x","x","FUNCIONAMIENTO Y MANEJO DE EQUIPOS ",{"$f":"'FICHA OCULTA'!G215","v":"Equipos biomédicos accesibles según le corresponda a la UPSS y de acuerdo al nivel de complejidad"},"EM",{"$f":"'FICHA OCULTA'!$I$222","v":0}]
[{"$f":"IF($A$7=\"CE\",COUNTIF(B$7:B151,\"x\"),IF($A$7=\"HOS\",COUNTIF(C$7:C151,\"x\"),IF($A$7=\"E\",COUNTIF(D$7:D151,\"x\"),IF($A$7=\"CEO\",COUNTIF(E$7:E151,\"x\"),IF($A$7=\"CEQ\",COUNTIF(F$7:F151,\"x\"),IF($A$7=\"CI\",COUNTIF(G$7:G151,\"x\"),IF($A$7=\"PC\",COUNTIF(H$7:H151,\"x\"),IF($A$7=\"DPI\",COUNTIF(I$7:I151,\"x\"),IF($A$7=\"AP\",COUNTIF(J$7:J151,\"x\"),IF($A$7=\"F\",COUNTIF(K$7:K151,\"x\"),IF($A$7=\"CDE\",COUNTIF(L$7:L151,\"x\"),IF($A$7=\"MR\",COUNTIF(M$7:M151,\"x\"),IF($A$7=\"H\",COUNTIF(N$7:N151,\"x\"),IF($A$7=\"NYD\",COUNTIF(O$7:O151,\"x\"),IF($A$7=\"R\",COUNTIF(P$7:P151,\"x\"),IF($A$7=\"MN\",COUNTIF(Q$7:Q151,\"x\"),IF($A$7=\"CDH\",COUNTIF(R$7:R151,\"x\"),IF($A$7=\"PNA\",COUNTIF(S$7:S151,\"x\"),\" \"))))))))))))))))))","v":123},"x","x","x","x","x","x","x","x","x","x","x","x","x","x","x","x","x","x","FUNCIONAMIENTO Y MANEJO DE EQUIPOS ",{"$f":"'FICHA OCULTA'!G216","v":"Equipos biomédicos operativos según le corresponda a la UPSS y de acuerdo al nivel de complejidad"},"EN",{"$f":"'FICHA OCULTA'!$I$222","v":0}]
[{"$f":"IF($A$7=\"CE\",COUNTIF(B$7:B152,\"x\"),IF($A$7=\"HOS\",COUNTIF(C$7:C152,\"x\"),IF($A$7=\"E\",COUNTIF(D$7:D152,\"x\"),IF($A$7=\"CEO\",COUNTIF(E$7:E152,\"x\"),IF($A$7=\"CEQ\",COUNTIF(F$7:F152,\"x\"),IF($A$7=\"CI\",COUNTIF(G$7:G152,\"x\"),IF($A$7=\"PC\",COUNTIF(H$7:H152,\"x\"),IF($A$7=\"DPI\",COUNTIF(I$7:I152,\"x\"),IF($A$7=\"AP\",COUNTIF(J$7:J152,\"x\"),IF($A$7=\"F\",COUNTIF(K$7:K152,\"x\"),IF($A$7=\"CDE\",COUNTIF(L$7:L152,\"x\"),IF($A$7=\"MR\",COUNTIF(M$7:M152,\"x\"),IF($A$7=\"H\",COUNTIF(N$7:N152,\"x\"),IF($A$7=\"NYD\",COUNTIF(O$7:O152,\"x\"),IF($A$7=\"R\",COUNTIF(P$7:P152,\"x\"),IF($A$7=\"MN\",COUNTIF(Q$7:Q152,\"x\"),IF($A$7=\"CDH\",COUNTIF(R$7:R152,\"x\"),IF($A$7=\"PNA\",COUNTIF(S$7:S152,\"x\"),\" \"))))))))))))))))))","v":124},"x","x","x","x","x","x","x","x","x","x","x","x","x","x","x","x","x","x","FUNCIONAMIENTO Y MANEJO DE EQUIPOS ",{"$f":"'FICHA OCULTA'!G217","v":"Verificación del conocimiento del personal sobre el funcionamiento de los equipos biomédicos, según responsabilidad."},"EO",{"$f":"'FICHA OCULTA'!$I$222","v":0}]
[{"$f":"IF($A$7=\"CE\",COUNTIF(B$7:B153,\"x\"),IF($A$7=\"HOS\",COUNTIF(C$7:C153,\"x\"),IF($A$7=\"E\",COUNTIF(D$7:D153,\"x\"),IF($A$7=\"CEO\",COUNTIF(E$7:E153,\"x\"),IF($A$7=\"CEQ\",COUNTIF(F$7:F153,\"x\"),IF($A$7=\"CI\",COUNTIF(G$7:G153,\"x\"),IF($A$7=\"PC\",COUNTIF(H$7:H153,\"x\"),IF($A$7=\"DPI\",COUNTIF(I$7:I153,\"x\"),IF($A$7=\"AP\",COUNTIF(J$7:J153,\"x\"),IF($A$7=\"F\",COUNTIF(K$7:K153,\"x\"),IF($A$7=\"CDE\",COUNTIF(L$7:L153,\"x\"),IF($A$7=\"MR\",COUNTIF(M$7:M153,\"x\"),IF($A$7=\"H\",COUNTIF(N$7:N153,\"x\"),IF($A$7=\"NYD\",COUNTIF(O$7:O153,\"x\"),IF($A$7=\"R\",COUNTIF(P$7:P153,\"x\"),IF($A$7=\"MN\",COUNTIF(Q$7:Q153,\"x\"),IF($A$7=\"CDH\",COUNTIF(R$7:R153,\"x\"),IF($A$7=\"PNA\",COUNTIF(S$7:S153,\"x\"),\" \"))))))))))))))))))","v":125},"x","x","x","x","x","x","x","x","x","x","x","x","x","x","x","x","x","x","FUNCIONAMIENTO Y MANEJO DE EQUIPOS ",{"$f":"'FICHA OCULTA'!G218","v":"Verificación de que la UPSS cuenta con un Plan Anual de Mantenimiento Preventivo de todos sus equipo biomédicos (inclusive los nuevos)."},"EP",{"$f":"'FICHA OCULTA'!$I$222","v":0}]
[{"$f":"IF($A$7=\"CE\",COUNTIF(B$7:B154,\"x\"),IF($A$7=\"HOS\",COUNTIF(C$7:C154,\"x\"),IF($A$7=\"E\",COUNTIF(D$7:D154,\"x\"),IF($A$7=\"CEO\",COUNTIF(E$7:E154,\"x\"),IF($A$7=\"CEQ\",COUNTIF(F$7:F154,\"x\"),IF($A$7=\"CI\",COUNTIF(G$7:G154,\"x\"),IF($A$7=\"PC\",COUNTIF(H$7:H154,\"x\"),IF($A$7=\"DPI\",COUNTIF(I$7:I154,\"x\"),IF($A$7=\"AP\",COUNTIF(J$7:J154,\"x\"),IF($A$7=\"F\",COUNTIF(K$7:K154,\"x\"),IF($A$7=\"CDE\",COUNTIF(L$7:L154,\"x\"),IF($A$7=\"MR\",COUNTIF(M$7:M154,\"x\"),IF($A$7=\"H\",COUNTIF(N$7:N154,\"x\"),IF($A$7=\"NYD\",COUNTIF(O$7:O154,\"x\"),IF($A$7=\"R\",COUNTIF(P$7:P154,\"x\"),IF($A$7=\"MN\",COUNTIF(Q$7:Q154,\"x\"),IF($A$7=\"CDH\",COUNTIF(R$7:R154,\"x\"),IF($A$7=\"PNA\",COUNTIF(S$7:S154,\"x\"),\" \"))))))))))))))))))","v":126},"x","x","x","x","x","x","x","x","x","x","x","x","x","x","x","x","x","x","FUNCIONAMIENTO Y MANEJO DE EQUIPOS ",{"$f":"'FICHA OCULTA'!G219","v":"Verificación de que la UPSS cumple con ejecutar su Plan Anual de Mantenimiento Preventivo de todos sus equipo biomédicos (inclusive los nuevos), mediante la visualización de las respectivas tarjetas."},"EQ",{"$f":"'FICHA OCULTA'!$I$222","v":0}]
[null,{"$f":"COUNTA(B8:B154)","v":82},{"$f":"COUNTA(C8:C154)","v":126},126,105,94,119,61,70,59,44,23,62,80,48,76,76,73,72]
[]
[]
[]
[]
[]
[]
[]
[]
[]
[]
[null,null,null,null,null,null,null,null,null,null,null,null,null,null,null,null,null,null,null,"B","BUENAS PRÁCTICAS EVALUADAS","% CUMPLIMIENTO"]
[null,null,null,null,null,null,null,null,null,null,null,null,null,null,null,null,null,null,null,{"$f":"COUNTIF(W$166:W167,$T$166)","v":1},"REGISTRO EN LA HISTORIA CLÍNICA",{"$f":"'FICHA OCULTA'!I51","v":0.521739130434783},{"$f":"IF(V167>=0,\"B\",\" \")","v":"B"}]
[null,null,null,null,null,null,null,null,null,null,null,null,null,null,null,null,null,null,null,{"$f":"COUNTIF(W$166:W168,$T$166)","v":2},"SEGURIDAD DEL PACIENTE EN LA UPSS",{"$f":"'FICHA OCULTA'!I89","v":0.416666666666667},"B"]
[null,null,null,null,null,null,null,null,null,null,null,null,null,null,null,null,null,null,null,{"$f":"COUNTIF(W$166:W169,$T$166)","v":3},"IDENTIFICACIÓN CORRECTA",{"$f":"'FICHA OCULTA'!I101","v":0},"B"]
[null,null,null,null,null,null,null,null,null,null,null,null,null,null,null,null,null,null,null,{"$f":"COUNTIF(W$166:W170,$T$166)","v":4},"PREVENCIÓN DE FUGA",{"$f":"'FICHA OCULTA'!I111","v":0},"B"]
[null,null,null,null,null,null,null,null,null,null,null,null,null,null,null,null,null,null,null,{"$f":"COUNTIF(W$166:W171,$T$166)","v":5},"SEGURIDAD EN LA MEDICACIÓN",{"$f":"'FICHA OCULTA'!I125","v":0.1},"B"]
[null,null,null,null,null,null,null,null,null,null,null,null,null,null,null,null,null,null,null,{"$f":"COUNTIF(W$166:W172,$T$166)","v":6},"PREVENCION DE CAIDAS Y CONTENCION MECANICA",{"$f":"'FICHA OCULTA'!I140","v":0.181818181818182},"B"]
[null,null,null,null,null,null,null,null,null,null,null,null,null,null,null,null,null,null,null,{"$f":"COUNTIF(W$166:W173,$T$166)","v":7},"SEGURIDAD SEXUAL",{"$f":"'FICHA OCULTA'!I150","v":0.333333333333333},"B"]
[null,null,null,null,null,null,null,null,null,null,null,null,null,null,null,null,null,null,null,{"$f":"COUNTIF(W$166:W174,$T$166)","v":8},"PREVENCIÓN Y REDUCCIÓN DEL RIESGO DE LAS UPP",{"$f":"'FICHA OCULTA'!I163","v":0.285714285714286},"B"]
[null,null,null,null,null,null,null,null,null,null,null,null,null,null,null,null,null,null,null,{"$f":"COUNTIF(W$166:W175,$T$166)","v":9},"PREVENCIÓN DEL SUICIDO Y LESIONES",{"$f":"'FICHA OCULTA'!I175","v":0.714285714285714},"B"]
[null,null,null,null,null,null,null,null,null,null,null,null,null,null,null,null,null,null,null,{"$f":"COUNTIF(W$166:W176,$T$166)","v":10},"COMUNICACIÓN EFECTIVA",{"$f":"'FICHA OCULTA'!I189","v":0.9},"B"]
[null,null,null,null,null,null,null,null,null,null,null,null,null,null,null,null,null,null,null,{"$f":"COUNTIF(W$166:W177,$T$166)","v":11},"HIGIENE DE MANOS",{"$f":"'FICHA OCULTA'!I201","v":0},"B"]
[null,null,null,null,null,null,null,null,null,null,null,null,null,null,null,null,null,null,null,{"$f":"COUNTIF(W$166:W178,$T$166)","v":12},"BIOSEGURIDAD ",{"$f":"'FICHA OCULTA'!I213","v":0.125},"B"]
[null,null,null,null,null,null,null,null,null,null,null,null,null,null,null,null,null,null,null,{"$f":"COUNTIF(W$166:W179,$T$166)","v":13},"FUNCIONAMIENTO Y MANEJO DE EQUIPOS",{"$f":"'FICHA OCULTA'!I222","v":0},"B"]
[null,null,null,null,null,null,null,null,null,null,null,null,null,null,null,null,null,null,null,null,null,{"$f":"AVERAGEIF(W167:W179,\"B\",V167:V179)","v":0.275273639404074}]

{"sheet":"MATRIZ DE RIESGOS","index":5,"n_rows":162,"n_cols":14,"rows_kept":162,"cut":false,"hidden":false,"merged":[[5,3,5,11],[7,3,7,10],[9,3,9,11],[11,3,11,10],[13,3,13,5],[14,3,14,5],[15,3,15,5],[15,8,15,10],[16,3,16,5],[16,8,16,10],[17,3,17,5],[17,8,17,10],[18,3,18,5],[18,8,18,10],[34,2,34,4],[34,6,34,7],[35,2,35,4],[35,6,35,7],[36,2,36,4],[36,6,36,7],[37,2,37,4],[37,6,37,7],[38,2,38,4],[38,6,38,7],[39,2,39,4],[39,6,39,7],[40,2,40,4],[40,6,40,7],[41,2,41,4],[41,6,41,7],[42,2,42,4],[42,6,42,7],[43,2,43,4],[43,6,43,7],[44,2,44,4],[44,6,44,7],[45,2,45,4],[45,6,45,7],[46,2,46,4],[46,6,46,7],[47,2,47,4],[47,6,47,7],[48,2,48,4],[48,6,48,7],[49,2,49,4],[49,6,49,7],[50,2,50,4],[50,6,50,7],[51,2,51,4],[51,6,51,7],[52,2,52,4],[52,6,52,7],[53,2,53,4],[53,6,53,7],[54,2,54,4],[54,6,54,7],[55,2,55,4],[55,6,55,7],[56,2,56,4],[56,6,56,7],[57,2,57,4],[57,6,57,7],[58,2,58,4],[58,6,58,7],[59,2,59,4],[59,6,59,7],[60,2,60,4],[60,6,60,7],[61,2,61,4],[61,6,61,7],[62,2,62,4],[62,6,62,7],[63,2,63,4],[63,6,63,7],[64,2,64,4],[64,6,64,7],[65,2,65,4],[65,6,65,7],[66,2,66,4],[66,6,66,7],[67,2,67,4],[67,6,67,7],[68,2,68,4],[68,6,68,7],[69,2,69,4],[69,6,69,7],[70,2,70,4],[70,6,70,7],[71,2,71,4],[71,6,71,7],[72,2,72,4],[72,6,72,7],[73,2,73,4],[73,6,73,7],[74,2,74,4],[74,6,74,7],[75,2,75,4],[75,6,75,7],[76,2,76,4],[76,6,76,7],[77,2,77,4],[77,6,77,7],[78,2,78,4],[78,6,78,7],[79,2,79,4],[79,6,79,7],[80,2,80,4],[80,6,80,7],[81,2,81,4],[81,6,81,7],[82,2,82,4],[82,6,82,7],[83,2,83,4],[83,6,83,7],[84,2,84,4],[84,6,84,7],[85,2,85,4],[85,6,85,7],[86,2,86,4],[86,6,86,7],[87,2,87,4],[87,6,87,7],[88,2,88,4],[88,6,88,7],[89,2,89,4],[89,6,89,7],[90,2,90,4],[90,6,90,7],[91,2,91,4],[91,6,91,7],[92,2,92,4],[92,6,92,7],[93,2,93,4],[93,6,93,7],[94,2,94,4],[94,6,94,7],[95,2,95,4],[95,6,95,7],[96,2,96,4],[96,6,96,7],[97,2,97,4],[97,6,97,7],[98,2,98,4],[98,6,98,7],[99,2,99,4],[99,6,99,7],[100,2,100,4],[100,6,100,7],[101,2,101,4],[101,6,101,7],[102,2,102,4],[102,6,102,7],[103,2,103,4],[103,6,103,7],[104,2,104,4],[104,6,104,7],[105,2,105,4],[105,6,105,7],[106,2,106,4],[106,6,106,7],[107,2,107,4],[107,6,107,7],[108,2,108,4],[108,6,108,7],[109,2,109,4],[109,6,109,7],[110,2,110,4],[110,6,110,7],[111,2,111,4],[111,6,111,7],[112,2,112,4],[112,6,112,7],[113,2,113,4],[113,6,113,7],[114,2,114,4],[114,6,114,7],[115,2,115,4],[115,6,115,7],[116,2,116,4],[116,6,116,7],[117,2,117,4],[117,6,117,7],[118,2,118,4],[118,6,118,7],[119,2,119,4],[119,6,119,7],[120,2,120,4],[120,6,120,7],[121,2,121,4],[121,6,121,7],[122,2,122,4],[122,6,122,7],[123,2,123,4],[123,6,123,7],[124,2,124,4],[124,6,124,7],[125,2,125,4],[125,6,125,7],[126,2,126,4],[126,6,126,7],[127,2,127,4],[127,6,127,7],[128,2,128,4],[128,6,128,7],[129,2,129,4],[129,6,129,7],[130,2,130,4],[130,6,130,7],[131,2,131,4],[131,6,131,7],[132,2,132,4],[132,6,132,7],[133,2,133,4],[133,6,133,7],[134,2,134,4],[134,6,134,7],[135,2,135,4],[135,6,135,7],[136,2,136,4],[136,6,136,7],[137,2,137,4],[137,6,137,7],[138,2,138,4],[138,6,138,7],[139,2,139,4],[139,6,139,7],[140,2,140,4],[140,6,140,7],[141,2,141,4],[141,6,141,7],[142,2,142,4],[142,6,142,7],[143,2,143,4],[143,6,143,7],[144,2,144,4],[144,6,144,7],[145,2,145,4],[145,6,145,7],[146,2,146,4],[146,6,146,7],[147,2,147,4],[147,6,147,7],[148,2,148,4],[148,6,148,7],[149,2,149,4],[149,6,149,7],[150,2,150,4],[150,6,150,7],[151,2,151,4],[151,6,151,7],[152,2,152,4],[152,6,152,7],[153,2,153,4],[153,6,153,7],[154,2,154,4],[154,6,154,7],[155,2,155,4],[155,6,155,7],[156,2,156,4],[156,6,156,7],[157,2,157,4],[157,6,157,7],[158,2,158,4],[158,6,158,7],[159,2,159,4],[159,6,159,7],[160,2,160,4],[160,6,160,7],[161,2,161,4],[161,6,161,7],[1,3,2,6]]}
[]
[null,null,null,"UNIDAD FUNCIONAL DE GESTIÓN DE LA CALIDAD EN SALUD"]
[]
[]
[]
[null,null,null,{"$f":"+'MENU PRINCIPAL'!B2","v":"APLICATIVO  DE RONDAS  DE SEGURIDAD DEL PACIENTE PARA LA GESTIÓN DEL RIESGO EN LA ATENCION DE SALUD"}]
[]
[]
[]
[null,null,null,"MATRIZ DE RIESGOS"]
[null,null,null,null,null,null,null,null,null,"IR A MENU "]
[]
[]
[null,null,null,"ÓRGANO DESCONCENTRADO:",null,null,{"$f":"'MENU PRINCIPAL'!C20","v":"INSTITUTO NACIONAL MATERNO PERINATAL"},"TRIMESTRE:",{"$f":"'FICHA EVALUACIÓN'!J14","v":"I TRIMESTRE"},"AÑO:",{"$f":"'FICHA EVALUACIÓN'!L14","v":2023}]
[null,null,null,"IPRESS:",null,null,{"$f":"IF('FICHA EVALUACIÓN'!H15=0,\" \",'FICHA EVALUACIÓN'!H15)","v":"HOSPITAL DE ESPINAR"},"FECHA APLICACION:",null,{"$f":"IF('FICHA EVALUACIÓN'!K15=0,\" \",'FICHA EVALUACIÓN'!K15)","v":"2023-03-29"},"(DD/MM/AAAA)"]
[null,null,null,"UPSS:",null,null,{"$f":"'FICHA EVALUACIÓN'!H16","v":"EMERGENCIA"},"RESP.EPIDEMIOLOGIA:",{"$f":"IF('FICHA EVALUACIÓN'!J16=0,\" \",'FICHA EVALUACIÓN'!J16)","v":"LIC. ISABEL ROMERO JACHA"}]
[null,null,null,"TITULAR/RESPONSABLE IPRESS:",null,null,{"$f":"IF('MENU PRINCIPAL'!C22=0,\" \",'MENU PRINCIPAL'!C22)","v":"Dr.EDWIN SOTO CCAYAHUALLPA"},"RESP. DE LA UPSS:",{"$f":"IF('FICHA EVALUACIÓN'!J17=0,\" \",'FICHA EVALUACIÓN'!J17)","v":"DR. EDINSON VALDERRAMA MAMANI"}]
[null,null,null,"RESP. DE ADMINISTRACION:",null,null,{"$f":"IF('FICHA EVALUACIÓN'!H18=0,\" \",'FICHA EVALUACIÓN'!H18)","v":"LIC. JUVENAL TAIRO ZAMBRANO"},"RESP.OFIC./UNIDAD CALIDAD:",{"$f":"IF('FICHA EVALUACIÓN'!J18=0,\" \",'FICHA EVALUACIÓN'!J18)","v":"LIC. JUDITH K. CAHUATA TURO"}]
[null,null,null,"RESP.DPTO/SERVICIO ENFERMERÍA:",null,null,{"$f":"IF('FICHA EVALUACIÓN'!H19=0,\" \",'FICHA EVALUACIÓN'!H19)","v":"LIC. MARIO CHOQUE ROMERO."},"OTROS RESPONSABLES:",{"$f":"IF('FICHA EVALUACIÓN'!J19=0,\" \",'FICHA EVALUACIÓN'!J19)","v":"LIC. IRMA LUPACA JIHUAÑA"}]
[]
[]
[]
[]
[]
[]
[]
[]
[]
[]
[]
[]
[]
[]
[]
[null,null,"BUENAS PRÁCTICAS",null,null,"%","VERIFICADOR",null,"CUMPLIMIENTO","PROBABILIDAD","GRAVEDAD / IMPACTO","VALORACIÓN DEL RIESGO"]
[null,1,{"$f":"IFERROR(VLOOKUP(B36,ma_no,2,FALSE),\" \")","v":"HISTORIA CLINICA "},null,null,{"$f":"IFERROR(VLOOKUP(B36,ma_no,4,FALSE),\" \")","v":0.521739130434783},{"$f":"IFERROR(VLOOKUP(B36,ma_no,6,FALSE),\" \")","v":"Registro completo de la filiación del paciente: Datos del EESS, Nº de HCl, Nombres y Apellidos del Paciente, Lugar y fecha de nacimiento, Edad, Sexo, Domicilio, Procedencia, Teléfono, DNI, Seguro, Estado Civi, Instrucción, Ocupación, Religión, Acompañante o Responsable de ser el caso."},null,{"$f":"IFERROR(VLOOKUP(B36,ma_no,8,FALSE),\" \")","v":"NO"},4,7,{"$f":"IFERROR(J36*K36,\" \")","v":28}]
[null,2,"HISTORIA CLINICA ",null,null,0.521739130434783,{"$f":"IFERROR(VLOOKUP(B37,ma_no,6,FALSE),\" \")","v":"Registro de los antecedentes del paciente."},null,"NO",4,7,{"$f":"IFERROR(J37*K37,\" \")","v":28},null,2]
[null,3,"HISTORIA CLINICA ",null,null,0.521739130434783,"Registro de la Funciones Biológicas: apetito, sed, sueño, orina, deposiciones, estado de animo. ",null,"NO",4,7,28]
[null,4,"HISTORIA CLINICA ",null,null,0.521739130434783,"Registro de evolución del paciente: Fecha y hora de atención, Apreciación Subjetiva, Apreciación Objetiva, Tratamiento, Dieta, Interpretación de exámenes y comentario, terapeútica y Plan de trabajo, firma, sello y colegiatura del médico responsable.",null,"NO",4,7,28]
[null,5,"HISTORIA CLINICA ",null,null,0.521739130434783,"Registro y gráfico actualizado de la Funciones Vitales.",null,"NO",4,7,28]
[null,6,"HISTORIA CLINICA ",null,null,0.521739130434783,"Registro de la Hoja de Balance hidro - electrolítico actualizado.",null,"NO",3,4,12]
[null,7,"HISTORIA CLINICA ",null,null,0.521739130434783,"Registro e inclusión en la Historia Clínica de los resultados de examenes auxiliares y procedimientos del paciente.",null,"NO",4,7,28]
[null,8,"HISTORIA CLINICA ",null,null,0.521739130434783,"En caso de haberse producido un evento adverso, este ha sido registrado en la HCl o en algún medio de registro evidenciable.",null,"NO",4,7,28]
[null,9,"HISTORIA CLINICA ",null,null,0.521739130434783,"Registro completo del Consentimiento Informado de acuerdo a la normatividad vigente.",null,"NO",4,7,28]
[null,10,"HISTORIA CLINICA ",null,null,0.521739130434783,"Registro de los informes de los procedimientos realizados al paciente.",null,"NO",4,7,28]
[null,11,"HISTORIA CLINICA ",null,null,0.521739130434783,"La letra de la Historia Clínica es legible",null,"NO",4,7,28]
[null,12,"SEGURIDAD EN LA UPSS",null,null,0.416666666666667,"La solicitud de medicamentos e insumos se gestionan oportunamente durante el turno.",null,"NO",4,7,28]
[null,13,"SEGURIDAD EN LA UPSS",null,null,0.416666666666667,"Personal conoce del sistema de registro y notificación de incidentes y eventos adversos.",null,"NO",4,7,28]
[null,14,"SEGURIDAD EN LA UPSS",null,null,0.416666666666667,"Registro físico y/o virtual de los incidentes y eventos adversos en la UPSS.",null,"NO",4,7,28]
[null,15,"SEGURIDAD EN LA UPSS",null,null,0.416666666666667,"Análisis y plan de intervención sobre la información de los incidentes y eventos adversos.",null,"NO",4,7,28]
[null,16,"SEGURIDAD EN LA UPSS",null,null,0.416666666666667,"Registro físico o digital de notificación de accidentes de trabajo del personal asistencial.",null,"NO",4,7,28]
[null,17,"SEGURIDAD EN LA UPSS",null,null,0.416666666666667,"Timbre o sistema de llamado se encuentra cerca del paciente y está operativo.",null,"NO",3,4,12]
[null,18,"SEGURIDAD EN LA UPSS",null,null,0.416666666666667,"Barandas de las camas funcionan y están levantadas para proteger al paciente.",null,"NO",4,7,28]
[null,19,"IDENTIFICACIÓN CORRECTA DEL PACIENTE ",null,null,0,"Paciente tiene brazalete de identificación y los datos registrados son correctos y completos.",null,"NO",4,7,28]
[null,20,"IDENTIFICACIÓN CORRECTA DEL PACIENTE ",null,null,0,"Cartel visible que tenga registrado el nombre completo del paciente.",null,"NO",4,7,28]
[null,21,"IDENTIFICACIÓN CORRECTA DEL PACIENTE ",null,null,0,"Datos proporcionados por el paciente, son similares a los registrados en la historia clínica.",null,"NO",4,7,28]
[null,22,"IDENTIFICACIÓN CORRECTA DEL PACIENTE ",null,null,0,"Verificación de la identidad del paciente con el brazalete antes de cualquier procedimiento.",null,"NO",4,7,28]
[null,23,"IDENTIFICACIÓN CORRECTA DEL PACIENTE ",null,null,0,"Identificación de riesgo de caidas del paciente tanto en el brazalete del paciente como en el cartel visible.",null,"NO",4,7,28]
[null,24,"IDENTIFICACIÓN CORRECTA DEL PACIENTE ",null,null,0,"Conocimiento del paciente o familiar responsable sobre su enfermedad, su evolución y pronóstico del mismo, el cual debe concordar con la información registrada en la historia clínica.",null,"NO",4,7,28]
[null,25,"IDENTIFICACIÓN CORRECTA DEL PACIENTE ",null,null,0,"Paciente  informado al que se  le han aclado sus dudas y preguntas respecto a algún procedimiento o cirugía, evidenciandose la firma del Consentimiento respectivo.",null,"NO",4,7,28]
[null,26,"PREVENCIÓN DE LA FUGA DE PACIENTES",null,null,0,"Paciente cuenta con ropa de hospital facilmente identificable.",null,"NO",4,7,28]
[null,27,"PREVENCIÓN DE LA FUGA DE PACIENTES",null,null,0,"Vigilancia controla las pertenencias de los pacientes y las visitas para evitar el uso inadecuado de objetos potencialmente peligrosos.",null,"NO",4,7,28]
[null,28,"PREVENCIÓN DE LA FUGA DE PACIENTES",null,null,0,"Tienen un sistema efectivo de control de las salidas y entradas del servicio de hospitalización.",null,"NO",4,7,28]
[null,29,"PREVENCIÓN DE LA FUGA DE PACIENTES",null,null,0,"Entrevistas con el paciente para valorar el riesgo potencial de fuga. Solo en casos de oposición activa y riesgo inminente de fuga se recurrirá a la contención mecánica.",null,"NO",4,7,28]
[null,30,"PREVENCIÓN DE LA FUGA DE PACIENTES",null,null,0,"Registro en la hoja de recomendaciones terapéuticas el riesgo de fuga del paciente y la activación de las medidas de supervisión oportunas.",null,"NO",4,7,28]
[null,31,"PREVENCIÓN DE LA FUGA DE PACIENTES",null,null,0,"Existencia de un procedimiento o protocolo que se active en caso de fuga de paciente.",null,"NO",3,4,12]
[null,32,"SEGURIDAD EN LA MEDICACIÓN  ",null,null,0.1,"Paciente conoce que medicamentos recibe y a que hora corresponde que se lo administren.",null,"NO",4,7,28]
[null,33,{"$f":"IFERROR(VLOOKUP(B68,ma_no,2,FALSE),\" \")","v":"SEGURIDAD EN LA MEDICACIÓN  "},null,null,{"$f":"IFERROR(VLOOKUP(B68,ma_no,4,FALSE),\" \")","v":0.1},{"$f":"IFERROR(VLOOKUP(B68,ma_no,6,FALSE),\" \")","v":"Paciente conoce los efectos secundarios que pueden producirle los medicamentos que recibe."},null,{"$f":"IFERROR(VLOOKUP(B68,ma_no,8,FALSE),\" \")","v":"NO"},4,7,28]
[null,34,"SEGURIDAD EN LA MEDICACIÓN  ",null,null,0.1,"Coche de paro cuenta con los insumos necesarios para atender situaciones críticas según normatividad vigente.",null,"NO",4,7,28]
[null,35,"SEGURIDAD EN LA MEDICACIÓN  ",null,null,0.1,"Soluciones endovenosas se encuentran debidamente rotulados con la fecha y  los componentes contenidas en ella.",null,"NO",4,7,28]
[null,36,"SEGURIDAD EN LA MEDICACIÓN  ",null,null,0.1,"Almacenamiento ordenado de los medicamentos  para evitar su confusión por su similitud de nombres o de presentación.",null,"NO",4,7,28]
[null,37,"SEGURIDAD EN LA MEDICACIÓN  ",null,null,0.1,"Medicamentos se clasifican para su almacenamiento local según el nombre del paciente por dosis unitaria.",null,"NO",4,7,28]
[null,38,"SEGURIDAD EN LA MEDICACIÓN  ",null,null,0.1,"Medicamentos e insumos médicos cuentan con un mecanismo efectivo de control de vencimiento / caducidad.",null,"NO",4,7,28]
[null,39,"SEGURIDAD EN LA MEDICACIÓN  ",null,null,0.1,"Existencia de un registro de medicamentos controlados.",null,"NO",4,7,28]
[null,40,"SEGURIDAD EN LA MEDICACIÓN  ",null,null,0.1,"Profesional encargado del cuidado de los pacientes verifica los 5 correctos para la administración correcta de medicamentos.",null,"NO",4,7,28]
[null,41,"PREVENCIÓN DE CAIDA DE PACIENTES Y CONTENCION MECÁNICA",null,null,0.181818181818182,"Valoración del riesgo de caída de todo paciente que se hospitaliza.",null,"NO",4,7,28]
[null,42,"PREVENCIÓN DE CAIDA DE PACIENTES Y CONTENCION MECÁNICA",null,null,0.181818181818182,"Revaloración diaria de pacientes: ancianos, aquellos sometidos a polifarmacia, los drogodependientes y las personas con déficits neurológicos ‐ cognitivos.",null,"NO",4,7,28]
[null,43,"PREVENCIÓN DE CAIDA DE PACIENTES Y CONTENCION MECÁNICA",null,null,0.181818181818182,"Información a los pacientes sobre los efectos secundarios de la medicación que pueden afectar la orientación y el sensorio.",null,"NO",4,7,28]
[null,44,"PREVENCIÓN DE CAIDA DE PACIENTES Y CONTENCION MECÁNICA",null,null,0.181818181818182,"En casos de sedación y deterioro cognitivo severo se utilizarán barras de protección lateral o contención abdominal cuando el paciente se encuentre encamado.",null,"NO",4,7,28]
[null,45,"PREVENCIÓN DE CAIDA DE PACIENTES Y CONTENCION MECÁNICA",null,null,0.181818181818182,"Comunicar al paciente temas relacionados al uso de los baños, uso de las duchas, uso de los lavaderos, cambios posturales periodicos, etc.",null,"NO",4,7,28]
[null,46,"PREVENCIÓN DE CAIDA DE PACIENTES Y CONTENCION MECÁNICA",null,null,0.181818181818182,"Protocolo que establezca población objetivo, indicaciones, medidas preventivas, profesionales responsables de la indicación y supervisión de los diversos mecanismos de sujeción mecanica.",null,"NO",4,7,28]
[null,47,"PREVENCIÓN DE CAIDA DE PACIENTES Y CONTENCION MECÁNICA",null,null,0.181818181818182,"Sistemas de registro específicos de todo paciente con sujeción mecánica, el que se debe de reevaluar periódicamente la situación y el tiempo de sujeción.",null,"NO",4,7,28]
[null,48,"PREVENCIÓN DE CAIDA DE PACIENTES Y CONTENCION MECÁNICA",null,null,0.181818181818182,"Asegurarse que las técnicas de inmovilización puedan ser retiradas fácilmente.",null,"NO",3,4,12]
[null,49,"PREVENCIÓN DE CAIDA DE PACIENTES Y CONTENCION MECÁNICA",null,null,0.181818181818182,"Evidencia de cambio periódico de la posición de la inmovilización y evaluación de las zonas cutáneas sometidas a presión.",null,"NO",3,4,12]
[null,50,"SEGURIDAD SEXUAL",null,null,0.333333333333333,"Información disponible y clara referente a las consecuencias penales de las agresiones sexuales.",null,"NO",4,7,28]
[null,51,"SEGURIDAD SEXUAL",null,null,0.333333333333333,"El protocolo de recepción de un paciente establece la prohibición expresa de mantener relaciones sexuales durante la hospitalización.",null,"NO",4,7,28]
[null,52,"SEGURIDAD SEXUAL",null,null,0.333333333333333,"Control de la entrada de pacientes a cualquier habitación que no sea la propia.",null,"NO",4,7,28]
[null,53,"SEGURIDAD SEXUAL",null,null,0.333333333333333,"Al detectar conductas desinhibidas se comunicará al resto del equipo y se discutirán las medidas a tomar, que quedarán registradas en la hoja de recomendaciones terapéuticas.",null,"NO",4,7,28]
[null,54,"PREVENCIÓN Y REDUCCIÓN DEL RIESGO DE LAS ÚLCERAS POR PRESIÓN",null,null,0.285714285714286,"Evaluación inicial del riesgo de úlceras por presión en todos los pacientes al ingreso a servicios de hospitalización",null,"NO",4,7,28]
[null,55,"PREVENCIÓN Y REDUCCIÓN DEL RIESGO DE LAS ÚLCERAS POR PRESIÓN",null,null,0.285714285714286,"Protocolización de la guía de atención para la prevención y control de úlceras por presión.",null,"NO",4,7,28]
[null,56,"PREVENCIÓN Y REDUCCIÓN DEL RIESGO DE LAS ÚLCERAS POR PRESIÓN",null,null,0.285714285714286,"Planificación, ejecución y evaluación del programa educativo dirigido a paciente, su cuidador y la familia. ",null,"NO",4,7,28]
[null,57,"PREVENCIÓN Y REDUCCIÓN DEL RIESGO DE LAS ÚLCERAS POR PRESIÓN",null,null,0.285714285714286,"Notificación de úlceras por presión (incidencia y prevalencia) en un registro diario instaurado en los servicios de hospitalización.",null,"NO",4,7,28]
[null,58,"PREVENCIÓN Y REDUCCIÓN DEL RIESGO DE LAS ÚLCERAS POR PRESIÓN",null,null,0.285714285714286,"Aplicación de guía de curación de úlceras por presión según estadíos.",null,"NO",4,7,28]
[null,59,"PREVENCIÓN DEL SUICIDO Y LESIONES",null,null,0.714285714285714,"Ubicar al paciente en el Servicio / Unidad más adecuada a sus necesidades y en función del riesgo detectado.",null,"NO",4,7,28]
[null,60,"PREVENCIÓN DEL SUICIDO Y LESIONES",null,null,0.714285714285714,"El protocolo de prevención de conductas suicidas debe incluir correcta ubicación del paciente, la necesidad o no de sujeción mecánica, la supervisión así como la constancia en el registro de cualquier incidencia, el control de salidas y de visitas.",null,"NO",4,7,28]
[null,61,"COMUNICACIÓN EFECTIVA",null,null,0.9,"La UPSS proporciona información sobre sus servicios, horarios de atención a pacientes y/o familiares y el proceso para obtener atención.",null,"NO",4,7,28]
[null,62,"HIGIENE DE MANOS",null,null,0,"Disponibilidad de dispensadores con preparados de base alcohólica para manos.",null,"NO",4,7,28]
[null,63,"HIGIENE DE MANOS",null,null,0,"Disponibilidad de lavamanos con suministro de agua y jabón.",null,"NO",4,7,28]
[null,64,"HIGIENE DE MANOS",null,null,0,"Disponibilidad de papel toalla en todos los lavamanos.",null,"NO",4,7,28]
[null,65,{"$f":"IFERROR(VLOOKUP(B100,ma_no,2,FALSE),\" \")","v":"HIGIENE DE MANOS"},null,null,{"$f":"IFERROR(VLOOKUP(B100,ma_no,4,FALSE),\" \")","v":0},{"$f":"IFERROR(VLOOKUP(B100,ma_no,6,FALSE),\" \")","v":"Cumplimiento del ratio lavamanos/ paciente-cama de al menos 1:10"},null,{"$f":"IFERROR(VLOOKUP(B100,ma_no,8,FALSE),\" \")","v":"NO"},4,7,28]
[null,66,"HIGIENE DE MANOS",null,null,0,"Cumplimiento de los 08 pasos de la desinfección de manos (pasos y tiempo).",null,"NO",4,7,{"$f":"IFERROR(J101*K101,\" \")","v":28}]
[null,67,"HIGIENE DE MANOS",null,null,0,"Cumplimiento de los 11 pasos del lavado de manos (pasos y tiempo).",null,"NO",4,7,28]
[null,68,"HIGIENE DE MANOS",null,null,0,"Porcentaje de cumplimiento > 80%, del requisito de realizar la higiene de las manos durante su actividad asistencial de acuerdo con los cinco momentos de la higiene de manos.",null,"NO",4,7,28]
[null,69,"HIGIENE DE MANOS",null,null,0,"Mensajes y dibujos que promueven la adherencia a la higiene de manos colocados en sitios estratégicos.",null,"NO",4,7,28]
[null,70,"BIOSEGURIDAD",null,null,0.125,"Disposición de residuos sólidos de acuerdo a las normas.",null,"NO",4,7,28]
[null,71,"BIOSEGURIDAD",null,null,0.125,"Eliminación de material punzo cortante y agujas de acuerdo a las normas.",null,"NO",4,7,28]
[null,72,"BIOSEGURIDAD",null,null,0.125,"Cumplimiento de las medidas de aislamiento.",null,"NO",3,4,12]
[null,73,"BIOSEGURIDAD",null,null,0.125,"El servicio ha implementado el uso de 'Care Bundle\" o Paquete de Medidas para la prevención de las IAAS basadas en evidencia médica. ",null,"NO",4,7,28]
[null,74,"BIOSEGURIDAD",null,null,0.125,"Evidencia de desarrollo de actividades de vigilancia epidemiológica activa, selectiva y localizada de IAAS en la UPSS.",null,"NO",4,7,28]
[null,75,"BIOSEGURIDAD",null,null,0.125,"Se observa si se encuentran señalizados las zonas rígidas y semirígidas de la Unidad Productora de Servicios de Salud.",null,"NO",3,4,12]
[null,76,"BIOSEGURIDAD",null,null,0.125,"Se observa si se respetan las zonas rígidas y semirígidas de la Unidad Productora de Servicios de Salud.",null,"NO",3,4,12]
[null,77,"FUNCIONAMIENTO Y MANEJO DE EQUIPOS ",null,null,0,"Equipos biomédicos accesibles según le corresponda a la UPSS y de acuerdo al nivel de complejidad",null,"NO",4,7,28]
[null,78,"FUNCIONAMIENTO Y MANEJO DE EQUIPOS ",null,null,0,"Equipos biomédicos operativos según le corresponda a la UPSS y de acuerdo al nivel de complejidad",null,"NO",4,7,28]
[null,79,"FUNCIONAMIENTO Y MANEJO DE EQUIPOS ",null,null,0,"Verificación del conocimiento del personal sobre el funcionamiento de los equipos biomédicos, según responsabilidad.",null,"NO",4,7,28]
[null,80,"FUNCIONAMIENTO Y MANEJO DE EQUIPOS ",null,null,0,"Verificación de que la UPSS cuenta con un Plan Anual de Mantenimiento Preventivo de todos sus equipo biomédicos (inclusive los nuevos).",null,"NO",4,7,28]
[null,81,"FUNCIONAMIENTO Y MANEJO DE EQUIPOS ",null,null,0,"Verificación de que la UPSS cumple con ejecutar su Plan Anual de Mantenimiento Preventivo de todos sus equipo biomédicos (inclusive los nuevos), mediante la visualización de las respectivas tarjetas.",null,"NO",4,7,28]
[null,82," ",null,null," "," ",null," ","SELECCIONE","SELECCIONE"," "]
[null,83," ",null,null," "," ",null," ","SELECCIONE","SELECCIONE"," "]
[null,84," ",null,null," "," ",null," ","SELECCIONE","SELECCIONE"," "]
[null,85," ",null,null," "," ",null," ","SELECCIONE","SELECCIONE"," "]
[null,86," ",null,null," "," ",null," ","SELECCIONE","SELECCIONE"," "]
[null,87," ",null,null," "," ",null," ","SELECCIONE","SELECCIONE"," "]
[null,88," ",null,null," "," ",null," ","SELECCIONE","SELECCIONE"," "]
[null,89," ",null,null," "," ",null," ","SELECCIONE","SELECCIONE"," "]
[null,90," ",null,null," "," ",null," ","SELECCIONE","SELECCIONE"," "]
[null,91," ",null,null," "," ",null," ","SELECCIONE","SELECCIONE"," "]
[null,92," ",null,null," "," ",null," ","SELECCIONE","SELECCIONE"," "]
[null,93," ",null,null," "," ",null," ","SELECCIONE","SELECCIONE"," "]
[null,94," ",null,null," "," ",null," ","SELECCIONE","SELECCIONE"," "]
[null,95," ",null,null," "," ",null," ","SELECCIONE","SELECCIONE"," "]
[null,96," ",null,null," "," ",null," ","SELECCIONE","SELECCIONE"," "]
[null,97,{"$f":"IFERROR(VLOOKUP(B132,ma_no,2,FALSE),\" \")","v":" "},null,null,{"$f":"IFERROR(VLOOKUP(B132,ma_no,4,FALSE),\" \")","v":" "},{"$f":"IFERROR(VLOOKUP(B132,ma_no,6,FALSE),\" \")","v":" "},null,{"$f":"IFERROR(VLOOKUP(B132,ma_no,8,FALSE),\" \")","v":" "},"SELECCIONE","SELECCIONE"," "]
[null,98," ",null,null," "," ",null," ","SELECCIONE","SELECCIONE"," "]
[null,99," ",null,null," "," ",null," ","SELECCIONE","SELECCIONE"," "]
[null,100," ",null,null," "," ",null," ","SELECCIONE","SELECCIONE"," "]
[null,101," ",null,null," "," ",null," ","SELECCIONE","SELECCIONE"," "]
[null,102," ",null,null," "," ",null," ","SELECCIONE","SELECCIONE"," "]
[null,103," ",null,null," "," ",null," ","SELECCIONE","SELECCIONE"," "]
[null,104," ",null,null," "," ",null," ","SELECCIONE","SELECCIONE"," "]
[null,105," ",null,null," "," ",null," ","SELECCIONE","SELECCIONE"," "]
[null,106," ",null,null," "," ",null," ","SELECCIONE","SELECCIONE"," "]
[null,107," ",null,null," "," ",null," ","SELECCIONE","SELECCIONE"," "]
[null,108," ",null,null," "," ",null," ","SELECCIONE","SELECCIONE"," "]
[null,109," ",null,null," "," ",null," ","SELECCIONE","SELECCIONE"," "]
[null,110," ",null,null," "," ",null," ","SELECCIONE","SELECCIONE"," "]
[null,111," ",null,null," "," ",null," ","SELECCIONE","SELECCIONE"," "]
[null,112," ",null,null," "," ",null," ","SELECCIONE","SELECCIONE"," "]
[null,113," ",null,null," "," ",null," ","SELECCIONE","SELECCIONE"," "]
[null,114," ",null,null," "," ",null," ","SELECCIONE","SELECCIONE"," "]
[null,115," ",null,null," "," ",null," ","SELECCIONE","SELECCIONE"," "]
[null,116," ",null,null," "," ",null," ","SELECCIONE","SELECCIONE"," "]
[null,117," ",null,null," "," ",null," ","SELECCIONE","SELECCIONE"," "]
[null,118," ",null,null," "," ",null," ","SELECCIONE","SELECCIONE",{"$f":"IFERROR(J153*K153,\" \")","v":" "}]
[null,119," ",null,null," "," ",null," ","SELECCIONE","SELECCIONE"," "]
[null,120," ",null,null," "," ",null," ","SELECCIONE","SELECCIONE"," "]
[null,121," ",null,null," "," ",null," ","SELECCIONE","SELECCIONE"," "]
[null,122,{"$f":"IFERROR(VLOOKUP(B157,ma_no,2,FALSE),\" \")","v":" "},null,null,{"$f":"IFERROR(VLOOKUP(B157,ma_no,4,FALSE),\" \")","v":" "},{"$f":"IFERROR(VLOOKUP(B157,ma_no,6,FALSE),\" \")","v":" "},null,{"$f":"IFERROR(VLOOKUP(B157,ma_no,8,FALSE),\" \")","v":" "},"SELECCIONE","SELECCIONE"," "]
[null,123," ",null,null," "," ",null," ","SELECCIONE","SELECCIONE"," "]
[null,124," ",null,null," "," ",null," ","SELECCIONE","SELECCIONE"," "]
[null,125," ",null,null," "," ",null," ","SELECCIONE","SELECCIONE"," "]
[null,126," ",null,null," "," ",null," ","SELECCIONE","SELECCIONE"," "]
[null,127," ",null,null," "," ",null," ","SELECCIONE","SELECCIONE"," "]

{"sheet":"PLAN DE ACCIÓN","index":6,"n_rows":152,"n_cols":12,"rows_kept":152,"cut":false,"hidden":false,"merged":[[5,2,5,11],[7,2,7,8],[9,2,9,11],[11,2,11,8],[13,2,13,3],[14,2,14,3],[15,2,15,3],[15,6,15,8],[16,2,16,3],[16,6,16,8],[17,2,17,3],[17,6,17,8],[18,2,18,3],[18,6,18,8],[24,5,24,7],[24,8,24,10],[25,5,25,7],[25,8,25,10],[26,5,26,7],[26,8,26,10],[27,5,27,7],[27,8,27,10],[28,5,28,7],[28,8,28,10],[29,5,29,7],[29,8,29,10],[30,5,30,7],[30,8,30,10],[31,5,31,7],[31,8,31,10],[32,5,32,7],[32,8,32,10],[33,5,33,7],[33,8,33,10],[34,5,34,7],[34,8,34,10],[35,5,35,7],[35,8,35,10],[36,5,36,7],[36,8,36,10],[37,5,37,7],[37,8,37,10],[38,5,38,7],[38,8,38,10],[39,5,39,7],[39,8,39,10],[40,5,40,7],[40,8,40,10],[41,5,41,7],[41,8,41,10],[42,5,42,7],[42,8,42,10],[43,5,43,7],[43,8,43,10],[44,5,44,7],[44,8,44,10],[45,5,45,7],[45,8,45,10],[46,5,46,7],[46,8,46,10],[47,5,47,7],[47,8,47,10],[48,5,48,7],[48,8,48,10],[49,5,49,7],[49,8,49,10],[50,5,50,7],[50,8,50,10],[51,5,51,7],[51,8,51,10],[52,5,52,7],[52,8,52,10],[53,5,53,7],[53,8,53,10],[54,5,54,7],[54,8,54,10],[55,5,55,7],[55,8,55,10],[56,5,56,7],[56,8,56,10],[57,5,57,7],[57,8,57,10],[58,5,58,7],[58,8,58,10],[59,5,59,7],[59,8,59,10],[60,5,60,7],[60,8,60,10],[61,5,61,7],[61,8,61,10],[62,5,62,7],[62,8,62,10],[63,5,63,7],[63,8,63,10],[64,5,64,7],[64,8,64,10],[65,5,65,7],[65,8,65,10],[66,5,66,7],[66,8,66,10],[67,5,67,7],[67,8,67,10],[68,5,68,7],[68,8,68,10],[69,5,69,7],[69,8,69,10],[70,5,70,7],[70,8,70,10],[71,5,71,7],[71,8,71,10],[72,5,72,7],[72,8,72,10],[73,5,73,7],[73,8,73,10],[74,5,74,7],[74,8,74,10],[75,5,75,7],[75,8,75,10],[76,5,76,7],[76,8,76,10],[77,5,77,7],[77,8,77,10],[78,5,78,7],[78,8,78,10],[79,5,79,7],[79,8,79,10],[80,5,80,7],[80,8,80,10],[81,5,81,7],[81,8,81,10],[82,5,82,7],[82,8,82,10],[83,5,83,7],[83,8,83,10],[84,5,84,7],[84,8,84,10],[85,5,85,7],[85,8,85,10],[86,5,86,7],[86,8,86,10],[87,5,87,7],[87,8,87,10],[88,5,88,7],[88,8,88,10],[89,5,89,7],[89,8,89,10],[90,5,90,7],[90,8,90,10],[91,5,91,7],[91,8,91,10],[92,5,92,7],[92,8,92,10],[93,5,93,7],[93,8,93,10],[94,5,94,7],[94,8,94,10],[95,5,95,7],[95,8,95,10],[96,5,96,7],[96,8,96,10],[97,5,97,7],[97,8,97,10],[98,5,98,7],[98,8,98,10],[99,5,99,7],[99,8,99,10],[100,5,100,7],[100,8,100,10],[101,5,101,7],[101,8,101,10],[102,5,102,7],[102,8,102,10],[103,5,103,7],[103,8,103,10],[104,5,104,7],[104,8,104,10],[105,5,105,7],[105,8,105,10],[106,5,106,7],[106,8,106,10],[107,5,107,7],[107,8,107,10],[108,5,108,7],[108,8,108,10],[109,5,109,7],[109,8,109,10],[110,5,110,7],[110,8,110,10],[111,5,111,7],[111,8,111,10],[112,5,112,7],[112,8,112,10],[113,5,113,7],[113,8,113,10],[114,5,114,7],[114,8,114,10],[115,5,115,7],[115,8,115,10],[116,5,116,7],[116,8,116,10],[117,5,117,7],[117,8,117,10],[118,5,118,7],[118,8,118,10],[119,5,119,7],[119,8,119,10],[120,5,120,7],[120,8,120,10],[121,5,121,7],[121,8,121,10],[122,5,122,7],[122,8,122,10],[123,5,123,7],[123,8,123,10],[124,5,124,7],[124,8,124,10],[125,5,125,7],[125,8,125,10],[126,5,126,7],[126,8,126,10],[127,5,127,7],[127,8,127,10],[128,5,128,7],[128,8,128,10],[129,5,129,7],[129,8,129,10],[130,5,130,7],[130,8,130,10],[131,5,131,7],[131,8,131,10],[132,5,132,7],[132,8,132,10],[133,5,133,7],[133,8,133,10],[134,5,134,7],[134,8,134,10],[135,5,135,7],[135,8,135,10],[136,5,136,7],[136,8,136,10],[137,5,137,7],[137,8,137,10],[138,5,138,7],[138,8,138,10],[139,5,139,7],[139,8,139,10],[140,5,140,7],[140,8,140,10],[141,5,141,7],[141,8,141,10],[142,5,142,7],[142,8,142,10],[143,5,143,7],[143,8,143,10],[144,5,144,7],[144,8,144,10],[145,5,145,7],[145,8,145,10],[146,5,146,7],[146,8,146,10],[147,5,147,7],[147,8,147,10],[148,5,148,7],[148,8,148,10],[149,5,149,7],[149,8,149,10],[150,5,150,7],[150,8,150,10],[151,5,151,7],[151,8,151,10],[1,2,2,4]]}
[]
[null,null,"UNIDAD FUNCIONAL DE GESTIÓN DE LA CALIDAD EN SALUD"]
[]
[]
[]
[null,null,{"$f":"+'MENU PRINCIPAL'!B2","v":"APLICATIVO  DE RONDAS  DE SEGURIDAD DEL PACIENTE PARA LA GESTIÓN DEL RIESGO EN LA ATENCION DE SALUD"}]
[]
[]
[]
[null,null,"PLAN DE ACCIÓN"]
[null,null,null,null,null,null,null,"IR A MENU "]
[]
[]
[null,null,"ÓRGANO DESCONCENTRADO:",null,{"$f":"'MENU PRINCIPAL'!C20","v":"INSTITUTO NACIONAL MATERNO PERINATAL"},"TRIMESTRE:",{"$f":"'FICHA EVALUACIÓN'!J14","v":"I TRIMESTRE"},"AÑO:",{"$f":"'FICHA EVALUACIÓN'!L14","v":2023}]
[null,null,"IPRESS:",null,{"$f":"IF('FICHA EVALUACIÓN'!H15=0,\" \",'FICHA EVALUACIÓN'!H15)","v":"HOSPITAL DE ESPINAR"},"FECHA APLICACION:",null,{"$f":"IF('FICHA EVALUACIÓN'!K15=0,\" \",'FICHA EVALUACIÓN'!K15)","v":"2023-03-29"},"(DD/MM/AAAA)"]
[null,null,"UPSS:",null,{"$f":"'FICHA EVALUACIÓN'!H16","v":"EMERGENCIA"},"RESP.EPIDEMIOLOGIA:",{"$f":"IF('FICHA EVALUACIÓN'!J16=0,\" \",'FICHA EVALUACIÓN'!J16)","v":"LIC. ISABEL ROMERO JACHA"}]
[null,null,"TITULAR/RESPONSABLE IPRESS:",null,{"$f":"IF('MENU PRINCIPAL'!C22=0,\" \",'MENU PRINCIPAL'!C22)","v":"Dr.EDWIN SOTO CCAYAHUALLPA"},"RESP. DE LA UPSS:",{"$f":"IF('FICHA EVALUACIÓN'!J17=0,\" \",'FICHA EVALUACIÓN'!J17)","v":"DR. EDINSON VALDERRAMA MAMANI"}]
[null,null,"RESP. DE ADMINISTRACION:",null,{"$f":"IF('FICHA EVALUACIÓN'!H18=0,\" \",'FICHA EVALUACIÓN'!H18)","v":"LIC. JUVENAL TAIRO ZAMBRANO"},"RESP.OFIC./UNIDAD CALIDAD:",{"$f":"IF('FICHA EVALUACIÓN'!J18=0,\" \",'FICHA EVALUACIÓN'!J18)","v":"LIC. JUDITH K. CAHUATA TURO"}]
[null,null,"RESP. DPTO/SERVICIO ENFERMERÍA:",null,{"$f":"IF('FICHA EVALUACIÓN'!H19=0,\" \",'FICHA EVALUACIÓN'!H19)","v":"LIC. MARIO CHOQUE ROMERO."},"OTROS RESPONSABLES:",{"$f":"IF('FICHA EVALUACIÓN'!J19=0,\" \",'FICHA EVALUACIÓN'!J19)","v":"LIC. IRMA LUPACA JIHUAÑA"}]
[]
[]
[]
[]
[]
[null,null,"PRIORIDAD","BUENAS PRÁCTICAS","VERIFICADOR INSEGURO","ACCIONES CORRECTIVAS",null,null,"RESPONSABLE\n(CARGO)",null,null,"PLAZO \n(dd/mm/aaaa)"]
[null,null,{"$f":"'PRIORIDAD DE INTERVENCIÓN'!J37","v":56},{"$f":"'PRIORIDAD DE INTERVENCIÓN'!B37","v":"HISTORIA CLINICA "},{"$f":"'PRIORIDAD DE INTERVENCIÓN'!E37:F37","v":"Registro de los antecedentes del paciente."},"Se recomienda que todas las Historias clinicas deben ser bien llenadas con los anatecedentes",null,null,"DR. Edinson Valderrama Mamani.",null,null,"2023-05-05"]
[null,null,{"$f":"'PRIORIDAD DE INTERVENCIÓN'!J36","v":28},{"$f":"'PRIORIDAD DE INTERVENCIÓN'!B36","v":"HISTORIA CLINICA "},{"$f":"'PRIORIDAD DE INTERVENCIÓN'!E36:F36","v":"Registro completo de la filiación del paciente: Datos del EESS, Nº de HCl, Nombres y Apellidos del Paciente, Lugar y fecha de nacimiento, Edad, Sexo, Domicilio, Procedencia, Teléfono, DNI, Seguro, Estado Civi, Instrucción, Ocupación, Religión, Acompañante o Responsable de ser el caso."},"Se recomienda que todas las Historias clinicas deben ser bien llenadas con los datos completos  esto con el fin de tener mas informacion  sobre el paciente",null,null,"DR. Edinson Valderrama Mamani.",null,null,"2023-05-05"]
[null,null,{"$f":"'PRIORIDAD DE INTERVENCIÓN'!J42","v":84},{"$f":"'PRIORIDAD DE INTERVENCIÓN'!B42","v":"HISTORIA CLINICA "},{"$f":"'PRIORIDAD DE INTERVENCIÓN'!E42:F42","v":"Registro e inclusión en la Historia Clínica de los resultados de examenes auxiliares y procedimientos del paciente."},"Se recomienda que las historias clinicas deben estar completas con sus examenes auxiliares para evaluar mas pronto al paciente",null,null,"DR. Edinson Valderrama Mamani.",null,null,"2023-05-05"]
[null,null,{"$f":"'PRIORIDAD DE INTERVENCIÓN'!J40","v":28},{"$f":"'PRIORIDAD DE INTERVENCIÓN'!B40","v":"HISTORIA CLINICA "},{"$f":"'PRIORIDAD DE INTERVENCIÓN'!E40:F40","v":"Registro y gráfico actualizado de la Funciones Vitales."},"Se recomienda que implementen la hoja grafica de funciones vitales y sean registrados para tener un control mejor del paciente",null,null,"DR. Edinson Valderrama Mamani.",null,null,"2023-05-05"]
[null,null,{"$f":"'PRIORIDAD DE INTERVENCIÓN'!J38","v":56},{"$f":"'PRIORIDAD DE INTERVENCIÓN'!B38","v":"HISTORIA CLINICA "},{"$f":"'PRIORIDAD DE INTERVENCIÓN'!E38:F38","v":"Registro de la Funciones Biológicas: apetito, sed, sueño, orina, deposiciones, estado de animo. "},"Se recomienda  registrar  en la hisctoria clinica  todas estas funciones biologicas  para de acuerso a eso realizar un adecuado balance hirdrico del paciente",null,null,"DR. Edinson Valderrama Mamani.",null,null,"2023-05-05"]
[null,null,{"$f":"'PRIORIDAD DE INTERVENCIÓN'!J41","v":12},{"$f":"'PRIORIDAD DE INTERVENCIÓN'!B41","v":"HISTORIA CLINICA "},{"$f":"'PRIORIDAD DE INTERVENCIÓN'!E41:F41","v":"Registro de la Hoja de Balance hidro - electrolítico actualizado."},"Se recomienda implementar la hoja de balance hidrico pa ra controlar adecuadamente el ingreso y egreso de electrolitos",null,null,"DR. Edinson Valderrama Mamani.",null,null,"2023-05-05"]
[null,null,{"$f":"'PRIORIDAD DE INTERVENCIÓN'!J39","v":28},{"$f":"'PRIORIDAD DE INTERVENCIÓN'!B39","v":"HISTORIA CLINICA "},{"$f":"'PRIORIDAD DE INTERVENCIÓN'!E39:F39","v":"Registro de evolución del paciente: Fecha y hora de atención, Apreciación Subjetiva, Apreciación Objetiva, Tratamiento, Dieta, Interpretación de exámenes y comentario, terapeútica y Plan de trabajo, firma, sello y colegiatura del médico responsable."},"Se recomienda a los Señores Medicos hacer la evolucion del paciente  despues de tener  los resultados de los examenes",null,null,"DR. Edinson Valderrama Mamani.",null,null,"2023-05-05"]
[null,null,{"$f":"'PRIORIDAD DE INTERVENCIÓN'!J43","v":84},{"$f":"'PRIORIDAD DE INTERVENCIÓN'!B43","v":"HISTORIA CLINICA "},{"$f":"'PRIORIDAD DE INTERVENCIÓN'!E43:F43","v":"En caso de haberse producido un evento adverso, este ha sido registrado en la HCl o en algún medio de registro evidenciable."},"Se recomienda implementar el registro de eventos adversos en la historia clinica",null,null,"DR. Edinson Valderrama Mamani.",null,null,"2023-05-05"]
[null,null,{"$f":"'PRIORIDAD DE INTERVENCIÓN'!J50","v":84},{"$f":"'PRIORIDAD DE INTERVENCIÓN'!B50","v":"SEGURIDAD EN LA UPSS"},{"$f":"'PRIORIDAD DE INTERVENCIÓN'!E50:F50","v":"Análisis y plan de intervención sobre la información de los incidentes y eventos adversos."},"Se recomienda implementar el plan y anlisis de eventos adversos",null,null,"DR. Edinson Valderrama Mamani.",null,null,"2023-05-05"]
[null,null,{"$f":"'PRIORIDAD DE INTERVENCIÓN'!J46","v":84},{"$f":"'PRIORIDAD DE INTERVENCIÓN'!B46","v":"HISTORIA CLINICA "},{"$f":"'PRIORIDAD DE INTERVENCIÓN'!E46:F46","v":"La letra de la Historia Clínica es legible"},"Se recomienda que la letra de la historia clinica debe ser legible ya que aveces solicitan informacion  los pacientes y no se entiende  lo que esta escrito en la historia",null,null,"DR. Edinson Valderrama Mamani.",null,null,"2023-05-05"]
[null,null,{"$f":"'PRIORIDAD DE INTERVENCIÓN'!J47","v":84},{"$f":"'PRIORIDAD DE INTERVENCIÓN'!B47","v":"SEGURIDAD EN LA UPSS"},{"$f":"'PRIORIDAD DE INTERVENCIÓN'!E47:F47","v":"La solicitud de medicamentos e insumos se gestionan oportunamente durante el turno."},"Se recomienda que deben implementar un kit de medicamentos  para las emergencias para no tener problemas con farmacia al momento de cambio de turno",null,null,"DR. Edinson Valderrama Mamani.",null,null,"2023-05-05"]
[null,null,{"$f":"'PRIORIDAD DE INTERVENCIÓN'!J49","v":84},{"$f":"'PRIORIDAD DE INTERVENCIÓN'!B49","v":"SEGURIDAD EN LA UPSS"},{"$f":"'PRIORIDAD DE INTERVENCIÓN'!E49:F49","v":"Registro físico y/o virtual de los incidentes y eventos adversos en la UPSS."},"Se recomienda implementar un registro  fisico o virtual de los incidentes o eventos adversos",null,null,"DR. Edinson Valderrama Mamani.",null,null,"2023-05-05"]
[null,null,{"$f":"'PRIORIDAD DE INTERVENCIÓN'!J44","v":84},{"$f":"'PRIORIDAD DE INTERVENCIÓN'!B44","v":"HISTORIA CLINICA "},{"$f":"'PRIORIDAD DE INTERVENCIÓN'!E44:F44","v":"Registro completo del Consentimiento Informado de acuerdo a la normatividad vigente."},"Se recomienda implementar la hoja de consentimiento informado para que el paciente tenga onocimiento de todo  la atencion que se le ralizara",null,null,"DR. Edinson Valderrama Mamani.",null,null,"2023-05-05"]
[null,null,{"$f":"'PRIORIDAD DE INTERVENCIÓN'!J48","v":84},{"$f":"'PRIORIDAD DE INTERVENCIÓN'!B48","v":"SEGURIDAD EN LA UPSS"},{"$f":"'PRIORIDAD DE INTERVENCIÓN'!E48:F48","v":"Personal conoce del sistema de registro y notificación de incidentes y eventos adversos."},"Se recomienda socializar  e implementar registro y notificacion de eventos adversos",null,null,"DR. Edinson Valderrama Mamani.",null,null,"2023-05-05"]
[null,null,{"$f":"'PRIORIDAD DE INTERVENCIÓN'!J45","v":84},{"$f":"'PRIORIDAD DE INTERVENCIÓN'!B45","v":"HISTORIA CLINICA "},{"$f":"'PRIORIDAD DE INTERVENCIÓN'!E45:F45","v":"Registro de los informes de los procedimientos realizados al paciente."},"Se recomienda implementar un cuaderno de procedimientos  y con eso dar una buena informacion al paciente de todos los procedimientos realizados",null,null,"DR. Edinson Valderrama Mamani.",null,null,"2023-05-05"]
[null,null,{"$f":"'PRIORIDAD DE INTERVENCIÓN'!J51","v":84},{"$f":"'PRIORIDAD DE INTERVENCIÓN'!B51","v":"SEGURIDAD EN LA UPSS"},{"$f":"'PRIORIDAD DE INTERVENCIÓN'!E51:F51","v":"Registro físico o digital de notificación de accidentes de trabajo del personal asistencial."},"Se recomienda implementar un registro fisico o digital de notificacion de accidentes de trabajo",null,null,"DR. Edinson Valderrama Mamani.",null,null,"2023-05-05"]
[null,null,{"$f":"'PRIORIDAD DE INTERVENCIÓN'!J52","v":36},{"$f":"'PRIORIDAD DE INTERVENCIÓN'!B52","v":"SEGURIDAD EN LA UPSS"},{"$f":"'PRIORIDAD DE INTERVENCIÓN'!E52:F52","v":"Timbre o sistema de llamado se encuentra cerca del paciente y está operativo."},"Se sugiere que debe implementarse un timbre para que el paciente pueda llamar mas rapido al personal para su atencion  pero no se cuenta con ambientes propios  ",null,null,"DR. Edinson Valderrama Mamani.",null,null,"2023-05-05"]
[null,null,{"$f":"'PRIORIDAD DE INTERVENCIÓN'!J53","v":84},{"$f":"'PRIORIDAD DE INTERVENCIÓN'!B53","v":"SEGURIDAD EN LA UPSS"},{"$f":"'PRIORIDAD DE INTERVENCIÓN'!E53:F53","v":"Barandas de las camas funcionan y están levantadas para proteger al paciente."},"Se recomienda siempre subir las barandas de las camillas y camas para evitar las caidas  de los pacientes ",null,null,"DR. Edinson Valderrama Mamani.",null,null,"2023-05-05"]
[null,null,{"$f":"'PRIORIDAD DE INTERVENCIÓN'!J54","v":84},{"$f":"'PRIORIDAD DE INTERVENCIÓN'!B54","v":"IDENTIFICACIÓN CORRECTA DEL PACIENTE "},{"$f":"'PRIORIDAD DE INTERVENCIÓN'!E54:F54","v":"Paciente tiene brazalete de identificación y los datos registrados son correctos y completos."},"Se recomienda que todos los pacientes si o si deben tener sus brazaletes de identificacion para poder identificarlos con facilidad",null,null,"DR. Edinson Valderrama Mamani.",null,null,"2023-05-05"]
[null,null,{"$f":"'PRIORIDAD DE INTERVENCIÓN'!J55","v":84},{"$f":"'PRIORIDAD DE INTERVENCIÓN'!B55","v":"IDENTIFICACIÓN CORRECTA DEL PACIENTE "},{"$f":"'PRIORIDAD DE INTERVENCIÓN'!E55:F55","v":"Cartel visible que tenga registrado el nombre completo del paciente."},"Se recomienda que todos los carteles deben estar visibles con sus datos completos del paciente para poner el tratamiento correcto al paciente",null,null,"DR. Edinson Valderrama Mamani.",null,null,"2023-05-05"]
[null,null,{"$f":"'PRIORIDAD DE INTERVENCIÓN'!J56","v":84},{"$f":"'PRIORIDAD DE INTERVENCIÓN'!B56","v":"IDENTIFICACIÓN CORRECTA DEL PACIENTE "},{"$f":"'PRIORIDAD DE INTERVENCIÓN'!E56:F56","v":"Datos proporcionados por el paciente, son similares a los registrados en la historia clínica."},"Se recomienda que los datos del paciente sean bien registrados en la historia clinica  esto con el fin de dar el tratamiento correcto",null,null,"DR. Edinson Valderrama Mamani.",null,null,"2023-05-05"]
[null,null,{"$f":"'PRIORIDAD DE INTERVENCIÓN'!J57","v":84},{"$f":"'PRIORIDAD DE INTERVENCIÓN'!B57","v":"IDENTIFICACIÓN CORRECTA DEL PACIENTE "},{"$f":"'PRIORIDAD DE INTERVENCIÓN'!E57:F57","v":"Verificación de la identidad del paciente con el brazalete antes de cualquier procedimiento."},"Se recomienda que todos los pacientes deben contar con sus brazalestes para realizarles sus procedimientos",null,null,"DR. Edinson Valderrama Mamani.",null,null,"2023-05-05"]
[null,null,{"$f":"'PRIORIDAD DE INTERVENCIÓN'!J58","v":84},{"$f":"'PRIORIDAD DE INTERVENCIÓN'!B58","v":"IDENTIFICACIÓN CORRECTA DEL PACIENTE "},{"$f":"'PRIORIDAD DE INTERVENCIÓN'!E58:F58","v":"Identificación de riesgo de caidas del paciente tanto en el brazalete del paciente como en el cartel visible."},"Se recomienda implementar los brazaletes de identificacion",null,null,"DR. Edinson Valderrama Mamani.",null,null,"2023-05-05"]
[null,null,{"$f":"'PRIORIDAD DE INTERVENCIÓN'!J59","v":84},{"$f":"'PRIORIDAD DE INTERVENCIÓN'!B59","v":"IDENTIFICACIÓN CORRECTA DEL PACIENTE "},{"$f":"'PRIORIDAD DE INTERVENCIÓN'!E59:F59","v":"Conocimiento del paciente o familiar responsable sobre su enfermedad, su evolución y pronóstico del mismo, el cual debe concordar con la información registrada en la historia clínica."},"Se recomienda brindar informacion a sus familiares sobre la enfermedad de su familiar para que este enterado sobre el tratamiento que debe recibir",null,null,"DR. Edinson Valderrama Mamani.",null,null,"2023-05-05"]
[null,null,{"$f":"'PRIORIDAD DE INTERVENCIÓN'!J60","v":84},{"$f":"'PRIORIDAD DE INTERVENCIÓN'!B60","v":"IDENTIFICACIÓN CORRECTA DEL PACIENTE "},{"$f":"'PRIORIDAD DE INTERVENCIÓN'!E60:F60","v":"Paciente  informado al que se  le han aclado sus dudas y preguntas respecto a algún procedimiento o cirugía, evidenciandose la firma del Consentimiento respectivo."},"Se recomienda que se  brinde informacion sobre todos los procedimientos  que se le realizara al  paciente  para que tenga conocimiento",null,null,"DR. Edinson Valderrama Mamani.",null,null,"2023-05-05"]
[null,null,{"$f":"'PRIORIDAD DE INTERVENCIÓN'!J61","v":84},{"$f":"'PRIORIDAD DE INTERVENCIÓN'!B61","v":"PREVENCIÓN DE LA FUGA DE PACIENTES"},{"$f":"'PRIORIDAD DE INTERVENCIÓN'!E61:F61","v":"Paciente cuenta con ropa de hospital facilmente identificable."},"Se recomienda que soliciten la compra de pijamas para todos los pacientes para poder  identificarlos",null,null,"DR. Edinson Valderrama Mamani.",null,null,"2023-05-05"]
[null,null,{"$f":"'PRIORIDAD DE INTERVENCIÓN'!J62","v":84},{"$f":"'PRIORIDAD DE INTERVENCIÓN'!B62","v":"PREVENCIÓN DE LA FUGA DE PACIENTES"},{"$f":"'PRIORIDAD DE INTERVENCIÓN'!E62:F62","v":"Vigilancia controla las pertenencias de los pacientes y las visitas para evitar el uso inadecuado de objetos potencialmente peligrosos."},"Se recomienda que soliciten vigilancia  en el hospital ya que no se cuenta con vigilantes",null,null,"DR. Edinson Valderrama Mamani.",null,null,"2023-05-05"]
[null,null,{"$f":"'PRIORIDAD DE INTERVENCIÓN'!J63","v":84},{"$f":"'PRIORIDAD DE INTERVENCIÓN'!B63","v":"PREVENCIÓN DE LA FUGA DE PACIENTES"},{"$f":"'PRIORIDAD DE INTERVENCIÓN'!E63:F63","v":"Tienen un sistema efectivo de control de las salidas y entradas del servicio de hospitalización."},"Se recomienda  poner un Vigilante  para que haga un control  exclusivo",null,null,"DR. Edinson Valderrama Mamani.",null,null,"2023-05-05"]
[null,null,{"$f":"'PRIORIDAD DE INTERVENCIÓN'!J64","v":84},{"$f":"'PRIORIDAD DE INTERVENCIÓN'!B64","v":"PREVENCIÓN DE LA FUGA DE PACIENTES"},{"$f":"'PRIORIDAD DE INTERVENCIÓN'!E64:F64","v":"Entrevistas con el paciente para valorar el riesgo potencial de fuga. Solo en casos de oposición activa y riesgo inminente de fuga se recurrirá a la contención mecánica."},"Se recomienda que se tenga un vigilante para que este pendiente de la fuga de los pacientes",null,null,"DR. Edinson Valderrama Mamani.",null,null,"2023-05-05"]
[null,null,{"$f":"'PRIORIDAD DE INTERVENCIÓN'!J65","v":84},{"$f":"'PRIORIDAD DE INTERVENCIÓN'!B65","v":"PREVENCIÓN DE LA FUGA DE PACIENTES"},{"$f":"'PRIORIDAD DE INTERVENCIÓN'!E65:F65","v":"Registro en la hoja de recomendaciones terapéuticas el riesgo de fuga del paciente y la activación de las medidas de supervisión oportunas."},"Se recomienda implementar un cuaderno de recomendaciones terapeuticas y asi mismo hacer las cordinaciones con el vigilante",null,null,"DR. Edinson Valderrama Mamani.",null,null,"2023-05-05"]
[null,null,{"$f":"'PRIORIDAD DE INTERVENCIÓN'!J66","v":36},{"$f":"'PRIORIDAD DE INTERVENCIÓN'!B66","v":"PREVENCIÓN DE LA FUGA DE PACIENTES"},{"$f":"'PRIORIDAD DE INTERVENCIÓN'!E66:F66","v":"Existencia de un procedimiento o protocolo que se active en caso de fuga de paciente."},"Es recomendable tener un protocolo que se active en caso de fuga de los pacientes",null,null,"DR. Edinson Valderrama Mamani.",null,null,"2023-05-05"]
[null,null,{"$f":"'PRIORIDAD DE INTERVENCIÓN'!J67","v":84},{"$f":"'PRIORIDAD DE INTERVENCIÓN'!B67","v":"SEGURIDAD EN LA MEDICACIÓN  "},{"$f":"'PRIORIDAD DE INTERVENCIÓN'!E67:F67","v":"Paciente conoce que medicamentos recibe y a que hora corresponde que se lo administren."},"Se recomienda  que se brinde informacion y consejeria  en el tratamiento que se administre al paciente",null,null,"DR. Edinson Valderrama Mamani.",null,null,"2023-05-05"]
[null,null,{"$f":"'PRIORIDAD DE INTERVENCIÓN'!J68","v":84},{"$f":"'PRIORIDAD DE INTERVENCIÓN'!B68","v":"SEGURIDAD EN LA MEDICACIÓN  "},{"$f":"'PRIORIDAD DE INTERVENCIÓN'!E68:F68","v":"Paciente conoce los efectos secundarios que pueden producirle los medicamentos que recibe."},"Se recomienda que brinden la informacion de los efectos secundarios que pueden producir los medicamentos",null,null,"DR. Edinson Valderrama Mamani.",null,null,"2023-05-05"]
[null,null,{"$f":"'PRIORIDAD DE INTERVENCIÓN'!J69","v":84},{"$f":"'PRIORIDAD DE INTERVENCIÓN'!B69","v":"SEGURIDAD EN LA MEDICACIÓN  "},{"$f":"'PRIORIDAD DE INTERVENCIÓN'!E69:F69","v":"Coche de paro cuenta con los insumos necesarios para atender situaciones críticas según normatividad vigente."},"Se recomienda que cuenten con un coche de paro esto con el fin de que ante cualquier emergencia tengan con que atender ",null,null,"DR. Edinson Valderrama Mamani.",null,null,"2023-05-05"]
[null,null,{"$f":"'PRIORIDAD DE INTERVENCIÓN'!J70","v":84},{"$f":"'PRIORIDAD DE INTERVENCIÓN'!B70","v":"SEGURIDAD EN LA MEDICACIÓN  "},{"$f":"'PRIORIDAD DE INTERVENCIÓN'!E70:F70","v":"Soluciones endovenosas se encuentran debidamente rotulados con la fecha y  los componentes contenidas en ella."},"Se recomienda rotular las soluciones  endovenosas para saber que solucion le estan poniendo, asi mismo acon que medicamentos mas , el goteo , nombre y fecha del paciente para que no se confunda con el tratamiento de otros poacientes",null,null,"DR. Edinson Valderrama Mamani.",null,null,"2023-05-05"]
[null,null,{"$f":"'PRIORIDAD DE INTERVENCIÓN'!J71","v":84},{"$f":"'PRIORIDAD DE INTERVENCIÓN'!B71","v":"SEGURIDAD EN LA MEDICACIÓN  "},{"$f":"'PRIORIDAD DE INTERVENCIÓN'!E71:F71","v":"Almacenamiento ordenado de los medicamentos  para evitar su confusión por su similitud de nombres o de presentación."},"Es recomendable que el almacenamiento de medicamentos  esten separados y rotulados para evitar confusiones",null,null,"DR. Edinson Valderrama Mamani.",null,null,"2023-05-05"]
[null,null,{"$f":"'PRIORIDAD DE INTERVENCIÓN'!J72","v":84},{"$f":"'PRIORIDAD DE INTERVENCIÓN'!B72","v":"SEGURIDAD EN LA MEDICACIÓN  "},{"$f":"'PRIORIDAD DE INTERVENCIÓN'!E72:F72","v":"Medicamentos se clasifican para su almacenamiento local según el nombre del paciente por dosis unitaria."},"Se recomienda implementar un coche para clasificar la medicacion de cada paciente",null,null,"DR. Edinson Valderrama Mamani.",null,null,"2023-05-05"]
[null,null,{"$f":"'PRIORIDAD DE INTERVENCIÓN'!J127","v":0},{"$f":"'PRIORIDAD DE INTERVENCIÓN'!B127","v":" "},{"$f":"'PRIORIDAD DE INTERVENCIÓN'!E127:F127","v":" "}]
[null,null,{"$f":"'PRIORIDAD DE INTERVENCIÓN'!J161","v":0},{"$f":"'PRIORIDAD DE INTERVENCIÓN'!B161","v":" "},{"$f":"'PRIORIDAD DE INTERVENCIÓN'!E161:F161","v":" "}]
[null,null,{"$f":"'PRIORIDAD DE INTERVENCIÓN'!J73","v":0},{"$f":"'PRIORIDAD DE INTERVENCIÓN'!B73","v":"SEGURIDAD EN LA MEDICACIÓN  "},{"$f":"'PRIORIDAD DE INTERVENCIÓN'!E73:F73","v":"Medicamentos e insumos médicos cuentan con un mecanismo efectivo de control de vencimiento / caducidad."},"Se recomienda implementar un cuaderno para controlar  las fechas de vencimientos de los medicamentos",null,null,"DR. Edinson Valderrama Mamani.",null,null,"2023-05-05"]
[null,null,{"$f":"'PRIORIDAD DE INTERVENCIÓN'!J74","v":0},{"$f":"'PRIORIDAD DE INTERVENCIÓN'!B74","v":"SEGURIDAD EN LA MEDICACIÓN  "},{"$f":"'PRIORIDAD DE INTERVENCIÓN'!E74:F74","v":"Existencia de un registro de medicamentos controlados."},"Se recomienda implementar un cuaderno exclusivo para los medicamentos controlados",null,null,"DR. Edinson Valderrama Mamani.",null,null,"2023-05-05"]
[null,null,{"$f":"'PRIORIDAD DE INTERVENCIÓN'!J75","v":0},{"$f":"'PRIORIDAD DE INTERVENCIÓN'!B75","v":"SEGURIDAD EN LA MEDICACIÓN  "},{"$f":"'PRIORIDAD DE INTERVENCIÓN'!E75:F75","v":"Profesional encargado del cuidado de los pacientes verifica los 5 correctos para la administración correcta de medicamentos."},"Se recomienda al  personal del servicio que deben poner en practica los 5 correctos",null,null,"DR. Edinson Valderrama Mamani.",null,null,"2023-05-05"]
[null,null,{"$f":"'PRIORIDAD DE INTERVENCIÓN'!J76","v":0},{"$f":"'PRIORIDAD DE INTERVENCIÓN'!B76","v":"PREVENCIÓN DE CAIDA DE PACIENTES Y CONTENCION MECÁNICA"},{"$f":"'PRIORIDAD DE INTERVENCIÓN'!E76:F76","v":"Valoración del riesgo de caída de todo paciente que se hospitaliza."},"Se recomienda al que deben  poner en practica la valoracion de caidas en todo paciente",null,null,"DR. Edinson Valderrama Mamani.",null,null,"2023-05-05"]
[null,null,{"$f":"'PRIORIDAD DE INTERVENCIÓN'!J77","v":0},{"$f":"'PRIORIDAD DE INTERVENCIÓN'!B77","v":"PREVENCIÓN DE CAIDA DE PACIENTES Y CONTENCION MECÁNICA"},{"$f":"'PRIORIDAD DE INTERVENCIÓN'!E77:F77","v":"Revaloración diaria de pacientes: ancianos, aquellos sometidos a polifarmacia, los drogodependientes y las personas con déficits neurológicos ‐ cognitivos."},"Se recomienda siempre que deben evaluar a los pacientes ancianos para evitar efectos secundarios por los medicamentos ",null,null,"DR. Edinson Valderrama Mamani.",null,null,"2023-05-05"]
[null,null,{"$f":"'PRIORIDAD DE INTERVENCIÓN'!J78","v":0},{"$f":"'PRIORIDAD DE INTERVENCIÓN'!B78","v":"PREVENCIÓN DE CAIDA DE PACIENTES Y CONTENCION MECÁNICA"},{"$f":"'PRIORIDAD DE INTERVENCIÓN'!E78:F78","v":"Información a los pacientes sobre los efectos secundarios de la medicación que pueden afectar la orientación y el sensorio."},"Se recomienda que a todo paciente que ingrese al servicio de emergencia le brinden informacion sobre los efectos secundarios de la medicacion al administrarle o darle un tratamiento",null,null,"DR. Edinson Valderrama Mamani.",null,null,"2023-05-05"]
[null,null,{"$f":"'PRIORIDAD DE INTERVENCIÓN'!J79","v":0},{"$f":"'PRIORIDAD DE INTERVENCIÓN'!B79","v":"PREVENCIÓN DE CAIDA DE PACIENTES Y CONTENCION MECÁNICA"},{"$f":"'PRIORIDAD DE INTERVENCIÓN'!E79:F79","v":"En casos de sedación y deterioro cognitivo severo se utilizarán barras de protección lateral o contención abdominal cuando el paciente se encuentre encamado."},"Se recomienda siempre brindar proteccion al paciente ante la administracion de sedantes para evitar caidas",null,null,"DR. Edinson Valderrama Mamani.",null,null,"2023-05-05"]
[null,null,{"$f":"'PRIORIDAD DE INTERVENCIÓN'!J80","v":0},{"$f":"'PRIORIDAD DE INTERVENCIÓN'!B80","v":"PREVENCIÓN DE CAIDA DE PACIENTES Y CONTENCION MECÁNICA"},{"$f":"'PRIORIDAD DE INTERVENCIÓN'!E80:F80","v":"Comunicar al paciente temas relacionados al uso de los baños, uso de las duchas, uso de los lavaderos, cambios posturales periodicos, etc."},"Se debe recomendar a los pacientes sobre el uso de baños o duchas para evitar daños al paciente",null,null,"DR. Edinson Valderrama Mamani.",null,null,"2023-05-05"]
[null,null,{"$f":"'PRIORIDAD DE INTERVENCIÓN'!J81","v":0},{"$f":"'PRIORIDAD DE INTERVENCIÓN'!B81","v":"PREVENCIÓN DE CAIDA DE PACIENTES Y CONTENCION MECÁNICA"},{"$f":"'PRIORIDAD DE INTERVENCIÓN'!E81:F81","v":"Protocolo que establezca población objetivo, indicaciones, medidas preventivas, profesionales responsables de la indicación y supervisión de los diversos mecanismos de sujeción mecanica."},"Se sugiere que implementen un protocolo para evitar accidentes o medidads preventivas dentro del servicio",null,null,"DR. Edinson Valderrama Mamani.",null,null,"2023-05-05"]
[null,null,{"$f":"'PRIORIDAD DE INTERVENCIÓN'!J82","v":0},{"$f":"'PRIORIDAD DE INTERVENCIÓN'!B82","v":"PREVENCIÓN DE CAIDA DE PACIENTES Y CONTENCION MECÁNICA"},{"$f":"'PRIORIDAD DE INTERVENCIÓN'!E82:F82","v":"Sistemas de registro específicos de todo paciente con sujeción mecánica, el que se debe de reevaluar periódicamente la situación y el tiempo de sujeción."},"Se recomienda  implementar registros para todo paciente con sujecion mecanica",null,null,"DR. Edinson Valderrama Mamani.",null,null,"2023-05-05"]
[null,null,{"$f":"'PRIORIDAD DE INTERVENCIÓN'!J83","v":0},{"$f":"'PRIORIDAD DE INTERVENCIÓN'!B83","v":"PREVENCIÓN DE CAIDA DE PACIENTES Y CONTENCION MECÁNICA"},{"$f":"'PRIORIDAD DE INTERVENCIÓN'!E83:F83","v":"Asegurarse que las técnicas de inmovilización puedan ser retiradas fácilmente."},"Se recomienda siempre retirar las tecnicas de inmovilizacion  con mucho cuidado",null,null,"DR. Edinson Valderrama Mamani.",null,null,"2023-05-05"]
[null,null,{"$f":"'PRIORIDAD DE INTERVENCIÓN'!J84","v":0},{"$f":"'PRIORIDAD DE INTERVENCIÓN'!B84","v":"PREVENCIÓN DE CAIDA DE PACIENTES Y CONTENCION MECÁNICA"},{"$f":"'PRIORIDAD DE INTERVENCIÓN'!E84:F84","v":"Evidencia de cambio periódico de la posición de la inmovilización y evaluación de las zonas cutáneas sometidas a presión."},"Se recomienda cada 2 horas cambio de posicion para evitar las ulceras por decubito al menos en las personas adultas mayores",null,null,"DR. Edinson Valderrama Mamani.",null,null,"2023-05-05"]
[null,null,{"$f":"'PRIORIDAD DE INTERVENCIÓN'!J85","v":0},{"$f":"'PRIORIDAD DE INTERVENCIÓN'!B85","v":"SEGURIDAD SEXUAL"},{"$f":"'PRIORIDAD DE INTERVENCIÓN'!E85:F85","v":"Información disponible y clara referente a las consecuencias penales de las agresiones sexuales."},"Se recomienda brindar orientacion para que sean atendidos en la fiscalia",null,null,"DR. Edinson Valderrama Mamani.",null,null,"2023-05-05"]
[null,null,{"$f":"'PRIORIDAD DE INTERVENCIÓN'!J86","v":0},{"$f":"'PRIORIDAD DE INTERVENCIÓN'!B86","v":"SEGURIDAD SEXUAL"},{"$f":"'PRIORIDAD DE INTERVENCIÓN'!E86:F86","v":"El protocolo de recepción de un paciente establece la prohibición expresa de mantener relaciones sexuales durante la hospitalización."},"Se recomienda solo brindar la informacion necesaria ante estos casos",null,null,"DR. Edinson Valderrama Mamani.",null,null,"2023-05-05"]
[null,null,{"$f":"'PRIORIDAD DE INTERVENCIÓN'!J87","v":0},{"$f":"'PRIORIDAD DE INTERVENCIÓN'!B87","v":"SEGURIDAD SEXUAL"},{"$f":"'PRIORIDAD DE INTERVENCIÓN'!E87:F87","v":"Control de la entrada de pacientes a cualquier habitación que no sea la propia."},"Se recomienda que el personal  este pendiente en los servicos y el vigilante en la puerta",null,null,"DR. Edinson Valderrama Mamani.",null,null,"2023-05-05"]
[null,null,{"$f":"'PRIORIDAD DE INTERVENCIÓN'!J88","v":0},{"$f":"'PRIORIDAD DE INTERVENCIÓN'!B88","v":"SEGURIDAD SEXUAL"},{"$f":"'PRIORIDAD DE INTERVENCIÓN'!E88:F88","v":"Al detectar conductas desinhibidas se comunicará al resto del equipo y se discutirán las medidas a tomar, que quedarán registradas en la hoja de recomendaciones terapéuticas."},"Se recomienda estar pendientes y si se diera el caso tratar de resolver con mucha delicadesa",null,null,"DR. Edinson Valderrama Mamani.",null,null,"2023-05-05"]
[null,null,{"$f":"'PRIORIDAD DE INTERVENCIÓN'!J89","v":0},{"$f":"'PRIORIDAD DE INTERVENCIÓN'!B89","v":"PREVENCIÓN Y REDUCCIÓN DEL RIESGO DE LAS ÚLCERAS POR PRESIÓN"},{"$f":"'PRIORIDAD DE INTERVENCIÓN'!E89:F89","v":"Evaluación inicial del riesgo de úlceras por presión en todos los pacientes al ingreso a servicios de hospitalización"},"Se recomienda evaluar a los pacientes, asi mismo brindar informacion para la prevencion de ulceras por presion",null,null,"DR. Edinson Valderrama Mamani.",null,null,"2023-05-05"]
[null,null,{"$f":"'PRIORIDAD DE INTERVENCIÓN'!J90","v":0},{"$f":"'PRIORIDAD DE INTERVENCIÓN'!B90","v":"PREVENCIÓN Y REDUCCIÓN DEL RIESGO DE LAS ÚLCERAS POR PRESIÓN"},{"$f":"'PRIORIDAD DE INTERVENCIÓN'!E90:F90","v":"Protocolización de la guía de atención para la prevención y control de úlceras por presión."},"Se recomienda implementar un protocolo de atencion para la prevencion de ulceras por presion",null,null,"DR. Edinson Valderrama Mamani.",null,null,"2023-05-05"]
[null,null,{"$f":"'PRIORIDAD DE INTERVENCIÓN'!J91","v":0},{"$f":"'PRIORIDAD DE INTERVENCIÓN'!B91","v":"PREVENCIÓN Y REDUCCIÓN DEL RIESGO DE LAS ÚLCERAS POR PRESIÓN"},{"$f":"'PRIORIDAD DE INTERVENCIÓN'!E91:F91","v":"Planificación, ejecución y evaluación del programa educativo dirigido a paciente, su cuidador y la familia. "},"Se recomienda implementar un plan educativo para brindar informacion a sus familiares y cuidadores para que prevengan un ulcera por presion en sus pacientes",null,null,"DR. Edinson Valderrama Mamani.",null,null,"2023-05-05"]
[null,null,{"$f":"'PRIORIDAD DE INTERVENCIÓN'!J92","v":0},{"$f":"'PRIORIDAD DE INTERVENCIÓN'!B92","v":"PREVENCIÓN Y REDUCCIÓN DEL RIESGO DE LAS ÚLCERAS POR PRESIÓN"},{"$f":"'PRIORIDAD DE INTERVENCIÓN'!E92:F92","v":"Notificación de úlceras por presión (incidencia y prevalencia) en un registro diario instaurado en los servicios de hospitalización."},"Se recomienda implementar un cuaderno para notificar o un registro para los pacientes para saber la incidencia y prevalencia de las ulceras por presion",null,null,"DR. Edinson Valderrama Mamani.",null,null,"2023-05-05"]
[null,null,{"$f":"'PRIORIDAD DE INTERVENCIÓN'!J93","v":0},{"$f":"'PRIORIDAD DE INTERVENCIÓN'!B93","v":"PREVENCIÓN Y REDUCCIÓN DEL RIESGO DE LAS ÚLCERAS POR PRESIÓN"},{"$f":"'PRIORIDAD DE INTERVENCIÓN'!E93:F93","v":"Aplicación de guía de curación de úlceras por presión según estadíos."},"Se recomienda implementar unguia de curacion de ulceras para que el personal tenga conovcimiento sobre como realizar las curaciones",null,null,"DR. Edinson Valderrama Mamani.",null,null,"2023-05-05"]
[null,null,{"$f":"'PRIORIDAD DE INTERVENCIÓN'!J94","v":0},{"$f":"'PRIORIDAD DE INTERVENCIÓN'!B94","v":"PREVENCIÓN DEL SUICIDO Y LESIONES"},{"$f":"'PRIORIDAD DE INTERVENCIÓN'!E94:F94","v":"Ubicar al paciente en el Servicio / Unidad más adecuada a sus necesidades y en función del riesgo detectado."},"Se recomienda al personal estar pendientes de los pacientes deprimidos o ansiosos para evitar suicidios o lesiones",null,null,"DR. Edinson Valderrama Mamani.",null,null,"2023-05-05"]
[null,null,{"$f":"'PRIORIDAD DE INTERVENCIÓN'!J95","v":0},{"$f":"'PRIORIDAD DE INTERVENCIÓN'!B95","v":"PREVENCIÓN DEL SUICIDO Y LESIONES"},{"$f":"'PRIORIDAD DE INTERVENCIÓN'!E95:F95","v":"El protocolo de prevención de conductas suicidas debe incluir correcta ubicación del paciente, la necesidad o no de sujeción mecánica, la supervisión así como la constancia en el registro de cualquier incidencia, el control de salidas y de visitas."},"Se recomienda implementar un protocolo de atencion par evitar cualquier situacion que puedan afectar a los pacientes",null,null,"DR. Edinson Valderrama Mamani.",null,null,"2023-05-05"]
[null,null,{"$f":"'PRIORIDAD DE INTERVENCIÓN'!J96","v":0},{"$f":"'PRIORIDAD DE INTERVENCIÓN'!B96","v":"COMUNICACIÓN EFECTIVA"},{"$f":"'PRIORIDAD DE INTERVENCIÓN'!E96:F96","v":"La UPSS proporciona información sobre sus servicios, horarios de atención a pacientes y/o familiares y el proceso para obtener atención."},"Se recomienda al servicio que deben poner letreros de horarios de atencion y brindar informacion sobre toda la atencion que se brinda",null,null,"DR. Edinson Valderrama Mamani.",null,null,"2023-05-05"]
[null,null,{"$f":"'PRIORIDAD DE INTERVENCIÓN'!J97","v":0},{"$f":"'PRIORIDAD DE INTERVENCIÓN'!B97","v":"HIGIENE DE MANOS"},{"$f":"'PRIORIDAD DE INTERVENCIÓN'!E97:F97","v":"Disponibilidad de dispensadores con preparados de base alcohólica para manos."},"Se recomienda implementar mas dispensadores con base alcoholica para las areas del servicio de emergencia",null,null,"DR. Edinson Valderrama Mamani.",null,null,"2023-05-05"]
[null,null,{"$f":"'PRIORIDAD DE INTERVENCIÓN'!J98","v":0},{"$f":"'PRIORIDAD DE INTERVENCIÓN'!B98","v":"HIGIENE DE MANOS"},{"$f":"'PRIORIDAD DE INTERVENCIÓN'!E98:F98","v":"Disponibilidad de lavamanos con suministro de agua y jabón."},"Se recomienda implentar  lavamanos para que todo el personal de salud y pacientes puedan hacer su higiene de manos",null,null,"DR. Edinson Valderrama Mamani.",null,null,"2023-05-05"]
[null,null,{"$f":"'PRIORIDAD DE INTERVENCIÓN'!J99","v":0},{"$f":"'PRIORIDAD DE INTERVENCIÓN'!B99","v":"HIGIENE DE MANOS"},{"$f":"'PRIORIDAD DE INTERVENCIÓN'!E99:F99","v":"Disponibilidad de papel toalla en todos los lavamanos."},"Se recomienda hacer su requermiento de papel toalla asi mismo poner en todas las areas del servicio que este al alcance de todos",null,null,"DR. Edinson Valderrama Mamani.",null,null,"2023-05-05"]
[null,null,{"$f":"'PRIORIDAD DE INTERVENCIÓN'!J100","v":0},{"$f":"'PRIORIDAD DE INTERVENCIÓN'!B100","v":"HIGIENE DE MANOS"},{"$f":"'PRIORIDAD DE INTERVENCIÓN'!E100:F100","v":"Cumplimiento del ratio lavamanos/ paciente-cama de al menos 1:10"},"Se recomienda poner en practica el cumplimiento de la higiene de manos",null,null,"DR. Edinson Valderrama Mamani.",null,null,"2023-05-05"]
[null,null,{"$f":"'PRIORIDAD DE INTERVENCIÓN'!J101","v":0},{"$f":"'PRIORIDAD DE INTERVENCIÓN'!B101","v":"HIGIENE DE MANOS"},{"$f":"'PRIORIDAD DE INTERVENCIÓN'!E101:F101","v":"Cumplimiento de los 08 pasos de la desinfección de manos (pasos y tiempo)."},"Se recomienda poner en practica los 8 pasos de la desinfeccion con base alcoholica",null,null,"DR. Edinson Valderrama Mamani.",null,null,"2023-05-05"]
[null,null,{"$f":"'PRIORIDAD DE INTERVENCIÓN'!J102","v":0},{"$f":"'PRIORIDAD DE INTERVENCIÓN'!B102","v":"HIGIENE DE MANOS"},{"$f":"'PRIORIDAD DE INTERVENCIÓN'!E102:F102","v":"Cumplimiento de los 11 pasos del lavado de manos (pasos y tiempo)."},"se recomienda cumplir con los 11 pasos de lavado de manos para todos los procedimientos",null,null,"DR. Edinson Valderrama Mamani.",null,null,"2023-05-05"]
[null,null,{"$f":"'PRIORIDAD DE INTERVENCIÓN'!J103","v":0},{"$f":"'PRIORIDAD DE INTERVENCIÓN'!B103","v":"HIGIENE DE MANOS"},{"$f":"'PRIORIDAD DE INTERVENCIÓN'!E103:F103","v":"Porcentaje de cumplimiento > 80%, del requisito de realizar la higiene de las manos durante su actividad asistencial de acuerdo con los cinco momentos de la higiene de manos."},"Se recomienda socilizar los pasos del lavado de manos y ponerlos en practica en todo momento",null,null,"DR. Edinson Valderrama Mamani.",null,null,"2023-05-05"]
[null,null,{"$f":"'PRIORIDAD DE INTERVENCIÓN'!J104","v":0},{"$f":"'PRIORIDAD DE INTERVENCIÓN'!B104","v":"HIGIENE DE MANOS"},{"$f":"'PRIORIDAD DE INTERVENCIÓN'!E104:F104","v":"Mensajes y dibujos que promueven la adherencia a la higiene de manos colocados en sitios estratégicos."},"S e recomienda imcrementar mas dibujos la promover la higine de manos",null,null,"DR. Edinson Valderrama Mamani.",null,null,"2023-05-05"]
[null,null,{"$f":"'PRIORIDAD DE INTERVENCIÓN'!J105","v":0},{"$f":"'PRIORIDAD DE INTERVENCIÓN'!B105","v":"BIOSEGURIDAD"},{"$f":"'PRIORIDAD DE INTERVENCIÓN'!E105:F105","v":"Disposición de residuos sólidos de acuerdo a las normas."},"Se recomienda siempre maneja los residuos solidos según normas tecnicas ",null,null,"DR. Edinson Valderrama Mamani.",null,null,"2023-05-05"]
[null,null,{"$f":"'PRIORIDAD DE INTERVENCIÓN'!J106","v":0},{"$f":"'PRIORIDAD DE INTERVENCIÓN'!B106","v":"BIOSEGURIDAD"},{"$f":"'PRIORIDAD DE INTERVENCIÓN'!E106:F106","v":"Eliminación de material punzo cortante y agujas de acuerdo a las normas."},"Se recomienda eliminar el material punzo cortante  y agujas de acuerdo a las normas",null,null,"DR. Edinson Valderrama Mamani.",null,null,"2023-05-05"]
[null,null,{"$f":"'PRIORIDAD DE INTERVENCIÓN'!J107","v":0},{"$f":"'PRIORIDAD DE INTERVENCIÓN'!B107","v":"BIOSEGURIDAD"},{"$f":"'PRIORIDAD DE INTERVENCIÓN'!E107:F107","v":"Cumplimiento de las medidas de aislamiento."},"S e recomienda implementar las medidas de aislamiento",null,null,"DR. Edinson Valderrama Mamani.",null,null,"2023-05-05"]
[null,null,{"$f":"'PRIORIDAD DE INTERVENCIÓN'!J108","v":0},{"$f":"'PRIORIDAD DE INTERVENCIÓN'!B108","v":"BIOSEGURIDAD"},{"$f":"'PRIORIDAD DE INTERVENCIÓN'!E108:F108","v":"El servicio ha implementado el uso de 'Care Bundle\" o Paquete de Medidas para la prevención de las IAAS basadas en evidencia médica. "},"S e recomienda implementar la medidas de prevencion de la IAAS",null,null,"DR. Edinson Valderrama Mamani.",null,null,"2023-05-05"]
[null,null,{"$f":"'PRIORIDAD DE INTERVENCIÓN'!J109","v":0},{"$f":"'PRIORIDAD DE INTERVENCIÓN'!B109","v":"BIOSEGURIDAD"},{"$f":"'PRIORIDAD DE INTERVENCIÓN'!E109:F109","v":"Evidencia de desarrollo de actividades de vigilancia epidemiológica activa, selectiva y localizada de IAAS en la UPSS."},"Se recomienda implementar un cuaderno para anotar las actividades de vigilancia epidemiologica",null,null,"DR. Edinson Valderrama Mamani.",null,null,"2023-05-05"]
[null,null,{"$f":"'PRIORIDAD DE INTERVENCIÓN'!J110","v":0},{"$f":"'PRIORIDAD DE INTERVENCIÓN'!B110","v":"BIOSEGURIDAD"},{"$f":"'PRIORIDAD DE INTERVENCIÓN'!E110:F110","v":"Se observa si se encuentran señalizados las zonas rígidas y semirígidas de la Unidad Productora de Servicios de Salud."},"Se recomienda implementar señalizaciones  de  atencion del servicio",null,null,"DR. Edinson Valderrama Mamani.",null,null,"2023-05-05"]
[null,null,{"$f":"'PRIORIDAD DE INTERVENCIÓN'!J111","v":0},{"$f":"'PRIORIDAD DE INTERVENCIÓN'!B111","v":"BIOSEGURIDAD"},{"$f":"'PRIORIDAD DE INTERVENCIÓN'!E111:F111","v":"Se observa si se respetan las zonas rígidas y semirígidas de la Unidad Productora de Servicios de Salud."},"Se sugiere verificar si se respetan las zonas rigidas o semirigidas del servicio",null,null,"DR. Edinson Valderrama Mamani.",null,null,"2023-05-05"]
[null,null,{"$f":"'PRIORIDAD DE INTERVENCIÓN'!J112","v":0},{"$f":"'PRIORIDAD DE INTERVENCIÓN'!B112","v":"FUNCIONAMIENTO Y MANEJO DE EQUIPOS "},{"$f":"'PRIORIDAD DE INTERVENCIÓN'!E112:F112","v":"Equipos biomédicos accesibles según le corresponda a la UPSS y de acuerdo al nivel de complejidad"},"Se sugiere implementar ekl servicio con mas equipos que ayuden a mejorar la atencion de los pacientes",null,null,"DR. Edinson Valderrama Mamani.",null,null,"2023-05-05"]
[null,null,{"$f":"'PRIORIDAD DE INTERVENCIÓN'!J113","v":0},{"$f":"'PRIORIDAD DE INTERVENCIÓN'!B113","v":"FUNCIONAMIENTO Y MANEJO DE EQUIPOS "},{"$f":"'PRIORIDAD DE INTERVENCIÓN'!E113:F113","v":"Equipos biomédicos operativos según le corresponda a la UPSS y de acuerdo al nivel de complejidad"},"Se sugiere siempre contar con equipos biomedicos operativos ante vcualquier emergencia ",null,null,"DR. Edinson Valderrama Mamani.",null,null,"2023-05-05"]
[null,null,{"$f":"'PRIORIDAD DE INTERVENCIÓN'!J114","v":0},{"$f":"'PRIORIDAD DE INTERVENCIÓN'!B114","v":"FUNCIONAMIENTO Y MANEJO DE EQUIPOS "},{"$f":"'PRIORIDAD DE INTERVENCIÓN'!E114:F114","v":"Verificación del conocimiento del personal sobre el funcionamiento de los equipos biomédicos, según responsabilidad."},"Se recomienda al tener euipos biomedicos nuevos solicitar capacitacion del funcionamiento de los equipos",null,null,"DR. Edinson Valderrama Mamani.",null,null,"2023-05-05"]
[null,null,{"$f":"'PRIORIDAD DE INTERVENCIÓN'!J115","v":0},{"$f":"'PRIORIDAD DE INTERVENCIÓN'!B115","v":"FUNCIONAMIENTO Y MANEJO DE EQUIPOS "},{"$f":"'PRIORIDAD DE INTERVENCIÓN'!E115:F115","v":"Verificación de que la UPSS cuenta con un Plan Anual de Mantenimiento Preventivo de todos sus equipo biomédicos (inclusive los nuevos)."},"Se recomienda implementar un plan  para el mantenimiento de todos los equipos biomedicos ",null,null,"DR. Edinson Valderrama Mamani.",null,null,"2023-05-05"]
[null,null,{"$f":"'PRIORIDAD DE INTERVENCIÓN'!J116","v":0},{"$f":"'PRIORIDAD DE INTERVENCIÓN'!B116","v":"FUNCIONAMIENTO Y MANEJO DE EQUIPOS "},{"$f":"'PRIORIDAD DE INTERVENCIÓN'!E116:F116","v":"Verificación de que la UPSS cumple con ejecutar su Plan Anual de Mantenimiento Preventivo de todos sus equipo biomédicos (inclusive los nuevos), mediante la visualización de las respectivas tarjetas."},"Se recomienda una vez aprobado  el plan ponerlo en ejecucion para el mantenimiento de todos los equipos",null,null,"DR. Edinson Valderrama Mamani.",null,null,"2023-05-05"]
[null,null,{"$f":"'PRIORIDAD DE INTERVENCIÓN'!J117","v":0},{"$f":"'PRIORIDAD DE INTERVENCIÓN'!B117","v":" "},{"$f":"'PRIORIDAD DE INTERVENCIÓN'!E117:F117","v":" "}]
[null,null,{"$f":"'PRIORIDAD DE INTERVENCIÓN'!J119","v":0},{"$f":"'PRIORIDAD DE INTERVENCIÓN'!B119","v":" "},{"$f":"'PRIORIDAD DE INTERVENCIÓN'!E119:F119","v":" "}]
[null,null,{"$f":"'PRIORIDAD DE INTERVENCIÓN'!J120","v":0},{"$f":"'PRIORIDAD DE INTERVENCIÓN'!B120","v":" "},{"$f":"'PRIORIDAD DE INTERVENCIÓN'!E120:F120","v":" "}]
[null,null,{"$f":"'PRIORIDAD DE INTERVENCIÓN'!J121","v":0},{"$f":"'PRIORIDAD DE INTERVENCIÓN'!B121","v":" "},{"$f":"'PRIORIDAD DE INTERVENCIÓN'!E121:F121","v":" "}]
[null,null,{"$f":"'PRIORIDAD DE INTERVENCIÓN'!J122","v":0},{"$f":"'PRIORIDAD DE INTERVENCIÓN'!B122","v":" "},{"$f":"'PRIORIDAD DE INTERVENCIÓN'!E122:F122","v":" "}]
[null,null,{"$f":"'PRIORIDAD DE INTERVENCIÓN'!J123","v":0},{"$f":"'PRIORIDAD DE INTERVENCIÓN'!B123","v":" "},{"$f":"'PRIORIDAD DE INTERVENCIÓN'!E123:F123","v":" "}]
[null,null,{"$f":"'PRIORIDAD DE INTERVENCIÓN'!J124","v":0},{"$f":"'PRIORIDAD DE INTERVENCIÓN'!B124","v":" "},{"$f":"'PRIORIDAD DE INTERVENCIÓN'!E124:F124","v":" "}]
[null,null,{"$f":"'PRIORIDAD DE INTERVENCIÓN'!J125","v":0},{"$f":"'PRIORIDAD DE INTERVENCIÓN'!B125","v":" "},{"$f":"'PRIORIDAD DE INTERVENCIÓN'!E125:F125","v":" "}]
[null,null,{"$f":"'PRIORIDAD DE INTERVENCIÓN'!J126","v":0},{"$f":"'PRIORIDAD DE INTERVENCIÓN'!B126","v":" "},{"$f":"'PRIORIDAD DE INTERVENCIÓN'!E126:F126","v":" "}]
[null,null,{"$f":"'PRIORIDAD DE INTERVENCIÓN'!J128","v":0},{"$f":"'PRIORIDAD DE INTERVENCIÓN'!B128","v":" "},{"$f":"'PRIORIDAD DE INTERVENCIÓN'!E128:F128","v":" "}]
[null,null,{"$f":"'PRIORIDAD DE INTERVENCIÓN'!J129","v":0},{"$f":"'PRIORIDAD DE INTERVENCIÓN'!B129","v":" "},{"$f":"'PRIORIDAD DE INTERVENCIÓN'!E129:F129","v":" "}]
[null,null,{"$f":"'PRIORIDAD DE INTERVENCIÓN'!J130","v":0},{"$f":"'PRIORIDAD DE INTERVENCIÓN'!B130","v":" "},{"$f":"'PRIORIDAD DE INTERVENCIÓN'!E130:F130","v":" "}]
[null,null,{"$f":"'PRIORIDAD DE INTERVENCIÓN'!J131","v":0},{"$f":"'PRIORIDAD DE INTERVENCIÓN'!B131","v":" "},{"$f":"'PRIORIDAD DE INTERVENCIÓN'!E131:F131","v":" "}]
[null,null,{"$f":"'PRIORIDAD DE INTERVENCIÓN'!J132","v":0},{"$f":"'PRIORIDAD DE INTERVENCIÓN'!B132","v":" "},{"$f":"'PRIORIDAD DE INTERVENCIÓN'!E132:F132","v":" "}]
[null,null,{"$f":"'PRIORIDAD DE INTERVENCIÓN'!J133","v":0},{"$f":"'PRIORIDAD DE INTERVENCIÓN'!B133","v":" "},{"$f":"'PRIORIDAD DE INTERVENCIÓN'!E133:F133","v":" "}]
[null,null,{"$f":"'PRIORIDAD DE INTERVENCIÓN'!J134","v":0},{"$f":"'PRIORIDAD DE INTERVENCIÓN'!B134","v":" "},{"$f":"'PRIORIDAD DE INTERVENCIÓN'!E134:F134","v":" "}]
[null,null,{"$f":"'PRIORIDAD DE INTERVENCIÓN'!J135","v":0},{"$f":"'PRIORIDAD DE INTERVENCIÓN'!B135","v":" "},{"$f":"'PRIORIDAD DE INTERVENCIÓN'!E135:F135","v":" "}]
[null,null,{"$f":"'PRIORIDAD DE INTERVENCIÓN'!J136","v":0},{"$f":"'PRIORIDAD DE INTERVENCIÓN'!B136","v":" "},{"$f":"'PRIORIDAD DE INTERVENCIÓN'!E136:F136","v":" "}]
[null,null,{"$f":"'PRIORIDAD DE INTERVENCIÓN'!J137","v":0},{"$f":"'PRIORIDAD DE INTERVENCIÓN'!B137","v":" "},{"$f":"'PRIORIDAD DE INTERVENCIÓN'!E137:F137","v":" "}]
[null,null,{"$f":"'PRIORIDAD DE INTERVENCIÓN'!J138","v":0},{"$f":"'PRIORIDAD DE INTERVENCIÓN'!B138","v":" "},{"$f":"'PRIORIDAD DE INTERVENCIÓN'!E138:F138","v":" "}]
[null,null,{"$f":"'PRIORIDAD DE INTERVENCIÓN'!J139","v":0},{"$f":"'PRIORIDAD DE INTERVENCIÓN'!B139","v":" "},{"$f":"'PRIORIDAD DE INTERVENCIÓN'!E139:F139","v":" "}]
[null,null,{"$f":"'PRIORIDAD DE INTERVENCIÓN'!J140","v":0},{"$f":"'PRIORIDAD DE INTERVENCIÓN'!B140","v":" "},{"$f":"'PRIORIDAD DE INTERVENCIÓN'!E140:F140","v":" "}]
[null,null,{"$f":"'PRIORIDAD DE INTERVENCIÓN'!J141","v":0},{"$f":"'PRIORIDAD DE INTERVENCIÓN'!B141","v":" "},{"$f":"'PRIORIDAD DE INTERVENCIÓN'!E141:F141","v":" "}]
[null,null,{"$f":"'PRIORIDAD DE INTERVENCIÓN'!J142","v":0},{"$f":"'PRIORIDAD DE INTERVENCIÓN'!B142","v":" "},{"$f":"'PRIORIDAD DE INTERVENCIÓN'!E142:F142","v":" "}]
[null,null,{"$f":"'PRIORIDAD DE INTERVENCIÓN'!J143","v":0},{"$f":"'PRIORIDAD DE INTERVENCIÓN'!B143","v":" "},{"$f":"'PRIORIDAD DE INTERVENCIÓN'!E143:F143","v":" "}]
[null,null,{"$f":"'PRIORIDAD DE INTERVENCIÓN'!J144","v":0},{"$f":"'PRIORIDAD DE INTERVENCIÓN'!B144","v":" "},{"$f":"'PRIORIDAD DE INTERVENCIÓN'!E144:F144","v":" "}]
[null,null,{"$f":"'PRIORIDAD DE INTERVENCIÓN'!J145","v":0},{"$f":"'PRIORIDAD DE INTERVENCIÓN'!B145","v":" "},{"$f":"'PRIORIDAD DE INTERVENCIÓN'!E145:F145","v":" "}]
[null,null,{"$f":"'PRIORIDAD DE INTERVENCIÓN'!J146","v":0},{"$f":"'PRIORIDAD DE INTERVENCIÓN'!B146","v":" "},{"$f":"'PRIORIDAD DE INTERVENCIÓN'!E146:F146","v":" "}]
[null,null,{"$f":"'PRIORIDAD DE INTERVENCIÓN'!J147","v":0},{"$f":"'PRIORIDAD DE INTERVENCIÓN'!B147","v":" "},{"$f":"'PRIORIDAD DE INTERVENCIÓN'!E147:F147","v":" "}]
[null,null,{"$f":"'PRIORIDAD DE INTERVENCIÓN'!J148","v":0},{"$f":"'PRIORIDAD DE INTERVENCIÓN'!B148","v":" "},{"$f":"'PRIORIDAD DE INTERVENCIÓN'!E148:F148","v":" "}]
[null,null,{"$f":"'PRIORIDAD DE INTERVENCIÓN'!J149","v":0},{"$f":"'PRIORIDAD DE INTERVENCIÓN'!B149","v":" "},{"$f":"'PRIORIDAD DE INTERVENCIÓN'!E149:F149","v":" "}]
[null,null,{"$f":"'PRIORIDAD DE INTERVENCIÓN'!J150","v":0},{"$f":"'PRIORIDAD DE INTERVENCIÓN'!B150","v":" "},{"$f":"'PRIORIDAD DE INTERVENCIÓN'!E150:F150","v":" "}]
[null,null,{"$f":"'PRIORIDAD DE INTERVENCIÓN'!J151","v":0},{"$f":"'PRIORIDAD DE INTERVENCIÓN'!B151","v":" "},{"$f":"'PRIORIDAD DE INTERVENCIÓN'!E151:F151","v":" "}]
[null,null,{"$f":"'PRIORIDAD DE INTERVENCIÓN'!J152","v":0},{"$f":"'PRIORIDAD DE INTERVENCIÓN'!B152","v":" "},{"$f":"'PRIORIDAD DE INTERVENCIÓN'!E152:F152","v":" "}]
[null,null,{"$f":"'PRIORIDAD DE INTERVENCIÓN'!J153","v":0},{"$f":"'PRIORIDAD DE INTERVENCIÓN'!B153","v":" "},{"$f":"'PRIORIDAD DE INTERVENCIÓN'!E153:F153","v":" "}]
[null,null,{"$f":"'PRIORIDAD DE INTERVENCIÓN'!J154","v":0},{"$f":"'PRIORIDAD DE INTERVENCIÓN'!B154","v":" "},{"$f":"'PRIORIDAD DE INTERVENCIÓN'!E154:F154","v":" "}]
[null,null,{"$f":"'PRIORIDAD DE INTERVENCIÓN'!J155","v":0},{"$f":"'PRIORIDAD DE INTERVENCIÓN'!B155","v":" "},{"$f":"'PRIORIDAD DE INTERVENCIÓN'!E155:F155","v":" "}]
[null,null,{"$f":"'PRIORIDAD DE INTERVENCIÓN'!J156","v":0},{"$f":"'PRIORIDAD DE INTERVENCIÓN'!B156","v":" "},{"$f":"'PRIORIDAD DE INTERVENCIÓN'!E156:F156","v":" "}]
[null,null,{"$f":"'PRIORIDAD DE INTERVENCIÓN'!J157","v":0},{"$f":"'PRIORIDAD DE INTERVENCIÓN'!B157","v":" "},{"$f":"'PRIORIDAD DE INTERVENCIÓN'!E157:F157","v":" "}]
[null,null,{"$f":"'PRIORIDAD DE INTERVENCIÓN'!J158","v":0},{"$f":"'PRIORIDAD DE INTERVENCIÓN'!B158","v":" "},{"$f":"'PRIORIDAD DE INTERVENCIÓN'!E158:F158","v":" "}]
[null,null,{"$f":"'PRIORIDAD DE INTERVENCIÓN'!J160","v":0},{"$f":"'PRIORIDAD DE INTERVENCIÓN'!B160","v":" "},{"$f":"'PRIORIDAD DE INTERVENCIÓN'!E160:F160","v":" "}]
[null,null,{"$f":"'PRIORIDAD DE INTERVENCIÓN'!J118","v":0},{"$f":"'PRIORIDAD DE INTERVENCIÓN'!B118","v":" "},{"$f":"'PRIORIDAD DE INTERVENCIÓN'!E118:F118","v":" "}]
[null,null,{"$f":"'PRIORIDAD DE INTERVENCIÓN'!J159","v":0},{"$f":"'PRIORIDAD DE INTERVENCIÓN'!B159","v":" "},{"$f":"'PRIORIDAD DE INTERVENCIÓN'!E159:F159","v":" "}]
[null,null,{"$f":"'PRIORIDAD DE INTERVENCIÓN'!J162","v":0},{"$f":"'PRIORIDAD DE INTERVENCIÓN'!B162","v":" "},{"$f":"'PRIORIDAD DE INTERVENCIÓN'!E162:F162","v":" "}]

{"sheet":"MONITOREO","index":7,"n_rows":156,"n_cols":14,"rows_kept":156,"cut":false,"hidden":false,"merged":[[5,2,5,13],[7,2,7,8],[9,2,9,13],[11,2,11,8],[13,2,13,3],[14,2,14,3],[15,2,15,3],[15,6,15,8],[16,2,16,3],[16,6,16,8],[17,2,17,3],[17,6,17,8],[18,2,18,3],[18,6,18,8],[24,5,24,7],[24,8,24,10],[25,5,25,7],[25,8,25,10],[26,5,26,7],[26,8,26,10],[27,5,27,7],[27,8,27,10],[28,5,28,7],[28,8,28,10],[29,5,29,7],[29,8,29,10],[30,5,30,7],[30,8,30,10],[31,5,31,7],[31,8,31,10],[32,5,32,7],[32,8,32,10],[33,5,33,7],[33,8,33,10],[34,5,34,7],[34,8,34,10],[35,5,35,7],[35,8,35,10],[36,5,36,7],[36,8,36,10],[37,5,37,7],[37,8,37,10],[38,5,38,7],[38,8,38,10],[39,5,39,7],[39,8,39,10],[40,5,40,7],[40,8,40,10],[41,5,41,7],[41,8,41,10],[42,5,42,7],[42,8,42,10],[43,5,43,7],[43,8,43,10],[44,5,44,7],[44,8,44,10],[45,5,45,7],[45,8,45,10],[46,5,46,7],[46,8,46,10],[47,5,47,7],[47,8,47,10],[48,5,48,7],[48,8,48,10],[49,5,49,7],[49,8,49,10],[50,5,50,7],[50,8,50,10],[51,5,51,7],[51,8,51,10],[52,5,52,7],[52,8,52,10],[53,5,53,7],[53,8,53,10],[54,5,54,7],[54,8,54,10],[55,5,55,7],[55,8,55,10],[56,5,56,7],[56,8,56,10],[57,5,57,7],[57,8,57,10],[58,5,58,7],[58,8,58,10],[59,5,59,7],[59,8,59,10],[60,5,60,7],[60,8,60,10],[61,5,61,7],[61,8,61,10],[62,5,62,7],[62,8,62,10],[63,5,63,7],[63,8,63,10],[64,5,64,7],[64,8,64,10],[65,5,65,7],[65,8,65,10],[66,5,66,7],[66,8,66,10],[67,5,67,7],[67,8,67,10],[68,5,68,7],[68,8,68,10],[69,5,69,7],[69,8,69,10],[70,5,70,7],[70,8,70,10],[71,5,71,7],[71,8,71,10],[72,5,72,7],[72,8,72,10],[73,5,73,7],[73,8,73,10],[74,5,74,7],[74,8,74,10],[75,5,75,7],[75,8,75,10],[76,5,76,7],[76,8,76,10],[77,5,77,7],[77,8,77,10],[78,5,78,7],[78,8,78,10],[79,5,79,7],[79,8,79,10],[80,5,80,7],[80,8,80,10],[81,5,81,7],[81,8,81,10],[82,5,82,7],[82,8,82,10],[83,5,83,7],[83,8,83,10],[84,5,84,7],[84,8,84,10],[85,5,85,7],[85,8,85,10],[86,5,86,7],[86,8,86,10],[87,5,87,7],[87,8,87,10],[88,5,88,7],[88,8,88,10],[89,5,89,7],[89,8,89,10],[90,5,90,7],[90,8,90,10],[91,5,91,7],[91,8,91,10],[92,5,92,7],[92,8,92,10],[93,5,93,7],[93,8,93,10],[94,5,94,7],[94,8,94,10],[95,5,95,7],[95,8,95,10],[96,5,96,7],[96,8,96,10],[97,5,97,7],[97,8,97,10],[98,5,98,7],[98,8,98,10],[99,5,99,7],[99,8,99,10],[100,5,100,7],[100,8,100,10],[101,5,101,7],[101,8,101,10],[102,5,102,7],[102,8,102,10],[103,5,103,7],[103,8,103,10],[104,5,104,7],[104,8,104,10],[105,5,105,7],[105,8,105,10],[106,5,106,7],[106,8,106,10],[107,5,107,7],[107,8,107,10],[108,5,108,7],[108,8,108,10],[109,5,109,7],[109,8,109,10],[110,5,110,7],[110,8,110,10],[111,5,111,7],[111,8,111,10],[112,5,112,7],[112,8,112,10],[113,5,113,7],[113,8,113,10],[114,5,114,7],[114,8,114,10],[115,5,115,7],[115,8,115,10],[116,5,116,7],[116,8,116,10],[117,5,117,7],[117,8,117,10],[118,5,118,7],[118,8,118,10],[119,5,119,7],[119,8,119,10],[120,5,120,7],[120,8,120,10],[121,5,121,7],[121,8,121,10],[122,5,122,7],[122,8,122,10],[123,5,123,7],[123,8,123,10],[124,5,124,7],[124,8,124,10],[125,5,125,7],[125,8,125,10],[126,5,126,7],[126,8,126,10],[127,5,127,7],[127,8,127,10],[128,5,128,7],[128,8,128,10],[129,5,129,7],[129,8,129,10],[130,5,130,7],[130,8,130,10],[131,5,131,7],[131,8,131,10],[132,5,132,7],[132,8,132,10],[133,5,133,7],[133,8,133,10],[134,5,134,7],[134,8,134,10],[135,5,135,7],[135,8,135,10],[136,5,136,7],[136,8,136,10],[137,5,137,7],[137,8,137,10],[138,5,138,7],[138,8,138,10],[139,5,139,7],[139,8,139,10],[140,5,140,7],[140,8,140,10],[141,5,141,7],[141,8,141,10],[142,5,142,7],[142,8,142,10],[143,5,143,7],[143,8,143,10],[144,5,144,7],[144,8,144,10],[145,5,145,7],[145,8,145,10],[146,5,146,7],[146,8,146,10],[147,5,147,7],[147,8,147,10],[148,5,148,7],[148,8,148,10],[149,5,149,7],[149,8,149,10],[150,5,150,7],[150,8,150,10],[151,5,151,7],[151,8,151,10],[1,2,2,4]]}
[]
[null,null,"UNIDAD FUNCIONAL DE GESTIÓN DE LA CALIDAD EN SALUD"]
[]
[]
[]
[null,null,{"$f":"+'MENU PRINCIPAL'!B2","v":"APLICATIVO  DE RONDAS  DE SEGURIDAD DEL PACIENTE PARA LA GESTIÓN DEL RIESGO EN LA ATENCION DE SALUD"}]
[]
[]
[]
[null,null,"FICHA DE MONITOREO"]
[null,null,null,null,null,null,null,"IR A MENU "]
[]
[]
[null,null,"ÓRGANO DESCONCENTRADO:",null,{"$f":"'MENU PRINCIPAL'!C20","v":"INSTITUTO NACIONAL MATERNO PERINATAL"},"TRIMESTRE:",{"$f":"'FICHA EVALUACIÓN'!J14","v":"I TRIMESTRE"},"AÑO:",{"$f":"'FICHA EVALUACIÓN'!L14","v":2023}]
[null,null,"IPRESS:",null,{"$f":"IF('FICHA EVALUACIÓN'!H15=0,\" \",'FICHA EVALUACIÓN'!H15)","v":"HOSPITAL DE ESPINAR"},"FECHA APLICACION:",null,{"$f":"IF('FICHA EVALUACIÓN'!K15=0,\" \",'FICHA EVALUACIÓN'!K15)","v":"2023-03-29"},"(DD/MM/AAAA)"]
[null,null,"UPSS:",null,{"$f":"'FICHA EVALUACIÓN'!H16","v":"EMERGENCIA"},"RESP.EPIDEMIOLOGIA:",{"$f":"IF('FICHA EVALUACIÓN'!J16=0,\" \",'FICHA EVALUACIÓN'!J16)","v":"LIC. ISABEL ROMERO JACHA"}]
[null,null,"TITULAR/RESPONSABLE IPRESS:",null,{"$f":"IF('MENU PRINCIPAL'!C22=0,\" \",'MENU PRINCIPAL'!C22)","v":"Dr.EDWIN SOTO CCAYAHUALLPA"},"RESP. DE LA UPSS:",{"$f":"IF('FICHA EVALUACIÓN'!J17=0,\" \",'FICHA EVALUACIÓN'!J17)","v":"DR. EDINSON VALDERRAMA MAMANI"},null,null,null,null,null," "]
[null,null,"RESP. DE ADMINISTRACION:",null,{"$f":"IF('FICHA EVALUACIÓN'!H18=0,\" \",'FICHA EVALUACIÓN'!H18)","v":"LIC. JUVENAL TAIRO ZAMBRANO"},"RESP.OFIC./UNIDAD CALIDAD:",{"$f":"IF('FICHA EVALUACIÓN'!J18=0,\" \",'FICHA EVALUACIÓN'!J18)","v":"LIC. JUDITH K. CAHUATA TURO"}]
[null,null,"RESP. DPTO/SERVICIO ENFERMERÍA:",null,{"$f":"IF('FICHA EVALUACIÓN'!H19=0,\" \",'FICHA EVALUACIÓN'!H19)","v":"LIC. MARIO CHOQUE ROMERO."},"OTROS RESPONSABLES:",{"$f":"IF('FICHA EVALUACIÓN'!J19=0,\" \",'FICHA EVALUACIÓN'!J19)","v":"LIC. IRMA LUPACA JIHUAÑA"}]
[]
[]
[null,null,null,null,"PORCENTAJE DE IMPLEMENTACIÓN",{"$f":"IFERROR(N156,\" \")","v":" "}]
[]
[]
[null,null,"PRIORIDAD","BUENAS PRÁCTICAS","VERIFICADOR INSEGURO","ACCIONES DE MEJORA / CORRECTIVAS",null,null,"RESPONSABLE\n(CARGO)",null,null,"PLAZO \n(dd/mm/aaaa)","MONITOREO\n(dd/mm/aaaa)","IMPLEMENTACIÓN"]
[null,1,{"$f":"'PLAN DE ACCIÓN'!C26","v":56},{"$f":"'PLAN DE ACCIÓN'!D26","v":"HISTORIA CLINICA "},{"$f":"'PLAN DE ACCIÓN'!E26","v":"Registro de los antecedentes del paciente."},{"$f":"IF('PLAN DE ACCIÓN'!F26=0,\" \",'PLAN DE ACCIÓN'!F26)","v":"Se recomienda que todas las Historias clinicas deben ser bien llenadas con los anatecedentes"},null,null,{"$f":"IF('PLAN DE ACCIÓN'!I26=0,\" \",'PLAN DE ACCIÓN'!I26)","v":"DR. Edinson Valderrama Mamani."},null,null,{"$f":"IF('PLAN DE ACCIÓN'!L26=0,\" \",'PLAN DE ACCIÓN'!L26)","v":"2023-05-05"},null,"SELECCIONE"]
[null,2,{"$f":"'PLAN DE ACCIÓN'!C27","v":28},{"$f":"'PLAN DE ACCIÓN'!D27","v":"HISTORIA CLINICA "},{"$f":"'PLAN DE ACCIÓN'!E27","v":"Registro completo de la filiación del paciente: Datos del EESS, Nº de HCl, Nombres y Apellidos del Paciente, Lugar y fecha de nacimiento, Edad, Sexo, Domicilio, Procedencia, Teléfono, DNI, Seguro, Estado Civi, Instrucción, Ocupación, Religión, Acompañante o Responsable de ser el caso."},{"$f":"IF('PLAN DE ACCIÓN'!F27=0,\" \",'PLAN DE ACCIÓN'!F27)","v":"Se recomienda que todas las Historias clinicas deben ser bien llenadas con los datos completos  esto con el fin de tener mas informacion  sobre el paciente"},null,null,{"$f":"IF('PLAN DE ACCIÓN'!I27=0,\" \",'PLAN DE ACCIÓN'!I27)","v":"DR. Edinson Valderrama Mamani."},null,null,{"$f":"IF('PLAN DE ACCIÓN'!L27=0,\" \",'PLAN DE ACCIÓN'!L27)","v":"2023-05-05"},null,"SELECCIONE"]
[null,3,{"$f":"'PLAN DE ACCIÓN'!C28","v":84},{"$f":"'PLAN DE ACCIÓN'!D28","v":"HISTORIA CLINICA "},{"$f":"'PLAN DE ACCIÓN'!E28","v":"Registro e inclusión en la Historia Clínica de los resultados de examenes auxiliares y procedimientos del paciente."},{"$f":"IF('PLAN DE ACCIÓN'!F28=0,\" \",'PLAN DE ACCIÓN'!F28)","v":"Se recomienda que las historias clinicas deben estar completas con sus examenes auxiliares para evaluar mas pronto al paciente"},null,null,{"$f":"IF('PLAN DE ACCIÓN'!I28=0,\" \",'PLAN DE ACCIÓN'!I28)","v":"DR. Edinson Valderrama Mamani."},null,null,{"$f":"IF('PLAN DE ACCIÓN'!L28=0,\" \",'PLAN DE ACCIÓN'!L28)","v":"2023-05-05"},null,"SELECCIONE"]
[null,4,{"$f":"'PLAN DE ACCIÓN'!C29","v":28},{"$f":"'PLAN DE ACCIÓN'!D29","v":"HISTORIA CLINICA "},{"$f":"'PLAN DE ACCIÓN'!E29","v":"Registro y gráfico actualizado de la Funciones Vitales."},{"$f":"IF('PLAN DE ACCIÓN'!F29=0,\" \",'PLAN DE ACCIÓN'!F29)","v":"Se recomienda que implementen la hoja grafica de funciones vitales y sean registrados para tener un control mejor del paciente"},null,null,{"$f":"IF('PLAN DE ACCIÓN'!I29=0,\" \",'PLAN DE ACCIÓN'!I29)","v":"DR. Edinson Valderrama Mamani."},null,null,{"$f":"IF('PLAN DE ACCIÓN'!L29=0,\" \",'PLAN DE ACCIÓN'!L29)","v":"2023-05-05"},null,"SELECCIONE"]
[null,6,{"$f":"'PLAN DE ACCIÓN'!C30","v":56},{"$f":"'PLAN DE ACCIÓN'!D30","v":"HISTORIA CLINICA "},{"$f":"'PLAN DE ACCIÓN'!E30","v":"Registro de la Funciones Biológicas: apetito, sed, sueño, orina, deposiciones, estado de animo. "},{"$f":"IF('PLAN DE ACCIÓN'!F30=0,\" \",'PLAN DE ACCIÓN'!F30)","v":"Se recomienda  registrar  en la hisctoria clinica  todas estas funciones biologicas  para de acuerso a eso realizar un adecuado balance hirdrico del paciente"},null,null,{"$f":"IF('PLAN DE ACCIÓN'!I30=0,\" \",'PLAN DE ACCIÓN'!I30)","v":"DR. Edinson Valderrama Mamani."},null,null,{"$f":"IF('PLAN DE ACCIÓN'!L30=0,\" \",'PLAN DE ACCIÓN'!L30)","v":"2023-05-05"},null,"SELECCIONE"]
[null,7,{"$f":"'PLAN DE ACCIÓN'!C31","v":12},{"$f":"'PLAN DE ACCIÓN'!D31","v":"HISTORIA CLINICA "},{"$f":"'PLAN DE ACCIÓN'!E31","v":"Registro de la Hoja de Balance hidro - electrolítico actualizado."},{"$f":"IF('PLAN DE ACCIÓN'!F31=0,\" \",'PLAN DE ACCIÓN'!F31)","v":"Se recomienda implementar la hoja de balance hidrico pa ra controlar adecuadamente el ingreso y egreso de electrolitos"},null,null,{"$f":"IF('PLAN DE ACCIÓN'!I31=0,\" \",'PLAN DE ACCIÓN'!I31)","v":"DR. Edinson Valderrama Mamani."},null,null,{"$f":"IF('PLAN DE ACCIÓN'!L31=0,\" \",'PLAN DE ACCIÓN'!L31)","v":"2023-05-05"},null,"SELECCIONE"]
[null,8,{"$f":"'PLAN DE ACCIÓN'!C32","v":28},{"$f":"'PLAN DE ACCIÓN'!D32","v":"HISTORIA CLINICA "},{"$f":"'PLAN DE ACCIÓN'!E32","v":"Registro de evolución del paciente: Fecha y hora de atención, Apreciación Subjetiva, Apreciación Objetiva, Tratamiento, Dieta, Interpretación de exámenes y comentario, terapeútica y Plan de trabajo, firma, sello y colegiatura del médico responsable."},{"$f":"IF('PLAN DE ACCIÓN'!F32=0,\" \",'PLAN DE ACCIÓN'!F32)","v":"Se recomienda a los Señores Medicos hacer la evolucion del paciente  despues de tener  los resultados de los examenes"},null,null,{"$f":"IF('PLAN DE ACCIÓN'!I32=0,\" \",'PLAN DE ACCIÓN'!I32)","v":"DR. Edinson Valderrama Mamani."},null,null,{"$f":"IF('PLAN DE ACCIÓN'!L32=0,\" \",'PLAN DE ACCIÓN'!L32)","v":"2023-05-05"},null,"SELECCIONE"]
[null,9,{"$f":"'PLAN DE ACCIÓN'!C33","v":84},{"$f":"'PLAN DE ACCIÓN'!D33","v":"HISTORIA CLINICA "},{"$f":"'PLAN DE ACCIÓN'!E33","v":"En caso de haberse producido un evento adverso, este ha sido registrado en la HCl o en algún medio de registro evidenciable."},{"$f":"IF('PLAN DE ACCIÓN'!F33=0,\" \",'PLAN DE ACCIÓN'!F33)","v":"Se recomienda implementar el registro de eventos adversos en la historia clinica"},null,null,{"$f":"IF('PLAN DE ACCIÓN'!I33=0,\" \",'PLAN DE ACCIÓN'!I33)","v":"DR. Edinson Valderrama Mamani."},null,null,{"$f":"IF('PLAN DE ACCIÓN'!L33=0,\" \",'PLAN DE ACCIÓN'!L33)","v":"2023-05-05"},null,"SELECCIONE"]
[null,10,{"$f":"'PLAN DE ACCIÓN'!C34","v":84},{"$f":"'PLAN DE ACCIÓN'!D34","v":"SEGURIDAD EN LA UPSS"},{"$f":"'PLAN DE ACCIÓN'!E34","v":"Análisis y plan de intervención sobre la información de los incidentes y eventos adversos."},{"$f":"IF('PLAN DE ACCIÓN'!F34=0,\" \",'PLAN DE ACCIÓN'!F34)","v":"Se recomienda implementar el plan y anlisis de eventos adversos"},null,null,{"$f":"IF('PLAN DE ACCIÓN'!I34=0,\" \",'PLAN DE ACCIÓN'!I34)","v":"DR. Edinson Valderrama Mamani."},null,null,{"$f":"IF('PLAN DE ACCIÓN'!L34=0,\" \",'PLAN DE ACCIÓN'!L34)","v":"2023-05-05"},null,"SELECCIONE"]
[null,11,{"$f":"'PLAN DE ACCIÓN'!C35","v":84},{"$f":"'PLAN DE ACCIÓN'!D35","v":"HISTORIA CLINICA "},{"$f":"'PLAN DE ACCIÓN'!E35","v":"La letra de la Historia Clínica es legible"},{"$f":"IF('PLAN DE ACCIÓN'!F35=0,\" \",'PLAN DE ACCIÓN'!F35)","v":"Se recomienda que la letra de la historia clinica debe ser legible ya que aveces solicitan informacion  los pacientes y no se entiende  lo que esta escrito en la historia"},null,null,{"$f":"IF('PLAN DE ACCIÓN'!I35=0,\" \",'PLAN DE ACCIÓN'!I35)","v":"DR. Edinson Valderrama Mamani."},null,null,{"$f":"IF('PLAN DE ACCIÓN'!L35=0,\" \",'PLAN DE ACCIÓN'!L35)","v":"2023-05-05"},null,"SELECCIONE"]
[null,12,{"$f":"'PLAN DE ACCIÓN'!C36","v":84},{"$f":"'PLAN DE ACCIÓN'!D36","v":"SEGURIDAD EN LA UPSS"},{"$f":"'PLAN DE ACCIÓN'!E36","v":"La solicitud de medicamentos e insumos se gestionan oportunamente durante el turno."},{"$f":"IF('PLAN DE ACCIÓN'!F36=0,\" \",'PLAN DE ACCIÓN'!F36)","v":"Se recomienda que deben implementar un kit de medicamentos  para las emergencias para no tener problemas con farmacia al momento de cambio de turno"},null,null,{"$f":"IF('PLAN DE ACCIÓN'!I36=0,\" \",'PLAN DE ACCIÓN'!I36)","v":"DR. Edinson Valderrama Mamani."},null,null,{"$f":"IF('PLAN DE ACCIÓN'!L36=0,\" \",'PLAN DE ACCIÓN'!L36)","v":"2023-05-05"},null,"SELECCIONE"]
[null,13,{"$f":"'PLAN DE ACCIÓN'!C37","v":84},{"$f":"'PLAN DE ACCIÓN'!D37","v":"SEGURIDAD EN LA UPSS"},{"$f":"'PLAN DE ACCIÓN'!E37","v":"Registro físico y/o virtual de los incidentes y eventos adversos en la UPSS."},{"$f":"IF('PLAN DE ACCIÓN'!F37=0,\" \",'PLAN DE ACCIÓN'!F37)","v":"Se recomienda implementar un registro  fisico o virtual de los incidentes o eventos adversos"},null,null,{"$f":"IF('PLAN DE ACCIÓN'!I37=0,\" \",'PLAN DE ACCIÓN'!I37)","v":"DR. Edinson Valderrama Mamani."},null,null,{"$f":"IF('PLAN DE ACCIÓN'!L37=0,\" \",'PLAN DE ACCIÓN'!L37)","v":"2023-05-05"},null,"SELECCIONE"]
[null,14,{"$f":"'PLAN DE ACCIÓN'!C38","v":84},{"$f":"'PLAN DE ACCIÓN'!D38","v":"HISTORIA CLINICA "},{"$f":"'PLAN DE ACCIÓN'!E38","v":"Registro completo del Consentimiento Informado de acuerdo a la normatividad vigente."},{"$f":"IF('PLAN DE ACCIÓN'!F38=0,\" \",'PLAN DE ACCIÓN'!F38)","v":"Se recomienda implementar la hoja de consentimiento informado para que el paciente tenga onocimiento de todo  la atencion que se le ralizara"},null,null,{"$f":"IF('PLAN DE ACCIÓN'!I38=0,\" \",'PLAN DE ACCIÓN'!I38)","v":"DR. Edinson Valderrama Mamani."},null,null,{"$f":"IF('PLAN DE ACCIÓN'!L38=0,\" \",'PLAN DE ACCIÓN'!L38)","v":"2023-05-05"},null,"SELECCIONE"]
[null,15,{"$f":"'PLAN DE ACCIÓN'!C39","v":84},{"$f":"'PLAN DE ACCIÓN'!D39","v":"SEGURIDAD EN LA UPSS"},{"$f":"'PLAN DE ACCIÓN'!E39","v":"Personal conoce del sistema de registro y notificación de incidentes y eventos adversos."},{"$f":"IF('PLAN DE ACCIÓN'!F39=0,\" \",'PLAN DE ACCIÓN'!F39)","v":"Se recomienda socializar  e implementar registro y notificacion de eventos adversos"},null,null,{"$f":"IF('PLAN DE ACCIÓN'!I39=0,\" \",'PLAN DE ACCIÓN'!I39)","v":"DR. Edinson Valderrama Mamani."},null,null,{"$f":"IF('PLAN DE ACCIÓN'!L39=0,\" \",'PLAN DE ACCIÓN'!L39)","v":"2023-05-05"},null,"SELECCIONE"]
[null,16,{"$f":"'PLAN DE ACCIÓN'!C40","v":84},{"$f":"'PLAN DE ACCIÓN'!D40","v":"HISTORIA CLINICA "},{"$f":"'PLAN DE ACCIÓN'!E40","v":"Registro de los informes de los procedimientos realizados al paciente."},{"$f":"IF('PLAN DE ACCIÓN'!F40=0,\" \",'PLAN DE ACCIÓN'!F40)","v":"Se recomienda implementar un cuaderno de procedimientos  y con eso dar una buena informacion al paciente de todos los procedimientos realizados"},null,null,{"$f":"IF('PLAN DE ACCIÓN'!I40=0,\" \",'PLAN DE ACCIÓN'!I40)","v":"DR. Edinson Valderrama Mamani."},null,null,{"$f":"IF('PLAN DE ACCIÓN'!L40=0,\" \",'PLAN DE ACCIÓN'!L40)","v":"2023-05-05"},null,"SELECCIONE"]
[null,17,{"$f":"'PLAN DE ACCIÓN'!C41","v":84},{"$f":"'PLAN DE ACCIÓN'!D41","v":"SEGURIDAD EN LA UPSS"},{"$f":"'PLAN DE ACCIÓN'!E41","v":"Registro físico o digital de notificación de accidentes de trabajo del personal asistencial."},{"$f":"IF('PLAN DE ACCIÓN'!F41=0,\" \",'PLAN DE ACCIÓN'!F41)","v":"Se recomienda implementar un registro fisico o digital de notificacion de accidentes de trabajo"},null,null,{"$f":"IF('PLAN DE ACCIÓN'!I41=0,\" \",'PLAN DE ACCIÓN'!I41)","v":"DR. Edinson Valderrama Mamani."},null,null,{"$f":"IF('PLAN DE ACCIÓN'!L41=0,\" \",'PLAN DE ACCIÓN'!L41)","v":"2023-05-05"},null,"SELECCIONE"]
[null,18,{"$f":"'PLAN DE ACCIÓN'!C42","v":36},{"$f":"'PLAN DE ACCIÓN'!D42","v":"SEGURIDAD EN LA UPSS"},{"$f":"'PLAN DE ACCIÓN'!E42","v":"Timbre o sistema de llamado se encuentra cerca del paciente y está operativo."},{"$f":"IF('PLAN DE ACCIÓN'!F42=0,\" \",'PLAN DE ACCIÓN'!F42)","v":"Se sugiere que debe implementarse un timbre para que el paciente pueda llamar mas rapido al personal para su atencion  pero no se cuenta con ambientes propios  "},null,null,{"$f":"IF('PLAN DE ACCIÓN'!I42=0,\" \",'PLAN DE ACCIÓN'!I42)","v":"DR. Edinson Valderrama Mamani."},null,null,{"$f":"IF('PLAN DE ACCIÓN'!L42=0,\" \",'PLAN DE ACCIÓN'!L42)","v":"2023-05-05"},null,"SELECCIONE"]
[null,19,{"$f":"'PLAN DE ACCIÓN'!C43","v":84},{"$f":"'PLAN DE ACCIÓN'!D43","v":"SEGURIDAD EN LA UPSS"},{"$f":"'PLAN DE ACCIÓN'!E43","v":"Barandas de las camas funcionan y están levantadas para proteger al paciente."},{"$f":"IF('PLAN DE ACCIÓN'!F43=0,\" \",'PLAN DE ACCIÓN'!F43)","v":"Se recomienda siempre subir las barandas de las camillas y camas para evitar las caidas  de los pacientes "},null,null,{"$f":"IF('PLAN DE ACCIÓN'!I43=0,\" \",'PLAN DE ACCIÓN'!I43)","v":"DR. Edinson Valderrama Mamani."},null,null,{"$f":"IF('PLAN DE ACCIÓN'!L43=0,\" \",'PLAN DE ACCIÓN'!L43)","v":"2023-05-05"},null,"SELECCIONE"]
[null,20,{"$f":"'PLAN DE ACCIÓN'!C44","v":84},{"$f":"'PLAN DE ACCIÓN'!D44","v":"IDENTIFICACIÓN CORRECTA DEL PACIENTE "},{"$f":"'PLAN DE ACCIÓN'!E44","v":"Paciente tiene brazalete de identificación y los datos registrados son correctos y completos."},{"$f":"IF('PLAN DE ACCIÓN'!F44=0,\" \",'PLAN DE ACCIÓN'!F44)","v":"Se recomienda que todos los pacientes si o si deben tener sus brazaletes de identificacion para poder identificarlos con facilidad"},null,null,{"$f":"IF('PLAN DE ACCIÓN'!I44=0,\" \",'PLAN DE ACCIÓN'!I44)","v":"DR. Edinson Valderrama Mamani."},null,null,{"$f":"IF('PLAN DE ACCIÓN'!L44=0,\" \",'PLAN DE ACCIÓN'!L44)","v":"2023-05-05"},null,"SELECCIONE"]
[null,21,{"$f":"'PLAN DE ACCIÓN'!C45","v":84},{"$f":"'PLAN DE ACCIÓN'!D45","v":"IDENTIFICACIÓN CORRECTA DEL PACIENTE "},{"$f":"'PLAN DE ACCIÓN'!E45","v":"Cartel visible que tenga registrado el nombre completo del paciente."},{"$f":"IF('PLAN DE ACCIÓN'!F45=0,\" \",'PLAN DE ACCIÓN'!F45)","v":"Se recomienda que todos los carteles deben estar visibles con sus datos completos del paciente para poner el tratamiento correcto al paciente"},null,null,{"$f":"IF('PLAN DE ACCIÓN'!I45=0,\" \",'PLAN DE ACCIÓN'!I45)","v":"DR. Edinson Valderrama Mamani."},null,null,{"$f":"IF('PLAN DE ACCIÓN'!L45=0,\" \",'PLAN DE ACCIÓN'!L45)","v":"2023-05-05"},null,"SELECCIONE"]
[null,22,{"$f":"'PLAN DE ACCIÓN'!C46","v":84},{"$f":"'PLAN DE ACCIÓN'!D46","v":"IDENTIFICACIÓN CORRECTA DEL PACIENTE "},{"$f":"'PLAN DE ACCIÓN'!E46","v":"Datos proporcionados por el paciente, son similares a los registrados en la historia clínica."},{"$f":"IF('PLAN DE ACCIÓN'!F46=0,\" \",'PLAN DE ACCIÓN'!F46)","v":"Se recomienda que los datos del paciente sean bien registrados en la historia clinica  esto con el fin de dar el tratamiento correcto"},null,null,{"$f":"IF('PLAN DE ACCIÓN'!I46=0,\" \",'PLAN DE ACCIÓN'!I46)","v":"DR. Edinson Valderrama Mamani."},null,null,{"$f":"IF('PLAN DE ACCIÓN'!L46=0,\" \",'PLAN DE ACCIÓN'!L46)","v":"2023-05-05"},null,"SELECCIONE"]
[null,23,{"$f":"'PLAN DE ACCIÓN'!C47","v":84},{"$f":"'PLAN DE ACCIÓN'!D47","v":"IDENTIFICACIÓN CORRECTA DEL PACIENTE "},{"$f":"'PLAN DE ACCIÓN'!E47","v":"Verificación de la identidad del paciente con el brazalete antes de cualquier procedimiento."},{"$f":"IF('PLAN DE ACCIÓN'!F47=0,\" \",'PLAN DE ACCIÓN'!F47)","v":"Se recomienda que todos los pacientes deben contar con sus brazalestes para realizarles sus procedimientos"},null,null,{"$f":"IF('PLAN DE ACCIÓN'!I47=0,\" \",'PLAN DE ACCIÓN'!I47)","v":"DR. Edinson Valderrama Mamani."},null,null,{"$f":"IF('PLAN DE ACCIÓN'!L47=0,\" \",'PLAN DE ACCIÓN'!L47)","v":"2023-05-05"},null,"SELECCIONE"]
[null,24,{"$f":"'PLAN DE ACCIÓN'!C48","v":84},{"$f":"'PLAN DE ACCIÓN'!D48","v":"IDENTIFICACIÓN CORRECTA DEL PACIENTE "},{"$f":"'PLAN DE ACCIÓN'!E48","v":"Identificación de riesgo de caidas del paciente tanto en el brazalete del paciente como en el cartel visible."},{"$f":"IF('PLAN DE ACCIÓN'!F48=0,\" \",'PLAN DE ACCIÓN'!F48)","v":"Se recomienda implementar los brazaletes de identificacion"},null,null,{"$f":"IF('PLAN DE ACCIÓN'!I48=0,\" \",'PLAN DE ACCIÓN'!I48)","v":"DR. Edinson Valderrama Mamani."},null,null,{"$f":"IF('PLAN DE ACCIÓN'!L48=0,\" \",'PLAN DE ACCIÓN'!L48)","v":"2023-05-05"},null,"SELECCIONE"]
[null,25,{"$f":"'PLAN DE ACCIÓN'!C49","v":84},{"$f":"'PLAN DE ACCIÓN'!D49","v":"IDENTIFICACIÓN CORRECTA DEL PACIENTE "},{"$f":"'PLAN DE ACCIÓN'!E49","v":"Conocimiento del paciente o familiar responsable sobre su enfermedad, su evolución y pronóstico del mismo, el cual debe concordar con la información registrada en la historia clínica."},{"$f":"IF('PLAN DE ACCIÓN'!F49=0,\" \",'PLAN DE ACCIÓN'!F49)","v":"Se recomienda brindar informacion a sus familiares sobre la enfermedad de su familiar para que este enterado sobre el tratamiento que debe recibir"},null,null,{"$f":"IF('PLAN DE ACCIÓN'!I49=0,\" \",'PLAN DE ACCIÓN'!I49)","v":"DR. Edinson Valderrama Mamani."},null,null,{"$f":"IF('PLAN DE ACCIÓN'!L49=0,\" \",'PLAN DE ACCIÓN'!L49)","v":"2023-05-05"},null,"SELECCIONE"]
[null,26,{"$f":"'PLAN DE ACCIÓN'!C50","v":84},{"$f":"'PLAN DE ACCIÓN'!D50","v":"IDENTIFICACIÓN CORRECTA DEL PACIENTE "},{"$f":"'PLAN DE ACCIÓN'!E50","v":"Paciente  informado al que se  le han aclado sus dudas y preguntas respecto a algún procedimiento o cirugía, evidenciandose la firma del Consentimiento respectivo."},{"$f":"IF('PLAN DE ACCIÓN'!F50=0,\" \",'PLAN DE ACCIÓN'!F50)","v":"Se recomienda que se  brinde informacion sobre todos los procedimientos  que se le realizara al  paciente  para que tenga conocimiento"},null,null,{"$f":"IF('PLAN DE ACCIÓN'!I50=0,\" \",'PLAN DE ACCIÓN'!I50)","v":"DR. Edinson Valderrama Mamani."},null,null,{"$f":"IF('PLAN DE ACCIÓN'!L50=0,\" \",'PLAN DE ACCIÓN'!L50)","v":"2023-05-05"},null,"SELECCIONE"]
[null,27,{"$f":"'PLAN DE ACCIÓN'!C51","v":84},{"$f":"'PLAN DE ACCIÓN'!D51","v":"PREVENCIÓN DE LA FUGA DE PACIENTES"},{"$f":"'PLAN DE ACCIÓN'!E51","v":"Paciente cuenta con ropa de hospital facilmente identificable."},{"$f":"IF('PLAN DE ACCIÓN'!F51=0,\" \",'PLAN DE ACCIÓN'!F51)","v":"Se recomienda que soliciten la compra de pijamas para todos los pacientes para poder  identificarlos"},null,null,{"$f":"IF('PLAN DE ACCIÓN'!I51=0,\" \",'PLAN DE ACCIÓN'!I51)","v":"DR. Edinson Valderrama Mamani."},null,null,{"$f":"IF('PLAN DE ACCIÓN'!L51=0,\" \",'PLAN DE ACCIÓN'!L51)","v":"2023-05-05"},null,"SELECCIONE"]
[null,28,{"$f":"'PLAN DE ACCIÓN'!C52","v":84},{"$f":"'PLAN DE ACCIÓN'!D52","v":"PREVENCIÓN DE LA FUGA DE PACIENTES"},{"$f":"'PLAN DE ACCIÓN'!E52","v":"Vigilancia controla las pertenencias de los pacientes y las visitas para evitar el uso inadecuado de objetos potencialmente peligrosos."},{"$f":"IF('PLAN DE ACCIÓN'!F52=0,\" \",'PLAN DE ACCIÓN'!F52)","v":"Se recomienda que soliciten vigilancia  en el hospital ya que no se cuenta con vigilantes"},null,null,{"$f":"IF('PLAN DE ACCIÓN'!I52=0,\" \",'PLAN DE ACCIÓN'!I52)","v":"DR. Edinson Valderrama Mamani."},null,null,{"$f":"IF('PLAN DE ACCIÓN'!L52=0,\" \",'PLAN DE ACCIÓN'!L52)","v":"2023-05-05"},null,"SELECCIONE"]
[null,29,{"$f":"'PLAN DE ACCIÓN'!C53","v":84},{"$f":"'PLAN DE ACCIÓN'!D53","v":"PREVENCIÓN DE LA FUGA DE PACIENTES"},{"$f":"'PLAN DE ACCIÓN'!E53","v":"Tienen un sistema efectivo de control de las salidas y entradas del servicio de hospitalización."},{"$f":"IF('PLAN DE ACCIÓN'!F53=0,\" \",'PLAN DE ACCIÓN'!F53)","v":"Se recomienda  poner un Vigilante  para que haga un control  exclusivo"},null,null,{"$f":"IF('PLAN DE ACCIÓN'!I53=0,\" \",'PLAN DE ACCIÓN'!I53)","v":"DR. Edinson Valderrama Mamani."},null,null,{"$f":"IF('PLAN DE ACCIÓN'!L53=0,\" \",'PLAN DE ACCIÓN'!L53)","v":"2023-05-05"},null,"SELECCIONE"]
[null,30,{"$f":"'PLAN DE ACCIÓN'!C54","v":84},{"$f":"'PLAN DE ACCIÓN'!D54","v":"PREVENCIÓN DE LA FUGA DE PACIENTES"},{"$f":"'PLAN DE ACCIÓN'!E54","v":"Entrevistas con el paciente para valorar el riesgo potencial de fuga. Solo en casos de oposición activa y riesgo inminente de fuga se recurrirá a la contención mecánica."},{"$f":"IF('PLAN DE ACCIÓN'!F54=0,\" \",'PLAN DE ACCIÓN'!F54)","v":"Se recomienda que se tenga un vigilante para que este pendiente de la fuga de los pacientes"},null,null,{"$f":"IF('PLAN DE ACCIÓN'!I54=0,\" \",'PLAN DE ACCIÓN'!I54)","v":"DR. Edinson Valderrama Mamani."},null,null,{"$f":"IF('PLAN DE ACCIÓN'!L54=0,\" \",'PLAN DE ACCIÓN'!L54)","v":"2023-05-05"},null,"SELECCIONE"]
[null,31,{"$f":"'PLAN DE ACCIÓN'!C55","v":84},{"$f":"'PLAN DE ACCIÓN'!D55","v":"PREVENCIÓN DE LA FUGA DE PACIENTES"},{"$f":"'PLAN DE ACCIÓN'!E55","v":"Registro en la hoja de recomendaciones terapéuticas el riesgo de fuga del paciente y la activación de las medidas de supervisión oportunas."},{"$f":"IF('PLAN DE ACCIÓN'!F55=0,\" \",'PLAN DE ACCIÓN'!F55)","v":"Se recomienda implementar un cuaderno de recomendaciones terapeuticas y asi mismo hacer las cordinaciones con el vigilante"},null,null,{"$f":"IF('PLAN DE ACCIÓN'!I55=0,\" \",'PLAN DE ACCIÓN'!I55)","v":"DR. Edinson Valderrama Mamani."},null,null,{"$f":"IF('PLAN DE ACCIÓN'!L55=0,\" \",'PLAN DE ACCIÓN'!L55)","v":"2023-05-05"},null,"SELECCIONE"]
[null,32,{"$f":"'PLAN DE ACCIÓN'!C56","v":36},{"$f":"'PLAN DE ACCIÓN'!D56","v":"PREVENCIÓN DE LA FUGA DE PACIENTES"},{"$f":"'PLAN DE ACCIÓN'!E56","v":"Existencia de un procedimiento o protocolo que se active en caso de fuga de paciente."},{"$f":"IF('PLAN DE ACCIÓN'!F56=0,\" \",'PLAN DE ACCIÓN'!F56)","v":"Es recomendable tener un protocolo que se active en caso de fuga de los pacientes"},null,null,{"$f":"IF('PLAN DE ACCIÓN'!I56=0,\" \",'PLAN DE ACCIÓN'!I56)","v":"DR. Edinson Valderrama Mamani."},null,null,{"$f":"IF('PLAN DE ACCIÓN'!L56=0,\" \",'PLAN DE ACCIÓN'!L56)","v":"2023-05-05"},null,"SELECCIONE"]
[null,33,{"$f":"'PLAN DE ACCIÓN'!C57","v":84},{"$f":"'PLAN DE ACCIÓN'!D57","v":"SEGURIDAD EN LA MEDICACIÓN  "},{"$f":"'PLAN DE ACCIÓN'!E57","v":"Paciente conoce que medicamentos recibe y a que hora corresponde que se lo administren."},{"$f":"IF('PLAN DE ACCIÓN'!F57=0,\" \",'PLAN DE ACCIÓN'!F57)","v":"Se recomienda  que se brinde informacion y consejeria  en el tratamiento que se administre al paciente"},null,null,{"$f":"IF('PLAN DE ACCIÓN'!I57=0,\" \",'PLAN DE ACCIÓN'!I57)","v":"DR. Edinson Valderrama Mamani."},null,null,{"$f":"IF('PLAN DE ACCIÓN'!L57=0,\" \",'PLAN DE ACCIÓN'!L57)","v":"2023-05-05"},null,"SELECCIONE"]
[null,34,{"$f":"'PLAN DE ACCIÓN'!C58","v":84},{"$f":"'PLAN DE ACCIÓN'!D58","v":"SEGURIDAD EN LA MEDICACIÓN  "},{"$f":"'PLAN DE ACCIÓN'!E58","v":"Paciente conoce los efectos secundarios que pueden producirle los medicamentos que recibe."},{"$f":"IF('PLAN DE ACCIÓN'!F58=0,\" \",'PLAN DE ACCIÓN'!F58)","v":"Se recomienda que brinden la informacion de los efectos secundarios que pueden producir los medicamentos"},null,null,{"$f":"IF('PLAN DE ACCIÓN'!I58=0,\" \",'PLAN DE ACCIÓN'!I58)","v":"DR. Edinson Valderrama Mamani."},null,null,{"$f":"IF('PLAN DE ACCIÓN'!L58=0,\" \",'PLAN DE ACCIÓN'!L58)","v":"2023-05-05"},null,"SELECCIONE"]
[null,35,{"$f":"'PLAN DE ACCIÓN'!C59","v":84},{"$f":"'PLAN DE ACCIÓN'!D59","v":"SEGURIDAD EN LA MEDICACIÓN  "},{"$f":"'PLAN DE ACCIÓN'!E59","v":"Coche de paro cuenta con los insumos necesarios para atender situaciones críticas según normatividad vigente."},{"$f":"IF('PLAN DE ACCIÓN'!F59=0,\" \",'PLAN DE ACCIÓN'!F59)","v":"Se recomienda que cuenten con un coche de paro esto con el fin de que ante cualquier emergencia tengan con que atender "},null,null,{"$f":"IF('PLAN DE ACCIÓN'!I59=0,\" \",'PLAN DE ACCIÓN'!I59)","v":"DR. Edinson Valderrama Mamani."},null,null,{"$f":"IF('PLAN DE ACCIÓN'!L59=0,\" \",'PLAN DE ACCIÓN'!L59)","v":"2023-05-05"},null,"SELECCIONE"]
[null,36,{"$f":"'PLAN DE ACCIÓN'!C60","v":84},{"$f":"'PLAN DE ACCIÓN'!D60","v":"SEGURIDAD EN LA MEDICACIÓN  "},{"$f":"'PLAN DE ACCIÓN'!E60","v":"Soluciones endovenosas se encuentran debidamente rotulados con la fecha y  los componentes contenidas en ella."},{"$f":"IF('PLAN DE ACCIÓN'!F60=0,\" \",'PLAN DE ACCIÓN'!F60)","v":"Se recomienda rotular las soluciones  endovenosas para saber que solucion le estan poniendo, asi mismo acon que medicamentos mas , el goteo , nombre y fecha del paciente para que no se confunda con el tratamiento de otros poacientes"},null,null,{"$f":"IF('PLAN DE ACCIÓN'!I60=0,\" \",'PLAN DE ACCIÓN'!I60)","v":"DR. Edinson Valderrama Mamani."},null,null,{"$f":"IF('PLAN DE ACCIÓN'!L60=0,\" \",'PLAN DE ACCIÓN'!L60)","v":"2023-05-05"},null,"SELECCIONE"]
[null,37,{"$f":"'PLAN DE ACCIÓN'!C61","v":84},{"$f":"'PLAN DE ACCIÓN'!D61","v":"SEGURIDAD EN LA MEDICACIÓN  "},{"$f":"'PLAN DE ACCIÓN'!E61","v":"Almacenamiento ordenado de los medicamentos  para evitar su confusión por su similitud de nombres o de presentación."},{"$f":"IF('PLAN DE ACCIÓN'!F61=0,\" \",'PLAN DE ACCIÓN'!F61)","v":"Es recomendable que el almacenamiento de medicamentos  esten separados y rotulados para evitar confusiones"},null,null,{"$f":"IF('PLAN DE ACCIÓN'!I61=0,\" \",'PLAN DE ACCIÓN'!I61)","v":"DR. Edinson Valderrama Mamani."},null,null,{"$f":"IF('PLAN DE ACCIÓN'!L61=0,\" \",'PLAN DE ACCIÓN'!L61)","v":"2023-05-05"},null,"SELECCIONE"]
[null,38,{"$f":"'PLAN DE ACCIÓN'!C62","v":84},{"$f":"'PLAN DE ACCIÓN'!D62","v":"SEGURIDAD EN LA MEDICACIÓN  "},{"$f":"'PLAN DE ACCIÓN'!E62","v":"Medicamentos se clasifican para su almacenamiento local según el nombre del paciente por dosis unitaria."},{"$f":"IF('PLAN DE ACCIÓN'!F62=0,\" \",'PLAN DE ACCIÓN'!F62)","v":"Se recomienda implementar un coche para clasificar la medicacion de cada paciente"},null,null,{"$f":"IF('PLAN DE ACCIÓN'!I62=0,\" \",'PLAN DE ACCIÓN'!I62)","v":"DR. Edinson Valderrama Mamani."},null,null,{"$f":"IF('PLAN DE ACCIÓN'!L62=0,\" \",'PLAN DE ACCIÓN'!L62)","v":"2023-05-05"},null,"SELECCIONE"]
[null,39,{"$f":"'PLAN DE ACCIÓN'!C63","v":0},{"$f":"'PLAN DE ACCIÓN'!D63","v":" "},{"$f":"'PLAN DE ACCIÓN'!E63","v":" "},{"$f":"IF('PLAN DE ACCIÓN'!F63=0,\" \",'PLAN DE ACCIÓN'!F63)","v":" "},null,null,{"$f":"IF('PLAN DE ACCIÓN'!I63=0,\" \",'PLAN DE ACCIÓN'!I63)","v":" "},null,null,{"$f":"IF('PLAN DE ACCIÓN'!L63=0,\" \",'PLAN DE ACCIÓN'!L63)","v":" "},null,"SELECCIONE"]
[null,40,{"$f":"'PLAN DE ACCIÓN'!C64","v":0},{"$f":"'PLAN DE ACCIÓN'!D64","v":" "},{"$f":"'PLAN DE ACCIÓN'!E64","v":" "},{"$f":"IF('PLAN DE ACCIÓN'!F64=0,\" \",'PLAN DE ACCIÓN'!F64)","v":" "},null,null,{"$f":"IF('PLAN DE ACCIÓN'!I64=0,\" \",'PLAN DE ACCIÓN'!I64)","v":" "},null,null,{"$f":"IF('PLAN DE ACCIÓN'!L64=0,\" \",'PLAN DE ACCIÓN'!L64)","v":" "},null,"SELECCIONE"]
[null,41,{"$f":"'PLAN DE ACCIÓN'!C65","v":0},{"$f":"'PLAN DE ACCIÓN'!D65","v":"SEGURIDAD EN LA MEDICACIÓN  "},{"$f":"'PLAN DE ACCIÓN'!E65","v":"Medicamentos e insumos médicos cuentan con un mecanismo efectivo de control de vencimiento / caducidad."},{"$f":"IF('PLAN DE ACCIÓN'!F65=0,\" \",'PLAN DE ACCIÓN'!F65)","v":"Se recomienda implementar un cuaderno para controlar  las fechas de vencimientos de los medicamentos"},null,null,{"$f":"IF('PLAN DE ACCIÓN'!I65=0,\" \",'PLAN DE ACCIÓN'!I65)","v":"DR. Edinson Valderrama Mamani."},null,null,{"$f":"IF('PLAN DE ACCIÓN'!L65=0,\" \",'PLAN DE ACCIÓN'!L65)","v":"2023-05-05"},null,"SELECCIONE"]
[null,42,{"$f":"'PLAN DE ACCIÓN'!C66","v":0},{"$f":"'PLAN DE ACCIÓN'!D66","v":"SEGURIDAD EN LA MEDICACIÓN  "},{"$f":"'PLAN DE ACCIÓN'!E66","v":"Existencia de un registro de medicamentos controlados."},{"$f":"IF('PLAN DE ACCIÓN'!F66=0,\" \",'PLAN DE ACCIÓN'!F66)","v":"Se recomienda implementar un cuaderno exclusivo para los medicamentos controlados"},null,null,{"$f":"IF('PLAN DE ACCIÓN'!I66=0,\" \",'PLAN DE ACCIÓN'!I66)","v":"DR. Edinson Valderrama Mamani."},null,null,{"$f":"IF('PLAN DE ACCIÓN'!L66=0,\" \",'PLAN DE ACCIÓN'!L66)","v":"2023-05-05"},null,"SELECCIONE"]
[null,43,{"$f":"'PLAN DE ACCIÓN'!C67","v":0},{"$f":"'PLAN DE ACCIÓN'!D67","v":"SEGURIDAD EN LA MEDICACIÓN  "},{"$f":"'PLAN DE ACCIÓN'!E67","v":"Profesional encargado del cuidado de los pacientes verifica los 5 correctos para la administración correcta de medicamentos."},{"$f":"IF('PLAN DE ACCIÓN'!F67=0,\" \",'PLAN DE ACCIÓN'!F67)","v":"Se recomienda al  personal del servicio que deben poner en practica los 5 correctos"},null,null,{"$f":"IF('PLAN DE ACCIÓN'!I67=0,\" \",'PLAN DE ACCIÓN'!I67)","v":"DR. Edinson Valderrama Mamani."},null,null,{"$f":"IF('PLAN DE ACCIÓN'!L67=0,\" \",'PLAN DE ACCIÓN'!L67)","v":"2023-05-05"},null,"SELECCIONE"]
[null,44,{"$f":"'PLAN DE ACCIÓN'!C68","v":0},{"$f":"'PLAN DE ACCIÓN'!D68","v":"PREVENCIÓN DE CAIDA DE PACIENTES Y CONTENCION MECÁNICA"},{"$f":"'PLAN DE ACCIÓN'!E68","v":"Valoración del riesgo de caída de todo paciente que se hospitaliza."},{"$f":"IF('PLAN DE ACCIÓN'!F68=0,\" \",'PLAN DE ACCIÓN'!F68)","v":"Se recomienda al que deben  poner en practica la valoracion de caidas en todo paciente"},null,null,{"$f":"IF('PLAN DE ACCIÓN'!I68=0,\" \",'PLAN DE ACCIÓN'!I68)","v":"DR. Edinson Valderrama Mamani."},null,null,{"$f":"IF('PLAN DE ACCIÓN'!L68=0,\" \",'PLAN DE ACCIÓN'!L68)","v":"2023-05-05"},null,"SELECCIONE"]
[null,45,{"$f":"'PLAN DE ACCIÓN'!C69","v":0},{"$f":"'PLAN DE ACCIÓN'!D69","v":"PREVENCIÓN DE CAIDA DE PACIENTES Y CONTENCION MECÁNICA"},{"$f":"'PLAN DE ACCIÓN'!E69","v":"Revaloración diaria de pacientes: ancianos, aquellos sometidos a polifarmacia, los drogodependientes y las personas con déficits neurológicos ‐ cognitivos."},{"$f":"IF('PLAN DE ACCIÓN'!F69=0,\" \",'PLAN DE ACCIÓN'!F69)","v":"Se recomienda siempre que deben evaluar a los pacientes ancianos para evitar efectos secundarios por los medicamentos "},null,null,{"$f":"IF('PLAN DE ACCIÓN'!I69=0,\" \",'PLAN DE ACCIÓN'!I69)","v":"DR. Edinson Valderrama Mamani."},null,null,{"$f":"IF('PLAN DE ACCIÓN'!L69=0,\" \",'PLAN DE ACCIÓN'!L69)","v":"2023-05-05"},null,"SELECCIONE"]
[null,46,{"$f":"'PLAN DE ACCIÓN'!C70","v":0},{"$f":"'PLAN DE ACCIÓN'!D70","v":"PREVENCIÓN DE CAIDA DE PACIENTES Y CONTENCION MECÁNICA"},{"$f":"'PLAN DE ACCIÓN'!E70","v":"Información a los pacientes sobre los efectos secundarios de la medicación que pueden afectar la orientación y el sensorio."},{"$f":"IF('PLAN DE ACCIÓN'!F70=0,\" \",'PLAN DE ACCIÓN'!F70)","v":"Se recomienda que a todo paciente que ingrese al servicio de emergencia le brinden informacion sobre los efectos secundarios de la medicacion al administrarle o darle un tratamiento"},null,null,{"$f":"IF('PLAN DE ACCIÓN'!I70=0,\" \",'PLAN DE ACCIÓN'!I70)","v":"DR. Edinson Valderrama Mamani."},null,null,{"$f":"IF('PLAN DE ACCIÓN'!L70=0,\" \",'PLAN DE ACCIÓN'!L70)","v":"2023-05-05"},null,"SELECCIONE"]
[null,47,{"$f":"'PLAN DE ACCIÓN'!C71","v":0},{"$f":"'PLAN DE ACCIÓN'!D71","v":"PREVENCIÓN DE CAIDA DE PACIENTES Y CONTENCION MECÁNICA"},{"$f":"'PLAN DE ACCIÓN'!E71","v":"En casos de sedación y deterioro cognitivo severo se utilizarán barras de protección lateral o contención abdominal cuando el paciente se encuentre encamado."},{"$f":"IF('PLAN DE ACCIÓN'!F71=0,\" \",'PLAN DE ACCIÓN'!F71)","v":"Se recomienda siempre brindar proteccion al paciente ante la administracion de sedantes para evitar caidas"},null,null,{"$f":"IF('PLAN DE ACCIÓN'!I71=0,\" \",'PLAN DE ACCIÓN'!I71)","v":"DR. Edinson Valderrama Mamani."},null,null,{"$f":"IF('PLAN DE ACCIÓN'!L71=0,\" \",'PLAN DE ACCIÓN'!L71)","v":"2023-05-05"},null,"SELECCIONE"]
[null,48,{"$f":"'PLAN DE ACCIÓN'!C72","v":0},{"$f":"'PLAN DE ACCIÓN'!D72","v":"PREVENCIÓN DE CAIDA DE PACIENTES Y CONTENCION MECÁNICA"},{"$f":"'PLAN DE ACCIÓN'!E72","v":"Comunicar al paciente temas relacionados al uso de los baños, uso de las duchas, uso de los lavaderos, cambios posturales periodicos, etc."},{"$f":"IF('PLAN DE ACCIÓN'!F72=0,\" \",'PLAN DE ACCIÓN'!F72)","v":"Se debe recomendar a los pacientes sobre el uso de baños o duchas para evitar daños al paciente"},null,null,{"$f":"IF('PLAN DE ACCIÓN'!I72=0,\" \",'PLAN DE ACCIÓN'!I72)","v":"DR. Edinson Valderrama Mamani."},null,null,{"$f":"IF('PLAN DE ACCIÓN'!L72=0,\" \",'PLAN DE ACCIÓN'!L72)","v":"2023-05-05"},null,"SELECCIONE"]
[null,49,{"$f":"'PLAN DE ACCIÓN'!C73","v":0},{"$f":"'PLAN DE ACCIÓN'!D73","v":"PREVENCIÓN DE CAIDA DE PACIENTES Y CONTENCION MECÁNICA"},{"$f":"'PLAN DE ACCIÓN'!E73","v":"Protocolo que establezca población objetivo, indicaciones, medidas preventivas, profesionales responsables de la indicación y supervisión de los diversos mecanismos de sujeción mecanica."},{"$f":"IF('PLAN DE ACCIÓN'!F73=0,\" \",'PLAN DE ACCIÓN'!F73)","v":"Se sugiere que implementen un protocolo para evitar accidentes o medidads preventivas dentro del servicio"},null,null,{"$f":"IF('PLAN DE ACCIÓN'!I73=0,\" \",'PLAN DE ACCIÓN'!I73)","v":"DR. Edinson Valderrama Mamani."},null,null,{"$f":"IF('PLAN DE ACCIÓN'!L73=0,\" \",'PLAN DE ACCIÓN'!L73)","v":"2023-05-05"},null,"SELECCIONE"]
[null,50,{"$f":"'PLAN DE ACCIÓN'!C74","v":0},{"$f":"'PLAN DE ACCIÓN'!D74","v":"PREVENCIÓN DE CAIDA DE PACIENTES Y CONTENCION MECÁNICA"},{"$f":"'PLAN DE ACCIÓN'!E74","v":"Sistemas de registro específicos de todo paciente con sujeción mecánica, el que se debe de reevaluar periódicamente la situación y el tiempo de sujeción."},{"$f":"IF('PLAN DE ACCIÓN'!F74=0,\" \",'PLAN DE ACCIÓN'!F74)","v":"Se recomienda  implementar registros para todo paciente con sujecion mecanica"},null,null,{"$f":"IF('PLAN DE ACCIÓN'!I74=0,\" \",'PLAN DE ACCIÓN'!I74)","v":"DR. Edinson Valderrama Mamani."},null,null,{"$f":"IF('PLAN DE ACCIÓN'!L74=0,\" \",'PLAN DE ACCIÓN'!L74)","v":"2023-05-05"},null,"SELECCIONE"]
[null,51,{"$f":"'PLAN DE ACCIÓN'!C75","v":0},{"$f":"'PLAN DE ACCIÓN'!D75","v":"PREVENCIÓN DE CAIDA DE PACIENTES Y CONTENCION MECÁNICA"},{"$f":"'PLAN DE ACCIÓN'!E75","v":"Asegurarse que las técnicas de inmovilización puedan ser retiradas fácilmente."},{"$f":"IF('PLAN DE ACCIÓN'!F75=0,\" \",'PLAN DE ACCIÓN'!F75)","v":"Se recomienda siempre retirar las tecnicas de inmovilizacion  con mucho cuidado"},null,null,{"$f":"IF('PLAN DE ACCIÓN'!I75=0,\" \",'PLAN DE ACCIÓN'!I75)","v":"DR. Edinson Valderrama Mamani."},null,null,{"$f":"IF('PLAN DE ACCIÓN'!L75=0,\" \",'PLAN DE ACCIÓN'!L75)","v":"2023-05-05"},null,"SELECCIONE"]
[null,52,{"$f":"'PLAN DE ACCIÓN'!C76","v":0},{"$f":"'PLAN DE ACCIÓN'!D76","v":"PREVENCIÓN DE CAIDA DE PACIENTES Y CONTENCION MECÁNICA"},{"$f":"'PLAN DE ACCIÓN'!E76","v":"Evidencia de cambio periódico de la posición de la inmovilización y evaluación de las zonas cutáneas sometidas a presión."},{"$f":"IF('PLAN DE ACCIÓN'!F76=0,\" \",'PLAN DE ACCIÓN'!F76)","v":"Se recomienda cada 2 horas cambio de posicion para evitar las ulceras por decubito al menos en las personas adultas mayores"},null,null,{"$f":"IF('PLAN DE ACCIÓN'!I76=0,\" \",'PLAN DE ACCIÓN'!I76)","v":"DR. Edinson Valderrama Mamani."},null,null,{"$f":"IF('PLAN DE ACCIÓN'!L76=0,\" \",'PLAN DE ACCIÓN'!L76)","v":"2023-05-05"},null,"SELECCIONE"]
[null,53,{"$f":"'PLAN DE ACCIÓN'!C77","v":0},{"$f":"'PLAN DE ACCIÓN'!D77","v":"SEGURIDAD SEXUAL"},{"$f":"'PLAN DE ACCIÓN'!E77","v":"Información disponible y clara referente a las consecuencias penales de las agresiones sexuales."},{"$f":"IF('PLAN DE ACCIÓN'!F77=0,\" \",'PLAN DE ACCIÓN'!F77)","v":"Se recomienda brindar orientacion para que sean atendidos en la fiscalia"},null,null,{"$f":"IF('PLAN DE ACCIÓN'!I77=0,\" \",'PLAN DE ACCIÓN'!I77)","v":"DR. Edinson Valderrama Mamani."},null,null,{"$f":"IF('PLAN DE ACCIÓN'!L77=0,\" \",'PLAN DE ACCIÓN'!L77)","v":"2023-05-05"},null,"SELECCIONE"]
[null,54,{"$f":"'PLAN DE ACCIÓN'!C78","v":0},{"$f":"'PLAN DE ACCIÓN'!D78","v":"SEGURIDAD SEXUAL"},{"$f":"'PLAN DE ACCIÓN'!E78","v":"El protocolo de recepción de un paciente establece la prohibición expresa de mantener relaciones sexuales durante la hospitalización."},{"$f":"IF('PLAN DE ACCIÓN'!F78=0,\" \",'PLAN DE ACCIÓN'!F78)","v":"Se recomienda solo brindar la informacion necesaria ante estos casos"},null,null,{"$f":"IF('PLAN DE ACCIÓN'!I78=0,\" \",'PLAN DE ACCIÓN'!I78)","v":"DR. Edinson Valderrama Mamani."},null,null,{"$f":"IF('PLAN DE ACCIÓN'!L78=0,\" \",'PLAN DE ACCIÓN'!L78)","v":"2023-05-05"},null,"SELECCIONE"]
[null,55,{"$f":"'PLAN DE ACCIÓN'!C79","v":0},{"$f":"'PLAN DE ACCIÓN'!D79","v":"SEGURIDAD SEXUAL"},{"$f":"'PLAN DE ACCIÓN'!E79","v":"Control de la entrada de pacientes a cualquier habitación que no sea la propia."},{"$f":"IF('PLAN DE ACCIÓN'!F79=0,\" \",'PLAN DE ACCIÓN'!F79)","v":"Se recomienda que el personal  este pendiente en los servicos y el vigilante en la puerta"},null,null,{"$f":"IF('PLAN DE ACCIÓN'!I79=0,\" \",'PLAN DE ACCIÓN'!I79)","v":"DR. Edinson Valderrama Mamani."},null,null,{"$f":"IF('PLAN DE ACCIÓN'!L79=0,\" \",'PLAN DE ACCIÓN'!L79)","v":"2023-05-05"},null,"SELECCIONE"]
[null,56,{"$f":"'PLAN DE ACCIÓN'!C80","v":0},{"$f":"'PLAN DE ACCIÓN'!D80","v":"SEGURIDAD SEXUAL"},{"$f":"'PLAN DE ACCIÓN'!E80","v":"Al detectar conductas desinhibidas se comunicará al resto del equipo y se discutirán las medidas a tomar, que quedarán registradas en la hoja de recomendaciones terapéuticas."},{"$f":"IF('PLAN DE ACCIÓN'!F80=0,\" \",'PLAN DE ACCIÓN'!F80)","v":"Se recomienda estar pendientes y si se diera el caso tratar de resolver con mucha delicadesa"},null,null,{"$f":"IF('PLAN DE ACCIÓN'!I80=0,\" \",'PLAN DE ACCIÓN'!I80)","v":"DR. Edinson Valderrama Mamani."},null,null,{"$f":"IF('PLAN DE ACCIÓN'!L80=0,\" \",'PLAN DE ACCIÓN'!L80)","v":"2023-05-05"},null,"SELECCIONE"]
[null,57,{"$f":"'PLAN DE ACCIÓN'!C81","v":0},{"$f":"'PLAN DE ACCIÓN'!D81","v":"PREVENCIÓN Y REDUCCIÓN DEL RIESGO DE LAS ÚLCERAS POR PRESIÓN"},{"$f":"'PLAN DE ACCIÓN'!E81","v":"Evaluación inicial del riesgo de úlceras por presión en todos los pacientes al ingreso a servicios de hospitalización"},{"$f":"IF('PLAN DE ACCIÓN'!F81=0,\" \",'PLAN DE ACCIÓN'!F81)","v":"Se recomienda evaluar a los pacientes, asi mismo brindar informacion para la prevencion de ulceras por presion"},null,null,{"$f":"IF('PLAN DE ACCIÓN'!I81=0,\" \",'PLAN DE ACCIÓN'!I81)","v":"DR. Edinson Valderrama Mamani."},null,null,{"$f":"IF('PLAN DE ACCIÓN'!L81=0,\" \",'PLAN DE ACCIÓN'!L81)","v":"2023-05-05"},null,"SELECCIONE"]
[null,58,{"$f":"'PLAN DE ACCIÓN'!C82","v":0},{"$f":"'PLAN DE ACCIÓN'!D82","v":"PREVENCIÓN Y REDUCCIÓN DEL RIESGO DE LAS ÚLCERAS POR PRESIÓN"},{"$f":"'PLAN DE ACCIÓN'!E82","v":"Protocolización de la guía de atención para la prevención y control de úlceras por presión."},{"$f":"IF('PLAN DE ACCIÓN'!F82=0,\" \",'PLAN DE ACCIÓN'!F82)","v":"Se recomienda implementar un protocolo de atencion para la prevencion de ulceras por presion"},null,null,{"$f":"IF('PLAN DE ACCIÓN'!I82=0,\" \",'PLAN DE ACCIÓN'!I82)","v":"DR. Edinson Valderrama Mamani."},null,null,{"$f":"IF('PLAN DE ACCIÓN'!L82=0,\" \",'PLAN DE ACCIÓN'!L82)","v":"2023-05-05"},null,"SELECCIONE"]
[null,59,{"$f":"'PLAN DE ACCIÓN'!C83","v":0},{"$f":"'PLAN DE ACCIÓN'!D83","v":"PREVENCIÓN Y REDUCCIÓN DEL RIESGO DE LAS ÚLCERAS POR PRESIÓN"},{"$f":"'PLAN DE ACCIÓN'!E83","v":"Planificación, ejecución y evaluación del programa educativo dirigido a paciente, su cuidador y la familia. "},{"$f":"IF('PLAN DE ACCIÓN'!F83=0,\" \",'PLAN DE ACCIÓN'!F83)","v":"Se recomienda implementar un plan educativo para brindar informacion a sus familiares y cuidadores para que prevengan un ulcera por presion en sus pacientes"},null,null,{"$f":"IF('PLAN DE ACCIÓN'!I83=0,\" \",'PLAN DE ACCIÓN'!I83)","v":"DR. Edinson Valderrama Mamani."},null,null,{"$f":"IF('PLAN DE ACCIÓN'!L83=0,\" \",'PLAN DE ACCIÓN'!L83)","v":"2023-05-05"},null,"SELECCIONE"]
[null,60,{"$f":"'PLAN DE ACCIÓN'!C84","v":0},{"$f":"'PLAN DE ACCIÓN'!D84","v":"PREVENCIÓN Y REDUCCIÓN DEL RIESGO DE LAS ÚLCERAS POR PRESIÓN"},{"$f":"'PLAN DE ACCIÓN'!E84","v":"Notificación de úlceras por presión (incidencia y prevalencia) en un registro diario instaurado en los servicios de hospitalización."},{"$f":"IF('PLAN DE ACCIÓN'!F84=0,\" \",'PLAN DE ACCIÓN'!F84)","v":"Se recomienda implementar un cuaderno para notificar o un registro para los pacientes para saber la incidencia y prevalencia de las ulceras por presion"},null,null,{"$f":"IF('PLAN DE ACCIÓN'!I84=0,\" \",'PLAN DE ACCIÓN'!I84)","v":"DR. Edinson Valderrama Mamani."},null,null,{"$f":"IF('PLAN DE ACCIÓN'!L84=0,\" \",'PLAN DE ACCIÓN'!L84)","v":"2023-05-05"},null,"SELECCIONE"]
[null,61,{"$f":"'PLAN DE ACCIÓN'!C85","v":0},{"$f":"'PLAN DE ACCIÓN'!D85","v":"PREVENCIÓN Y REDUCCIÓN DEL RIESGO DE LAS ÚLCERAS POR PRESIÓN"},{"$f":"'PLAN DE ACCIÓN'!E85","v":"Aplicación de guía de curación de úlceras por presión según estadíos."},{"$f":"IF('PLAN DE ACCIÓN'!F85=0,\" \",'PLAN DE ACCIÓN'!F85)","v":"Se recomienda implementar unguia de curacion de ulceras para que el personal tenga conovcimiento sobre como realizar las curaciones"},null,null,{"$f":"IF('PLAN DE ACCIÓN'!I85=0,\" \",'PLAN DE ACCIÓN'!I85)","v":"DR. Edinson Valderrama Mamani."},null,null,{"$f":"IF('PLAN DE ACCIÓN'!L85=0,\" \",'PLAN DE ACCIÓN'!L85)","v":"2023-05-05"},null,"SELECCIONE"]
[null,62,{"$f":"'PLAN DE ACCIÓN'!C86","v":0},{"$f":"'PLAN DE ACCIÓN'!D86","v":"PREVENCIÓN DEL SUICIDO Y LESIONES"},{"$f":"'PLAN DE ACCIÓN'!E86","v":"Ubicar al paciente en el Servicio / Unidad más adecuada a sus necesidades y en función del riesgo detectado."},{"$f":"IF('PLAN DE ACCIÓN'!F86=0,\" \",'PLAN DE ACCIÓN'!F86)","v":"Se recomienda al personal estar pendientes de los pacientes deprimidos o ansiosos para evitar suicidios o lesiones"},null,null,{"$f":"IF('PLAN DE ACCIÓN'!I86=0,\" \",'PLAN DE ACCIÓN'!I86)","v":"DR. Edinson Valderrama Mamani."},null,null,{"$f":"IF('PLAN DE ACCIÓN'!L86=0,\" \",'PLAN DE ACCIÓN'!L86)","v":"2023-05-05"},null,"SELECCIONE"]
[null,63,{"$f":"'PLAN DE ACCIÓN'!C87","v":0},{"$f":"'PLAN DE ACCIÓN'!D87","v":"PREVENCIÓN DEL SUICIDO Y LESIONES"},{"$f":"'PLAN DE ACCIÓN'!E87","v":"El protocolo de prevención de conductas suicidas debe incluir correcta ubicación del paciente, la necesidad o no de sujeción mecánica, la supervisión así como la constancia en el registro de cualquier incidencia, el control de salidas y de visitas."},{"$f":"IF('PLAN DE ACCIÓN'!F87=0,\" \",'PLAN DE ACCIÓN'!F87)","v":"Se recomienda implementar un protocolo de atencion par evitar cualquier situacion que puedan afectar a los pacientes"},null,null,{"$f":"IF('PLAN DE ACCIÓN'!I87=0,\" \",'PLAN DE ACCIÓN'!I87)","v":"DR. Edinson Valderrama Mamani."},null,null,{"$f":"IF('PLAN DE ACCIÓN'!L87=0,\" \",'PLAN DE ACCIÓN'!L87)","v":"2023-05-05"},null,"SELECCIONE"]
[null,64,{"$f":"'PLAN DE ACCIÓN'!C88","v":0},{"$f":"'PLAN DE ACCIÓN'!D88","v":"COMUNICACIÓN EFECTIVA"},{"$f":"'PLAN DE ACCIÓN'!E88","v":"La UPSS proporciona información sobre sus servicios, horarios de atención a pacientes y/o familiares y el proceso para obtener atención."},{"$f":"IF('PLAN DE ACCIÓN'!F88=0,\" \",'PLAN DE ACCIÓN'!F88)","v":"Se recomienda al servicio que deben poner letreros de horarios de atencion y brindar informacion sobre toda la atencion que se brinda"},null,null,{"$f":"IF('PLAN DE ACCIÓN'!I88=0,\" \",'PLAN DE ACCIÓN'!I88)","v":"DR. Edinson Valderrama Mamani."},null,null,{"$f":"IF('PLAN DE ACCIÓN'!L88=0,\" \",'PLAN DE ACCIÓN'!L88)","v":"2023-05-05"},null,"SELECCIONE"]
[null,65,{"$f":"'PLAN DE ACCIÓN'!C89","v":0},{"$f":"'PLAN DE ACCIÓN'!D89","v":"HIGIENE DE MANOS"},{"$f":"'PLAN DE ACCIÓN'!E89","v":"Disponibilidad de dispensadores con preparados de base alcohólica para manos."},{"$f":"IF('PLAN DE ACCIÓN'!F89=0,\" \",'PLAN DE ACCIÓN'!F89)","v":"Se recomienda implementar mas dispensadores con base alcoholica para las areas del servicio de emergencia"},null,null,{"$f":"IF('PLAN DE ACCIÓN'!I89=0,\" \",'PLAN DE ACCIÓN'!I89)","v":"DR. Edinson Valderrama Mamani."},null,null,{"$f":"IF('PLAN DE ACCIÓN'!L89=0,\" \",'PLAN DE ACCIÓN'!L89)","v":"2023-05-05"},null,"SELECCIONE"]
[null,66,{"$f":"'PLAN DE ACCIÓN'!C90","v":0},{"$f":"'PLAN DE ACCIÓN'!D90","v":"HIGIENE DE MANOS"},{"$f":"'PLAN DE ACCIÓN'!E90","v":"Disponibilidad de lavamanos con suministro de agua y jabón."},{"$f":"IF('PLAN DE ACCIÓN'!F90=0,\" \",'PLAN DE ACCIÓN'!F90)","v":"Se recomienda implentar  lavamanos para que todo el personal de salud y pacientes puedan hacer su higiene de manos"},null,null,{"$f":"IF('PLAN DE ACCIÓN'!I90=0,\" \",'PLAN DE ACCIÓN'!I90)","v":"DR. Edinson Valderrama Mamani."},null,null,{"$f":"IF('PLAN DE ACCIÓN'!L90=0,\" \",'PLAN DE ACCIÓN'!L90)","v":"2023-05-05"},null,"SELECCIONE"]
[null,67,{"$f":"'PLAN DE ACCIÓN'!C91","v":0},{"$f":"'PLAN DE ACCIÓN'!D91","v":"HIGIENE DE MANOS"},{"$f":"'PLAN DE ACCIÓN'!E91","v":"Disponibilidad de papel toalla en todos los lavamanos."},{"$f":"IF('PLAN DE ACCIÓN'!F91=0,\" \",'PLAN DE ACCIÓN'!F91)","v":"Se recomienda hacer su requermiento de papel toalla asi mismo poner en todas las areas del servicio que este al alcance de todos"},null,null,{"$f":"IF('PLAN DE ACCIÓN'!I91=0,\" \",'PLAN DE ACCIÓN'!I91)","v":"DR. Edinson Valderrama Mamani."},null,null,{"$f":"IF('PLAN DE ACCIÓN'!L91=0,\" \",'PLAN DE ACCIÓN'!L91)","v":"2023-05-05"},null,"SELECCIONE"]
[null,68,{"$f":"'PLAN DE ACCIÓN'!C92","v":0},{"$f":"'PLAN DE ACCIÓN'!D92","v":"HIGIENE DE MANOS"},{"$f":"'PLAN DE ACCIÓN'!E92","v":"Cumplimiento del ratio lavamanos/ paciente-cama de al menos 1:10"},{"$f":"IF('PLAN DE ACCIÓN'!F92=0,\" \",'PLAN DE ACCIÓN'!F92)","v":"Se recomienda poner en practica el cumplimiento de la higiene de manos"},null,null,{"$f":"IF('PLAN DE ACCIÓN'!I92=0,\" \",'PLAN DE ACCIÓN'!I92)","v":"DR. Edinson Valderrama Mamani."},null,null,{"$f":"IF('PLAN DE ACCIÓN'!L92=0,\" \",'PLAN DE ACCIÓN'!L92)","v":"2023-05-05"},null,"SELECCIONE"]
[null,69,{"$f":"'PLAN DE ACCIÓN'!C93","v":0},{"$f":"'PLAN DE ACCIÓN'!D93","v":"HIGIENE DE MANOS"},{"$f":"'PLAN DE ACCIÓN'!E93","v":"Cumplimiento de los 08 pasos de la desinfección de manos (pasos y tiempo)."},{"$f":"IF('PLAN DE ACCIÓN'!F93=0,\" \",'PLAN DE ACCIÓN'!F93)","v":"Se recomienda poner en practica los 8 pasos de la desinfeccion con base alcoholica"},null,null,{"$f":"IF('PLAN DE ACCIÓN'!I93=0,\" \",'PLAN DE ACCIÓN'!I93)","v":"DR. Edinson Valderrama Mamani."},null,null,{"$f":"IF('PLAN DE ACCIÓN'!L93=0,\" \",'PLAN DE ACCIÓN'!L93)","v":"2023-05-05"},null,"SELECCIONE"]
[null,70,{"$f":"'PLAN DE ACCIÓN'!C94","v":0},{"$f":"'PLAN DE ACCIÓN'!D94","v":"HIGIENE DE MANOS"},{"$f":"'PLAN DE ACCIÓN'!E94","v":"Cumplimiento de los 11 pasos del lavado de manos (pasos y tiempo)."},{"$f":"IF('PLAN DE ACCIÓN'!F94=0,\" \",'PLAN DE ACCIÓN'!F94)","v":"se recomienda cumplir con los 11 pasos de lavado de manos para todos los procedimientos"},null,null,{"$f":"IF('PLAN DE ACCIÓN'!I94=0,\" \",'PLAN DE ACCIÓN'!I94)","v":"DR. Edinson Valderrama Mamani."},null,null,{"$f":"IF('PLAN DE ACCIÓN'!L94=0,\" \",'PLAN DE ACCIÓN'!L94)","v":"2023-05-05"},null,"SELECCIONE"]
[null,71,{"$f":"'PLAN DE ACCIÓN'!C95","v":0},{"$f":"'PLAN DE ACCIÓN'!D95","v":"HIGIENE DE MANOS"},{"$f":"'PLAN DE ACCIÓN'!E95","v":"Porcentaje de cumplimiento > 80%, del requisito de realizar la higiene de las manos durante su actividad asistencial de acuerdo con los cinco momentos de la higiene de manos."},{"$f":"IF('PLAN DE ACCIÓN'!F95=0,\" \",'PLAN DE ACCIÓN'!F95)","v":"Se recomienda socilizar los pasos del lavado de manos y ponerlos en practica en todo momento"},null,null,{"$f":"IF('PLAN DE ACCIÓN'!I95=0,\" \",'PLAN DE ACCIÓN'!I95)","v":"DR. Edinson Valderrama Mamani."},null,null,{"$f":"IF('PLAN DE ACCIÓN'!L95=0,\" \",'PLAN DE ACCIÓN'!L95)","v":"2023-05-05"},null,"SELECCIONE"]
[null,72,{"$f":"'PLAN DE ACCIÓN'!C96","v":0},{"$f":"'PLAN DE ACCIÓN'!D96","v":"HIGIENE DE MANOS"},{"$f":"'PLAN DE ACCIÓN'!E96","v":"Mensajes y dibujos que promueven la adherencia a la higiene de manos colocados en sitios estratégicos."},{"$f":"IF('PLAN DE ACCIÓN'!F96=0,\" \",'PLAN DE ACCIÓN'!F96)","v":"S e recomienda imcrementar mas dibujos la promover la higine de manos"},null,null,{"$f":"IF('PLAN DE ACCIÓN'!I96=0,\" \",'PLAN DE ACCIÓN'!I96)","v":"DR. Edinson Valderrama Mamani."},null,null,{"$f":"IF('PLAN DE ACCIÓN'!L96=0,\" \",'PLAN DE ACCIÓN'!L96)","v":"2023-05-05"},null,"SELECCIONE"]
[null,73,{"$f":"'PLAN DE ACCIÓN'!C97","v":0},{"$f":"'PLAN DE ACCIÓN'!D97","v":"BIOSEGURIDAD"},{"$f":"'PLAN DE ACCIÓN'!E97","v":"Disposición de residuos sólidos de acuerdo a las normas."},{"$f":"IF('PLAN DE ACCIÓN'!F97=0,\" \",'PLAN DE ACCIÓN'!F97)","v":"Se recomienda siempre maneja los residuos solidos según normas tecnicas "},null,null,{"$f":"IF('PLAN DE ACCIÓN'!I97=0,\" \",'PLAN DE ACCIÓN'!I97)","v":"DR. Edinson Valderrama Mamani."},null,null,{"$f":"IF('PLAN DE ACCIÓN'!L97=0,\" \",'PLAN DE ACCIÓN'!L97)","v":"2023-05-05"},null,"SELECCIONE"]
[null,74,{"$f":"'PLAN DE ACCIÓN'!C98","v":0},{"$f":"'PLAN DE ACCIÓN'!D98","v":"BIOSEGURIDAD"},{"$f":"'PLAN DE ACCIÓN'!E98","v":"Eliminación de material punzo cortante y agujas de acuerdo a las normas."},{"$f":"IF('PLAN DE ACCIÓN'!F98=0,\" \",'PLAN DE ACCIÓN'!F98)","v":"Se recomienda eliminar el material punzo cortante  y agujas de acuerdo a las normas"},null,null,{"$f":"IF('PLAN DE ACCIÓN'!I98=0,\" \",'PLAN DE ACCIÓN'!I98)","v":"DR. Edinson Valderrama Mamani."},null,null,{"$f":"IF('PLAN DE ACCIÓN'!L98=0,\" \",'PLAN DE ACCIÓN'!L98)","v":"2023-05-05"},null,"SELECCIONE"]
[null,75,{"$f":"'PLAN DE ACCIÓN'!C99","v":0},{"$f":"'PLAN DE ACCIÓN'!D99","v":"BIOSEGURIDAD"},{"$f":"'PLAN DE ACCIÓN'!E99","v":"Cumplimiento de las medidas de aislamiento."},{"$f":"IF('PLAN DE ACCIÓN'!F99=0,\" \",'PLAN DE ACCIÓN'!F99)","v":"S e recomienda implementar las medidas de aislamiento"},null,null,{"$f":"IF('PLAN DE ACCIÓN'!I99=0,\" \",'PLAN DE ACCIÓN'!I99)","v":"DR. Edinson Valderrama Mamani."},null,null,{"$f":"IF('PLAN DE ACCIÓN'!L99=0,\" \",'PLAN DE ACCIÓN'!L99)","v":"2023-05-05"},null,"SELECCIONE"]
[null,76,{"$f":"'PLAN DE ACCIÓN'!C100","v":0},{"$f":"'PLAN DE ACCIÓN'!D100","v":"BIOSEGURIDAD"},{"$f":"'PLAN DE ACCIÓN'!E100","v":"El servicio ha implementado el uso de 'Care Bundle\" o Paquete de Medidas para la prevención de las IAAS basadas en evidencia médica. "},{"$f":"IF('PLAN DE ACCIÓN'!F100=0,\" \",'PLAN DE ACCIÓN'!F100)","v":"S e recomienda implementar la medidas de prevencion de la IAAS"},null,null,{"$f":"IF('PLAN DE ACCIÓN'!I100=0,\" \",'PLAN DE ACCIÓN'!I100)","v":"DR. Edinson Valderrama Mamani."},null,null,{"$f":"IF('PLAN DE ACCIÓN'!L100=0,\" \",'PLAN DE ACCIÓN'!L100)","v":"2023-05-05"},null,"SELECCIONE"]
[null,77,{"$f":"'PLAN DE ACCIÓN'!C101","v":0},{"$f":"'PLAN DE ACCIÓN'!D101","v":"BIOSEGURIDAD"},{"$f":"'PLAN DE ACCIÓN'!E101","v":"Evidencia de desarrollo de actividades de vigilancia epidemiológica activa, selectiva y localizada de IAAS en la UPSS."},{"$f":"IF('PLAN DE ACCIÓN'!F101=0,\" \",'PLAN DE ACCIÓN'!F101)","v":"Se recomienda implementar un cuaderno para anotar las actividades de vigilancia epidemiologica"},null,null,{"$f":"IF('PLAN DE ACCIÓN'!I101=0,\" \",'PLAN DE ACCIÓN'!I101)","v":"DR. Edinson Valderrama Mamani."},null,null,{"$f":"IF('PLAN DE ACCIÓN'!L101=0,\" \",'PLAN DE ACCIÓN'!L101)","v":"2023-05-05"},null,"SELECCIONE"]
[null,78,{"$f":"'PLAN DE ACCIÓN'!C102","v":0},{"$f":"'PLAN DE ACCIÓN'!D102","v":"BIOSEGURIDAD"},{"$f":"'PLAN DE ACCIÓN'!E102","v":"Se observa si se encuentran señalizados las zonas rígidas y semirígidas de la Unidad Productora de Servicios de Salud."},{"$f":"IF('PLAN DE ACCIÓN'!F102=0,\" \",'PLAN DE ACCIÓN'!F102)","v":"Se recomienda implementar señalizaciones  de  atencion del servicio"},null,null,{"$f":"IF('PLAN DE ACCIÓN'!I102=0,\" \",'PLAN DE ACCIÓN'!I102)","v":"DR. Edinson Valderrama Mamani."},null,null,{"$f":"IF('PLAN DE ACCIÓN'!L102=0,\" \",'PLAN DE ACCIÓN'!L102)","v":"2023-05-05"},null,"SELECCIONE"]
[null,79,{"$f":"'PLAN DE ACCIÓN'!C103","v":0},{"$f":"'PLAN DE ACCIÓN'!D103","v":"BIOSEGURIDAD"},{"$f":"'PLAN DE ACCIÓN'!E103","v":"Se observa si se respetan las zonas rígidas y semirígidas de la Unidad Productora de Servicios de Salud."},{"$f":"IF('PLAN DE ACCIÓN'!F103=0,\" \",'PLAN DE ACCIÓN'!F103)","v":"Se sugiere verificar si se respetan las zonas rigidas o semirigidas del servicio"},null,null,{"$f":"IF('PLAN DE ACCIÓN'!I103=0,\" \",'PLAN DE ACCIÓN'!I103)","v":"DR. Edinson Valderrama Mamani."},null,null,{"$f":"IF('PLAN DE ACCIÓN'!L103=0,\" \",'PLAN DE ACCIÓN'!L103)","v":"2023-05-05"},null,"SELECCIONE"]
[null,80,{"$f":"'PLAN DE ACCIÓN'!C104","v":0},{"$f":"'PLAN DE ACCIÓN'!D104","v":"FUNCIONAMIENTO Y MANEJO DE EQUIPOS "},{"$f":"'PLAN DE ACCIÓN'!E104","v":"Equipos biomédicos accesibles según le corresponda a la UPSS y de acuerdo al nivel de complejidad"},{"$f":"IF('PLAN DE ACCIÓN'!F104=0,\" \",'PLAN DE ACCIÓN'!F104)","v":"Se sugiere implementar ekl servicio con mas equipos que ayuden a mejorar la atencion de los pacientes"},null,null,{"$f":"IF('PLAN DE ACCIÓN'!I104=0,\" \",'PLAN DE ACCIÓN'!I104)","v":"DR. Edinson Valderrama Mamani."},null,null,{"$f":"IF('PLAN DE ACCIÓN'!L104=0,\" \",'PLAN DE ACCIÓN'!L104)","v":"2023-05-05"},null,"SELECCIONE"]
[null,81,{"$f":"'PLAN DE ACCIÓN'!C105","v":0},{"$f":"'PLAN DE ACCIÓN'!D105","v":"FUNCIONAMIENTO Y MANEJO DE EQUIPOS "},{"$f":"'PLAN DE ACCIÓN'!E105","v":"Equipos biomédicos operativos según le corresponda a la UPSS y de acuerdo al nivel de complejidad"},{"$f":"IF('PLAN DE ACCIÓN'!F105=0,\" \",'PLAN DE ACCIÓN'!F105)","v":"Se sugiere siempre contar con equipos biomedicos operativos ante vcualquier emergencia "},null,null,{"$f":"IF('PLAN DE ACCIÓN'!I105=0,\" \",'PLAN DE ACCIÓN'!I105)","v":"DR. Edinson Valderrama Mamani."},null,null,{"$f":"IF('PLAN DE ACCIÓN'!L105=0,\" \",'PLAN DE ACCIÓN'!L105)","v":"2023-05-05"},null,"SELECCIONE"]
[null,82,{"$f":"'PLAN DE ACCIÓN'!C106","v":0},{"$f":"'PLAN DE ACCIÓN'!D106","v":"FUNCIONAMIENTO Y MANEJO DE EQUIPOS "},{"$f":"'PLAN DE ACCIÓN'!E106","v":"Verificación del conocimiento del personal sobre el funcionamiento de los equipos biomédicos, según responsabilidad."},{"$f":"IF('PLAN DE ACCIÓN'!F106=0,\" \",'PLAN DE ACCIÓN'!F106)","v":"Se recomienda al tener euipos biomedicos nuevos solicitar capacitacion del funcionamiento de los equipos"},null,null,{"$f":"IF('PLAN DE ACCIÓN'!I106=0,\" \",'PLAN DE ACCIÓN'!I106)","v":"DR. Edinson Valderrama Mamani."},null,null,{"$f":"IF('PLAN DE ACCIÓN'!L106=0,\" \",'PLAN DE ACCIÓN'!L106)","v":"2023-05-05"},null,"SELECCIONE"]
[null,83,{"$f":"'PLAN DE ACCIÓN'!C107","v":0},{"$f":"'PLAN DE ACCIÓN'!D107","v":"FUNCIONAMIENTO Y MANEJO DE EQUIPOS "},{"$f":"'PLAN DE ACCIÓN'!E107","v":"Verificación de que la UPSS cuenta con un Plan Anual de Mantenimiento Preventivo de todos sus equipo biomédicos (inclusive los nuevos)."},{"$f":"IF('PLAN DE ACCIÓN'!F107=0,\" \",'PLAN DE ACCIÓN'!F107)","v":"Se recomienda implementar un plan  para el mantenimiento de todos los equipos biomedicos "},null,null,{"$f":"IF('PLAN DE ACCIÓN'!I107=0,\" \",'PLAN DE ACCIÓN'!I107)","v":"DR. Edinson Valderrama Mamani."},null,null,{"$f":"IF('PLAN DE ACCIÓN'!L107=0,\" \",'PLAN DE ACCIÓN'!L107)","v":"2023-05-05"},null,"SELECCIONE"]
[null,84,{"$f":"'PLAN DE ACCIÓN'!C108","v":0},{"$f":"'PLAN DE ACCIÓN'!D108","v":"FUNCIONAMIENTO Y MANEJO DE EQUIPOS "},{"$f":"'PLAN DE ACCIÓN'!E108","v":"Verificación de que la UPSS cumple con ejecutar su Plan Anual de Mantenimiento Preventivo de todos sus equipo biomédicos (inclusive los nuevos), mediante la visualización de las respectivas tarjetas."},{"$f":"IF('PLAN DE ACCIÓN'!F108=0,\" \",'PLAN DE ACCIÓN'!F108)","v":"Se recomienda una vez aprobado  el plan ponerlo en ejecucion para el mantenimiento de todos los equipos"},null,null,{"$f":"IF('PLAN DE ACCIÓN'!I108=0,\" \",'PLAN DE ACCIÓN'!I108)","v":"DR. Edinson Valderrama Mamani."},null,null,{"$f":"IF('PLAN DE ACCIÓN'!L108=0,\" \",'PLAN DE ACCIÓN'!L108)","v":"2023-05-05"},null,"SELECCIONE"]
[null,85,{"$f":"'PLAN DE ACCIÓN'!C109","v":0},{"$f":"'PLAN DE ACCIÓN'!D109","v":" "},{"$f":"'PLAN DE ACCIÓN'!E109","v":" "},{"$f":"IF('PLAN DE ACCIÓN'!F109=0,\" \",'PLAN DE ACCIÓN'!F109)","v":" "},null,null,{"$f":"IF('PLAN DE ACCIÓN'!I109=0,\" \",'PLAN DE ACCIÓN'!I109)","v":" "},null,null,{"$f":"IF('PLAN DE ACCIÓN'!L109=0,\" \",'PLAN DE ACCIÓN'!L109)","v":" "},null,"SELECCIONE"]
[null,86,{"$f":"'PLAN DE ACCIÓN'!C110","v":0},{"$f":"'PLAN DE ACCIÓN'!D110","v":" "},{"$f":"'PLAN DE ACCIÓN'!E110","v":" "},{"$f":"IF('PLAN DE ACCIÓN'!F110=0,\" \",'PLAN DE ACCIÓN'!F110)","v":" "},null,null,{"$f":"IF('PLAN DE ACCIÓN'!I110=0,\" \",'PLAN DE ACCIÓN'!I110)","v":" "},null,null,{"$f":"IF('PLAN DE ACCIÓN'!L110=0,\" \",'PLAN DE ACCIÓN'!L110)","v":" "},null,"SELECCIONE"]
[null,87,{"$f":"'PLAN DE ACCIÓN'!C111","v":0},{"$f":"'PLAN DE ACCIÓN'!D111","v":" "},{"$f":"'PLAN DE ACCIÓN'!E111","v":" "},{"$f":"IF('PLAN DE ACCIÓN'!F111=0,\" \",'PLAN DE ACCIÓN'!F111)","v":" "},null,null,{"$f":"IF('PLAN DE ACCIÓN'!I111=0,\" \",'PLAN DE ACCIÓN'!I111)","v":" "},null,null,{"$f":"IF('PLAN DE ACCIÓN'!L111=0,\" \",'PLAN DE ACCIÓN'!L111)","v":" "},null,"SELECCIONE"]
[null,88,{"$f":"'PLAN DE ACCIÓN'!C112","v":0},{"$f":"'PLAN DE ACCIÓN'!D112","v":" "},{"$f":"'PLAN DE ACCIÓN'!E112","v":" "},{"$f":"IF('PLAN DE ACCIÓN'!F112=0,\" \",'PLAN DE ACCIÓN'!F112)","v":" "},null,null,{"$f":"IF('PLAN DE ACCIÓN'!I112=0,\" \",'PLAN DE ACCIÓN'!I112)","v":" "},null,null,{"$f":"IF('PLAN DE ACCIÓN'!L112=0,\" \",'PLAN DE ACCIÓN'!L112)","v":" "},null,"SELECCIONE"]
[null,89,{"$f":"'PLAN DE ACCIÓN'!C113","v":0},{"$f":"'PLAN DE ACCIÓN'!D113","v":" "},{"$f":"'PLAN DE ACCIÓN'!E113","v":" "},{"$f":"IF('PLAN DE ACCIÓN'!F113=0,\" \",'PLAN DE ACCIÓN'!F113)","v":" "},null,null,{"$f":"IF('PLAN DE ACCIÓN'!I113=0,\" \",'PLAN DE ACCIÓN'!I113)","v":" "},null,null,{"$f":"IF('PLAN DE ACCIÓN'!L113=0,\" \",'PLAN DE ACCIÓN'!L113)","v":" "},null,"SELECCIONE"]
[null,90,{"$f":"'PLAN DE ACCIÓN'!C114","v":0},{"$f":"'PLAN DE ACCIÓN'!D114","v":" "},{"$f":"'PLAN DE ACCIÓN'!E114","v":" "},{"$f":"IF('PLAN DE ACCIÓN'!F114=0,\" \",'PLAN DE ACCIÓN'!F114)","v":" "},null,null,{"$f":"IF('PLAN DE ACCIÓN'!I114=0,\" \",'PLAN DE ACCIÓN'!I114)","v":" "},null,null,{"$f":"IF('PLAN DE ACCIÓN'!L114=0,\" \",'PLAN DE ACCIÓN'!L114)","v":" "},null,"SELECCIONE"]
[null,91,{"$f":"'PLAN DE ACCIÓN'!C115","v":0},{"$f":"'PLAN DE ACCIÓN'!D115","v":" "},{"$f":"'PLAN DE ACCIÓN'!E115","v":" "},{"$f":"IF('PLAN DE ACCIÓN'!F115=0,\" \",'PLAN DE ACCIÓN'!F115)","v":" "},null,null,{"$f":"IF('PLAN DE ACCIÓN'!I115=0,\" \",'PLAN DE ACCIÓN'!I115)","v":" "},null,null,{"$f":"IF('PLAN DE ACCIÓN'!L115=0,\" \",'PLAN DE ACCIÓN'!L115)","v":" "},null,"SELECCIONE"]
[null,92,{"$f":"'PLAN DE ACCIÓN'!C116","v":0},{"$f":"'PLAN DE ACCIÓN'!D116","v":" "},{"$f":"'PLAN DE ACCIÓN'!E116","v":" "},{"$f":"IF('PLAN DE ACCIÓN'!F116=0,\" \",'PLAN DE ACCIÓN'!F116)","v":" "},null,null,{"$f":"IF('PLAN DE ACCIÓN'!I116=0,\" \",'PLAN DE ACCIÓN'!I116)","v":" "},null,null,{"$f":"IF('PLAN DE ACCIÓN'!L116=0,\" \",'PLAN DE ACCIÓN'!L116)","v":" "},null,"SELECCIONE"]
[null,93,{"$f":"'PLAN DE ACCIÓN'!C117","v":0},{"$f":"'PLAN DE ACCIÓN'!D117","v":" "},{"$f":"'PLAN DE ACCIÓN'!E117","v":" "},{"$f":"IF('PLAN DE ACCIÓN'!F117=0,\" \",'PLAN DE ACCIÓN'!F117)","v":" "},null,null,{"$f":"IF('PLAN DE ACCIÓN'!I117=0,\" \",'PLAN DE ACCIÓN'!I117)","v":" "},null,null,{"$f":"IF('PLAN DE ACCIÓN'!L117=0,\" \",'PLAN DE ACCIÓN'!L117)","v":" "},null,"SELECCIONE"]
[null,94,{"$f":"'PLAN DE ACCIÓN'!C118","v":0},{"$f":"'PLAN DE ACCIÓN'!D118","v":" "},{"$f":"'PLAN DE ACCIÓN'!E118","v":" "},{"$f":"IF('PLAN DE ACCIÓN'!F118=0,\" \",'PLAN DE ACCIÓN'!F118)","v":" "},null,null,{"$f":"IF('PLAN DE ACCIÓN'!I118=0,\" \",'PLAN DE ACCIÓN'!I118)","v":" "},null,null,{"$f":"IF('PLAN DE ACCIÓN'!L118=0,\" \",'PLAN DE ACCIÓN'!L118)","v":" "},null,"SELECCIONE"]
[null,95,{"$f":"'PLAN DE ACCIÓN'!C119","v":0},{"$f":"'PLAN DE ACCIÓN'!D119","v":" "},{"$f":"'PLAN DE ACCIÓN'!E119","v":" "},{"$f":"IF('PLAN DE ACCIÓN'!F119=0,\" \",'PLAN DE ACCIÓN'!F119)","v":" "},null,null,{"$f":"IF('PLAN DE ACCIÓN'!I119=0,\" \",'PLAN DE ACCIÓN'!I119)","v":" "},null,null,{"$f":"IF('PLAN DE ACCIÓN'!L119=0,\" \",'PLAN DE ACCIÓN'!L119)","v":" "},null,"SELECCIONE"]
[null,96,{"$f":"'PLAN DE ACCIÓN'!C120","v":0},{"$f":"'PLAN DE ACCIÓN'!D120","v":" "},{"$f":"'PLAN DE ACCIÓN'!E120","v":" "},{"$f":"IF('PLAN DE ACCIÓN'!F120=0,\" \",'PLAN DE ACCIÓN'!F120)","v":" "},null,null,{"$f":"IF('PLAN DE ACCIÓN'!I120=0,\" \",'PLAN DE ACCIÓN'!I120)","v":" "},null,null,{"$f":"IF('PLAN DE ACCIÓN'!L120=0,\" \",'PLAN DE ACCIÓN'!L120)","v":" "},null,"SELECCIONE"]
[null,97,{"$f":"'PLAN DE ACCIÓN'!C121","v":0},{"$f":"'PLAN DE ACCIÓN'!D121","v":" "},{"$f":"'PLAN DE ACCIÓN'!E121","v":" "},{"$f":"IF('PLAN DE ACCIÓN'!F121=0,\" \",'PLAN DE ACCIÓN'!F121)","v":" "},null,null,{"$f":"IF('PLAN DE ACCIÓN'!I121=0,\" \",'PLAN DE ACCIÓN'!I121)","v":" "},null,null,{"$f":"IF('PLAN DE ACCIÓN'!L121=0,\" \",'PLAN DE ACCIÓN'!L121)","v":" "},null,"SELECCIONE"]
[null,98,{"$f":"'PLAN DE ACCIÓN'!C122","v":0},{"$f":"'PLAN DE ACCIÓN'!D122","v":" "},{"$f":"'PLAN DE ACCIÓN'!E122","v":" "},{"$f":"IF('PLAN DE ACCIÓN'!F122=0,\" \",'PLAN DE ACCIÓN'!F122)","v":" "},null,null,{"$f":"IF('PLAN DE ACCIÓN'!I122=0,\" \",'PLAN DE ACCIÓN'!I122)","v":" "},null,null,{"$f":"IF('PLAN DE ACCIÓN'!L122=0,\" \",'PLAN DE ACCIÓN'!L122)","v":" "},null,"SELECCIONE"]
[null,99,{"$f":"'PLAN DE ACCIÓN'!C123","v":0},{"$f":"'PLAN DE ACCIÓN'!D123","v":" "},{"$f":"'PLAN DE ACCIÓN'!E123","v":" "},{"$f":"IF('PLAN DE ACCIÓN'!F123=0,\" \",'PLAN DE ACCIÓN'!F123)","v":" "},null,null,{"$f":"IF('PLAN DE ACCIÓN'!I123=0,\" \",'PLAN DE ACCIÓN'!I123)","v":" "},null,null,{"$f":"IF('PLAN DE ACCIÓN'!L123=0,\" \",'PLAN DE ACCIÓN'!L123)","v":" "},null,"SELECCIONE"]
[null,100,{"$f":"'PLAN DE ACCIÓN'!C124","v":0},{"$f":"'PLAN DE ACCIÓN'!D124","v":" "},{"$f":"'PLAN DE ACCIÓN'!E124","v":" "},{"$f":"IF('PLAN DE ACCIÓN'!F124=0,\" \",'PLAN DE ACCIÓN'!F124)","v":" "},null,null,{"$f":"IF('PLAN DE ACCIÓN'!I124=0,\" \",'PLAN DE ACCIÓN'!I124)","v":" "},null,null,{"$f":"IF('PLAN DE ACCIÓN'!L124=0,\" \",'PLAN DE ACCIÓN'!L124)","v":" "},null,"SELECCIONE"]
[null,101,{"$f":"'PLAN DE ACCIÓN'!C125","v":0},{"$f":"'PLAN DE ACCIÓN'!D125","v":" "},{"$f":"'PLAN DE ACCIÓN'!E125","v":" "},{"$f":"IF('PLAN DE ACCIÓN'!F125=0,\" \",'PLAN DE ACCIÓN'!F125)","v":" "},null,null,{"$f":"IF('PLAN DE ACCIÓN'!I125=0,\" \",'PLAN DE ACCIÓN'!I125)","v":" "},null,null,{"$f":"IF('PLAN DE ACCIÓN'!L125=0,\" \",'PLAN DE ACCIÓN'!L125)","v":" "},null,"SELECCIONE"]
[null,102,{"$f":"'PLAN DE ACCIÓN'!C126","v":0},{"$f":"'PLAN DE ACCIÓN'!D126","v":" "},{"$f":"'PLAN DE ACCIÓN'!E126","v":" "},{"$f":"IF('PLAN DE ACCIÓN'!F126=0,\" \",'PLAN DE ACCIÓN'!F126)","v":" "},null,null,{"$f":"IF('PLAN DE ACCIÓN'!I126=0,\" \",'PLAN DE ACCIÓN'!I126)","v":" "},null,null,{"$f":"IF('PLAN DE ACCIÓN'!L126=0,\" \",'PLAN DE ACCIÓN'!L126)","v":" "},null,"SELECCIONE"]
[null,103,{"$f":"'PLAN DE ACCIÓN'!C127","v":0},{"$f":"'PLAN DE ACCIÓN'!D127","v":" "},{"$f":"'PLAN DE ACCIÓN'!E127","v":" "},{"$f":"IF('PLAN DE ACCIÓN'!F127=0,\" \",'PLAN DE ACCIÓN'!F127)","v":" "},null,null,{"$f":"IF('PLAN DE ACCIÓN'!I127=0,\" \",'PLAN DE ACCIÓN'!I127)","v":" "},null,null,{"$f":"IF('PLAN DE ACCIÓN'!L127=0,\" \",'PLAN DE ACCIÓN'!L127)","v":" "},null,"SELECCIONE"]
[null,104,{"$f":"'PLAN DE ACCIÓN'!C128","v":0},{"$f":"'PLAN DE ACCIÓN'!D128","v":" "},{"$f":"'PLAN DE ACCIÓN'!E128","v":" "},{"$f":"IF('PLAN DE ACCIÓN'!F128=0,\" \",'PLAN DE ACCIÓN'!F128)","v":" "},null,null,{"$f":"IF('PLAN DE ACCIÓN'!I128=0,\" \",'PLAN DE ACCIÓN'!I128)","v":" "},null,null,{"$f":"IF('PLAN DE ACCIÓN'!L128=0,\" \",'PLAN DE ACCIÓN'!L128)","v":" "},null,"SELECCIONE"]
[null,105,{"$f":"'PLAN DE ACCIÓN'!C129","v":0},{"$f":"'PLAN DE ACCIÓN'!D129","v":" "},{"$f":"'PLAN DE ACCIÓN'!E129","v":" "},{"$f":"IF('PLAN DE ACCIÓN'!F129=0,\" \",'PLAN DE ACCIÓN'!F129)","v":" "},null,null,{"$f":"IF('PLAN DE ACCIÓN'!I129=0,\" \",'PLAN DE ACCIÓN'!I129)","v":" "},null,null,{"$f":"IF('PLAN DE ACCIÓN'!L129=0,\" \",'PLAN DE ACCIÓN'!L129)","v":" "},null,"SELECCIONE"]
[null,106,{"$f":"'PLAN DE ACCIÓN'!C130","v":0},{"$f":"'PLAN DE ACCIÓN'!D130","v":" "},{"$f":"'PLAN DE ACCIÓN'!E130","v":" "},{"$f":"IF('PLAN DE ACCIÓN'!F130=0,\" \",'PLAN DE ACCIÓN'!F130)","v":" "},null,null,{"$f":"IF('PLAN DE ACCIÓN'!I130=0,\" \",'PLAN DE ACCIÓN'!I130)","v":" "},null,null,{"$f":"IF('PLAN DE ACCIÓN'!L130=0,\" \",'PLAN DE ACCIÓN'!L130)","v":" "},null,"SELECCIONE"]
[null,107,{"$f":"'PLAN DE ACCIÓN'!C131","v":0},{"$f":"'PLAN DE ACCIÓN'!D131","v":" "},{"$f":"'PLAN DE ACCIÓN'!E131","v":" "},{"$f":"IF('PLAN DE ACCIÓN'!F131=0,\" \",'PLAN DE ACCIÓN'!F131)","v":" "},null,null,{"$f":"IF('PLAN DE ACCIÓN'!I131=0,\" \",'PLAN DE ACCIÓN'!I131)","v":" "},null,null,{"$f":"IF('PLAN DE ACCIÓN'!L131=0,\" \",'PLAN DE ACCIÓN'!L131)","v":" "},null,"SELECCIONE"]
[null,108,{"$f":"'PLAN DE ACCIÓN'!C132","v":0},{"$f":"'PLAN DE ACCIÓN'!D132","v":" "},{"$f":"'PLAN DE ACCIÓN'!E132","v":" "},{"$f":"IF('PLAN DE ACCIÓN'!F132=0,\" \",'PLAN DE ACCIÓN'!F132)","v":" "},null,null,{"$f":"IF('PLAN DE ACCIÓN'!I132=0,\" \",'PLAN DE ACCIÓN'!I132)","v":" "},null,null,{"$f":"IF('PLAN DE ACCIÓN'!L132=0,\" \",'PLAN DE ACCIÓN'!L132)","v":" "},null,"SELECCIONE"]
[null,109,{"$f":"'PLAN DE ACCIÓN'!C133","v":0},{"$f":"'PLAN DE ACCIÓN'!D133","v":" "},{"$f":"'PLAN DE ACCIÓN'!E133","v":" "},{"$f":"IF('PLAN DE ACCIÓN'!F133=0,\" \",'PLAN DE ACCIÓN'!F133)","v":" "},null,null,{"$f":"IF('PLAN DE ACCIÓN'!I133=0,\" \",'PLAN DE ACCIÓN'!I133)","v":" "},null,null,{"$f":"IF('PLAN DE ACCIÓN'!L133=0,\" \",'PLAN DE ACCIÓN'!L133)","v":" "},null,"SELECCIONE"]
[null,110,{"$f":"'PLAN DE ACCIÓN'!C134","v":0},{"$f":"'PLAN DE ACCIÓN'!D134","v":" "},{"$f":"'PLAN DE ACCIÓN'!E134","v":" "},{"$f":"IF('PLAN DE ACCIÓN'!F134=0,\" \",'PLAN DE ACCIÓN'!F134)","v":" "},null,null,{"$f":"IF('PLAN DE ACCIÓN'!I134=0,\" \",'PLAN DE ACCIÓN'!I134)","v":" "},null,null,{"$f":"IF('PLAN DE ACCIÓN'!L134=0,\" \",'PLAN DE ACCIÓN'!L134)","v":" "},null,"SELECCIONE"]
[null,111,{"$f":"'PLAN DE ACCIÓN'!C135","v":0},{"$f":"'PLAN DE ACCIÓN'!D135","v":" "},{"$f":"'PLAN DE ACCIÓN'!E135","v":" "},{"$f":"IF('PLAN DE ACCIÓN'!F135=0,\" \",'PLAN DE ACCIÓN'!F135)","v":" "},null,null,{"$f":"IF('PLAN DE ACCIÓN'!I135=0,\" \",'PLAN DE ACCIÓN'!I135)","v":" "},null,null,{"$f":"IF('PLAN DE ACCIÓN'!L135=0,\" \",'PLAN DE ACCIÓN'!L135)","v":" "},null,"SELECCIONE"]
[null,112,{"$f":"'PLAN DE ACCIÓN'!C136","v":0},{"$f":"'PLAN DE ACCIÓN'!D136","v":" "},{"$f":"'PLAN DE ACCIÓN'!E136","v":" "},{"$f":"IF('PLAN DE ACCIÓN'!F136=0,\" \",'PLAN DE ACCIÓN'!F136)","v":" "},null,null,{"$f":"IF('PLAN DE ACCIÓN'!I136=0,\" \",'PLAN DE ACCIÓN'!I136)","v":" "},null,null,{"$f":"IF('PLAN DE ACCIÓN'!L136=0,\" \",'PLAN DE ACCIÓN'!L136)","v":" "},null,"SELECCIONE"]
[null,113,{"$f":"'PLAN DE ACCIÓN'!C137","v":0},{"$f":"'PLAN DE ACCIÓN'!D137","v":" "},{"$f":"'PLAN DE ACCIÓN'!E137","v":" "},{"$f":"IF('PLAN DE ACCIÓN'!F137=0,\" \",'PLAN DE ACCIÓN'!F137)","v":" "},null,null,{"$f":"IF('PLAN DE ACCIÓN'!I137=0,\" \",'PLAN DE ACCIÓN'!I137)","v":" "},null,null,{"$f":"IF('PLAN DE ACCIÓN'!L137=0,\" \",'PLAN DE ACCIÓN'!L137)","v":" "},null,"SELECCIONE"]
[null,114,{"$f":"'PLAN DE ACCIÓN'!C138","v":0},{"$f":"'PLAN DE ACCIÓN'!D138","v":" "},{"$f":"'PLAN DE ACCIÓN'!E138","v":" "},{"$f":"IF('PLAN DE ACCIÓN'!F138=0,\" \",'PLAN DE ACCIÓN'!F138)","v":" "},null,null,{"$f":"IF('PLAN DE ACCIÓN'!I138=0,\" \",'PLAN DE ACCIÓN'!I138)","v":" "},null,null,{"$f":"IF('PLAN DE ACCIÓN'!L138=0,\" \",'PLAN DE ACCIÓN'!L138)","v":" "},null,"SELECCIONE"]
[null,115,{"$f":"'PLAN DE ACCIÓN'!C139","v":0},{"$f":"'PLAN DE ACCIÓN'!D139","v":" "},{"$f":"'PLAN DE ACCIÓN'!E139","v":" "},{"$f":"IF('PLAN DE ACCIÓN'!F139=0,\" \",'PLAN DE ACCIÓN'!F139)","v":" "},null,null,{"$f":"IF('PLAN DE ACCIÓN'!I139=0,\" \",'PLAN DE ACCIÓN'!I139)","v":" "},null,null,{"$f":"IF('PLAN DE ACCIÓN'!L139=0,\" \",'PLAN DE ACCIÓN'!L139)","v":" "},null,"SELECCIONE"]
[null,116,{"$f":"'PLAN DE ACCIÓN'!C140","v":0},{"$f":"'PLAN DE ACCIÓN'!D140","v":" "},{"$f":"'PLAN DE ACCIÓN'!E140","v":" "},{"$f":"IF('PLAN DE ACCIÓN'!F140=0,\" \",'PLAN DE ACCIÓN'!F140)","v":" "},null,null,{"$f":"IF('PLAN DE ACCIÓN'!I140=0,\" \",'PLAN DE ACCIÓN'!I140)","v":" "},null,null,{"$f":"IF('PLAN DE ACCIÓN'!L140=0,\" \",'PLAN DE ACCIÓN'!L140)","v":" "},null,"SELECCIONE"]
[null,117,{"$f":"'PLAN DE ACCIÓN'!C141","v":0},{"$f":"'PLAN DE ACCIÓN'!D141","v":" "},{"$f":"'PLAN DE ACCIÓN'!E141","v":" "},{"$f":"IF('PLAN DE ACCIÓN'!F141=0,\" \",'PLAN DE ACCIÓN'!F141)","v":" "},null,null,{"$f":"IF('PLAN DE ACCIÓN'!I141=0,\" \",'PLAN DE ACCIÓN'!I141)","v":" "},null,null,{"$f":"IF('PLAN DE ACCIÓN'!L141=0,\" \",'PLAN DE ACCIÓN'!L141)","v":" "},null,"SELECCIONE"]
[null,117,{"$f":"'PLAN DE ACCIÓN'!C142","v":0},{"$f":"'PLAN DE ACCIÓN'!D142","v":" "},{"$f":"'PLAN DE ACCIÓN'!E142","v":" "},{"$f":"IF('PLAN DE ACCIÓN'!F142=0,\" \",'PLAN DE ACCIÓN'!F142)","v":" "},null,null,{"$f":"IF('PLAN DE ACCIÓN'!I142=0,\" \",'PLAN DE ACCIÓN'!I142)","v":" "},null,null,{"$f":"IF('PLAN DE ACCIÓN'!L142=0,\" \",'PLAN DE ACCIÓN'!L142)","v":" "},null,"SELECCIONE"]
[null,117,{"$f":"'PLAN DE ACCIÓN'!C143","v":0},{"$f":"'PLAN DE ACCIÓN'!D143","v":" "},{"$f":"'PLAN DE ACCIÓN'!E143","v":" "},{"$f":"IF('PLAN DE ACCIÓN'!F143=0,\" \",'PLAN DE ACCIÓN'!F143)","v":" "},null,null,{"$f":"IF('PLAN DE ACCIÓN'!I143=0,\" \",'PLAN DE ACCIÓN'!I143)","v":" "},null,null,{"$f":"IF('PLAN DE ACCIÓN'!L143=0,\" \",'PLAN DE ACCIÓN'!L143)","v":" "},null,"SELECCIONE"]
[null,117,{"$f":"'PLAN DE ACCIÓN'!C144","v":0},{"$f":"'PLAN DE ACCIÓN'!D144","v":" "},{"$f":"'PLAN DE ACCIÓN'!E144","v":" "},{"$f":"IF('PLAN DE ACCIÓN'!F144=0,\" \",'PLAN DE ACCIÓN'!F144)","v":" "},null,null,{"$f":"IF('PLAN DE ACCIÓN'!I144=0,\" \",'PLAN DE ACCIÓN'!I144)","v":" "},null,null,{"$f":"IF('PLAN DE ACCIÓN'!L144=0,\" \",'PLAN DE ACCIÓN'!L144)","v":" "},null,"SELECCIONE"]
[null,117,{"$f":"'PLAN DE ACCIÓN'!C145","v":0},{"$f":"'PLAN DE ACCIÓN'!D145","v":" "},{"$f":"'PLAN DE ACCIÓN'!E145","v":" "},{"$f":"IF('PLAN DE ACCIÓN'!F145=0,\" \",'PLAN DE ACCIÓN'!F145)","v":" "},null,null,{"$f":"IF('PLAN DE ACCIÓN'!I145=0,\" \",'PLAN DE ACCIÓN'!I145)","v":" "},null,null,{"$f":"IF('PLAN DE ACCIÓN'!L145=0,\" \",'PLAN DE ACCIÓN'!L145)","v":" "},null,"SELECCIONE"]
[null,117,{"$f":"'PLAN DE ACCIÓN'!C146","v":0},{"$f":"'PLAN DE ACCIÓN'!D146","v":" "},{"$f":"'PLAN DE ACCIÓN'!E146","v":" "},{"$f":"IF('PLAN DE ACCIÓN'!F146=0,\" \",'PLAN DE ACCIÓN'!F146)","v":" "},null,null,{"$f":"IF('PLAN DE ACCIÓN'!I146=0,\" \",'PLAN DE ACCIÓN'!I146)","v":" "},null,null,{"$f":"IF('PLAN DE ACCIÓN'!L146=0,\" \",'PLAN DE ACCIÓN'!L146)","v":" "},null,"SELECCIONE"]
[null,117,{"$f":"'PLAN DE ACCIÓN'!C147","v":0},{"$f":"'PLAN DE ACCIÓN'!D147","v":" "},{"$f":"'PLAN DE ACCIÓN'!E147","v":" "},{"$f":"IF('PLAN DE ACCIÓN'!F147=0,\" \",'PLAN DE ACCIÓN'!F147)","v":" "},null,null,{"$f":"IF('PLAN DE ACCIÓN'!I147=0,\" \",'PLAN DE ACCIÓN'!I147)","v":" "},null,null,{"$f":"IF('PLAN DE ACCIÓN'!L147=0,\" \",'PLAN DE ACCIÓN'!L147)","v":" "},null,"SELECCIONE"]
[null,117,{"$f":"'PLAN DE ACCIÓN'!C148","v":0},{"$f":"'PLAN DE ACCIÓN'!D148","v":" "},{"$f":"'PLAN DE ACCIÓN'!E148","v":" "},{"$f":"IF('PLAN DE ACCIÓN'!F148=0,\" \",'PLAN DE ACCIÓN'!F148)","v":" "},null,null,{"$f":"IF('PLAN DE ACCIÓN'!I148=0,\" \",'PLAN DE ACCIÓN'!I148)","v":" "},null,null,{"$f":"IF('PLAN DE ACCIÓN'!L148=0,\" \",'PLAN DE ACCIÓN'!L148)","v":" "},null,"SELECCIONE"]
[null,117,{"$f":"'PLAN DE ACCIÓN'!C149","v":0},{"$f":"'PLAN DE ACCIÓN'!D149","v":" "},{"$f":"'PLAN DE ACCIÓN'!E149","v":" "},{"$f":"IF('PLAN DE ACCIÓN'!F149=0,\" \",'PLAN DE ACCIÓN'!F149)","v":" "},null,null,{"$f":"IF('PLAN DE ACCIÓN'!I149=0,\" \",'PLAN DE ACCIÓN'!I149)","v":" "},null,null,{"$f":"IF('PLAN DE ACCIÓN'!L149=0,\" \",'PLAN DE ACCIÓN'!L149)","v":" "},null,"SELECCIONE"]
[null,117,{"$f":"'PLAN DE ACCIÓN'!C150","v":0},{"$f":"'PLAN DE ACCIÓN'!D150","v":" "},{"$f":"'PLAN DE ACCIÓN'!E150","v":" "},{"$f":"IF('PLAN DE ACCIÓN'!F150=0,\" \",'PLAN DE ACCIÓN'!F150)","v":" "},null,null,{"$f":"IF('PLAN DE ACCIÓN'!I150=0,\" \",'PLAN DE ACCIÓN'!I150)","v":" "},null,null,{"$f":"IF('PLAN DE ACCIÓN'!L150=0,\" \",'PLAN DE ACCIÓN'!L150)","v":" "},null,"SELECCIONE"]
[null,117,{"$f":"'PLAN DE ACCIÓN'!C151","v":0},{"$f":"'PLAN DE ACCIÓN'!D151","v":" "},{"$f":"'PLAN DE ACCIÓN'!E151","v":" "},{"$f":"IF('PLAN DE ACCIÓN'!F151=0,\" \",'PLAN DE ACCIÓN'!F151)","v":" "},null,null,{"$f":"IF('PLAN DE ACCIÓN'!I151=0,\" \",'PLAN DE ACCIÓN'!I151)","v":" "},null,null,{"$f":"IF('PLAN DE ACCIÓN'!L151=0,\" \",'PLAN DE ACCIÓN'!L151)","v":" "},null,"SELECCIONE"]
[null,117,{"$f":"'PLAN DE ACCIÓN'!C152","v":0},{"$f":"'PLAN DE ACCIÓN'!D152","v":" "},{"$f":"'PLAN DE ACCIÓN'!E152","v":" "},{"$f":"IF('PLAN DE ACCIÓN'!F152=0,\" \",'PLAN DE ACCIÓN'!F152)","v":" "},null,null,{"$f":"IF('PLAN DE ACCIÓN'!I152=0,\" \",'PLAN DE ACCIÓN'!I152)","v":" "},null,null,{"$f":"IF('PLAN DE ACCIÓN'!L152=0,\" \",'PLAN DE ACCIÓN'!L152)","v":" "},null,"SELECCIONE"]
[]
[null,null,null,null,null,null,null,null,null,null,null,"TOTAL DE VERIFICADORES VALIDOS",null,{"$f":"COUNTIF(N26:N152,\"SI\")+COUNTIF(N26:N152,\"NO\")","v":0}]
[null,null,null,null,null,null,null,null,null,null,null,"TOTAL DE VERIFICADORES POSITIVOS",null,{"$f":"COUNTIF(N26:N152,\"SI\")","v":0}]
[null,null,null,null,null,null,null,null,null,null,null,"RESULTADO",null,{"$f":"N155/N154","v":{"$error":"#DIV/0!"}}]

{"sheet":"PRIORIDAD DE INTERVENCIÓN","index":8,"n_rows":162,"n_cols":13,"rows_kept":162,"cut":false,"hidden":false,"merged":[[5,1,5,9],[7,1,7,8],[9,1,9,9],[11,1,11,8],[13,1,13,3],[14,1,14,3],[15,1,15,3],[15,6,15,8],[16,1,16,3],[16,6,16,8],[17,1,17,3],[17,6,17,8],[18,1,18,3],[18,6,18,8],[34,1,34,2],[34,4,34,5],[35,1,35,2],[35,4,35,5],[36,1,36,2],[36,4,36,5],[37,1,37,2],[37,4,37,5],[38,1,38,2],[38,4,38,5],[39,1,39,2],[39,4,39,5],[40,1,40,2],[40,4,40,5],[41,1,41,2],[41,4,41,5],[42,1,42,2],[42,4,42,5],[43,1,43,2],[43,4,43,5],[44,1,44,2],[44,4,44,5],[45,1,45,2],[45,4,45,5],[46,1,46,2],[46,4,46,5],[47,1,47,2],[47,4,47,5],[48,1,48,2],[48,4,48,5],[49,1,49,2],[49,4,49,5],[50,1,50,2],[50,4,50,5],[51,1,51,2],[51,4,51,5],[52,1,52,2],[52,4,52,5],[53,1,53,2],[53,4,53,5],[54,1,54,2],[54,4,54,5],[55,1,55,2],[55,4,55,5],[56,1,56,2],[56,4,56,5],[57,1,57,2],[57,4,57,5],[58,1,58,2],[58,4,58,5],[59,1,59,2],[59,4,59,5],[60,1,60,2],[60,4,60,5],[61,1,61,2],[61,4,61,5],[62,1,62,2],[62,4,62,5],[63,1,63,2],[63,4,63,5],[64,1,64,2],[64,4,64,5],[65,1,65,2],[65,4,65,5],[66,1,66,2],[66,4,66,5],[67,1,67,2],[67,4,67,5],[68,1,68,2],[68,4,68,5],[69,1,69,2],[69,4,69,5],[70,1,70,2],[70,4,70,5],[71,1,71,2],[71,4,71,5],[72,1,72,2],[72,4,72,5],[73,1,73,2],[73,4,73,5],[74,1,74,2],[74,4,74,5],[75,1,75,2],[75,4,75,5],[76,1,76,2],[76,4,76,5],[77,1,77,2],[77,4,77,5],[78,1,78,2],[78,4,78,5],[79,1,79,2],[79,4,79,5],[80,1,80,2],[80,4,80,5],[81,1,81,2],[81,4,81,5],[82,1,82,2],[82,4,82,5],[83,1,83,2],[83,4,83,5],[84,1,84,2],[84,4,84,5],[85,1,85,2],[85,4,85,5],[86,1,86,2],[86,4,86,5],[87,1,87,2],[87,4,87,5],[88,1,88,2],[88,4,88,5],[89,1,89,2],[89,4,89,5],[90,1,90,2],[90,4,90,5],[91,1,91,2],[91,4,91,5],[92,1,92,2],[92,4,92,5],[93,1,93,2],[93,4,93,5],[94,1,94,2],[94,4,94,5],[95,1,95,2],[95,4,95,5],[96,1,96,2],[96,4,96,5],[97,1,97,2],[97,4,97,5],[98,1,98,2],[98,4,98,5],[99,1,99,2],[99,4,99,5],[100,1,100,2],[100,4,100,5],[101,1,101,2],[101,4,101,5],[102,1,102,2],[102,4,102,5],[103,1,103,2],[103,4,103,5],[104,1,104,2],[104,4,104,5],[105,1,105,2],[105,4,105,5],[106,1,106,2],[106,4,106,5],[107,1,107,2],[107,4,107,5],[108,1,108,2],[108,4,108,5],[109,1,109,2],[109,4,109,5],[110,1,110,2],[110,4,110,5],[111,1,111,2],[111,4,111,5],[112,1,112,2],[112,4,112,5],[113,1,113,2],[113,4,113,5],[114,1,114,2],[114,4,114,5],[115,1,115,2],[115,4,115,5],[116,1,116,2],[116,4,116,5],[117,1,117,2],[117,4,117,5],[118,1,118,2],[118,4,118,5],[119,1,119,2],[119,4,119,5],[120,1,120,2],[120,4,120,5],[121,1,121,2],[121,4,121,5],[122,1,122,2],[122,4,122,5],[123,1,123,2],[123,4,123,5],[124,1,124,2],[124,4,124,5],[125,1,125,2],[125,4,125,5],[126,1,126,2],[126,4,126,5],[127,1,127,2],[127,4,127,5],[128,1,128,2],[128,4,128,5],[129,1,129,2],[129,4,129,5],[130,1,130,2],[130,4,130,5],[131,1,131,2],[131,4,131,5],[132,1,132,2],[132,4,132,5],[133,1,133,2],[133,4,133,5],[134,1,134,2],[134,4,134,5],[135,1,135,2],[135,4,135,5],[136,1,136,2],[136,4,136,5],[137,1,137,2],[137,4,137,5],[138,1,138,2],[138,4,138,5],[139,1,139,2],[139,4,139,5],[140,1,140,2],[140,4,140,5],[141,1,141,2],[141,4,141,5],[142,1,142,2],[142,4,142,5],[143,1,143,2],[143,4,143,5],[144,1,144,2],[144,4,144,5],[145,1,145,2],[145,4,145,5],[146,1,146,2],[146,4,146,5],[147,1,147,2],[147,4,147,5],[148,1,148,2],[148,4,148,5],[149,1,149,2],[149,4,149,5],[150,1,150,2],[150,4,150,5],[151,1,151,2],[151,4,151,5],[152,1,152,2],[152,4,152,5],[153,1,153,2],[153,4,153,5],[154,1,154,2],[154,4,154,5],[155,1,155,2],[155,4,155,5],[156,1,156,2],[156,4,156,5],[157,1,157,2],[157,4,157,5],[158,1,158,2],[158,4,158,5],[159,1,159,2],[159,4,159,5],[160,1,160,2],[160,4,160,5],[161,1,161,2],[161,4,161,5],[1,1,2,4]]}
[]
[null,"UNIDAD FUNCIONAL DE GESTIÓN DE LA CALIDAD EN SALUD"]
[]
[]
[]
[null,{"$f":"+'MENU PRINCIPAL'!B2","v":"APLICATIVO  DE RONDAS  DE SEGURIDAD DEL PACIENTE PARA LA GESTIÓN DEL RIESGO EN LA ATENCION DE SALUD"}]
[]
[]
[]
[null,"PRIORIDAD DE INTERVENCIÓN"]
[null,null,null,null,null,null,null,"IR A MENU "]
[]
[]
[null,"ÓRGANO DESCONCENTRADO:",null,null,{"$f":"'MENU PRINCIPAL'!C20","v":"INSTITUTO NACIONAL MATERNO PERINATAL"},"TRIMESTRE:",{"$f":"'FICHA EVALUACIÓN'!J14","v":"I TRIMESTRE"},"AÑO:",{"$f":"'FICHA EVALUACIÓN'!L14","v":2023}]
[null,"IPRESS:",null,null,{"$f":"IF('FICHA EVALUACIÓN'!H15=0,\" \",'FICHA EVALUACIÓN'!H15)","v":"HOSPITAL DE ESPINAR"},"FECHA APLICACION:",null,{"$f":"IF('FICHA EVALUACIÓN'!K15=0,\" \",'FICHA EVALUACIÓN'!K15)","v":"2023-03-29"},"(DD/MM/AAAA)"]
[null,"UPSS:",null,null,{"$f":"'FICHA EVALUACIÓN'!H16","v":"EMERGENCIA"},"RESP.EPIDEMIOLOGIA:",{"$f":"IF('FICHA EVALUACIÓN'!J16=0,\" \",'FICHA EVALUACIÓN'!J16)","v":"LIC. ISABEL ROMERO JACHA"}]
[null,"TITULAR/RESPONSABLE IPRESS:",null,null,{"$f":"IF('MENU PRINCIPAL'!C22=0,\" \",'MENU PRINCIPAL'!C22)","v":"Dr.EDWIN SOTO CCAYAHUALLPA"},"RESP. DE LA UPSS:",{"$f":"IF('FICHA EVALUACIÓN'!J17=0,\" \",'FICHA EVALUACIÓN'!J17)","v":"DR. EDINSON VALDERRAMA MAMANI"}]
[null,"RESP. DE ADMINISTRACION:",null,null,{"$f":"IF('FICHA EVALUACIÓN'!H18=0,\" \",'FICHA EVALUACIÓN'!H18)","v":"LIC. JUVENAL TAIRO ZAMBRANO"},"RESP.OFIC./UNIDAD CALIDAD:",{"$f":"IF('FICHA EVALUACIÓN'!J18=0,\" \",'FICHA EVALUACIÓN'!J18)","v":"LIC. JUDITH K. CAHUATA TURO"}]
[null,"RESP. DPTO/SERVICIO ENFERMERÍA:",null,null,{"$f":"IF('FICHA EVALUACIÓN'!H19=0,\" \",'FICHA EVALUACIÓN'!H19)","v":"LIC. MARIO CHOQUE ROMERO."},"OTROS RESPONSABLES:",{"$f":"IF('FICHA EVALUACIÓN'!J19=0,\" \",'FICHA EVALUACIÓN'!J19)","v":"LIC. IRMA LUPACA JIHUAÑA"}]
[null,null,null,null,null,null,null,null,null,null,null,null," "]
[]
[]
[]
[]
[]
[]
[]
[]
[]
[]
[]
[]
[]
[]
[null,"BUENAS PRÁCTICAS",null,"%","VERIFICADOR",null,"CUMPLIMIENTO","VALORACIÓN DEL RIESGO","FACTIBILIDAD DE INTERVENCIÓN","PRIORIDAD DE INTERVENCIÓN"]
[null,{"$f":"'MATRIZ DE RIESGOS'!C36","v":"HISTORIA CLINICA "},null,{"$f":"'MATRIZ DE RIESGOS'!F36","v":0.521739130434783},{"$f":"'MATRIZ DE RIESGOS'!G36","v":"Registro completo de la filiación del paciente: Datos del EESS, Nº de HCl, Nombres y Apellidos del Paciente, Lugar y fecha de nacimiento, Edad, Sexo, Domicilio, Procedencia, Teléfono, DNI, Seguro, Estado Civi, Instrucción, Ocupación, Religión, Acompañante o Responsable de ser el caso."},null,{"$f":"'MATRIZ DE RIESGOS'!I36","v":"NO"},{"$f":"'MATRIZ DE RIESGOS'!L36","v":28},1,{"$f":"IFERROR(H36*I36,0)","v":28}]
[null,{"$f":"'MATRIZ DE RIESGOS'!C37","v":"HISTORIA CLINICA "},null,{"$f":"'MATRIZ DE RIESGOS'!F37","v":0.521739130434783},{"$f":"'MATRIZ DE RIESGOS'!G37","v":"Registro de los antecedentes del paciente."},null,{"$f":"'MATRIZ DE RIESGOS'!I37","v":"NO"},{"$f":"'MATRIZ DE RIESGOS'!L37","v":28},2,{"$f":"IFERROR(H37*I37,0)","v":56}]
[null,{"$f":"'MATRIZ DE RIESGOS'!C38","v":"HISTORIA CLINICA "},null,{"$f":"'MATRIZ DE RIESGOS'!F38","v":0.521739130434783},{"$f":"'MATRIZ DE RIESGOS'!G38","v":"Registro de la Funciones Biológicas: apetito, sed, sueño, orina, deposiciones, estado de animo. "},null,{"$f":"'MATRIZ DE RIESGOS'!I38","v":"NO"},{"$f":"'MATRIZ DE RIESGOS'!L38","v":28},2,56]
[null,{"$f":"'MATRIZ DE RIESGOS'!C39","v":"HISTORIA CLINICA "},null,{"$f":"'MATRIZ DE RIESGOS'!F39","v":0.521739130434783},{"$f":"'MATRIZ DE RIESGOS'!G39","v":"Registro de evolución del paciente: Fecha y hora de atención, Apreciación Subjetiva, Apreciación Objetiva, Tratamiento, Dieta, Interpretación de exámenes y comentario, terapeútica y Plan de trabajo, firma, sello y colegiatura del médico responsable."},null,{"$f":"'MATRIZ DE RIESGOS'!I39","v":"NO"},{"$f":"'MATRIZ DE RIESGOS'!L39","v":28},1,28]
[null,{"$f":"'MATRIZ DE RIESGOS'!C40","v":"HISTORIA CLINICA "},null,{"$f":"'MATRIZ DE RIESGOS'!F40","v":0.521739130434783},{"$f":"'MATRIZ DE RIESGOS'!G40","v":"Registro y gráfico actualizado de la Funciones Vitales."},null,{"$f":"'MATRIZ DE RIESGOS'!I40","v":"NO"},{"$f":"'MATRIZ DE RIESGOS'!L40","v":28},1,28]
[null,{"$f":"'MATRIZ DE RIESGOS'!C41","v":"HISTORIA CLINICA "},null,{"$f":"'MATRIZ DE RIESGOS'!F41","v":0.521739130434783},{"$f":"'MATRIZ DE RIESGOS'!G41","v":"Registro de la Hoja de Balance hidro - electrolítico actualizado."},null,{"$f":"'MATRIZ DE RIESGOS'!I41","v":"NO"},{"$f":"'MATRIZ DE RIESGOS'!L41","v":12},1,12]
[null,{"$f":"'MATRIZ DE RIESGOS'!C42","v":"HISTORIA CLINICA "},null,{"$f":"'MATRIZ DE RIESGOS'!F42","v":0.521739130434783},{"$f":"'MATRIZ DE RIESGOS'!G42","v":"Registro e inclusión en la Historia Clínica de los resultados de examenes auxiliares y procedimientos del paciente."},null,{"$f":"'MATRIZ DE RIESGOS'!I42","v":"NO"},{"$f":"'MATRIZ DE RIESGOS'!L42","v":28},3,84]
[null,{"$f":"'MATRIZ DE RIESGOS'!C43","v":"HISTORIA CLINICA "},null,{"$f":"'MATRIZ DE RIESGOS'!F43","v":0.521739130434783},{"$f":"'MATRIZ DE RIESGOS'!G43","v":"En caso de haberse producido un evento adverso, este ha sido registrado en la HCl o en algún medio de registro evidenciable."},null,{"$f":"'MATRIZ DE RIESGOS'!I43","v":"NO"},{"$f":"'MATRIZ DE RIESGOS'!L43","v":28},3,84]
[null,{"$f":"'MATRIZ DE RIESGOS'!C44","v":"HISTORIA CLINICA "},null,{"$f":"'MATRIZ DE RIESGOS'!F44","v":0.521739130434783},{"$f":"'MATRIZ DE RIESGOS'!G44","v":"Registro completo del Consentimiento Informado de acuerdo a la normatividad vigente."},null,{"$f":"'MATRIZ DE RIESGOS'!I44","v":"NO"},{"$f":"'MATRIZ DE RIESGOS'!L44","v":28},3,84]
[null,{"$f":"'MATRIZ DE RIESGOS'!C45","v":"HISTORIA CLINICA "},null,{"$f":"'MATRIZ DE RIESGOS'!F45","v":0.521739130434783},{"$f":"'MATRIZ DE RIESGOS'!G45","v":"Registro de los informes de los procedimientos realizados al paciente."},null,{"$f":"'MATRIZ DE RIESGOS'!I45","v":"NO"},{"$f":"'MATRIZ DE RIESGOS'!L45","v":28},3,84]
[null,{"$f":"'MATRIZ DE RIESGOS'!C46","v":"HISTORIA CLINICA "},null,{"$f":"'MATRIZ DE RIESGOS'!F46","v":0.521739130434783},{"$f":"'MATRIZ DE RIESGOS'!G46","v":"La letra de la Historia Clínica es legible"},null,{"$f":"'MATRIZ DE RIESGOS'!I46","v":"NO"},{"$f":"'MATRIZ DE RIESGOS'!L46","v":28},3,84]
[null,{"$f":"'MATRIZ DE RIESGOS'!C47","v":"SEGURIDAD EN LA UPSS"},null,{"$f":"'MATRIZ DE RIESGOS'!F47","v":0.416666666666667},{"$f":"'MATRIZ DE RIESGOS'!G47","v":"La solicitud de medicamentos e insumos se gestionan oportunamente durante el turno."},null,{"$f":"'MATRIZ DE RIESGOS'!I47","v":"NO"},{"$f":"'MATRIZ DE RIESGOS'!L47","v":28},3,84]
[null,{"$f":"'MATRIZ DE RIESGOS'!C48","v":"SEGURIDAD EN LA UPSS"},null,{"$f":"'MATRIZ DE RIESGOS'!F48","v":0.416666666666667},{"$f":"'MATRIZ DE RIESGOS'!G48","v":"Personal conoce del sistema de registro y notificación de incidentes y eventos adversos."},null,{"$f":"'MATRIZ DE RIESGOS'!I48","v":"NO"},{"$f":"'MATRIZ DE RIESGOS'!L48","v":28},3,84]
[null,{"$f":"'MATRIZ DE RIESGOS'!C49","v":"SEGURIDAD EN LA UPSS"},null,{"$f":"'MATRIZ DE RIESGOS'!F49","v":0.416666666666667},{"$f":"'MATRIZ DE RIESGOS'!G49","v":"Registro físico y/o virtual de los incidentes y eventos adversos en la UPSS."},null,{"$f":"'MATRIZ DE RIESGOS'!I49","v":"NO"},{"$f":"'MATRIZ DE RIESGOS'!L49","v":28},3,84]
[null,{"$f":"'MATRIZ DE RIESGOS'!C50","v":"SEGURIDAD EN LA UPSS"},null,{"$f":"'MATRIZ DE RIESGOS'!F50","v":0.416666666666667},{"$f":"'MATRIZ DE RIESGOS'!G50","v":"Análisis y plan de intervención sobre la información de los incidentes y eventos adversos."},null,{"$f":"'MATRIZ DE RIESGOS'!I50","v":"NO"},{"$f":"'MATRIZ DE RIESGOS'!L50","v":28},3,84]
[null,{"$f":"'MATRIZ DE RIESGOS'!C51","v":"SEGURIDAD EN LA UPSS"},null,{"$f":"'MATRIZ DE RIESGOS'!F51","v":0.416666666666667},{"$f":"'MATRIZ DE RIESGOS'!G51","v":"Registro físico o digital de notificación de accidentes de trabajo del personal asistencial."},null,{"$f":"'MATRIZ DE RIESGOS'!I51","v":"NO"},{"$f":"'MATRIZ DE RIESGOS'!L51","v":28},3,84]
[null,{"$f":"'MATRIZ DE RIESGOS'!C52","v":"SEGURIDAD EN LA UPSS"},null,{"$f":"'MATRIZ DE RIESGOS'!F52","v":0.416666666666667},{"$f":"'MATRIZ DE RIESGOS'!G52","v":"Timbre o sistema de llamado se encuentra cerca del paciente y está operativo."},null,{"$f":"'MATRIZ DE RIESGOS'!I52","v":"NO"},{"$f":"'MATRIZ DE RIESGOS'!L52","v":12},3,36]
[null,{"$f":"'MATRIZ DE RIESGOS'!C53","v":"SEGURIDAD EN LA UPSS"},null,{"$f":"'MATRIZ DE RIESGOS'!F53","v":0.416666666666667},{"$f":"'MATRIZ DE RIESGOS'!G53","v":"Barandas de las camas funcionan y están levantadas para proteger al paciente."},null,{"$f":"'MATRIZ DE RIESGOS'!I53","v":"NO"},{"$f":"'MATRIZ DE RIESGOS'!L53","v":28},3,84]
[null,{"$f":"'MATRIZ DE RIESGOS'!C54","v":"IDENTIFICACIÓN CORRECTA DEL PACIENTE "},null,{"$f":"'MATRIZ DE RIESGOS'!F54","v":0},{"$f":"'MATRIZ DE RIESGOS'!G54","v":"Paciente tiene brazalete de identificación y los datos registrados son correctos y completos."},null,{"$f":"'MATRIZ DE RIESGOS'!I54","v":"NO"},{"$f":"'MATRIZ DE RIESGOS'!L54","v":28},3,84]
[null,{"$f":"'MATRIZ DE RIESGOS'!C55","v":"IDENTIFICACIÓN CORRECTA DEL PACIENTE "},null,{"$f":"'MATRIZ DE RIESGOS'!F55","v":0},{"$f":"'MATRIZ DE RIESGOS'!G55","v":"Cartel visible que tenga registrado el nombre completo del paciente."},null,{"$f":"'MATRIZ DE RIESGOS'!I55","v":"NO"},{"$f":"'MATRIZ DE RIESGOS'!L55","v":28},3,84]
[null,{"$f":"'MATRIZ DE RIESGOS'!C56","v":"IDENTIFICACIÓN CORRECTA DEL PACIENTE "},null,{"$f":"'MATRIZ DE RIESGOS'!F56","v":0},{"$f":"'MATRIZ DE RIESGOS'!G56","v":"Datos proporcionados por el paciente, son similares a los registrados en la historia clínica."},null,{"$f":"'MATRIZ DE RIESGOS'!I56","v":"NO"},{"$f":"'MATRIZ DE RIESGOS'!L56","v":28},3,84]
[null,{"$f":"'MATRIZ DE RIESGOS'!C57","v":"IDENTIFICACIÓN CORRECTA DEL PACIENTE "},null,{"$f":"'MATRIZ DE RIESGOS'!F57","v":0},{"$f":"'MATRIZ DE RIESGOS'!G57","v":"Verificación de la identidad del paciente con el brazalete antes de cualquier procedimiento."},null,{"$f":"'MATRIZ DE RIESGOS'!I57","v":"NO"},{"$f":"'MATRIZ DE RIESGOS'!L57","v":28},3,84]
[null,{"$f":"'MATRIZ DE RIESGOS'!C58","v":"IDENTIFICACIÓN CORRECTA DEL PACIENTE "},null,{"$f":"'MATRIZ DE RIESGOS'!F58","v":0},{"$f":"'MATRIZ DE RIESGOS'!G58","v":"Identificación de riesgo de caidas del paciente tanto en el brazalete del paciente como en el cartel visible."},null,{"$f":"'MATRIZ DE RIESGOS'!I58","v":"NO"},{"$f":"'MATRIZ DE RIESGOS'!L58","v":28},3,84]
[null,{"$f":"'MATRIZ DE RIESGOS'!C59","v":"IDENTIFICACIÓN CORRECTA DEL PACIENTE "},null,{"$f":"'MATRIZ DE RIESGOS'!F59","v":0},{"$f":"'MATRIZ DE RIESGOS'!G59","v":"Conocimiento del paciente o familiar responsable sobre su enfermedad, su evolución y pronóstico del mismo, el cual debe concordar con la información registrada en la historia clínica."},null,{"$f":"'MATRIZ DE RIESGOS'!I59","v":"NO"},{"$f":"'MATRIZ DE RIESGOS'!L59","v":28},3,84]
[null,{"$f":"'MATRIZ DE RIESGOS'!C60","v":"IDENTIFICACIÓN CORRECTA DEL PACIENTE "},null,{"$f":"'MATRIZ DE RIESGOS'!F60","v":0},{"$f":"'MATRIZ DE RIESGOS'!G60","v":"Paciente  informado al que se  le han aclado sus dudas y preguntas respecto a algún procedimiento o cirugía, evidenciandose la firma del Consentimiento respectivo."},null,{"$f":"'MATRIZ DE RIESGOS'!I60","v":"NO"},{"$f":"'MATRIZ DE RIESGOS'!L60","v":28},3,84]
[null,{"$f":"'MATRIZ DE RIESGOS'!C61","v":"PREVENCIÓN DE LA FUGA DE PACIENTES"},null,{"$f":"'MATRIZ DE RIESGOS'!F61","v":0},{"$f":"'MATRIZ DE RIESGOS'!G61","v":"Paciente cuenta con ropa de hospital facilmente identificable."},null,{"$f":"'MATRIZ DE RIESGOS'!I61","v":"NO"},{"$f":"'MATRIZ DE RIESGOS'!L61","v":28},3,84]
[null,{"$f":"'MATRIZ DE RIESGOS'!C62","v":"PREVENCIÓN DE LA FUGA DE PACIENTES"},null,{"$f":"'MATRIZ DE RIESGOS'!F62","v":0},{"$f":"'MATRIZ DE RIESGOS'!G62","v":"Vigilancia controla las pertenencias de los pacientes y las visitas para evitar el uso inadecuado de objetos potencialmente peligrosos."},null,{"$f":"'MATRIZ DE RIESGOS'!I62","v":"NO"},{"$f":"'MATRIZ DE RIESGOS'!L62","v":28},3,84]
[null,{"$f":"'MATRIZ DE RIESGOS'!C63","v":"PREVENCIÓN DE LA FUGA DE PACIENTES"},null,{"$f":"'MATRIZ DE RIESGOS'!F63","v":0},{"$f":"'MATRIZ DE RIESGOS'!G63","v":"Tienen un sistema efectivo de control de las salidas y entradas del servicio de hospitalización."},null,{"$f":"'MATRIZ DE RIESGOS'!I63","v":"NO"},{"$f":"'MATRIZ DE RIESGOS'!L63","v":28},3,84]
[null,{"$f":"'MATRIZ DE RIESGOS'!C64","v":"PREVENCIÓN DE LA FUGA DE PACIENTES"},null,{"$f":"'MATRIZ DE RIESGOS'!F64","v":0},{"$f":"'MATRIZ DE RIESGOS'!G64","v":"Entrevistas con el paciente para valorar el riesgo potencial de fuga. Solo en casos de oposición activa y riesgo inminente de fuga se recurrirá a la contención mecánica."},null,{"$f":"'MATRIZ DE RIESGOS'!I64","v":"NO"},{"$f":"'MATRIZ DE RIESGOS'!L64","v":28},3,84]
[null,{"$f":"'MATRIZ DE RIESGOS'!C65","v":"PREVENCIÓN DE LA FUGA DE PACIENTES"},null,{"$f":"'MATRIZ DE RIESGOS'!F65","v":0},{"$f":"'MATRIZ DE RIESGOS'!G65","v":"Registro en la hoja de recomendaciones terapéuticas el riesgo de fuga del paciente y la activación de las medidas de supervisión oportunas."},null,{"$f":"'MATRIZ DE RIESGOS'!I65","v":"NO"},{"$f":"'MATRIZ DE RIESGOS'!L65","v":28},3,84]
[null,{"$f":"'MATRIZ DE RIESGOS'!C66","v":"PREVENCIÓN DE LA FUGA DE PACIENTES"},null,{"$f":"'MATRIZ DE RIESGOS'!F66","v":0},{"$f":"'MATRIZ DE RIESGOS'!G66","v":"Existencia de un procedimiento o protocolo que se active en caso de fuga de paciente."},null,{"$f":"'MATRIZ DE RIESGOS'!I66","v":"NO"},{"$f":"'MATRIZ DE RIESGOS'!L66","v":12},3,36]
[null,{"$f":"'MATRIZ DE RIESGOS'!C67","v":"SEGURIDAD EN LA MEDICACIÓN  "},null,{"$f":"'MATRIZ DE RIESGOS'!F67","v":0.1},{"$f":"'MATRIZ DE RIESGOS'!G67","v":"Paciente conoce que medicamentos recibe y a que hora corresponde que se lo administren."},null,{"$f":"'MATRIZ DE RIESGOS'!I67","v":"NO"},{"$f":"'MATRIZ DE RIESGOS'!L67","v":28},3,84]
[null,{"$f":"'MATRIZ DE RIESGOS'!C68","v":"SEGURIDAD EN LA MEDICACIÓN  "},null,{"$f":"'MATRIZ DE RIESGOS'!F68","v":0.1},{"$f":"'MATRIZ DE RIESGOS'!G68","v":"Paciente conoce los efectos secundarios que pueden producirle los medicamentos que recibe."},null,{"$f":"'MATRIZ DE RIESGOS'!I68","v":"NO"},{"$f":"'MATRIZ DE RIESGOS'!L68","v":28},3,84]
[null,{"$f":"'MATRIZ DE RIESGOS'!C69","v":"SEGURIDAD EN LA MEDICACIÓN  "},null,{"$f":"'MATRIZ DE RIESGOS'!F69","v":0.1},{"$f":"'MATRIZ DE RIESGOS'!G69","v":"Coche de paro cuenta con los insumos necesarios para atender situaciones críticas según normatividad vigente."},null,{"$f":"'MATRIZ DE RIESGOS'!I69","v":"NO"},{"$f":"'MATRIZ DE RIESGOS'!L69","v":28},3,84]
[null,{"$f":"'MATRIZ DE RIESGOS'!C70","v":"SEGURIDAD EN LA MEDICACIÓN  "},null,{"$f":"'MATRIZ DE RIESGOS'!F70","v":0.1},{"$f":"'MATRIZ DE RIESGOS'!G70","v":"Soluciones endovenosas se encuentran debidamente rotulados con la fecha y  los componentes contenidas en ella."},null,{"$f":"'MATRIZ DE RIESGOS'!I70","v":"NO"},{"$f":"'MATRIZ DE RIESGOS'!L70","v":28},3,84]
[null,{"$f":"'MATRIZ DE RIESGOS'!C71","v":"SEGURIDAD EN LA MEDICACIÓN  "},null,{"$f":"'MATRIZ DE RIESGOS'!F71","v":0.1},{"$f":"'MATRIZ DE RIESGOS'!G71","v":"Almacenamiento ordenado de los medicamentos  para evitar su confusión por su similitud de nombres o de presentación."},null,{"$f":"'MATRIZ DE RIESGOS'!I71","v":"NO"},{"$f":"'MATRIZ DE RIESGOS'!L71","v":28},3,84]
[null,{"$f":"'MATRIZ DE RIESGOS'!C72","v":"SEGURIDAD EN LA MEDICACIÓN  "},null,{"$f":"'MATRIZ DE RIESGOS'!F72","v":0.1},{"$f":"'MATRIZ DE RIESGOS'!G72","v":"Medicamentos se clasifican para su almacenamiento local según el nombre del paciente por dosis unitaria."},null,{"$f":"'MATRIZ DE RIESGOS'!I72","v":"NO"},{"$f":"'MATRIZ DE RIESGOS'!L72","v":28},3,84]
[null,{"$f":"'MATRIZ DE RIESGOS'!C73","v":"SEGURIDAD EN LA MEDICACIÓN  "},null,{"$f":"'MATRIZ DE RIESGOS'!F73","v":0.1},{"$f":"'MATRIZ DE RIESGOS'!G73","v":"Medicamentos e insumos médicos cuentan con un mecanismo efectivo de control de vencimiento / caducidad."},null,{"$f":"'MATRIZ DE RIESGOS'!I73","v":"NO"},{"$f":"'MATRIZ DE RIESGOS'!L73","v":28},"SELECCIONE",0]
[null,{"$f":"'MATRIZ DE RIESGOS'!C74","v":"SEGURIDAD EN LA MEDICACIÓN  "},null,{"$f":"'MATRIZ DE RIESGOS'!F74","v":0.1},{"$f":"'MATRIZ DE RIESGOS'!G74","v":"Existencia de un registro de medicamentos controlados."},null,{"$f":"'MATRIZ DE RIESGOS'!I74","v":"NO"},{"$f":"'MATRIZ DE RIESGOS'!L74","v":28},"SELECCIONE",0]
[null,{"$f":"'MATRIZ DE RIESGOS'!C75","v":"SEGURIDAD EN LA MEDICACIÓN  "},null,{"$f":"'MATRIZ DE RIESGOS'!F75","v":0.1},{"$f":"'MATRIZ DE RIESGOS'!G75","v":"Profesional encargado del cuidado de los pacientes verifica los 5 correctos para la administración correcta de medicamentos."},null,{"$f":"'MATRIZ DE RIESGOS'!I75","v":"NO"},{"$f":"'MATRIZ DE RIESGOS'!L75","v":28},"SELECCIONE",0]
[null,{"$f":"'MATRIZ DE RIESGOS'!C76","v":"PREVENCIÓN DE CAIDA DE PACIENTES Y CONTENCION MECÁNICA"},null,{"$f":"'MATRIZ DE RIESGOS'!F76","v":0.181818181818182},{"$f":"'MATRIZ DE RIESGOS'!G76","v":"Valoración del riesgo de caída de todo paciente que se hospitaliza."},null,{"$f":"'MATRIZ DE RIESGOS'!I76","v":"NO"},{"$f":"'MATRIZ DE RIESGOS'!L76","v":28},"SELECCIONE",0]
[null,{"$f":"'MATRIZ DE RIESGOS'!C77","v":"PREVENCIÓN DE CAIDA DE PACIENTES Y CONTENCION MECÁNICA"},null,{"$f":"'MATRIZ DE RIESGOS'!F77","v":0.181818181818182},{"$f":"'MATRIZ DE RIESGOS'!G77","v":"Revaloración diaria de pacientes: ancianos, aquellos sometidos a polifarmacia, los drogodependientes y las personas con déficits neurológicos ‐ cognitivos."},null,{"$f":"'MATRIZ DE RIESGOS'!I77","v":"NO"},{"$f":"'MATRIZ DE RIESGOS'!L77","v":28},"SELECCIONE",0]
[null,{"$f":"'MATRIZ DE RIESGOS'!C78","v":"PREVENCIÓN DE CAIDA DE PACIENTES Y CONTENCION MECÁNICA"},null,{"$f":"'MATRIZ DE RIESGOS'!F78","v":0.181818181818182},{"$f":"'MATRIZ DE RIESGOS'!G78","v":"Información a los pacientes sobre los efectos secundarios de la medicación que pueden afectar la orientación y el sensorio."},null,{"$f":"'MATRIZ DE RIESGOS'!I78","v":"NO"},{"$f":"'MATRIZ DE RIESGOS'!L78","v":28},"SELECCIONE",0]
[null,{"$f":"'MATRIZ DE RIESGOS'!C79","v":"PREVENCIÓN DE CAIDA DE PACIENTES Y CONTENCION MECÁNICA"},null,{"$f":"'MATRIZ DE RIESGOS'!F79","v":0.181818181818182},{"$f":"'MATRIZ DE RIESGOS'!G79","v":"En casos de sedación y deterioro cognitivo severo se utilizarán barras de protección lateral o contención abdominal cuando el paciente se encuentre encamado."},null,{"$f":"'MATRIZ DE RIESGOS'!I79","v":"NO"},{"$f":"'MATRIZ DE RIESGOS'!L79","v":28},"SELECCIONE",0]
[null,{"$f":"'MATRIZ DE RIESGOS'!C80","v":"PREVENCIÓN DE CAIDA DE PACIENTES Y CONTENCION MECÁNICA"},null,{"$f":"'MATRIZ DE RIESGOS'!F80","v":0.181818181818182},{"$f":"'MATRIZ DE RIESGOS'!G80","v":"Comunicar al paciente temas relacionados al uso de los baños, uso de las duchas, uso de los lavaderos, cambios posturales periodicos, etc."},null,{"$f":"'MATRIZ DE RIESGOS'!I80","v":"NO"},{"$f":"'MATRIZ DE RIESGOS'!L80","v":28},"SELECCIONE",0]
[null,{"$f":"'MATRIZ DE RIESGOS'!C81","v":"PREVENCIÓN DE CAIDA DE PACIENTES Y CONTENCION MECÁNICA"},null,{"$f":"'MATRIZ DE RIESGOS'!F81","v":0.181818181818182},{"$f":"'MATRIZ DE RIESGOS'!G81","v":"Protocolo que establezca población objetivo, indicaciones, medidas preventivas, profesionales responsables de la indicación y supervisión de los diversos mecanismos de sujeción mecanica."},null,{"$f":"'MATRIZ DE RIESGOS'!I81","v":"NO"},{"$f":"'MATRIZ DE RIESGOS'!L81","v":28},"SELECCIONE",0]
[null,{"$f":"'MATRIZ DE RIESGOS'!C82","v":"PREVENCIÓN DE CAIDA DE PACIENTES Y CONTENCION MECÁNICA"},null,{"$f":"'MATRIZ DE RIESGOS'!F82","v":0.181818181818182},{"$f":"'MATRIZ DE RIESGOS'!G82","v":"Sistemas de registro específicos de todo paciente con sujeción mecánica, el que se debe de reevaluar periódicamente la situación y el tiempo de sujeción."},null,{"$f":"'MATRIZ DE RIESGOS'!I82","v":"NO"},{"$f":"'MATRIZ DE RIESGOS'!L82","v":28},"SELECCIONE",0]
[null,{"$f":"'MATRIZ DE RIESGOS'!C83","v":"PREVENCIÓN DE CAIDA DE PACIENTES Y CONTENCION MECÁNICA"},null,{"$f":"'MATRIZ DE RIESGOS'!F83","v":0.181818181818182},{"$f":"'MATRIZ DE RIESGOS'!G83","v":"Asegurarse que las técnicas de inmovilización puedan ser retiradas fácilmente."},null,{"$f":"'MATRIZ DE RIESGOS'!I83","v":"NO"},{"$f":"'MATRIZ DE RIESGOS'!L83","v":12},"SELECCIONE",0]
[null,{"$f":"'MATRIZ DE RIESGOS'!C84","v":"PREVENCIÓN DE CAIDA DE PACIENTES Y CONTENCION MECÁNICA"},null,{"$f":"'MATRIZ DE RIESGOS'!F84","v":0.181818181818182},{"$f":"'MATRIZ DE RIESGOS'!G84","v":"Evidencia de cambio periódico de la posición de la inmovilización y evaluación de las zonas cutáneas sometidas a presión."},null,{"$f":"'MATRIZ DE RIESGOS'!I84","v":"NO"},{"$f":"'MATRIZ DE RIESGOS'!L84","v":12},"SELECCIONE",0]
[null,{"$f":"'MATRIZ DE RIESGOS'!C85","v":"SEGURIDAD SEXUAL"},null,{"$f":"'MATRIZ DE RIESGOS'!F85","v":0.333333333333333},{"$f":"'MATRIZ DE RIESGOS'!G85","v":"Información disponible y clara referente a las consecuencias penales de las agresiones sexuales."},null,{"$f":"'MATRIZ DE RIESGOS'!I85","v":"NO"},{"$f":"'MATRIZ DE RIESGOS'!L85","v":28},"SELECCIONE",0]
[null,{"$f":"'MATRIZ DE RIESGOS'!C86","v":"SEGURIDAD SEXUAL"},null,{"$f":"'MATRIZ DE RIESGOS'!F86","v":0.333333333333333},{"$f":"'MATRIZ DE RIESGOS'!G86","v":"El protocolo de recepción de un paciente establece la prohibición expresa de mantener relaciones sexuales durante la hospitalización."},null,{"$f":"'MATRIZ DE RIESGOS'!I86","v":"NO"},{"$f":"'MATRIZ DE RIESGOS'!L86","v":28},"SELECCIONE",0]
[null,{"$f":"'MATRIZ DE RIESGOS'!C87","v":"SEGURIDAD SEXUAL"},null,{"$f":"'MATRIZ DE RIESGOS'!F87","v":0.333333333333333},{"$f":"'MATRIZ DE RIESGOS'!G87","v":"Control de la entrada de pacientes a cualquier habitación que no sea la propia."},null,{"$f":"'MATRIZ DE RIESGOS'!I87","v":"NO"},{"$f":"'MATRIZ DE RIESGOS'!L87","v":28},"SELECCIONE",0]
[null,{"$f":"'MATRIZ DE RIESGOS'!C88","v":"SEGURIDAD SEXUAL"},null,{"$f":"'MATRIZ DE RIESGOS'!F88","v":0.333333333333333},{"$f":"'MATRIZ DE RIESGOS'!G88","v":"Al detectar conductas desinhibidas se comunicará al resto del equipo y se discutirán las medidas a tomar, que quedarán registradas en la hoja de recomendaciones terapéuticas."},null,{"$f":"'MATRIZ DE RIESGOS'!I88","v":"NO"},{"$f":"'MATRIZ DE RIESGOS'!L88","v":28},"SELECCIONE",0]
[null,{"$f":"'MATRIZ DE RIESGOS'!C89","v":"PREVENCIÓN Y REDUCCIÓN DEL RIESGO DE LAS ÚLCERAS POR PRESIÓN"},null,{"$f":"'MATRIZ DE RIESGOS'!F89","v":0.285714285714286},{"$f":"'MATRIZ DE RIESGOS'!G89","v":"Evaluación inicial del riesgo de úlceras por presión en todos los pacientes al ingreso a servicios de hospitalización"},null,{"$f":"'MATRIZ DE RIESGOS'!I89","v":"NO"},{"$f":"'MATRIZ DE RIESGOS'!L89","v":28},"SELECCIONE",0]
[null,{"$f":"'MATRIZ DE RIESGOS'!C90","v":"PREVENCIÓN Y REDUCCIÓN DEL RIESGO DE LAS ÚLCERAS POR PRESIÓN"},null,{"$f":"'MATRIZ DE RIESGOS'!F90","v":0.285714285714286},{"$f":"'MATRIZ DE RIESGOS'!G90","v":"Protocolización de la guía de atención para la prevención y control de úlceras por presión."},null,{"$f":"'MATRIZ DE RIESGOS'!I90","v":"NO"},{"$f":"'MATRIZ DE RIESGOS'!L90","v":28},"SELECCIONE",0]
[null,{"$f":"'MATRIZ DE RIESGOS'!C91","v":"PREVENCIÓN Y REDUCCIÓN DEL RIESGO DE LAS ÚLCERAS POR PRESIÓN"},null,{"$f":"'MATRIZ DE RIESGOS'!F91","v":0.285714285714286},{"$f":"'MATRIZ DE RIESGOS'!G91","v":"Planificación, ejecución y evaluación del programa educativo dirigido a paciente, su cuidador y la familia. "},null,{"$f":"'MATRIZ DE RIESGOS'!I91","v":"NO"},{"$f":"'MATRIZ DE RIESGOS'!L91","v":28},"SELECCIONE",0]
[null,{"$f":"'MATRIZ DE RIESGOS'!C92","v":"PREVENCIÓN Y REDUCCIÓN DEL RIESGO DE LAS ÚLCERAS POR PRESIÓN"},null,{"$f":"'MATRIZ DE RIESGOS'!F92","v":0.285714285714286},{"$f":"'MATRIZ DE RIESGOS'!G92","v":"Notificación de úlceras por presión (incidencia y prevalencia) en un registro diario instaurado en los servicios de hospitalización."},null,{"$f":"'MATRIZ DE RIESGOS'!I92","v":"NO"},{"$f":"'MATRIZ DE RIESGOS'!L92","v":28},"SELECCIONE",0]
[null,{"$f":"'MATRIZ DE RIESGOS'!C93","v":"PREVENCIÓN Y REDUCCIÓN DEL RIESGO DE LAS ÚLCERAS POR PRESIÓN"},null,{"$f":"'MATRIZ DE RIESGOS'!F93","v":0.285714285714286},{"$f":"'MATRIZ DE RIESGOS'!G93","v":"Aplicación de guía de curación de úlceras por presión según estadíos."},null,{"$f":"'MATRIZ DE RIESGOS'!I93","v":"NO"},{"$f":"'MATRIZ DE RIESGOS'!L93","v":28},"SELECCIONE",0]
[null,{"$f":"'MATRIZ DE RIESGOS'!C94","v":"PREVENCIÓN DEL SUICIDO Y LESIONES"},null,{"$f":"'MATRIZ DE RIESGOS'!F94","v":0.714285714285714},{"$f":"'MATRIZ DE RIESGOS'!G94","v":"Ubicar al paciente en el Servicio / Unidad más adecuada a sus necesidades y en función del riesgo detectado."},null,{"$f":"'MATRIZ DE RIESGOS'!I94","v":"NO"},{"$f":"'MATRIZ DE RIESGOS'!L94","v":28},"SELECCIONE",0]
[null,{"$f":"'MATRIZ DE RIESGOS'!C95","v":"PREVENCIÓN DEL SUICIDO Y LESIONES"},null,{"$f":"'MATRIZ DE RIESGOS'!F95","v":0.714285714285714},{"$f":"'MATRIZ DE RIESGOS'!G95","v":"El protocolo de prevención de conductas suicidas debe incluir correcta ubicación del paciente, la necesidad o no de sujeción mecánica, la supervisión así como la constancia en el registro de cualquier incidencia, el control de salidas y de visitas."},null,{"$f":"'MATRIZ DE RIESGOS'!I95","v":"NO"},{"$f":"'MATRIZ DE RIESGOS'!L95","v":28},"SELECCIONE",0]
[null,{"$f":"'MATRIZ DE RIESGOS'!C96","v":"COMUNICACIÓN EFECTIVA"},null,{"$f":"'MATRIZ DE RIESGOS'!F96","v":0.9},{"$f":"'MATRIZ DE RIESGOS'!G96","v":"La UPSS proporciona información sobre sus servicios, horarios de atención a pacientes y/o familiares y el proceso para obtener atención."},null,{"$f":"'MATRIZ DE RIESGOS'!I96","v":"NO"},{"$f":"'MATRIZ DE RIESGOS'!L96","v":28},"SELECCIONE",0]
[null,{"$f":"'MATRIZ DE RIESGOS'!C97","v":"HIGIENE DE MANOS"},null,{"$f":"'MATRIZ DE RIESGOS'!F97","v":0},{"$f":"'MATRIZ DE RIESGOS'!G97","v":"Disponibilidad de dispensadores con preparados de base alcohólica para manos."},null,{"$f":"'MATRIZ DE RIESGOS'!I97","v":"NO"},{"$f":"'MATRIZ DE RIESGOS'!L97","v":28},"SELECCIONE",0]
[null,{"$f":"'MATRIZ DE RIESGOS'!C98","v":"HIGIENE DE MANOS"},null,{"$f":"'MATRIZ DE RIESGOS'!F98","v":0},{"$f":"'MATRIZ DE RIESGOS'!G98","v":"Disponibilidad de lavamanos con suministro de agua y jabón."},null,{"$f":"'MATRIZ DE RIESGOS'!I98","v":"NO"},{"$f":"'MATRIZ DE RIESGOS'!L98","v":28},"SELECCIONE",0]
[null,{"$f":"'MATRIZ DE RIESGOS'!C99","v":"HIGIENE DE MANOS"},null,{"$f":"'MATRIZ DE RIESGOS'!F99","v":0},{"$f":"'MATRIZ DE RIESGOS'!G99","v":"Disponibilidad de papel toalla en todos los lavamanos."},null,{"$f":"'MATRIZ DE RIESGOS'!I99","v":"NO"},{"$f":"'MATRIZ DE RIESGOS'!L99","v":28},"SELECCIONE",0]
[null,{"$f":"'MATRIZ DE RIESGOS'!C100","v":"HIGIENE DE MANOS"},null,{"$f":"'MATRIZ DE RIESGOS'!F100","v":0},{"$f":"'MATRIZ DE RIESGOS'!G100","v":"Cumplimiento del ratio lavamanos/ paciente-cama de al menos 1:10"},null,{"$f":"'MATRIZ DE RIESGOS'!I100","v":"NO"},{"$f":"'MATRIZ DE RIESGOS'!L100","v":28},"SELECCIONE",0]
[null,{"$f":"'MATRIZ DE RIESGOS'!C101","v":"HIGIENE DE MANOS"},null,{"$f":"'MATRIZ DE RIESGOS'!F101","v":0},{"$f":"'MATRIZ DE RIESGOS'!G101","v":"Cumplimiento de los 08 pasos de la desinfección de manos (pasos y tiempo)."},null,{"$f":"'MATRIZ DE RIESGOS'!I101","v":"NO"},{"$f":"'MATRIZ DE RIESGOS'!L101","v":28},"SELECCIONE",{"$f":"IFERROR(H101*I101,0)","v":0}]
[null,{"$f":"'MATRIZ DE RIESGOS'!C102","v":"HIGIENE DE MANOS"},null,{"$f":"'MATRIZ DE RIESGOS'!F102","v":0},{"$f":"'MATRIZ DE RIESGOS'!G102","v":"Cumplimiento de los 11 pasos del lavado de manos (pasos y tiempo)."},null,{"$f":"'MATRIZ DE RIESGOS'!I102","v":"NO"},{"$f":"'MATRIZ DE RIESGOS'!L102","v":28},"SELECCIONE",0]
[null,{"$f":"'MATRIZ DE RIESGOS'!C103","v":"HIGIENE DE MANOS"},null,{"$f":"'MATRIZ DE RIESGOS'!F103","v":0},{"$f":"'MATRIZ DE RIESGOS'!G103","v":"Porcentaje de cumplimiento > 80%, del requisito de realizar la higiene de las manos durante su actividad asistencial de acuerdo con los cinco momentos de la higiene de manos."},null,{"$f":"'MATRIZ DE RIESGOS'!I103","v":"NO"},{"$f":"'MATRIZ DE RIESGOS'!L103","v":28},"SELECCIONE",0]
[null,{"$f":"'MATRIZ DE RIESGOS'!C104","v":"HIGIENE DE MANOS"},null,{"$f":"'MATRIZ DE RIESGOS'!F104","v":0},{"$f":"'MATRIZ DE RIESGOS'!G104","v":"Mensajes y dibujos que promueven la adherencia a la higiene de manos colocados en sitios estratégicos."},null,{"$f":"'MATRIZ DE RIESGOS'!I104","v":"NO"},{"$f":"'MATRIZ DE RIESGOS'!L104","v":28},"SELECCIONE",0]
[null,{"$f":"'MATRIZ DE RIESGOS'!C105","v":"BIOSEGURIDAD"},null,{"$f":"'MATRIZ DE RIESGOS'!F105","v":0.125},{"$f":"'MATRIZ DE RIESGOS'!G105","v":"Disposición de residuos sólidos de acuerdo a las normas."},null,{"$f":"'MATRIZ DE RIESGOS'!I105","v":"NO"},{"$f":"'MATRIZ DE RIESGOS'!L105","v":28},"SELECCIONE",0]
[null,{"$f":"'MATRIZ DE RIESGOS'!C106","v":"BIOSEGURIDAD"},null,{"$f":"'MATRIZ DE RIESGOS'!F106","v":0.125},{"$f":"'MATRIZ DE RIESGOS'!G106","v":"Eliminación de material punzo cortante y agujas de acuerdo a las normas."},null,{"$f":"'MATRIZ DE RIESGOS'!I106","v":"NO"},{"$f":"'MATRIZ DE RIESGOS'!L106","v":28},"SELECCIONE",0]
[null,{"$f":"'MATRIZ DE RIESGOS'!C107","v":"BIOSEGURIDAD"},null,{"$f":"'MATRIZ DE RIESGOS'!F107","v":0.125},{"$f":"'MATRIZ DE RIESGOS'!G107","v":"Cumplimiento de las medidas de aislamiento."},null,{"$f":"'MATRIZ DE RIESGOS'!I107","v":"NO"},{"$f":"'MATRIZ DE RIESGOS'!L107","v":12},"SELECCIONE",0]
[null,{"$f":"'MATRIZ DE RIESGOS'!C108","v":"BIOSEGURIDAD"},null,{"$f":"'MATRIZ DE RIESGOS'!F108","v":0.125},{"$f":"'MATRIZ DE RIESGOS'!G108","v":"El servicio ha implementado el uso de 'Care Bundle\" o Paquete de Medidas para la prevención de las IAAS basadas en evidencia médica. "},null,{"$f":"'MATRIZ DE RIESGOS'!I108","v":"NO"},{"$f":"'MATRIZ DE RIESGOS'!L108","v":28},"SELECCIONE",0]
[null,{"$f":"'MATRIZ DE RIESGOS'!C109","v":"BIOSEGURIDAD"},null,{"$f":"'MATRIZ DE RIESGOS'!F109","v":0.125},{"$f":"'MATRIZ DE RIESGOS'!G109","v":"Evidencia de desarrollo de actividades de vigilancia epidemiológica activa, selectiva y localizada de IAAS en la UPSS."},null,{"$f":"'MATRIZ DE RIESGOS'!I109","v":"NO"},{"$f":"'MATRIZ DE RIESGOS'!L109","v":28},"SELECCIONE",0]
[null,{"$f":"'MATRIZ DE RIESGOS'!C110","v":"BIOSEGURIDAD"},null,{"$f":"'MATRIZ DE RIESGOS'!F110","v":0.125},{"$f":"'MATRIZ DE RIESGOS'!G110","v":"Se observa si se encuentran señalizados las zonas rígidas y semirígidas de la Unidad Productora de Servicios de Salud."},null,{"$f":"'MATRIZ DE RIESGOS'!I110","v":"NO"},{"$f":"'MATRIZ DE RIESGOS'!L110","v":12},"SELECCIONE",0]
[null,{"$f":"'MATRIZ DE RIESGOS'!C111","v":"BIOSEGURIDAD"},null,{"$f":"'MATRIZ DE RIESGOS'!F111","v":0.125},{"$f":"'MATRIZ DE RIESGOS'!G111","v":"Se observa si se respetan las zonas rígidas y semirígidas de la Unidad Productora de Servicios de Salud."},null,{"$f":"'MATRIZ DE RIESGOS'!I111","v":"NO"},{"$f":"'MATRIZ DE RIESGOS'!L111","v":12},"SELECCIONE",0]
[null,{"$f":"'MATRIZ DE RIESGOS'!C112","v":"FUNCIONAMIENTO Y MANEJO DE EQUIPOS "},null,{"$f":"'MATRIZ DE RIESGOS'!F112","v":0},{"$f":"'MATRIZ DE RIESGOS'!G112","v":"Equipos biomédicos accesibles según le corresponda a la UPSS y de acuerdo al nivel de complejidad"},null,{"$f":"'MATRIZ DE RIESGOS'!I112","v":"NO"},{"$f":"'MATRIZ DE RIESGOS'!L112","v":28},"SELECCIONE",0]
[null,{"$f":"'MATRIZ DE RIESGOS'!C113","v":"FUNCIONAMIENTO Y MANEJO DE EQUIPOS "},null,{"$f":"'MATRIZ DE RIESGOS'!F113","v":0},{"$f":"'MATRIZ DE RIESGOS'!G113","v":"Equipos biomédicos operativos según le corresponda a la UPSS y de acuerdo al nivel de complejidad"},null,{"$f":"'MATRIZ DE RIESGOS'!I113","v":"NO"},{"$f":"'MATRIZ DE RIESGOS'!L113","v":28},"SELECCIONE",0]
[null,{"$f":"'MATRIZ DE RIESGOS'!C114","v":"FUNCIONAMIENTO Y MANEJO DE EQUIPOS "},null,{"$f":"'MATRIZ DE RIESGOS'!F114","v":0},{"$f":"'MATRIZ DE RIESGOS'!G114","v":"Verificación del conocimiento del personal sobre el funcionamiento de los equipos biomédicos, según responsabilidad."},null,{"$f":"'MATRIZ DE RIESGOS'!I114","v":"NO"},{"$f":"'MATRIZ DE RIESGOS'!L114","v":28},"SELECCIONE",0]
[null,{"$f":"'MATRIZ DE RIESGOS'!C115","v":"FUNCIONAMIENTO Y MANEJO DE EQUIPOS "},null,{"$f":"'MATRIZ DE RIESGOS'!F115","v":0},{"$f":"'MATRIZ DE RIESGOS'!G115","v":"Verificación de que la UPSS cuenta con un Plan Anual de Mantenimiento Preventivo de todos sus equipo biomédicos (inclusive los nuevos)."},null,{"$f":"'MATRIZ DE RIESGOS'!I115","v":"NO"},{"$f":"'MATRIZ DE RIESGOS'!L115","v":28},"SELECCIONE",0]
[null,{"$f":"'MATRIZ DE RIESGOS'!C116","v":"FUNCIONAMIENTO Y MANEJO DE EQUIPOS "},null,{"$f":"'MATRIZ DE RIESGOS'!F116","v":0},{"$f":"'MATRIZ DE RIESGOS'!G116","v":"Verificación de que la UPSS cumple con ejecutar su Plan Anual de Mantenimiento Preventivo de todos sus equipo biomédicos (inclusive los nuevos), mediante la visualización de las respectivas tarjetas."},null,{"$f":"'MATRIZ DE RIESGOS'!I116","v":"NO"},{"$f":"'MATRIZ DE RIESGOS'!L116","v":28},"SELECCIONE",0]
[null,{"$f":"'MATRIZ DE RIESGOS'!C117","v":" "},null,{"$f":"'MATRIZ DE RIESGOS'!F117","v":" "},{"$f":"'MATRIZ DE RIESGOS'!G117","v":" "},null,{"$f":"'MATRIZ DE RIESGOS'!I117","v":" "},{"$f":"'MATRIZ DE RIESGOS'!L117","v":" "},"SELECCIONE",0]
[null,{"$f":"'MATRIZ DE RIESGOS'!C118","v":" "},null,{"$f":"'MATRIZ DE RIESGOS'!F118","v":" "},{"$f":"'MATRIZ DE RIESGOS'!G118","v":" "},null,{"$f":"'MATRIZ DE RIESGOS'!I118","v":" "},{"$f":"'MATRIZ DE RIESGOS'!L118","v":" "},"SELECCIONE",0]
[null,{"$f":"'MATRIZ DE RIESGOS'!C119","v":" "},null,{"$f":"'MATRIZ DE RIESGOS'!F119","v":" "},{"$f":"'MATRIZ DE RIESGOS'!G119","v":" "},null,{"$f":"'MATRIZ DE RIESGOS'!I119","v":" "},{"$f":"'MATRIZ DE RIESGOS'!L119","v":" "},"SELECCIONE",0]
[null,{"$f":"'MATRIZ DE RIESGOS'!C120","v":" "},null,{"$f":"'MATRIZ DE RIESGOS'!F120","v":" "},{"$f":"'MATRIZ DE RIESGOS'!G120","v":" "},null,{"$f":"'MATRIZ DE RIESGOS'!I120","v":" "},{"$f":"'MATRIZ DE RIESGOS'!L120","v":" "},"SELECCIONE",0]
[null,{"$f":"'MATRIZ DE RIESGOS'!C121","v":" "},null,{"$f":"'MATRIZ DE RIESGOS'!F121","v":" "},{"$f":"'MATRIZ DE RIESGOS'!G121","v":" "},null,{"$f":"'MATRIZ DE RIESGOS'!I121","v":" "},{"$f":"'MATRIZ DE RIESGOS'!L121","v":" "},"SELECCIONE",0]
[null,{"$f":"'MATRIZ DE RIESGOS'!C122","v":" "},null,{"$f":"'MATRIZ DE RIESGOS'!F122","v":" "},{"$f":"'MATRIZ DE RIESGOS'!G122","v":" "},null,{"$f":"'MATRIZ DE RIESGOS'!I122","v":" "},{"$f":"'MATRIZ DE RIESGOS'!L122","v":" "},"SELECCIONE",0]
[null,{"$f":"'MATRIZ DE RIESGOS'!C123","v":" "},null,{"$f":"'MATRIZ DE RIESGOS'!F123","v":" "},{"$f":"'MATRIZ DE RIESGOS'!G123","v":" "},null,{"$f":"'MATRIZ DE RIESGOS'!I123","v":" "},{"$f":"'MATRIZ DE RIESGOS'!L123","v":" "},"SELECCIONE",0]
[null,{"$f":"'MATRIZ DE RIESGOS'!C124","v":" "},null,{"$f":"'MATRIZ DE RIESGOS'!F124","v":" "},{"$f":"'MATRIZ DE RIESGOS'!G124","v":" "},null,{"$f":"'MATRIZ DE RIESGOS'!I124","v":" "},{"$f":"'MATRIZ DE RIESGOS'!L124","v":" "},"SELECCIONE",0]
[null,{"$f":"'MATRIZ DE RIESGOS'!C125","v":" "},null,{"$f":"'MATRIZ DE RIESGOS'!F125","v":" "},{"$f":"'MATRIZ DE RIESGOS'!G125","v":" "},null,{"$f":"'MATRIZ DE RIESGOS'!I125","v":" "},{"$f":"'MATRIZ DE RIESGOS'!L125","v":" "},"SELECCIONE",0]
[null,{"$f":"'MATRIZ DE RIESGOS'!C126","v":" "},null,{"$f":"'MATRIZ DE RIESGOS'!F126","v":" "},{"$f":"'MATRIZ DE RIESGOS'!G126","v":" "},null,{"$f":"'MATRIZ DE RIESGOS'!I126","v":" "},{"$f":"'MATRIZ DE RIESGOS'!L126","v":" "},"SELECCIONE",0]
[null,{"$f":"'MATRIZ DE RIESGOS'!C127","v":" "},null,{"$f":"'MATRIZ DE RIESGOS'!F127","v":" "},{"$f":"'MATRIZ DE RIESGOS'!G127","v":" "},null,{"$f":"'MATRIZ DE RIESGOS'!I127","v":" "},{"$f":"'MATRIZ DE RIESGOS'!L127","v":" "},"SELECCIONE",0]
[null,{"$f":"'MATRIZ DE RIESGOS'!C128","v":" "},null,{"$f":"'MATRIZ DE RIESGOS'!F128","v":" "},{"$f":"'MATRIZ DE RIESGOS'!G128","v":" "},null,{"$f":"'MATRIZ DE RIESGOS'!I128","v":" "},{"$f":"'MATRIZ DE RIESGOS'!L128","v":" "},"SELECCIONE",0]
[null,{"$f":"'MATRIZ DE RIESGOS'!C129","v":" "},null,{"$f":"'MATRIZ DE RIESGOS'!F129","v":" "},{"$f":"'MATRIZ DE RIESGOS'!G129","v":" "},null,{"$f":"'MATRIZ DE RIESGOS'!I129","v":" "},{"$f":"'MATRIZ DE RIESGOS'!L129","v":" "},"SELECCIONE",0]
[null,{"$f":"'MATRIZ DE RIESGOS'!C130","v":" "},null,{"$f":"'MATRIZ DE RIESGOS'!F130","v":" "},{"$f":"'MATRIZ DE RIESGOS'!G130","v":" "},null,{"$f":"'MATRIZ DE RIESGOS'!I130","v":" "},{"$f":"'MATRIZ DE RIESGOS'!L130","v":" "},"SELECCIONE",0]
[null,{"$f":"'MATRIZ DE RIESGOS'!C131","v":" "},null,{"$f":"'MATRIZ DE RIESGOS'!F131","v":" "},{"$f":"'MATRIZ DE RIESGOS'!G131","v":" "},null,{"$f":"'MATRIZ DE RIESGOS'!I131","v":" "},{"$f":"'MATRIZ DE RIESGOS'!L131","v":" "},"SELECCIONE",0]
[null,{"$f":"'MATRIZ DE RIESGOS'!C132","v":" "},null,{"$f":"'MATRIZ DE RIESGOS'!F132","v":" "},{"$f":"'MATRIZ DE RIESGOS'!G132","v":" "},null,{"$f":"'MATRIZ DE RIESGOS'!I132","v":" "},{"$f":"'MATRIZ DE RIESGOS'!L132","v":" "},"SELECCIONE",0]
[null,{"$f":"'MATRIZ DE RIESGOS'!C133","v":" "},null,{"$f":"'MATRIZ DE RIESGOS'!F133","v":" "},{"$f":"'MATRIZ DE RIESGOS'!G133","v":" "},null,{"$f":"'MATRIZ DE RIESGOS'!I133","v":" "},{"$f":"'MATRIZ DE RIESGOS'!L133","v":" "},"SELECCIONE",0]
[null,{"$f":"'MATRIZ DE RIESGOS'!C134","v":" "},null,{"$f":"'MATRIZ DE RIESGOS'!F134","v":" "},{"$f":"'MATRIZ DE RIESGOS'!G134","v":" "},null,{"$f":"'MATRIZ DE RIESGOS'!I134","v":" "},{"$f":"'MATRIZ DE RIESGOS'!L134","v":" "},"SELECCIONE",0]
[null,{"$f":"'MATRIZ DE RIESGOS'!C135","v":" "},null,{"$f":"'MATRIZ DE RIESGOS'!F135","v":" "},{"$f":"'MATRIZ DE RIESGOS'!G135","v":" "},null,{"$f":"'MATRIZ DE RIESGOS'!I135","v":" "},{"$f":"'MATRIZ DE RIESGOS'!L135","v":" "},"SELECCIONE",0]
[null,{"$f":"'MATRIZ DE RIESGOS'!C136","v":" "},null,{"$f":"'MATRIZ DE RIESGOS'!F136","v":" "},{"$f":"'MATRIZ DE RIESGOS'!G136","v":" "},null,{"$f":"'MATRIZ DE RIESGOS'!I136","v":" "},{"$f":"'MATRIZ DE RIESGOS'!L136","v":" "},"SELECCIONE",0]
[null,{"$f":"'MATRIZ DE RIESGOS'!C137","v":" "},null,{"$f":"'MATRIZ DE RIESGOS'!F137","v":" "},{"$f":"'MATRIZ DE RIESGOS'!G137","v":" "},null,{"$f":"'MATRIZ DE RIESGOS'!I137","v":" "},{"$f":"'MATRIZ DE RIESGOS'!L137","v":" "},"SELECCIONE",0]
[null,{"$f":"'MATRIZ DE RIESGOS'!C138","v":" "},null,{"$f":"'MATRIZ DE RIESGOS'!F138","v":" "},{"$f":"'MATRIZ DE RIESGOS'!G138","v":" "},null,{"$f":"'MATRIZ DE RIESGOS'!I138","v":" "},{"$f":"'MATRIZ DE RIESGOS'!L138","v":" "},"SELECCIONE",0]
[null,{"$f":"'MATRIZ DE RIESGOS'!C139","v":" "},null,{"$f":"'MATRIZ DE RIESGOS'!F139","v":" "},{"$f":"'MATRIZ DE RIESGOS'!G139","v":" "},null,{"$f":"'MATRIZ DE RIESGOS'!I139","v":" "},{"$f":"'MATRIZ DE RIESGOS'!L139","v":" "},"SELECCIONE",0]
[null,{"$f":"'MATRIZ DE RIESGOS'!C140","v":" "},null,{"$f":"'MATRIZ DE RIESGOS'!F140","v":" "},{"$f":"'MATRIZ DE RIESGOS'!G140","v":" "},null,{"$f":"'MATRIZ DE RIESGOS'!I140","v":" "},{"$f":"'MATRIZ DE RIESGOS'!L140","v":" "},"SELECCIONE",0]
[null,{"$f":"'MATRIZ DE RIESGOS'!C141","v":" "},null,{"$f":"'MATRIZ DE RIESGOS'!F141","v":" "},{"$f":"'MATRIZ DE RIESGOS'!G141","v":" "},null,{"$f":"'MATRIZ DE RIESGOS'!I141","v":" "},{"$f":"'MATRIZ DE RIESGOS'!L141","v":" "},"SELECCIONE",0]
[null,{"$f":"'MATRIZ DE RIESGOS'!C142","v":" "},null,{"$f":"'MATRIZ DE RIESGOS'!F142","v":" "},{"$f":"'MATRIZ DE RIESGOS'!G142","v":" "},null,{"$f":"'MATRIZ DE RIESGOS'!I142","v":" "},{"$f":"'MATRIZ DE RIESGOS'!L142","v":" "},"SELECCIONE",0]
[null,{"$f":"'MATRIZ DE RIESGOS'!C143","v":" "},null,{"$f":"'MATRIZ DE RIESGOS'!F143","v":" "},{"$f":"'MATRIZ DE RIESGOS'!G143","v":" "},null,{"$f":"'MATRIZ DE RIESGOS'!I143","v":" "},{"$f":"'MATRIZ DE RIESGOS'!L143","v":" "},"SELECCIONE",0]
[null,{"$f":"'MATRIZ DE RIESGOS'!C144","v":" "},null,{"$f":"'MATRIZ DE RIESGOS'!F144","v":" "},{"$f":"'MATRIZ DE RIESGOS'!G144","v":" "},null,{"$f":"'MATRIZ DE RIESGOS'!I144","v":" "},{"$f":"'MATRIZ DE RIESGOS'!L144","v":" "},"SELECCIONE",0]
[null,{"$f":"'MATRIZ DE RIESGOS'!C145","v":" "},null,{"$f":"'MATRIZ DE RIESGOS'!F145","v":" "},{"$f":"'MATRIZ DE RIESGOS'!G145","v":" "},null,{"$f":"'MATRIZ DE RIESGOS'!I145","v":" "},{"$f":"'MATRIZ DE RIESGOS'!L145","v":" "},"SELECCIONE",0]
[null,{"$f":"'MATRIZ DE RIESGOS'!C146","v":" "},null,{"$f":"'MATRIZ DE RIESGOS'!F146","v":" "},{"$f":"'MATRIZ DE RIESGOS'!G146","v":" "},null,{"$f":"'MATRIZ DE RIESGOS'!I146","v":" "},{"$f":"'MATRIZ DE RIESGOS'!L146","v":" "},"SELECCIONE",0]
[null,{"$f":"'MATRIZ DE RIESGOS'!C147","v":" "},null,{"$f":"'MATRIZ DE RIESGOS'!F147","v":" "},{"$f":"'MATRIZ DE RIESGOS'!G147","v":" "},null,{"$f":"'MATRIZ DE RIESGOS'!I147","v":" "},{"$f":"'MATRIZ DE RIESGOS'!L147","v":" "},"SELECCIONE",0]
[null,{"$f":"'MATRIZ DE RIESGOS'!C148","v":" "},null,{"$f":"'MATRIZ DE RIESGOS'!F148","v":" "},{"$f":"'MATRIZ DE RIESGOS'!G148","v":" "},null,{"$f":"'MATRIZ DE RIESGOS'!I148","v":" "},{"$f":"'MATRIZ DE RIESGOS'!L148","v":" "},"SELECCIONE",0]
[null,{"$f":"'MATRIZ DE RIESGOS'!C149","v":" "},null,{"$f":"'MATRIZ DE RIESGOS'!F149","v":" "},{"$f":"'MATRIZ DE RIESGOS'!G149","v":" "},null,{"$f":"'MATRIZ DE RIESGOS'!I149","v":" "},{"$f":"'MATRIZ DE RIESGOS'!L149","v":" "},"SELECCIONE",0]
[null,{"$f":"'MATRIZ DE RIESGOS'!C150","v":" "},null,{"$f":"'MATRIZ DE RIESGOS'!F150","v":" "},{"$f":"'MATRIZ DE RIESGOS'!G150","v":" "},null,{"$f":"'MATRIZ DE RIESGOS'!I150","v":" "},{"$f":"'MATRIZ DE RIESGOS'!L150","v":" "},"SELECCIONE",0]
[null,{"$f":"'MATRIZ DE RIESGOS'!C151","v":" "},null,{"$f":"'MATRIZ DE RIESGOS'!F151","v":" "},{"$f":"'MATRIZ DE RIESGOS'!G151","v":" "},null,{"$f":"'MATRIZ DE RIESGOS'!I151","v":" "},{"$f":"'MATRIZ DE RIESGOS'!L151","v":" "},"SELECCIONE",0]
[null,{"$f":"'MATRIZ DE RIESGOS'!C152","v":" "},null,{"$f":"'MATRIZ DE RIESGOS'!F152","v":" "},{"$f":"'MATRIZ DE RIESGOS'!G152","v":" "},null,{"$f":"'MATRIZ DE RIESGOS'!I152","v":" "},{"$f":"'MATRIZ DE RIESGOS'!L152","v":" "},"SELECCIONE",0]
[null,{"$f":"'MATRIZ DE RIESGOS'!C153","v":" "},null,{"$f":"'MATRIZ DE RIESGOS'!F153","v":" "},{"$f":"'MATRIZ DE RIESGOS'!G153","v":" "},null,{"$f":"'MATRIZ DE RIESGOS'!I153","v":" "},{"$f":"'MATRIZ DE RIESGOS'!L153","v":" "},"SELECCIONE",{"$f":"IFERROR(H153*I153,0)","v":0}]
[null,{"$f":"'MATRIZ DE RIESGOS'!C154","v":" "},null,{"$f":"'MATRIZ DE RIESGOS'!F154","v":" "},{"$f":"'MATRIZ DE RIESGOS'!G154","v":" "},null,{"$f":"'MATRIZ DE RIESGOS'!I154","v":" "},{"$f":"'MATRIZ DE RIESGOS'!L154","v":" "},"SELECCIONE",0]
[null,{"$f":"'MATRIZ DE RIESGOS'!C155","v":" "},null,{"$f":"'MATRIZ DE RIESGOS'!F155","v":" "},{"$f":"'MATRIZ DE RIESGOS'!G155","v":" "},null,{"$f":"'MATRIZ DE RIESGOS'!I155","v":" "},{"$f":"'MATRIZ DE RIESGOS'!L155","v":" "},"SELECCIONE",0]
[null,{"$f":"'MATRIZ DE RIESGOS'!C156","v":" "},null,{"$f":"'MATRIZ DE RIESGOS'!F156","v":" "},{"$f":"'MATRIZ DE RIESGOS'!G156","v":" "},null,{"$f":"'MATRIZ DE RIESGOS'!I156","v":" "},{"$f":"'MATRIZ DE RIESGOS'!L156","v":" "},"SELECCIONE",0]
[null,{"$f":"'MATRIZ DE RIESGOS'!C157","v":" "},null,{"$f":"'MATRIZ DE RIESGOS'!F157","v":" "},{"$f":"'MATRIZ DE RIESGOS'!G157","v":" "},null,{"$f":"'MATRIZ DE RIESGOS'!I157","v":" "},{"$f":"'MATRIZ DE RIESGOS'!L157","v":" "},"SELECCIONE",0]
[null,{"$f":"'MATRIZ DE RIESGOS'!C158","v":" "},null,{"$f":"'MATRIZ DE RIESGOS'!F158","v":" "},{"$f":"'MATRIZ DE RIESGOS'!G158","v":" "},null,{"$f":"'MATRIZ DE RIESGOS'!I158","v":" "},{"$f":"'MATRIZ DE RIESGOS'!L158","v":" "},"SELECCIONE",0]
[null,{"$f":"'MATRIZ DE RIESGOS'!C159","v":" "},null,{"$f":"'MATRIZ DE RIESGOS'!F159","v":" "},{"$f":"'MATRIZ DE RIESGOS'!G159","v":" "},null,{"$f":"'MATRIZ DE RIESGOS'!I159","v":" "},{"$f":"'MATRIZ DE RIESGOS'!L159","v":" "},"SELECCIONE",0]
[null,{"$f":"'MATRIZ DE RIESGOS'!C160","v":" "},null,{"$f":"'MATRIZ DE RIESGOS'!F160","v":" "},{"$f":"'MATRIZ DE RIESGOS'!G160","v":" "},null,{"$f":"'MATRIZ DE RIESGOS'!I160","v":" "},{"$f":"'MATRIZ DE RIESGOS'!L160","v":" "},"SELECCIONE",0]
[null,{"$f":"'MATRIZ DE RIESGOS'!C161","v":" "},null,{"$f":"'MATRIZ DE RIESGOS'!F161","v":" "},{"$f":"'MATRIZ DE RIESGOS'!G161","v":" "},null,{"$f":"'MATRIZ DE RIESGOS'!I161","v":" "},{"$f":"'MATRIZ DE RIESGOS'!L161","v":" "},"SELECCIONE",0]
[null,{"$f":"'MATRIZ DE RIESGOS'!C162","v":" "},null,{"$f":"'MATRIZ DE RIESGOS'!F162","v":" "},{"$f":"'MATRIZ DE RIESGOS'!G162","v":" "},null,{"$f":"'MATRIZ DE RIESGOS'!I162","v":" "},{"$f":"'MATRIZ DE RIESGOS'!L162","v":" "},"SELECCIONE",0]

{"sheet":"INSTRUCTIVO","index":9,"n_rows":194,"n_cols":3,"rows_kept":194,"cut":false,"hidden":false,"merged":[[4,1,4,2],[6,1,6,2],[8,1,8,2],[54,1,54,2],[59,1,59,2],[80,1,80,2],[101,1,101,2],[124,1,124,2],[147,1,147,2],[170,1,170,2]]}
[]
[null,"UNIDAD FUNCIONAL DE GESTIÓN DE LA CALIDAD EN SALUD"]
[]
[]
[null,{"$f":"+'MENU PRINCIPAL'!B2","v":"APLICATIVO  DE RONDAS  DE SEGURIDAD DEL PACIENTE PARA LA GESTIÓN DEL RIESGO EN LA ATENCION DE SALUD"}]
[]
[null,"INSTRUCTIVO "]
[]
[null,"FLUJO DEL APLICATIVO"]
[]
[null,"RESPETAR EL FLUJO DEL APLICATIVO"]
[]
[]
[]
[]
[]
[]
[]
[]
[]
[]
[]
[]
[]
[]
[]
[]
[]
[]
[]
[]
[]
[]
[]
[]
[]
[]
[]
[]
[]
[]
[]
[]
[]
[]
[]
[]
[]
[]
[]
[]
[]
[]
[]
[null,"MENÚ PRINCIPAL"]
[]
[null,"TITULAR/RESPONSABLE IPRESS:","Registrar el nombre completo del Director General o Ejecutivo del Órgano Desconcentrado (Instituto, Hospital o Red de Salud)"]
[null,"IPRESS:","Registrar el código RENIPRESS del Establecimiento."]
[]
[null,"FICHA DE EVALUACIÓN"]
[]
[null,"ÓRGANO DESCONCENTRADO:","Registrado automáticamente desde el Menú Principal"]
[null,"TRIMESTRE:","Seleccionar el trimestre en el que se está evaluando con el Aplicativo"]
[null,"AÑO:","Seleccionar el año en el que se está evaluando con el Aplicativo"]
[null,"IPRESS:","Registrar el nombre del Establecimiento de Salud, según lo registrado en el RENIPRESS"]
[null,"FECHA APLICACION:","Registrar la fecha en el que se está evaluando el Aplicativo, bajo el formato: DD/MM/AAAA (dos digitos para el día, dos digitos para el mes y cuatro dígitos para el año)."]
[null,"UPSS:","Registrar el nombre del Servicio del Establecimiento de Salud motivo de evaluación, según lo registrado en el RENAES"]
[null,"RESP.EPIDEMIOLOGIA:","Registrar responsable de epidemiologia."]
[null,"TITULAR/RESPONSABLE IPRESS:","Registrado automáticamente desde el Menú Principal"]
[null,"RESP.UPSS","Registrar el nombre del Jefe de la Unidad Productora de Servicios de Salud que está siendo evaluada con el Aplicativo."]
[null,"RESP.DE ADMINISTRACION","Registrar el nombre del Administrador del establecimiento que está siendo evaluado con el Aplicativo."]
[null,"RESP.OFIC./UNIDAD CALIDAD:","Registrar el nombre del responsable de la Oficina de Calidad del Establecimiento de Salud."]
[null,"RESP. DPTO/SERVICIO ENFERMERÍA:","Registrar el nombre del responsable de Enfermería del establecimiento que está siendo evaluado con el Aplicativo."]
[null,"OTROS RESPONSABLES:","Registrar adicional el nombre de otros responsables, según corresponda."]
[null,"BUENAS PRÁCTICAS:","Una Buena Práctica Asistencial o práctica clínica segura es aquella que se apoya en la mejor evidencia disponible y que procura prevenir, minimizar o eliminar el riesgo asociado a dicha práctica. Así tenemos:\n- Registro adecuado de la Historia Clínica.\n- Seguridad del Paciente en la UPSS.\n- Identificación Correcta del Paciente.\n- Prevención de la Fuga de Pacientes.\n- Seguridad en la Medicación.\n- Prevención de la Caída de Pacientes y Contención Mecánica.\n- Seguridad Sexual.\n- Prevención y Reducción del Riesgo de las Úlceras por Presión.\n- Prevención del Suicidio y Lesiones.\n- Comunicación Efectiva.\n- Higiene de Manos.\n- Bioseguridad.\n- Adecuado funcionamiento y manejo de los Equipos Biomédicos."]
[null,"% CUMPLIMIENTO:","Es el porcentaje de verificadores de una Buena Práctica que se evidencian que se están ejecutando en la Unidad Productora de Servicios de Salud (UPSS), respecto al total de verificadores que le corresponden aplicar a la UPSS. (Resultado Automático)"]
[null,"VERIFICADOR:","Acción objetiva y evidenciable que permite evaluar el desarrollo de una Buena Práctica Asistencial en una Unidad Productora de Servicios de Salud. Estas acciones corresponden a directivas y normas técnicas nacionales y referencias internacionales (OMS/OPS, National Patient Safety Agency - NPSA, Joint Commission, Fundación Avedis Donabedian, entre otras). \nEl incumplimiento de un verificador es considerado una causa potencial de fallo que pone en riesgo la seguridad del paciente."]
[null,"CUMPLIMIENTO DEL VERIFICADOR:","Seleccionar si la acción descrita en el verificador ha sido evidenciada en la Unidad Productora de Servicios de Salud.\n- SI: Cuando la acción a verificar esta presente en la totalidad de los actos prestacionales revisados (Para el caso de la Buena Práctica del Registro Adecuado de la Historia Clínica se recomienda la revisión completa de 03 Historias Clínicas elegidas al azar).\n- NO:  Cuando la acción a verificar esté presente parcialmente en los actos prestacionales revisados o no se evidencia que lo realicen.\n- NO APLICA: Cuando  la acción a verificar no corresponda a la Unidad Productora de Servicios."]
[null,"OBSERVACIONES:","Registrar información relevante para el verificador evaluado."]
[]
[null,"RESULTADOS DE EVALUACIÓN"]
[]
[null,"ÓRGANO DESCONCENTRADO:","Registrado automáticamente desde el Menú Principal"]
[null,"TRIMESTRE:","Registrado automáticamente desde la Ficha de Evaluación"]
[null,"AÑO:","Registrado automáticamente desde la Ficha de Evaluación"]
[null,"IPRESS:","Registrado automáticamente desde la Ficha de Evaluación"]
[null,"FECHA APLICACION:","Registrado automáticamente desde la Ficha de Evaluación"]
[null,"UPSS:","Registrado automáticamente desde la Ficha de Evaluación"]
[null,"RESP.EPIDEMIOLOGIA:","Registrado automáticamente desde la Ficha de Evaluación"]
[null,"TITULAR/RESPONSABLE IPRESS:","Registrado automáticamente desde el Menú Principal"]
[null,"RESP.UPSS","Registrado automáticamente desde la Ficha de Evaluación"]
[null,"RESP.DE ADMINISTRACION","Registrado automáticamente desde la Ficha de Evaluación"]
[null,"RESP.OFIC./UNIDAD CALIDAD:","Registrado automáticamente desde la Ficha de Evaluación"]
[null,"RESP. DPTO/SERVICIO ENFERMERÍA:","Registrado automáticamente desde la Ficha de Evaluación"]
[null,"OTROS RESPONSABLES:","Registrado automáticamente desde la Ficha de Evaluación"]
[null,"BUENAS PRÁCTICAS","Una Buena Práctica Asistencial o práctica clínica segura es aquella que se apoya en la mejor evidencia disponible y que procura prevenir, minimizar o eliminar el riesgo asociado a dicha práctica. Así tenemos:\n- Registro adecuado de la Historia Clínica.\n- Seguridad del Paciente en la UPSS.\n- Identificación Correcta del Paciente.\n- Prevención de la Fuga de Pacientes.\n- Seguridad en la Medicación.\n- Prevención de la Caída de Pacientes y Contención Mecánica.\n- Seguridad Sexual.\n- Prevención y Reducción del Riesgo de las Úlceras por Presión.\n- Prevención del Suicidio y Lesiones.\n- Comunicación Efectiva.\n- Higiene de Manos.\n- Bioseguridad.\n- Adecuado funcionamiento y manejo de los Equipos Biomédicos."]
[null,"% CUMPLIMIENTO:","Es el porcentaje de verificadores de una Buenas Prácticas que se evidencian que se están ejecutando en la Unidad Productora de Servicios de Salud (UPSS), respecto al total de verificadores que le corresponden aplicar a la UPSS. (Resultado Automático proveniente de la Ficha de Evaluación)."]
[null,"PROMEDIO DE CUMPLIMIENTO","Promedio Global de Cumplimiento de los resultados obtenidos de la verificación de las Buenas Prácticas Asistenciales. (Resultado Automático)."]
[null,"ACTUALIZAR GRÁFICO","Cliquear una sola vez en la opción \"ACTUALIZAR GRÁFICO\" a fin de obtener el Gráfico Radial del Cumplimiento de los ítems evaluados. "]
[null,"GRÁFICO RADIAL DEL CUMPLIMIENTO:","Permite ver graficamente el Porcentaje de Cumplimiento de los verificadores de cada una de las Buenas Prácticas. (Gráfico Automático)."]
[]
[null,"MATRIZ DE RIESGOS"]
[]
[null,"ÓRGANO DESCONCENTRADO:","Registrado automáticamente desde el Menú Principal"]
[null,"TRIMESTRE:","Registrado automáticamente desde la Ficha de Evaluación"]
[null,"AÑO:","Registrado automáticamente desde la Ficha de Evaluación"]
[null,"IPRESS:","Registrado automáticamente desde la Ficha de Evaluación"]
[null,"FECHA APLICACION:","Registrado automáticamente desde la Ficha de Evaluación"]
[null,"UPSS:","Registrado automáticamente desde la Ficha de Evaluación"]
[null,"RESP.EPIDEMIOLOGIA:","Registrado automáticamente desde la Ficha de Evaluación"]
[null,"TITULAR/RESPONSABLE IPRESS:","Registrado automáticamente desde el Menú Principal"]
[null,"RESP.UPSS","Registrado automáticamente desde la Ficha de Evaluación"]
[null,"RESP.DE ADMINISTRACION","Registrado automáticamente desde la Ficha de Evaluación"]
[null,"RESP.OFIC./UNIDAD CALIDAD:","Registrado automáticamente desde la Ficha de Evaluación"]
[null,"RESP. DPTO/SERVICIO ENFERMERÍA:","Registrado automáticamente desde la Ficha de Evaluación"]
[null,"OTROS RESPONSABLES:","Registrado automáticamente desde la Ficha de Evaluación"]
[null,"BUENAS PRÁCTICAS","Una Buena Práctica Asistencial o práctica clínica segura es aquella que se apoya en la mejor evidencia disponible y que procura prevenir, minimizar o eliminar el riesgo asociado a dicha práctica. (Resultado Automático proveniente de la Ficha de Evaluación)."]
[null,"% CUMPLIMIENTO:","Es el porcentaje de verificadores de una Buena Práctica que se evidencian que se están ejecutando en la Unidad Productora de Servicios de Salud (UPSS), respecto al total de verificadores que le corresponden aplicar a la UPSS. (Resultado Automático proveniente de la Ficha de Evaluación)."]
[null,"VERIFICADOR:","Acción objetiva y evidenciable que permite evaluar el desarrollo de una Buena Práctica Asistencial en una Unidad Productora de Servicios de Salud. Estas acciones corresponden a directivas y normas técnicas nacionales y referencias internacionales (OMS/OPS, National Patient Safety Agency - NPSA, Joint Commission, Fundación Avedis Donabedian, entre otras). (Resultado Automático proveniente de la Ficha de Evaluación)."]
[null,"CUMPLIMIENTO DEL VERIFICADOR:","Automaticamente se van a registrar los verificadores que en la Ficha de Evaluación han sido clasificados como NO Cumplimiento. (Resultado Automático proveniente de la Ficha de Evaluación)."]
[null,"PROBABILIDAD","Es la frecuencia en la que una causa potencial de fallo (incumplimiento de un verificador) se produzca y dé lugar a un fallo o error, afectando la seguridad del paciente.\nSeleccionar una de las siguientes opciones:\n- FRECUENTE (5): El incumplimiento del verificador es casi inevitable. Muy alta probabilidad de ocurrencia. Es seguro que el fallo se producirá frecuentemente. \n- PROBABLE (4): El incumplimiento del verificador se ha presentado con cierta frecuencia en el pasado en procesos similares o previos procesos que han fallado. Alta probabilidad de ocurrencia.\n- OCASIONAL (3):  El incumplimiento del verificador se ha presentado ocasionalmente en procesos similares o previos al actual. Moderada probabilidad de ocurrencia.\n- INFRECUENTE (2): El incumplimiento del verificador se ha presentado aisladamente en procesos similares o casi idénticos . Es razonablemente esperable que suceda, aunque es poco probable que suceda.\n- RARO (1):  El incumplimiento del verificador no se asocia a procesos casi idénticos, ni se ha dado nunca en el pasado, pero es concebible que suceda."]
[null,"GRAVEDAD / IMPACTO","Determina la importancia o severidad del incumplimiento del verificador para el cliente (que puede ser el paciente, su familia o el gestor); valora el nivel de sus consecuencias, por lo que el valor del índice aumenta en función de la insatisfacción del cliente, la degradación de las prestaciones esperadas y los coste de recuperación / penalización / indemnización . \nSeleccione una de las siguientes opciones:\n- CATASTRÓFICO (10): El incumplimiento del verificador es muy crítico y afecta el funcionamiento de seguridad del proceso de atención o involucra seriamente el incumplimiento de normas reglamentarias. Origina la total insatisfacción del cliente, ya que produce la muerte del paciente.\n- IMPORTANTE (7): El  incumplimiento del verificador puede ser critico y afectar la seguridad del paciente. Produce un grado de insatisfacción elevado. Requiere de constantes reintervenciones, poniendo en riesgo la vida del paciente. No existe incumplimiento de normas reglamentarias. El paciente suele presentar secuelas o algún grado de incapacidad permanente.\n- MODERADO (4): El  incumplimiento del verificador produce cierto disgusto e insatisfacción en el cliente . El cliente observará el deterioro en el rendimiento del sistema. Puede ocasionar reintervenciones. El paciente puede presentar secuelas o algún grado de incapacidad temporal.\n- TOLERABLE (2): El  incumplimiento del verificador originaria un ligero inconveniente al cliente. Probablemente, éste observará un pequeño deterioro del rendimiento del sistema sin importancia. Es fácilmente subsanable. Puede requerir de  una intervención médica o quirúrgica para resolver el fallo, sin generar discapacidad.\n- INSIGNIFICANTE (1): No es razonable esperar que EL incumplimiento del verificador  de POCA importancia origine efecto real alguno sobre el rendimiento del sistema. Probablemente, el cliente no se dara cuenta del error. Puede requerir incrementar la estancia hospitalaria del paciente.\n* Predomina la valoración cuya gravedad o impacto sea de mayor severidad."]
[null,"VALORACIÓN DEL RIESGO","Es el producto de la relación existente entre trascendencia (gravedad/impacto) con la magnitud (probabilidad de aparición) de un riesgo, a partir de la cual se construye la matriz de evaluación de riesgos.\nSeleccione una de las siguientes propuestas.\nRIESGO INTOLERABLE (35 - 50):  El  incumplimiento del verificador se caracteriza por su altísima probabilidad y trascendencia.\nRIESGO IMPORTANTE (20 - 34): El  incumplimiento del verificador se caracteriza por presentar una probabilidad media de aparción  pero con repercusiones significativas.\nRIESGO MODERADO (4 - 19): El  incumplimiento del verificador se caracteriza por tener probabilidad media o baja de aparición y de trascendencia moderada o tolerable .\nRIESGO BAJO (1 - 3): El  incumplimiento del verificador se caracteriza por su escasa frecuencia y su insignificante relevancia.\n(Resultados obtenidos automáticamente)."]
[]
[null,"PRIORIDAD DE INTERVENCIÓN"]
[]
[null,"ÓRGANO DESCONCENTRADO:","Registrado automáticamente desde el Menú Principal"]
[null,"TRIMESTRE:","Registrado automáticamente desde la Ficha de Evaluación"]
[null,"AÑO:","Registrado automáticamente desde la Ficha de Evaluación"]
[null,"IPRESS:","Registrado automáticamente desde la Ficha de Evaluación"]
[null,"FECHA APLICACION:","Registrado automáticamente desde la Ficha de Evaluación"]
[null,"UPSS:","Registrado automáticamente desde la Ficha de Evaluación"]
[null,"RESP.EPIDEMIOLOGIA:","Registrado automáticamente desde la Ficha de Evaluación"]
[null,"TITULAR/RESPONSABLE IPRESS:","Registrado automáticamente desde el Menú Principal"]
[null,"RESP.UPSS","Registrado automáticamente desde la Ficha de Evaluación"]
[null,"RESP.DE ADMINISTRACION","Registrado automáticamente desde la Ficha de Evaluación"]
[null,"RESP.OFIC./UNIDAD CALIDAD:","Registrado automáticamente desde la Ficha de Evaluación"]
[null,"RESP. DPTO/SERVICIO ENFERMERÍA:","Registrado automáticamente desde la Ficha de Evaluación"]
[null,"OTROS RESPONSABLES:","Registrado automáticamente desde la Ficha de Evaluación"]
[null,"BUENAS PRÁCTICAS","Una Buena Práctica Asistencial o práctica clínica segura es aquella que se apoya en la mejor evidencia disponible y que procura prevenir, minimizar o eliminar el riesgo asociado a dicha práctica. (Resultado Automático proveniente de la Ficha de Evaluación)."]
[null,"% CUMPLIMIENTO:","Es el porcentaje de verificadores de una Buena Práctica que se evidencian que se están ejecutando en la Unidad Productora de Servicios de Salud (UPSS), respecto al total de verificadores que le corresponden aplicar a la UPSS. (Resultado Automático proveniente de la Ficha de Evaluación)."]
[null,"VERIFICADOR:","Acción objetiva y evidenciable que permite evaluar el desarrollo de una Buena Práctica Asistencial en una Unidad Productora de Servicios de Salud. Estas acciones corresponden a directivas y normas técnicas nacionales y referencias internacionales (OMS/OPS, National Patient Safety Agency - NPSA, Joint Commission, Fundación Avedis Donabedian, entre otras). (Resultado Automático proveniente de la Ficha de Evaluación)."]
[null,"CUMPLIMIENTO DEL VERIFICADOR:","Automaticamente se van a registrar los verificadores que en la Ficha de Evaluación han sido clasificados como NO Cumplimiento. (Resultado Automático proveniente de la Ficha de Evaluación)."]
[null,"VALORACIÓN DEL RIESGO","Es la relación existente entre trascendencia (gravedad/impacto) con la magnitud (probabilidad de aparición) de un riesgo, a partir de la cual se construye la matriz de evaluación de riesgos.\n(Resultado Automático proveniente de la Matriz de Riesgos)"]
[null,"FACTIBILIDAD DE INTERVENCIÓN","El estudio de la evitabilidad o de factibilidad de una intervención, exige considerar los siguientes aspectos:\n- La factibilidad científica, por medio de un análisis de la evidencia disponible sobre los métodos de intervención.\n- La factibilidad económica y el costo-oportunidad de las actividades dirigidas a la intervención, aspecto que necesariamente hay que valorar, a fin de hacer un uso eficiente y efectivo de los recursos.\n- La estrategia de reducción, considerando si va a ser por medio de normativas o procedimientos, de controles, de nueva tecnología diagnóstica o terapéutica, entre otros.\nSeleccione una de las siguientes opciones:\n- EVITABLE (3): Cuando la Factibilidad Cientifica, Económica y de Costo - Oportunidad, asi como la estrategia a emplear han demostrado que el riesgo puede ser eliminado o erradicado, a través de un Plan de erradicación de Riesgos.\n- REDUCIBLE (2): Cuando la Factibilidad Cientifica, Económica y de Costo - Oportunidad, asi como la estrategia a emplear han demostrado que el riesgo puede ser reducido, buscando evitar la aparición de consecuencias, a través de un Plan de Reducción de Riesgos.\n- INEVITABLE (1): Cuando la Factibilidad Cientifica, Económica y de Costo - Oportunidad, asi como la estrategia a emplear han demostrado que el riesgo es inevitable, por lo que es necesario limitar sus consecuencias, a traves de un Plan de Mitigación de Riesgos."]
[null,"PRIORIDAD DE INTERVENCIÓN","Es el producto de la relación existente entre el resultado de la Valoración del Riesgo con la Factibilidad de la Intervención, a partir del cual se construye el listado de priorización de intervenciones del Plan de Acción. (Resultados obtenidos automáticamente)"]
[]
[null,"PLAN DE ACCIÓN"]
[]
[null,"ÓRGANO DESCONCENTRADO:","Registrado automáticamente desde el Menú Principal"]
[null,"TRIMESTRE:","Registrado automáticamente desde la Ficha de Evaluación"]
[null,"AÑO:","Registrado automáticamente desde la Ficha de Evaluación"]
[null,"IPRESS:","Registrado automáticamente desde la Ficha de Evaluación"]
[null,"FECHA APLICACION:","Registrado automáticamente desde la Ficha de Evaluación"]
[null,"UPSS:","Registrado automáticamente desde la Ficha de Evaluación"]
[null,"RESP.EPIDEMIOLOGIA:","Registrado automáticamente desde la Ficha de Evaluación"]
[null,"TITULAR/RESPONSABLE IPRESS:","Registrado automáticamente desde el Menú Principal"]
[null,"RESP.UPSS","Registrado automáticamente desde la Ficha de Evaluación"]
[null,"RESP.DE ADMINISTRACION","Registrado automáticamente desde la Ficha de Evaluación"]
[null,"RESP.OFIC./UNIDAD CALIDAD:","Registrado automáticamente desde la Ficha de Evaluación"]
[null,"RESP. DPTO/SERVICIO ENFERMERÍA:","Registrado automáticamente desde la Ficha de Evaluación"]
[null,"OTROS RESPONSABLES:","Registrado automáticamente desde la Ficha de Evaluación"]
[null,"ACTUALIZAR PRIORIDAD:","Permite ordenar de mayor a menor los resultados obtenidos de la Prioridad de Intervención, a fin de poder establecer acciones correctivas a corto, mediano y largo plazo.\nCliquear una sola vez en \"ACTUALIZAR PRIORIDAD\"."]
[null,"PRIORIDAD DE INTERVENCIÓN","Es el producto de la relación existente entre el resultado de la Valoración del Riesgo con la Factibilidad de la Intervención, a partir del cual se construye el listado de priorización de intervenciones del Plan de Acción. (Resultados obtenidos automáticamente de la Ficha de Priorización de la Intervención). Su ordenamiento de mayor a menor requiere de \"Actualizar Prioridad\"."]
[null,"BUENAS PRÁCTICAS","Una Buena Práctica Asistencial o práctica clínica segura es aquella que se apoya en la mejor evidencia disponible y que procura prevenir, minimizar o eliminar el riesgo asociado a dicha práctica. (Resultado Automático proveniente de la Ficha de Evaluación)."]
[null,"VERIFICADOR INSEGURO","Acción objetiva y evidenciable que permite evaluar el desarrollo de una Buena Práctica Asistencial en una Unidad Productora de Servicios de Salud. Estas acciones corresponden a directivas y normas técnicas nacionales y referencias internacionales (OMS/OPS, National Patient Safety Agency - NPSA, Joint Commission, Fundación Avedis Donabedian, entre otras) y que en la Ficha de Evaluación han sido clasificados como NO Cumplimiento.  (Resultado Automático proveniente de la Ficha de Evaluación)."]
[null,"ACCIONES CORRECTIVAS","Registrar las acciones a corto, mediano y largo plazo que se van a desarrollar a fin de erradicar, reducir o mitigar los riesgos asistenciales como consecuencia del incumplimiento del verificador evaluado. Pueden registrarse una o más acciones correctivas dentro de la misma celda (presionar Alt + Enter para un nuevo registro en la misma celda)."]
[null,"RESPONSABLE (CARGO)","Registrar el cargo orgánico o funcional, del encargado de implementar la acción correctiva propuesta. Debe registrarse un responsable por cada acción correctiva dentro de la misma celda (presionar Alt + Enter para un nuevo registro en la misma celda)."]
[null,"PLAZO","Registrar la fecha límite para la implementación de la acción correctiva propuesta, bajo el formato: DD/MM/AAAA (dos digitos para el día, dos digitos para el mes y cuatro dígitos para el año). Debe registrarse una fecha por cada acción correctiva dentro de la misma celda (presionar Alt + Enter para un nuevo registro en la misma celda)."]
[]
[null,"FICHA DE MONITOREO"]
[]
[null,"ÓRGANO DESCONCENTRADO:","Registrado automáticamente desde el Menú Principal"]
[null,"TRIMESTRE:","Registrado automáticamente desde la Ficha de Evaluación"]
[null,"AÑO:","Registrado automáticamente desde la Ficha de Evaluación"]
[null,"IPRESS:","Registrado automáticamente desde la Ficha de Evaluación"]
[null,"FECHA APLICACION:","Registrado automáticamente desde la Ficha de Evaluación"]
[null,"UPSS:","Registrado automáticamente desde la Ficha de Evaluación"]
[null,"RESP.EPIDEMIOLOGIA:","Registrado automáticamente desde la Ficha de Evaluación"]
[null,"TITULAR/RESPONSABLE IPRESS:","Registrado automáticamente desde el Menú Principal"]
[null,"RESP.UPSS","Registrado automáticamente desde la Ficha de Evaluación"]
[null,"RESP.DE ADMINISTRACION","Registrado automáticamente desde la Ficha de Evaluación"]
[null,"RESP.OFIC./UNIDAD CALIDAD:","Registrado automáticamente desde la Ficha de Evaluación"]
[null,"RESP. DPTO/SERVICIO ENFERMERÍA:","Registrado automáticamente desde la Ficha de Evaluación"]
[null,"OTROS RESPONSABLES:","Registrado automáticamente desde la Ficha de Evaluación"]
[null,"PRIORIDAD DE INTERVENCIÓN","Registrado automáticamente desde el Plan de Acción"]
[null,"BUENAS PRÁCTICAS","Registrado automáticamente desde el Plan de Acción"]
[null,"VERIFICADOR INSEGURO","Registrado automáticamente desde el Plan de Acción"]
[null,"ACCIONES CORRECTIVAS","Registrado automáticamente desde el Plan de Acción"]
[null,"RESPONSABLE (CARGO)","Registrado automáticamente desde el Plan de Acción"]
[null,"PLAZO","Registrado automáticamente desde el Plan de Acción"]
[null,"MONITOREO","Registrar la fecha en que se está evaluando la implementación del Plan de Acción, bajo el formato: DD/MM/AAAA (dos digitos para el día, dos digitos para el mes y cuatro dígitos para el año). Debe registrarse una sola fecha por cada verificador inseguro."]
[null,"IMPLEMENTACIÓN","Seleccionar si la acción descrita como acción correctiva ha sido implementada de manera objetiva y evidenciable:\n- SI: Cuando todas las acciones correctivas propuestas para corregir el verificador inseguro han sido implementadas. Se considerará como implementado la suma de acciones correctivas implementadas más aquellas acciones correctivas que se hayan vuelto No Aplicables con el tiempo.\n- NO:  Cuando al menos una de las acciones correctivas propuestas para corregir el verificador inseguro no ha sido implementadas.\n- NO APLICA: Cuando todas las acciones correctivas propuestas para corregir el verificador inseguro con el paso del tiempo se vuelven No Aplicables."]
[null,"PORCENTAJE DE IMPLEMENTACIÓN","Es el porcentaje de acciones correctivas que se evidencian que se han implementado, respecto al total de Acciones Correctivas propuestas. (Resultado Automático proveniente de la Ficha de Evaluación)."]

{"sheet":"VACIO","index":10,"n_rows":2,"n_cols":2,"rows_kept":2,"cut":false,"hidden":true,"merged":[]}
[]
[null,"UNIDAD FUNCIONAL DE GESTIÓN DE LA CALIDAD EN SALUD"]

{"sheet":"TABLAS","index":11,"n_rows":103,"n_cols":3,"rows_kept":103,"cut":false,"hidden":true,"merged":[]}
[]
[null,"OODD"]
[null,"SELECCIONE"]
[null,"INSTITUTO NACIONAL MATERNO PERINATAL"]
[null,"INSTITUTO NACIONAL DE OFTALMOLOGIA"]
[null,"INSTITUTO DE SALUD MENTAL HONORIO DELGADO - HIDEYO NOGUCHI"]
[null,"INSTITUTO NACIONAL DE CIENCIAS NEUROLOGICAS"]
[null,"INSTITUTO NACIONAL DE SALUD DEL NIÑO"]
[null,"INSTITUTO NACIONAL DE SALUD DEL NIÑO – SAN BORJA"]
[null,"INSTITUTO NACIONAL DE REHABILITACION \"DRA. ADRIANA REBAZA FLORES\""]
[null,"HOSPITAL NACIONAL ARZOBISPO LOAYZA"]
[null,"HOSPITAL NACIONAL DOS DE MAYO"]
[null,"HOSPITAL NACIONAL DOCENTE MADRE NIÑO - SAN BARTOLOME"]
[null,"HOSPITAL NACIONAL CAYETANO HEREDIA"]
[null,"HOSPITAL NACIONAL VICTOR LARCO HERRERA"]
[null,"HOSPITAL NACIONAL HIPOLITO UNANUE  "]
[null,"HOSPITAL SANTA ROSA"]
[null,"HOSPITAL CARLOS LANFRANCO LA HOZ- EX PUENTE PIEDRA"]
[null,"HOSPITAL SERGIO BERNALES - COLLIQUE"]
[null,"HOSPITAL DE EMERGENCIAS PEDIATRICAS"]
[null,"HOSPITAL DE EMERGENCIAS - JOSE CASIMIRO ULLOA"]
[null,"HOSPITAL MARIA AUXILIADORA"]
[null,"HOSPITAL JOSE AGURTO TELLO - CHOSICA"]
[null,"HOSPITAL SAN JUAN DE LURIGANCHO"]
[null,"HOSPITAL HERMILIO VALDIZAN"]
[null,"HOSPITAL DE HUAYCÁN"]
[null,"HOSPITAL DE  VITARTE"]
[null,"RED DE SALUD LIMA CIUDAD"]
[null,"RED DE SALUD BARRANCO – CHORRILLOS - SURCO"]
[null,"RED DE SALUD RIMAC - SAN MARTIN DE PORRES - LOS OLIVOS"]
[null,"RED DE SALUD LIMA IV NORTE"]
[null,"RED DE SALUD SAN JUAN DE LURIGANCHO"]
[null,"RED DE SALUD TUPAC AMARU"]
[null,"RED DE SALUD VILLA EL SALVADOR - LURIN-PACHACAMAC - PUCUSANA"]
[null,"RED DE SALUD SAN JUAN DE MIRAFLORES - VILLA MARIA DEL TRIUNFO"]
[null,"RED LIMA ESTE METROPOLITANA"]
[]
[null,"UPSS"]
[]
[null,"SELECCIONE"]
[null,"CONSULTA EXTERNA ","CE"]
[null,"HOSPITALIZACIÓN","HOS"]
[null,"EMERGENCIA","E"]
[null,"CENTRO OBSTÉTRICO","CEO"]
[null,"CENTRO QUIRÚRGICO","CEQ"]
[null,"CUIDADOS INTENSIVOS","CI"]
[null,"PATOLOGÍA CLÍNICA","PC"]
[null,"DIAGNÓSTICO POR IMÁGENES","DPI"]
[null,"ANATOMÍA PATOLÓGICA","AP"]
[null,"FARMACIA","F"]
[null,"CENTRAL DE ESTERILIZACIÓN","CDE"]
[null,"MEDICINA DE REHABILITACIÓN","MR"]
[null,"HEMODIÁLISIS","H"]
[null,"NUTRICIÓN Y DIETÉTICA","NYD"]
[null,"RADIOTERAPIA","R"]
[null,"MEDICINA NUCLEAR","MN"]
[null,"CENTRO DE HEMOTERAPIA","CDH"]
[null,"PRIMER NIVEL DE ATENCIÓN","PNA"]
[]
[null,"PERIODICIDAD"]
[]
[null,"SELECCIONE"]
[null,"I TRIMESTRE"]
[null,"II TRIMESTRE"]
[null,"III TRIMESTRE"]
[null,"IV TRIMESTRE"]
[]
[null,"CUMPLIMIENTO"]
[]
[null,"SELECCIONE"]
[null,"SI"]
[null,"NO"]
[null,"NO APLICA"]
[]
[null,"SELECCIONE"]
[null,2015]
[null,2016]
[null,2017]
[null,2018]
[]
[null,"SELECCIONE"]
[null,5]
[null,4]
[null,3]
[null,2]
[null,1]
[]
[null,"SELECCIONE"]
[null,10]
[null,7]
[null,4]
[null,2]
[null,1]
[]
[null,"SELECCIONE"]
[null,3]
[null,2]
[null,1]
[]
[null,"SELECCIONE"]
[null,"SI"]
[null,"NO"]
[null,"NO APLICA"]

{"sheet":"TABLA 2 RES","index":12,"n_rows":153,"n_cols":6,"rows_kept":153,"cut":false,"hidden":true,"merged":[[6,3,6,4],[7,3,7,4],[8,3,8,4],[9,3,9,4],[10,3,10,4],[11,3,11,4],[12,3,12,4],[13,3,13,4],[14,3,14,4],[15,3,15,4],[16,3,16,4],[17,3,17,4],[18,3,18,4],[19,3,19,4],[20,3,20,4],[21,3,21,4],[22,3,22,4],[23,3,23,4],[24,3,24,4],[25,3,25,4],[26,3,26,4],[27,3,27,4],[28,3,28,4],[29,3,29,4],[30,3,30,4],[31,3,31,4],[32,3,32,4],[33,3,33,4],[34,3,34,4],[35,3,35,4],[36,3,36,4],[37,3,37,4],[38,3,38,4],[39,3,39,4],[40,3,40,4],[41,3,41,4],[42,3,42,4],[43,3,43,4],[44,3,44,4],[45,3,45,4],[46,3,46,4],[47,3,47,4],[48,3,48,4],[49,3,49,4],[50,3,50,4],[51,3,51,4],[52,3,52,4],[53,3,53,4],[54,3,54,4],[55,3,55,4],[56,3,56,4],[57,3,57,4],[58,3,58,4],[59,3,59,4],[60,3,60,4],[61,3,61,4],[62,3,62,4],[63,3,63,4],[64,3,64,4],[65,3,65,4],[66,3,66,4],[67,3,67,4],[68,3,68,4],[69,3,69,4],[70,3,70,4],[71,3,71,4],[72,3,72,4],[73,3,73,4],[74,3,74,4],[75,3,75,4],[76,3,76,4],[77,3,77,4],[78,3,78,4],[79,3,79,4],[80,3,80,4],[81,3,81,4],[82,3,82,4],[83,3,83,4],[84,3,84,4],[85,3,85,4],[86,3,86,4],[87,3,87,4],[88,3,88,4],[89,3,89,4],[90,3,90,4],[91,3,91,4],[92,3,92,4],[93,3,93,4],[94,3,94,4],[95,3,95,4],[96,3,96,4],[97,3,97,4],[98,3,98,4],[99,3,99,4],[100,3,100,4],[101,3,101,4],[102,3,102,4],[103,3,103,4],[104,3,104,4],[105,3,105,4],[106,3,106,4],[107,3,107,4],[108,3,108,4],[109,3,109,4],[110,3,110,4],[111,3,111,4],[112,3,112,4],[113,3,113,4],[114,3,114,4],[115,3,115,4],[116,3,116,4],[117,3,117,4],[118,3,118,4],[119,3,119,4],[120,3,120,4],[121,3,121,4],[122,3,122,4],[123,3,123,4],[124,3,124,4],[125,3,125,4],[126,3,126,4],[127,3,127,4],[128,3,128,4],[129,3,129,4],[130,3,130,4],[131,3,131,4],[132,3,132,4],[133,3,133,4],[134,3,134,4],[135,3,135,4],[136,3,136,4],[137,3,137,4],[138,3,138,4],[139,3,139,4],[140,3,140,4],[141,3,141,4],[142,3,142,4],[143,3,143,4],[144,3,144,4],[145,3,145,4],[146,3,146,4],[147,3,147,4],[148,3,148,4],[149,3,149,4],[150,3,150,4],[151,3,151,4],[152,3,152,4],[4,5,5,5],[4,1,5,2],[4,3,5,4],[6,1,29,2],[72,1,77,2],[64,1,71,2],[30,1,63,2],[78,1,87,2],[88,1,98,2],[99,1,104,2],[105,1,113,2],[148,1,152,2],[140,1,147,2],[114,1,121,2],[122,1,131,2],[132,1,139,2]]}
[]
[]
[]
[]
[null,"PRACTICA SEGURA",null,"VERIFICADOR",null,"CUMPLIMIENTO"]
[]
[null,"Historia Clínica",null,{"$f":"'FICHA OCULTA'!G25","v":"Registro de la fecha y hora de atención en la Historia Clínica y/o Registros Médicos."},null,{"$f":"'FICHA OCULTA'!I25","v":"SI"}]
[null,null,null,{"$f":"'FICHA OCULTA'!G26","v":"Registro completo de la filiación del paciente: Datos del EESS, Nº de HCl, Nombres y Apellidos del Paciente, Lugar y fecha de nacimiento, Edad, Sexo, Domicilio, Procedencia, Teléfono, DNI, Seguro, Estado Civi, Instrucción, Ocupación, Religión, Acompañante o Responsable de ser el caso."},null,{"$f":"'FICHA OCULTA'!I26","v":"NO"}]
[null,null,null,{"$f":"'FICHA OCULTA'!G27","v":"Registro de la enfermedad actual."},null,{"$f":"'FICHA OCULTA'!I27","v":"SI"}]
[null,null,null,{"$f":"'FICHA OCULTA'!G28","v":"Registro de los antecedentes del paciente."},null,{"$f":"'FICHA OCULTA'!I28","v":"NO"}]
[null,null,null,{"$f":"'FICHA OCULTA'!G29","v":"Registro de la Funciones Biológicas: apetito, sed, sueño, orina, deposiciones, estado de animo. "},null,{"$f":"'FICHA OCULTA'!I29","v":"NO"}]
[null,null,null,{"$f":"'FICHA OCULTA'!G30","v":"Registro completo del examen físico clínico general y regional de corresponder."},null,{"$f":"'FICHA OCULTA'!I30","v":"SI"}]
[null,null,null,{"$f":"'FICHA OCULTA'!G31","v":"Registro de los diagnósticos con codificación CIE-10 ó DSM IV de corresponder (presuntivos o definitivos)"},null,{"$f":"'FICHA OCULTA'!I31","v":"SI"}]
[null,null,null,{"$f":"'FICHA OCULTA'!G32","v":"Registro de evolución del paciente: Fecha y hora de atención, Apreciación Subjetiva, Apreciación Objetiva, Tratamiento, Dieta, Interpretación de exámenes y comentario, terapeútica y Plan de trabajo, firma, sello y colegiatura del médico responsable."},null,{"$f":"'FICHA OCULTA'!I32","v":"NO"}]
[null,null,null,{"$f":"'FICHA OCULTA'!G33","v":"Registro actualizado del Plan de Trabajo: Exámenes de Ayuda Diagnóstica, Procedimientos Médico-Quirúrgicos e Interconsultas."},null,{"$f":"'FICHA OCULTA'!I33","v":"SI"}]
[null,null,null,{"$f":"'FICHA OCULTA'!G34","v":"Registro actualizado del tratamiento del paciente (medicamento, dosis, vía, periodicidad)."},null,{"$f":"'FICHA OCULTA'!I34","v":"SI"}]
[null,null,null,{"$f":"'FICHA OCULTA'!G35","v":"Registro y gráfico actualizado de la Funciones Vitales."},null,{"$f":"'FICHA OCULTA'!I35","v":"NO"}]
[null,null,null,{"$f":"'FICHA OCULTA'!G36","v":"Registro de la Hoja de Balance hidro - electrolítico actualizado."},null,{"$f":"'FICHA OCULTA'!I36","v":"NO"}]
[null,null,null,{"$f":"'FICHA OCULTA'!G37","v":"Registro e inclusión en la Historia Clínica de los resultados de examenes auxiliares y procedimientos del paciente."},null,{"$f":"'FICHA OCULTA'!I37","v":"NO"}]
[null,null,null,{"$f":"'FICHA OCULTA'!G38","v":"Correspondencia entre el diagnóstico presuntivo y/o definitivo con el plan de trabajo en la última atención o evaluación realizada."},null,{"$f":"'FICHA OCULTA'!I38","v":"SI"}]
[null,null,null,{"$f":"'FICHA OCULTA'!G39","v":"Correspondencia entre el plan de trabajo y los examenes de apoyo al diagnóstico solicitados en la última atención o evaluación realizada."},null,{"$f":"'FICHA OCULTA'!I39","v":"SI"}]
[null,null,null,{"$f":"'FICHA OCULTA'!G40","v":"Registro del nombre del paciente en todas las hojas de la HCl."},null,{"$f":"'FICHA OCULTA'!I40","v":"SI"}]
[null,null,null,{"$f":"'FICHA OCULTA'!G41","v":"En caso de haberse producido un evento adverso, este ha sido registrado en la HCl o en algún medio de registro evidenciable."},null,{"$f":"'FICHA OCULTA'!I41","v":"NO"}]
[null,null,null,{"$f":"'FICHA OCULTA'!G42","v":"Registro completo del Consentimiento Informado de acuerdo a la normatividad vigente."},null,{"$f":"'FICHA OCULTA'!I42","v":"NO"}]
[null,null,null,{"$f":"'FICHA OCULTA'!G43","v":"Registro de la fecha y hora del alta del paciente"},null,{"$f":"'FICHA OCULTA'!I43","v":"SI"}]
[null,null,null,{"$f":"'FICHA OCULTA'!G44","v":"Registro de las indicaciones de alta del paciente además de la epicrisis, incluyendo diagnóstico definitivo."},null,{"$f":"'FICHA OCULTA'!I44","v":"NO APLICA"}]
[null,null,null,{"$f":"'FICHA OCULTA'!G45","v":"Registro de los informes de los procedimientos realizados al paciente."},null,{"$f":"'FICHA OCULTA'!I45","v":"NO"}]
[null,null,null,{"$f":"'FICHA OCULTA'!G46","v":"Registro de la Contrarreferencia del paciente"},null,{"$f":"'FICHA OCULTA'!I46","v":"SI"}]
[null,null,null,{"$f":"'FICHA OCULTA'!G47","v":"La letra de la Historia Clínica es legible"},null,{"$f":"'FICHA OCULTA'!I47","v":"NO"}]
[null,null,null,{"$f":"'FICHA OCULTA'!G48","v":"Historia clínica ordenada y limpia."},null,{"$f":"'FICHA OCULTA'!I48","v":"SI"}]
[null,"Seguridad en la UPSS                          ",null,{"$f":"'FICHA OCULTA'!G53","v":"Las Interconsultas se gestionan oportunamente durante el turno."},null,{"$f":"'FICHA OCULTA'!I53","v":"SI"}]
[null,null,null,{"$f":"'FICHA OCULTA'!G54","v":"La solicitud de procedimientos de ayuda al diagnóstico y tratamiento se gestionan oportunamente durante el turno."},null,{"$f":"'FICHA OCULTA'!I54","v":"SI"}]
[null,null,null,{"$f":"'FICHA OCULTA'!G55","v":"La solicitud de medicamentos e insumos se gestionan oportunamente durante el turno."},null,{"$f":"'FICHA OCULTA'!I55","v":"NO"}]
[null,null,null,{"$f":"'FICHA OCULTA'!G56","v":"Cumplimiento de las indicaciones de la dieta del paciente según indicación del médico tratante."},null,{"$f":"'FICHA OCULTA'!I56","v":"SI"}]
[null,null,null,{"$f":"'FICHA OCULTA'!G57","v":"Cumplimiento y verificación de la asistencia y permanencia del personal programado en el servicio para garantizar la atención oportuna de los pacientes."},null,{"$f":"'FICHA OCULTA'!I57","v":"SI"}]
[null,null,null,{"$f":"'FICHA OCULTA'!G58","v":"Mecanismo de reemplazo para cubrir la ausencia del personal programado en el servicio a fin de garantizar la atención de los pacientes."},null,{"$f":"'FICHA OCULTA'!I58","v":"SI"}]
[null,null,null,{"$f":"'FICHA OCULTA'!G59","v":"Personal en formación (internos, residentes, especialidad u otros) demuestran que tienen un personal asistencial que cumple el rol de tutoría y supervisión."},null,{"$f":"'FICHA OCULTA'!I59","v":"NO APLICA"}]
[null,null,null,{"$f":"'FICHA OCULTA'!G60","v":"Personal conoce del sistema de registro y notificación de incidentes y eventos adversos."},null,{"$f":"'FICHA OCULTA'!I60","v":"NO"}]
[null,null,null,{"$f":"'FICHA OCULTA'!G61","v":"Registro físico y/o virtual de los incidentes y eventos adversos en la UPSS."},null,{"$f":"'FICHA OCULTA'!I61","v":"NO"}]
[null,null,null,{"$f":"'FICHA OCULTA'!G62","v":"Análisis y plan de intervención sobre la información de los incidentes y eventos adversos."},null,{"$f":"'FICHA OCULTA'!I62","v":"NO"}]
[null,null,null,{"$f":"'FICHA OCULTA'!G63","v":"Registro físico o digital de notificación de accidentes de trabajo del personal asistencial."},null,{"$f":"'FICHA OCULTA'!I63","v":"NO"}]
[null,null,null,{"$f":"'FICHA OCULTA'!G64","v":"Utilización del formato de consentimiento informado para actividades de docencia."},null,{"$f":"'FICHA OCULTA'!I64","v":"NO APLICA"}]
[null,null,null,{"$f":"'FICHA OCULTA'!G65","v":"Timbre o sistema de llamado se encuentra cerca del paciente y está operativo."},null,{"$f":"'FICHA OCULTA'!I65","v":"NO"}]
[null,null,null,{"$f":"'FICHA OCULTA'!G66","v":"Barandas de las camas funcionan y están levantadas para proteger al paciente."},null,{"$f":"'FICHA OCULTA'!I66","v":"NO"}]
[null,null,null,{"$f":"'FICHA OCULTA'!G67","v":"En Consultorio Obstetrico / Emergencia Obstétrica se evidencia el uso de gestogramas."},null,{"$f":"'FICHA OCULTA'!I67","v":"ER"}]
[null,null,null,{"$f":"'FICHA OCULTA'!G68","v":"En Centro Obstetrico se evidencia el uso de partogramas con línea de alerta."},null,{"$f":"'FICHA OCULTA'!I68","v":"ER"}]
[null,null,null,{"$f":"'FICHA OCULTA'!G69","v":"En Centro Obstetrico se evidencia que cuenta con Doppler fetal portátil operativo."},null,{"$f":"'FICHA OCULTA'!I69","v":"ER"}]
[null,null,null,{"$f":"'FICHA OCULTA'!G70","v":"En Centro Obstetrico se evidencia que cuenta con Monitor fetal o Cardiotocógrafo operativo."},null,{"$f":"'FICHA OCULTA'!I70","v":"ER"}]
[null,null,null,{"$f":"'FICHA OCULTA'!G71","v":"En Centro Obstetrico se evidencia que cuenta con Ecógrafo operativo."},null,{"$f":"'FICHA OCULTA'!I71","v":"ER"}]
[null,null,null,{"$f":"'FICHA OCULTA'!G72","v":"En Centro Obstetrico se evidencia que la atención del parto se realiza en condiciones de asepsia (mandil y guantes estériles, mascarilla, gorro, lentes protectores)."},null,{"$f":"'FICHA OCULTA'!I72","v":"ER"}]
[null,null,null,{"$f":"'FICHA OCULTA'!G73","v":"En Centro Obstetrico se evidencia que la parturienta tiene resultados de prueba rápida o ELISA para HIV-1 y HIV-2."},null,{"$f":"'FICHA OCULTA'!I73","v":"ER"}]
[null,null,null,{"$f":"'FICHA OCULTA'!G74","v":"En Centro Quirurgico se evidencia el último informe remitido a la Dirección sobre el proceso de implementación de la Lista de Verificación de Seguridad de la Cirugía a cargo del Equipo Conductor y/o Comité de Seguridad del Paciente"},null,{"$f":"'FICHA OCULTA'!I74","v":"ER"}]
[null,null,null,{"$f":"'FICHA OCULTA'!G75","v":"En Centro Quirurgico se evidencia la última Encuesta Semestral remitida a la Dirección para evaluar el proceso de implementación de la Lista de Verificación de Seguridad de la Cirugía a cargo del Equipo Conductor y/o Comité de Seguridad del Paciente"},null,{"$f":"'FICHA OCULTA'!I75","v":"ER"}]
[null,null,null,{"$f":"'FICHA OCULTA'!G76","v":"En Centro Quirurgico se evidencia que existe un(a) Coordinador de la Lista de Verificación de Seguridad de la Cirugía correspondiente al Turno Quirúrgico."},null,{"$f":"'FICHA OCULTA'!I76","v":"ER"}]
[null,null,null,{"$f":"'FICHA OCULTA'!G77","v":"En Centro Quirurgico se evidencia que el (la) Coordinador(a) aplica la Lista de Verificación de Seguridad de la Cirugía, en el periodo correspondiente a la ENTRADA."},null,{"$f":"'FICHA OCULTA'!I77","v":"ER"}]
[null,null,null,{"$f":"'FICHA OCULTA'!G78","v":"En Centro Quirurgico se evidencia que el (la) Coordinador(a) aplica la Lista de Verificación de Seguridad de la Cirugía, en el periodo correspondiente a la PAUSA."},null,{"$f":"'FICHA OCULTA'!I78","v":"ER"}]
[null,null,null,{"$f":"'FICHA OCULTA'!G79","v":"En Centro Quirurgico se evidencia que el (la) Coordinador(a) aplica la Lista de Verificación de Seguridad de la Cirugía, en el periodo correspondiente a la SALIDA."},null,{"$f":"'FICHA OCULTA'!I79","v":"ER"}]
[null,null,null,{"$f":"'FICHA OCULTA'!G80","v":"En Centro Quirurgico se evidencia que cuenta con coche de intubación difícil operativo."},null,{"$f":"'FICHA OCULTA'!I80","v":"ER"}]
[null,null,null,{"$f":"'FICHA OCULTA'!G81","v":"En Centro Quirurgico se evidencia que cuenta con Unidad / Máquina de Anestesia operativo"},null,{"$f":"'FICHA OCULTA'!I81","v":"ER"}]
[null,null,null,{"$f":"'FICHA OCULTA'!G82","v":"En Centro Quirurgico se evidencia que cuenta con Columna de Gases Clínicos / Monitor Multiparámetro (de 6 a 8)."},null,{"$f":"'FICHA OCULTA'!I82","v":"ER"}]
[null,null,null,{"$f":"'FICHA OCULTA'!G83","v":"En Centro Quirurgico se evidencia que cuenta con bomba de perfusión operativa."},null,{"$f":"'FICHA OCULTA'!I83","v":"ER"}]
[null,null,null,{"$f":"'FICHA OCULTA'!G84","v":"En Centro Quirurgico se evidencia que cuenta con Cialítica Portátil con batería operativa."},null,{"$f":"'FICHA OCULTA'!I84","v":"ER"}]
[null,null,null,{"$f":"'FICHA OCULTA'!G85","v":"En Centro Quirurgico se evidencia que en recuperación, el paciente es recibido por la enfermera y el anestesiólogo."},null,{"$f":"'FICHA OCULTA'!I85","v":"ER"}]
[null,null,null,{"$f":"'FICHA OCULTA'!G86","v":"En Centro Quirurgico se evidencia que existe registro de la evaluación pre, durante y post-anestésica en cada paciente intervenido, con firma y sello del anestesiologo responsable."},null,{"$f":"'FICHA OCULTA'!I86","v":"ER"}]
[null,"Identificación Correcta del Paciente ",null,{"$f":"'FICHA OCULTA'!G91","v":"Paciente tiene brazalete de identificación y los datos registrados son correctos y completos."},null,{"$f":"'FICHA OCULTA'!I91","v":"NO"}]
[null,null,null,{"$f":"'FICHA OCULTA'!G92","v":"Cartel visible que tenga registrado el nombre completo del paciente."},null,{"$f":"'FICHA OCULTA'!I92","v":"NO"}]
[null,null,null,{"$f":"'FICHA OCULTA'!G93","v":"Datos proporcionados por el paciente, son similares a los registrados en la historia clínica."},null,{"$f":"'FICHA OCULTA'!I93","v":"NO"}]
[null,null,null,{"$f":"'FICHA OCULTA'!G94","v":"Verificación de la identidad del paciente con el brazalete antes de cualquier procedimiento."},null,{"$f":"'FICHA OCULTA'!I94","v":"NO"}]
[null,null,null,{"$f":"'FICHA OCULTA'!G95","v":"Identificación de riesgo de caidas del paciente tanto en el brazalete del paciente como en el cartel visible."},null,{"$f":"'FICHA OCULTA'!I95","v":"NO"}]
[null,null,null,{"$f":"'FICHA OCULTA'!G96","v":"Verificación de la identificación correcta de los paciente antes de realizar los examenes de laboratorio, radiológicos u otros."},null,{"$f":"'FICHA OCULTA'!I96","v":"ER"}]
[null,null,null,{"$f":"'FICHA OCULTA'!G97","v":"Conocimiento del paciente o familiar responsable sobre su enfermedad, su evolución y pronóstico del mismo, el cual debe concordar con la información registrada en la historia clínica."},null,{"$f":"'FICHA OCULTA'!I97","v":"NO"}]
[null,null,null,{"$f":"'FICHA OCULTA'!G98","v":"Paciente  informado al que se  le han aclado sus dudas y preguntas respecto a algún procedimiento o cirugía, evidenciandose la firma del Consentimiento respectivo."},null,{"$f":"'FICHA OCULTA'!I98","v":"NO"}]
[null,"Prevención de la Fuga de Pacientes",null,{"$f":"'FICHA OCULTA'!G103","v":"Paciente cuenta con ropa de hospital facilmente identificable."},null,{"$f":"'FICHA OCULTA'!I103","v":"NO"}]
[null,null,null,{"$f":"'FICHA OCULTA'!G104","v":"Vigilancia controla las pertenencias de los pacientes y las visitas para evitar el uso inadecuado de objetos potencialmente peligrosos."},null,{"$f":"'FICHA OCULTA'!I104","v":"NO"}]
[null,null,null,{"$f":"'FICHA OCULTA'!G105","v":"Tienen un sistema efectivo de control de las salidas y entradas del servicio de hospitalización."},null,{"$f":"'FICHA OCULTA'!I105","v":"NO"}]
[null,null,null,{"$f":"'FICHA OCULTA'!G106","v":"Entrevistas con el paciente para valorar el riesgo potencial de fuga. Solo en casos de oposición activa y riesgo inminente de fuga se recurrirá a la contención mecánica."},null,{"$f":"'FICHA OCULTA'!I106","v":"NO"}]
[null,null,null,{"$f":"'FICHA OCULTA'!G107","v":"Registro en la hoja de recomendaciones terapéuticas el riesgo de fuga del paciente y la activación de las medidas de supervisión oportunas."},null,{"$f":"'FICHA OCULTA'!I107","v":"NO"}]
[null,null,null,{"$f":"'FICHA OCULTA'!G108","v":"Existencia de un procedimiento o protocolo que se active en caso de fuga de paciente."},null,{"$f":"'FICHA OCULTA'!I108","v":"NO"}]
[null,"Seguridad en la Medicación  ",null,{"$f":"'FICHA OCULTA'!G113","v":"Paciente conoce que medicamentos recibe y a que hora corresponde que se lo administren."},null,{"$f":"'FICHA OCULTA'!I113","v":"NO"}]
[null,null,null,{"$f":"'FICHA OCULTA'!G114","v":"Paciente conoce los efectos secundarios que pueden producirle los medicamentos que recibe."},null,{"$f":"'FICHA OCULTA'!I114","v":"NO"}]
[null,null,null,{"$f":"'FICHA OCULTA'!G115","v":"Coche de paro cuenta con los insumos necesarios para atender situaciones críticas según normatividad vigente."},null,{"$f":"'FICHA OCULTA'!I115","v":"NO"}]
[null,null,null,{"$f":"'FICHA OCULTA'!G116","v":"Soluciones endovenosas se encuentran debidamente rotulados con la fecha y  los componentes contenidas en ella."},null,{"$f":"'FICHA OCULTA'!I116","v":"NO"}]
[null,null,null,{"$f":"'FICHA OCULTA'!G117","v":"Almacenamiento ordenado de los medicamentos  para evitar su confusión por su similitud de nombres o de presentación."},null,{"$f":"'FICHA OCULTA'!I117","v":"NO"}]
[null,null,null,{"$f":"'FICHA OCULTA'!G118","v":"Medicamentos se encuentran adecuadamente rotulados en caso de requerirlos."},null,{"$f":"'FICHA OCULTA'!I118","v":"SI"}]
[null,null,null,{"$f":"'FICHA OCULTA'!G119","v":"Medicamentos se clasifican para su almacenamiento local según el nombre del paciente por dosis unitaria."},null,{"$f":"'FICHA OCULTA'!I119","v":"NO"}]
[null,null,null,{"$f":"'FICHA OCULTA'!G120","v":"Medicamentos e insumos médicos cuentan con un mecanismo efectivo de control de vencimiento / caducidad."},null,{"$f":"'FICHA OCULTA'!I120","v":"NO"}]
[null,null,null,{"$f":"'FICHA OCULTA'!G121","v":"Existencia de un registro de medicamentos controlados."},null,{"$f":"'FICHA OCULTA'!I121","v":"NO"}]
[null,null,null,{"$f":"'FICHA OCULTA'!G122","v":"Profesional encargado del cuidado de los pacientes verifica los 5 correctos para la administración correcta de medicamentos."},null,{"$f":"'FICHA OCULTA'!I122","v":"NO"}]
[null,"Prevención de la Caída de Pacientes y Contención Mecánica",null,{"$f":"'FICHA OCULTA'!G127","v":"Valoración del riesgo de caída de todo paciente que se hospitaliza."},null,{"$f":"'FICHA OCULTA'!I127","v":"NO"}]
[null,null,null,{"$f":"'FICHA OCULTA'!G128","v":"Revaloración diaria de pacientes: ancianos, aquellos sometidos a polifarmacia, los drogodependientes y las personas con déficits neurológicos ‐ cognitivos."},null,{"$f":"'FICHA OCULTA'!I128","v":"NO"}]
[null,null,null,{"$f":"'FICHA OCULTA'!G129","v":"Información a los pacientes sobre los efectos secundarios de la medicación que pueden afectar la orientación y el sensorio."},null,{"$f":"'FICHA OCULTA'!I129","v":"NO"}]
[null,null,null,{"$f":"'FICHA OCULTA'!G130","v":"En casos de sedación y deterioro cognitivo severo se utilizarán barras de protección lateral o contención abdominal cuando el paciente se encuentre encamado."},null,{"$f":"'FICHA OCULTA'!I130","v":"NO"}]
[null,null,null,{"$f":"'FICHA OCULTA'!G131","v":"Comunicar al paciente temas relacionados al uso de los baños, uso de las duchas, uso de los lavaderos, cambios posturales periodicos, etc."},null,{"$f":"'FICHA OCULTA'!I131","v":"NO"}]
[null,null,null,{"$f":"'FICHA OCULTA'!G132","v":"Protocolo que establezca población objetivo, indicaciones, medidas preventivas, profesionales responsables de la indicación y supervisión de los diversos mecanismos de sujeción mecanica."},null,{"$f":"'FICHA OCULTA'!I132","v":"NO"}]
[null,null,null,{"$f":"'FICHA OCULTA'!G133","v":"Sistemas de registro específicos de todo paciente con sujeción mecánica, el que se debe de reevaluar periódicamente la situación y el tiempo de sujeción."},null,{"$f":"'FICHA OCULTA'!I133","v":"NO"}]
[null,null,null,{"$f":"'FICHA OCULTA'!G134","v":"Asegurarse que las técnicas de inmovilización puedan ser retiradas fácilmente."},null,{"$f":"'FICHA OCULTA'!I134","v":"NO"}]
[null,null,null,{"$f":"'FICHA OCULTA'!G135","v":"Si el paciente se encuentra en posición supina, comprobar que puede mover la cabeza libremente y levantarla de la cama."},null,{"$f":"'FICHA OCULTA'!I135","v":"SI"}]
[null,null,null,{"$f":"'FICHA OCULTA'!G136","v":"Si el paciente se encuentra  en decúbito prono asegurar que las vías aéreas no están obstruidas en ningún momento y que la expansión pulmonar no se ve limitada."},null,{"$f":"'FICHA OCULTA'!I136","v":"SI"}]
[null,null,null,{"$f":"'FICHA OCULTA'!G137","v":"Evidencia de cambio periódico de la posición de la inmovilización y evaluación de las zonas cutáneas sometidas a presión."},null,{"$f":"'FICHA OCULTA'!I137","v":"NO"}]
[null,"Seguridad Sexual",null,{"$f":"'FICHA OCULTA'!G142","v":"Evaluación del paciente a su ingreso y durante el mismo de los riesgos de ser víctimas o de cometer agresiones sexuales: desinhibiciones maníacas, trastornos de la personalidad, aislamiento, poca aceptación en su medio."},null,{"$f":"'FICHA OCULTA'!I142","v":"SI"}]
[null,null,null,{"$f":"'FICHA OCULTA'!G143","v":"Información disponible y clara referente a las consecuencias penales de las agresiones sexuales."},null,{"$f":"'FICHA OCULTA'!I143","v":"NO"}]
[null,null,null,{"$f":"'FICHA OCULTA'!G144","v":"El protocolo de recepción de un paciente establece la prohibición expresa de mantener relaciones sexuales durante la hospitalización."},null,{"$f":"'FICHA OCULTA'!I144","v":"NO"}]
[null,null,null,{"$f":"'FICHA OCULTA'!G145","v":"Control de la entrada de pacientes a cualquier habitación que no sea la propia."},null,{"$f":"'FICHA OCULTA'!I145","v":"NO"}]
[null,null,null,{"$f":"'FICHA OCULTA'!G146","v":"Al detectar conductas desinhibidas se comunicará al resto del equipo y se discutirán las medidas a tomar, que quedarán registradas en la hoja de recomendaciones terapéuticas."},null,{"$f":"'FICHA OCULTA'!I146","v":"NO"}]
[null,null,null,{"$f":"'FICHA OCULTA'!G147","v":"Ante la sospecha de relaciones sexuales consumadas se aplicarán las medidas médicas y legales que resulten oportunas"},null,{"$f":"'FICHA OCULTA'!I147","v":"SI"}]
[null,"Prevención y Reducción del Riesgo de las Úlceras por Presión",null,{"$f":"'FICHA OCULTA'!G152","v":"Evaluación inicial del riesgo de úlceras por presión en todos los pacientes al ingreso a servicios de hospitalización"},null,{"$f":"'FICHA OCULTA'!I152","v":"NO"}]
[null,null,null,{"$f":"'FICHA OCULTA'!G153","v":"Valoración del estado de la piel para detectar la presencia de úlceras por presión previas."},null,{"$f":"'FICHA OCULTA'!I153","v":"NO APLICA"}]
[null,null,null,{"$f":"'FICHA OCULTA'!G154","v":"Reevaluación periódica del riesgo, siempre que cambie la situación clínica basal del paciente."},null,{"$f":"'FICHA OCULTA'!I154","v":"SI"}]
[null,null,null,{"$f":"'FICHA OCULTA'!G155","v":"Protocolización de la guía de atención para la prevención y control de úlceras por presión."},null,{"$f":"'FICHA OCULTA'!I155","v":"NO"}]
[null,null,null,{"$f":"'FICHA OCULTA'!G156","v":"Educación al paciente y su familia para la prevención y cuidado de las úlceras por presión."},null,{"$f":"'FICHA OCULTA'!I156","v":"SI"}]
[null,null,null,{"$f":"'FICHA OCULTA'!G157","v":"Planificación, ejecución y evaluación del programa educativo dirigido a paciente, su cuidador y la familia. "},null,{"$f":"'FICHA OCULTA'!I157","v":"NO"}]
[null,null,null,{"$f":"'FICHA OCULTA'!G158","v":"Notificación de úlceras por presión (incidencia y prevalencia) en un registro diario instaurado en los servicios de hospitalización."},null,{"$f":"'FICHA OCULTA'!I158","v":"NO"}]
[null,null,null,{"$f":"'FICHA OCULTA'!G159","v":"Aplicación de guía de curación de úlceras por presión según estadíos."},null,{"$f":"'FICHA OCULTA'!I159","v":"NO"}]
[null,null,null,{"$f":"'FICHA OCULTA'!G160","v":"Protocolizar el seguimiento de la evolución de los pacientes con úlceras por presión, tanto en pacientes hospitalizados como en aquellos atendidos en domicilio"},null,{"$f":"'FICHA OCULTA'!I160","v":"NO APLICA"}]
[null,"Prevención del Suicido y Lesiones",null,{"$f":"'FICHA OCULTA'!G165","v":"Identificación del Riesgo de Suicidio: antecedentes de enfermedad mental y/o abuso de sustancias, enfermedad somática grave crónica, antecedentes de conducta violenta o autolesiva, intentos suicidas previos, conductas suicidas en el entorno cercano."},null,{"$f":"'FICHA OCULTA'!I165","v":"SI"}]
[null,null,null,{"$f":"'FICHA OCULTA'!G166","v":"Identificación de un paciente en riesgo de suicidio debe poner en marcha estrategias específicas de abordaje (evaluación, monitorización y tratamiento específicos)"},null,{"$f":"'FICHA OCULTA'!I166","v":"SI"}]
[null,null,null,{"$f":"'FICHA OCULTA'!G167","v":"Ubicar al paciente en el Servicio / Unidad más adecuada a sus necesidades y en función del riesgo detectado."},null,{"$f":"'FICHA OCULTA'!I167","v":"NO"}]
[null,null,null,{"$f":"'FICHA OCULTA'!G168","v":"Los pacientes y los familiares deben ser informados de la prohibición de introducir en el servicio elementos que puedan suponer un riesgo de auto o heteroagresividad."},null,{"$f":"'FICHA OCULTA'!I168","v":"SI"}]
[null,null,null,{"$f":"'FICHA OCULTA'!G169","v":"El botiquín / almacén de medicamentos del servicio permanece en todo momento cerrado bajo llave. La llave la custodiará el personal de enfermería."},null,{"$f":"'FICHA OCULTA'!I169","v":"SI"}]
[null,null,null,{"$f":"'FICHA OCULTA'!G170","v":"El coche de limpieza transportará los productos peligrosos de la forma más inaccesible posible, sin dejarlo nunca sin supervisión o al alcance de los pacientes"},null,{"$f":"'FICHA OCULTA'!I170","v":"SI"}]
[null,null,null,{"$f":"'FICHA OCULTA'!G171","v":"La entrega como  la retirada de las comidas, el personal responsable procederán al recuento de las piezas de vajilla y cubiertos. Si se detecta la desaparición de alguna de ellas, se procederá al registro."},null,{"$f":"'FICHA OCULTA'!I171","v":"NO APLICA"}]
[null,null,null,{"$f":"'FICHA OCULTA'!G172","v":"El protocolo de prevención de conductas suicidas debe incluir correcta ubicación del paciente, la necesidad o no de sujeción mecánica, la supervisión así como la constancia en el registro de cualquier incidencia, el control de salidas y de visitas."},null,{"$f":"'FICHA OCULTA'!I172","v":"NO"}]
[null,"Comunicación Efectiva",null,{"$f":"'FICHA OCULTA'!G177","v":"La UPSS proporciona información sobre sus servicios, horarios de atención a pacientes y/o familiares y el proceso para obtener atención."},null,{"$f":"'FICHA OCULTA'!I177","v":"NO"}]
[null,null,null,{"$f":"'FICHA OCULTA'!G178","v":"Los pacientes y las familias reciben información sobre cómo acceder a los servicios de la UPSS."},null,{"$f":"'FICHA OCULTA'!I178","v":"SI"}]
[null,null,null,{"$f":"'FICHA OCULTA'!G179","v":"La comunicación y la educación del paciente y de la familia se dan en un idioma comprensible y con palabras de comprensión común."},null,{"$f":"'FICHA OCULTA'!I179","v":"SI"}]
[null,null,null,{"$f":"'FICHA OCULTA'!G180","v":"Se evidencian comunicaciones reciprocas entre el Jefe de la UPSS y la Dirección del Establecimiento tanto en temas clínicos como administrativos."},null,{"$f":"'FICHA OCULTA'!I180","v":"SI"}]
[null,null,null,{"$f":"'FICHA OCULTA'!G181","v":"Se evidencia comunicación (verbal, escrita o electrónica) e intercambio de información entre los profesionales médicos al momento de cambio de turno (cambio de guardia), relacionado al estado de salud de los pacientes, resumen de la atención prestada durante el turno (guardia) y la evolución de los pacientes."},null,{"$f":"'FICHA OCULTA'!I181","v":"SI"}]
[null,null,null,{"$f":"'FICHA OCULTA'!G182","v":"Se evidencia comunicación (verbal, escrita o electrónica) e intercambio de información entre los profesionales encargados del cuidado del paciente al momento de cambio de turno (cambio de guardia), relacionado al estado de salud de los pacientes, resumen de la atención prestada durante el turno (guardia) y la evolución de los pacientes."},null,{"$f":"'FICHA OCULTA'!I182","v":"SI"}]
[null,null,null,{"$f":"'FICHA OCULTA'!G183","v":"Las historias clínicas están a disposición de los profesionales de la salud que las necesitan para atender al paciente."},null,{"$f":"'FICHA OCULTA'!I183","v":"SI"}]
[null,null,null,{"$f":"'FICHA OCULTA'!G184","v":"Las historias clínicas están actualizadas para asegurar la comunicación de la información más reciente."},null,{"$f":"'FICHA OCULTA'!I184","v":"SI"}]
[null,null,null,{"$f":"'FICHA OCULTA'!G185","v":"La historia clínica del paciente o un resumen de información de su atención se transfiere junto al paciente a otro servicio o unidad dentro del establecimiento."},null,{"$f":"'FICHA OCULTA'!I185","v":"SI"}]
[null,null,null,{"$f":"'FICHA OCULTA'!G186","v":"El resumen de la información del traslado de un paciente incluye: el motivo de admisión, los hallazgos relevantes, los diagnósticos, todos los procedimientos realizados, todos los medicamentos y demás tratamientos administrados, el estado del paciente al momento de la transferencia."},null,{"$f":"'FICHA OCULTA'!I186","v":"SI"}]
[null,"Higiene de Manos",null,{"$f":"'FICHA OCULTA'!G191","v":"Disponibilidad de dispensadores con preparados de base alcohólica para manos."},null,{"$f":"'FICHA OCULTA'!I191","v":"NO"}]
[null,null,null,{"$f":"'FICHA OCULTA'!G192","v":"Disponibilidad de lavamanos con suministro de agua y jabón."},null,{"$f":"'FICHA OCULTA'!I192","v":"NO"}]
[null,null,null,{"$f":"'FICHA OCULTA'!G193","v":"Disponibilidad de papel toalla en todos los lavamanos."},null,{"$f":"'FICHA OCULTA'!I193","v":"NO"}]
[null,null,null,{"$f":"'FICHA OCULTA'!G194","v":"Cumplimiento del ratio lavamanos/ paciente-cama de al menos 1:10"},null,{"$f":"'FICHA OCULTA'!I194","v":"NO"}]
[null,null,null,{"$f":"'FICHA OCULTA'!G195","v":"Cumplimiento de los 08 pasos de la desinfección de manos (pasos y tiempo)."},null,{"$f":"'FICHA OCULTA'!I195","v":"NO"}]
[null,null,null,{"$f":"'FICHA OCULTA'!G196","v":"Cumplimiento de los 11 pasos del lavado de manos (pasos y tiempo)."},null,{"$f":"'FICHA OCULTA'!I196","v":"NO"}]
[null,null,null,{"$f":"'FICHA OCULTA'!G197","v":"Porcentaje de cumplimiento > 80%, del requisito de realizar la higiene de las manos durante su actividad asistencial de acuerdo con los cinco momentos de la higiene de manos."},null,{"$f":"'FICHA OCULTA'!I197","v":"NO"}]
[null,null,null,{"$f":"'FICHA OCULTA'!G198","v":"Mensajes y dibujos que promueven la adherencia a la higiene de manos colocados en sitios estratégicos."},null,{"$f":"'FICHA OCULTA'!I198","v":"NO"}]
[null,"Bioseguridad  ",null,{"$f":"'FICHA OCULTA'!G203","v":"Disposición de residuos sólidos de acuerdo a las normas."},null,{"$f":"'FICHA OCULTA'!I203","v":"NO"}]
[null,null,null,{"$f":"'FICHA OCULTA'!G204","v":"Eliminación de material punzo cortante y agujas de acuerdo a las normas."},null,{"$f":"'FICHA OCULTA'!I204","v":"NO"}]
[null,null,null,{"$f":"'FICHA OCULTA'!G205","v":"Cuidado y manejo de los catéteres se realiza de acuerdo a normas."},null,{"$f":"'FICHA OCULTA'!I205","v":"SI"}]
[null,null,null,{"$f":"'FICHA OCULTA'!G206","v":"Cumplimiento de las medidas de aislamiento."},null,{"$f":"'FICHA OCULTA'!I206","v":"NO"}]
[null,null,null,{"$f":"'FICHA OCULTA'!G207","v":"El servicio ha implementado el uso de 'Care Bundle\" o Paquete de Medidas para la prevención de las IAAS basadas en evidencia médica. "},null,{"$f":"'FICHA OCULTA'!I207","v":"NO"}]
[null,null,null,{"$f":"'FICHA OCULTA'!G208","v":"Evidencia de desarrollo de actividades de vigilancia epidemiológica activa, selectiva y localizada de IAAS en la UPSS."},null,{"$f":"'FICHA OCULTA'!I208","v":"NO"}]
[null,null,null,{"$f":"'FICHA OCULTA'!G209","v":"Se observa si se encuentran señalizados las zonas rígidas y semirígidas de la Unidad Productora de Servicios de Salud."},null,{"$f":"'FICHA OCULTA'!I209","v":"NO"}]
[null,null,null,{"$f":"'FICHA OCULTA'!G210","v":"Se observa si se respetan las zonas rígidas y semirígidas de la Unidad Productora de Servicios de Salud."},null,{"$f":"'FICHA OCULTA'!I210","v":"NO"}]
[null,"Funcionamiento y Manejo de Equipos ",null,{"$f":"'FICHA OCULTA'!G215","v":"Equipos biomédicos accesibles según le corresponda a la UPSS y de acuerdo al nivel de complejidad"},null,{"$f":"'FICHA OCULTA'!I215","v":"NO"}]
[null,null,null,{"$f":"'FICHA OCULTA'!G216","v":"Equipos biomédicos operativos según le corresponda a la UPSS y de acuerdo al nivel de complejidad"},null,{"$f":"'FICHA OCULTA'!I216","v":"NO"}]
[null,null,null,{"$f":"'FICHA OCULTA'!G217","v":"Verificación del conocimiento del personal sobre el funcionamiento de los equipos biomédicos, según responsabilidad."},null,{"$f":"'FICHA OCULTA'!I217","v":"NO"}]
[null,null,null,{"$f":"'FICHA OCULTA'!G218","v":"Verificación de que la UPSS cuenta con un Plan Anual de Mantenimiento Preventivo de todos sus equipo biomédicos (inclusive los nuevos)."},null,{"$f":"'FICHA OCULTA'!I218","v":"NO"}]
[null,null,null,{"$f":"'FICHA OCULTA'!G219","v":"Verificación de que la UPSS cumple con ejecutar su Plan Anual de Mantenimiento Preventivo de todos sus equipo biomédicos (inclusive los nuevos), mediante la visualización de las respectivas tarjetas."},null,{"$f":"'FICHA OCULTA'!I219","v":"NO"}]

{"sheet":"TABLA DE RIESGO","index":13,"n_rows":29,"n_cols":8,"rows_kept":29,"cut":false,"hidden":true,"merged":[[24,1,24,3]]}
[]
[]
[]
[]
[]
[]
[null,"PROBABILIDAD"]
[null,null,null,1,2,4,7,10]
[null,"FRECUENTE",5,{"$f":"C9*D$8","v":5},{"$f":"C9*E$8","v":10},{"$f":"C9*F$8","v":20},{"$f":"C9*G$8","v":35},{"$f":"C9*H$8","v":50}]
[null,"PROBABLE",4,{"$f":"C10*D$8","v":4},{"$f":"C10*E$8","v":8},{"$f":"C10*F$8","v":16},{"$f":"C10*G$8","v":28},{"$f":"C10*H$8","v":40}]
[null,"OCASIONAL",3,{"$f":"C11*D$8","v":3},{"$f":"C11*E$8","v":6},{"$f":"C11*F$8","v":12},{"$f":"C11*G$8","v":21},{"$f":"C11*H$8","v":30}]
[null,"INFRECUENTE",2,{"$f":"C12*D$8","v":2},{"$f":"C12*E$8","v":4},{"$f":"C12*F$8","v":8},{"$f":"C12*G$8","v":14},{"$f":"C12*H$8","v":20}]
[null,"RARO",1,{"$f":"C13*D$8","v":1},{"$f":"C13*E$8","v":2},{"$f":"C13*F$8","v":4},{"$f":"C13*G$8","v":7},{"$f":"C13*H$8","v":10}]
[]
[]
[null,"GRAVEDAD / IMPACTO"]
[]
[null,"CATASTRÓFICO",10]
[null,"IMPORTANTE",7]
[null,"MODERADO",4]
[null,"TOLERABLE",2]
[null,"INSIGNIFICANTE",1]
[]
[]
[null,"FACTIBILIDAD  DE INTERVENCIÓN (ECONOMICA - CIENTIFICA)"]
[]
[null,"EVITABLE",3]
[null,"REDUCIBLE",2]
[null,"INEVITABLE",1]

{"sheet":"TABLARENIPRESS","index":14,"n_rows":25509,"n_cols":16,"rows_kept":4500,"cut":true,"hidden":true,"merged":[],"bounds":{"rows_first":2000,"rows_last":500,"rows_between":2000,"halvings":0}}
[]
[null,"RENIPRESS","Institución","Código Único","Nombre del establecimiento","Departamento","Provincia","Distrito","UBIGEO","Código DISA","Código Red","Código Microrred","DISA","Red","Microrred","Categoria"]
[null,{"$f":"VALUE(renipress[[#This Row],[Código Único]])","v":1},"GOBIERNO REGIONAL","00000001","HOSPITAL IQUITOS CESAR GARAYAR GARCIA","LORETO","MAYNAS","IQUITOS","160101","24","00","00","LORETO","NO PERTENECE A NINGUNA RED","NO PERTENECE A NINGUNA MICRORED","II-2"]
[null,{"$f":"VALUE(renipress[[#This Row],[Código Único]])","v":2},"GOBIERNO REGIONAL","00000002","CENTRO REHABILITACION ENFERMO MENTAL","LORETO","MAYNAS","SAN JUAN BAUTISTA","160113","24","00","00","LORETO","NO PERTENECE A NINGUNA RED","NO PERTENECE A NINGUNA MICRORED","Sin Categoría"]
[null,{"$f":"VALUE(renipress[[#This Row],[Código Único]])","v":3},"GOBIERNO REGIONAL","00000003","HOSPITAL REGIONAL DE LORETO FELIPE SANTIAGO ARRIOLA IGLESIAS","LORETO","MAYNAS","PUNCHANA","160108","24","00","00","LORETO","NO PERTENECE A NINGUNA RED","NO PERTENECE A NINGUNA MICRORED","III-1"]
[null,{"$f":"VALUE(renipress[[#This Row],[Código Único]])","v":4},"GOBIERNO REGIONAL","00000004","SANTA MARIA DE NANAY","LORETO","MAYNAS","ALTO NANAY","160102","24","05","01","LORETO","MAYNAS CIUDAD","IQUITOS NORTE","I-3"]
[null,{"$f":"VALUE(renipress[[#This Row],[Código Único]])","v":5},"GOBIERNO REGIONAL","00000005","SAMITO I","LORETO","MAYNAS","ALTO NANAY","160102","24","05","01","LORETO","MAYNAS CIUDAD","IQUITOS NORTE","I-1"]
[null,{"$f":"VALUE(renipress[[#This Row],[Código Único]])","v":6},"GOBIERNO REGIONAL","00000006","DIAMANTE AZUL","LORETO","MAYNAS","ALTO NANAY","160102","24","05","01","LORETO","MAYNAS CIUDAD","IQUITOS NORTE","I-1"]
[null,{"$f":"VALUE(renipress[[#This Row],[Código Único]])","v":7},"GOBIERNO REGIONAL","00000007","MORONACOCHA","LORETO","MAYNAS","IQUITOS","160101","24","05","01","LORETO","MAYNAS CIUDAD","IQUITOS NORTE","I-4"]
[null,{"$f":"VALUE(renipress[[#This Row],[Código Único]])","v":8},"GOBIERNO REGIONAL","00000008","TUPAC AMARU DE IQUITOS","LORETO","MAYNAS","IQUITOS","160101","24","05","01","LORETO","MAYNAS CIUDAD","IQUITOS NORTE","I-3"]
[null,{"$f":"VALUE(renipress[[#This Row],[Código Único]])","v":9},"GOBIERNO REGIONAL","00000009","SAN ANTONIO DE IQUITOS","LORETO","MAYNAS","IQUITOS","160101","24","05","04","LORETO","MAYNAS CIUDAD","PUNCHANA","I-3"]
[null,{"$f":"VALUE(renipress[[#This Row],[Código Único]])","v":10},"GOBIERNO REGIONAL","00000010","1RO. DE ENERO","LORETO","MAYNAS","IQUITOS","160101","24","05","04","LORETO","MAYNAS CIUDAD","PUNCHANA","I-2"]
[null,{"$f":"VALUE(renipress[[#This Row],[Código Único]])","v":11},"GOBIERNO REGIONAL","00000011","VARGAS GUERRA","LORETO","MAYNAS","IQUITOS","160101","24","05","01","LORETO","MAYNAS CIUDAD","IQUITOS NORTE","I-1"]
[null,{"$f":"VALUE(renipress[[#This Row],[Código Único]])","v":12},"GOBIERNO REGIONAL","00000012","MANACAMIRI","LORETO","MAYNAS","IQUITOS","160101","24","05","01","LORETO","MAYNAS CIUDAD","IQUITOS NORTE","I-1"]
[null,{"$f":"VALUE(renipress[[#This Row],[Código Único]])","v":13},"GOBIERNO REGIONAL","00000013","P.S I-2 MAYNAS","LORETO","MAYNAS","IQUITOS","160101","24","05","04","LORETO","MAYNAS CIUDAD","PUNCHANA","I-2"]
[null,{"$f":"VALUE(renipress[[#This Row],[Código Único]])","v":14},"GOBIERNO REGIONAL","00000014","FERNANDO LORES","LORETO","MAYNAS","IQUITOS","160101","24","05","04","LORETO","MAYNAS CIUDAD","PUNCHANA","I-2"]
[null,{"$f":"VALUE(renipress[[#This Row],[Código Único]])","v":15},"GOBIERNO REGIONAL","00000015","P.S. I-1 PORVENIR DE IQUITOS","LORETO","MAYNAS","IQUITOS","160101","24","05","01","LORETO","MAYNAS CIUDAD","IQUITOS NORTE","I-2"]
[null,{"$f":"VALUE(renipress[[#This Row],[Código Único]])","v":16},"GOBIERNO REGIONAL","00000016","BELLAVISTA NANAY","LORETO","MAYNAS","PUNCHANA","160108","24","05","04","LORETO","MAYNAS CIUDAD","PUNCHANA","I-4"]
[null,{"$f":"VALUE(renipress[[#This Row],[Código Único]])","v":17},"GOBIERNO REGIONAL","00000017","P.S. PADRE COCHA","LORETO","MAYNAS","PUNCHANA","160108","24","05","04","LORETO","MAYNAS CIUDAD","PUNCHANA","I-2"]
[null,{"$f":"VALUE(renipress[[#This Row],[Código Único]])","v":18},"GOBIERNO REGIONAL","00000018","BARRIO FLORIDO","LORETO","MAYNAS","PUNCHANA","160108","24","05","04","LORETO","MAYNAS CIUDAD","PUNCHANA","I-1"]
[null,{"$f":"VALUE(renipress[[#This Row],[Código Único]])","v":19},"GOBIERNO REGIONAL","00000019","SANTA MARIA DEL OJEAL","LORETO","MAYNAS","PUNCHANA","160108","24","05","04","LORETO","MAYNAS CIUDAD","PUNCHANA","I-1"]
[null,{"$f":"VALUE(renipress[[#This Row],[Código Único]])","v":20},"GOBIERNO REGIONAL","00000020","SANTA CLARA DEL OJEAL","LORETO","MAYNAS","PUNCHANA","160108","24","05","04","LORETO","MAYNAS CIUDAD","PUNCHANA","I-1"]
[null,{"$f":"VALUE(renipress[[#This Row],[Código Único]])","v":21},"GOBIERNO REGIONAL","00000021","SARGENTO LORES","LORETO","MAYNAS","PUNCHANA","160108","24","05","04","LORETO","MAYNAS CIUDAD","PUNCHANA","I-1"]
[null,{"$f":"VALUE(renipress[[#This Row],[Código Único]])","v":22},"GOBIERNO REGIONAL","00000022","PICURO YACU","LORETO","MAYNAS","PUNCHANA","160108","24","05","04","LORETO","MAYNAS CIUDAD","PUNCHANA","I-1"]
[null,{"$f":"VALUE(renipress[[#This Row],[Código Único]])","v":23},"GOBIERNO REGIONAL","00000023","C.S. I-3 9 DE OCTUBRE","LORETO","MAYNAS","BELEN","160112","24","05","03","LORETO","MAYNAS CIUDAD","BELEN","I-3"]
[null,{"$f":"VALUE(renipress[[#This Row],[Código Único]])","v":24},"GOBIERNO REGIONAL","00000024","CARDOZO","LORETO","MAYNAS","BELEN","160112","24","05","03","LORETO","MAYNAS CIUDAD","BELEN","I-3"]
[null,{"$f":"VALUE(renipress[[#This Row],[Código Único]])","v":25},"GOBIERNO REGIONAL","00000025","SAN JUAN DE MIRAFLORES","LORETO","MAYNAS","SAN JUAN BAUTISTA","160113","24","05","02","LORETO","MAYNAS CIUDAD","IQUITOS SUR","I-4"]
[null,{"$f":"VALUE(renipress[[#This Row],[Código Único]])","v":26},"GOBIERNO REGIONAL","00000026","PROGRESO DE SAN JUAN BAUTISTA","LORETO","MAYNAS","SAN JUAN BAUTISTA","160113","24","05","02","LORETO","MAYNAS CIUDAD","IQUITOS SUR","I-2"]
[null,{"$f":"VALUE(renipress[[#This Row],[Código Único]])","v":27},"GOBIERNO REGIONAL","00000027","AMERICA DE SAN JUAN BAUTISTA","LORETO","MAYNAS","SAN JUAN BAUTISTA","160113","24","05","02","LORETO","MAYNAS CIUDAD","IQUITOS SUR","I-3"]
[null,{"$f":"VALUE(renipress[[#This Row],[Código Único]])","v":28},"GOBIERNO REGIONAL","00000028","RUMOCOCHA","LORETO","MAYNAS","SAN JUAN BAUTISTA","160113","24","05","02","LORETO","MAYNAS CIUDAD","IQUITOS SUR","I-1"]
[null,{"$f":"VALUE(renipress[[#This Row],[Código Único]])","v":29},"GOBIERNO REGIONAL","00000029","SANTA CLARA DE NANAY","LORETO","MAYNAS","SAN JUAN BAUTISTA","160113","24","05","02","LORETO","MAYNAS CIUDAD","IQUITOS SUR","I-3"]
[null,{"$f":"VALUE(renipress[[#This Row],[Código Único]])","v":30},"GOBIERNO REGIONAL","00000030","SANTO TOMAS DE SAN JUAN DE BAUTISTA","LORETO","MAYNAS","SAN JUAN BAUTISTA","160113","24","05","02","LORETO","MAYNAS CIUDAD","IQUITOS SUR","I-2"]
[null,{"$f":"VALUE(renipress[[#This Row],[Código Único]])","v":31},"GOBIERNO REGIONAL","00000031","ZUNGAROCOCHA","LORETO","MAYNAS","SAN JUAN BAUTISTA","160113","24","05","02","LORETO","MAYNAS CIUDAD","IQUITOS SUR","I-2"]
[null,{"$f":"VALUE(renipress[[#This Row],[Código Único]])","v":32},"GOBIERNO REGIONAL","00000032","QUISTOCOCHA","LORETO","MAYNAS","SAN JUAN BAUTISTA","160113","24","05","02","LORETO","MAYNAS CIUDAD","IQUITOS SUR","I-2"]
[null,{"$f":"VALUE(renipress[[#This Row],[Código Único]])","v":33},"GOBIERNO REGIONAL","00000033","ASOCIACION DE COMUNIDAD LOCAL DE ADMINISTRACION DE SALUD EL PAUJIL","LORETO","MAYNAS","SAN JUAN BAUTISTA","160113","24","05","02","LORETO","MAYNAS CIUDAD","IQUITOS SUR","I-2"]
[null,{"$f":"VALUE(renipress[[#This Row],[Código Único]])","v":34},"GOBIERNO REGIONAL","00000034","MORALILLO","LORETO","MAYNAS","SAN JUAN BAUTISTA","160113","24","05","02","LORETO","MAYNAS CIUDAD","IQUITOS SUR","I-1"]
[null,{"$f":"VALUE(renipress[[#This Row],[Código Único]])","v":35},"GOBIERNO REGIONAL","00000035","P.S. I-1 VARILLAL","LORETO","MAYNAS","SAN JUAN BAUTISTA","160113","24","05","02","LORETO","MAYNAS CIUDAD","IQUITOS SUR","I-1"]
[null,{"$f":"VALUE(renipress[[#This Row],[Código Único]])","v":36},"GOBIERNO REGIONAL","00000036","SAN PABLO DE CUYANA","LORETO","MAYNAS","SAN JUAN BAUTISTA","160113","24","05","02","LORETO","MAYNAS CIUDAD","IQUITOS SUR","I-1"]
[null,{"$f":"VALUE(renipress[[#This Row],[Código Único]])","v":37},"GOBIERNO REGIONAL","00000037","TAMSHIYACU","LORETO","MAYNAS","FERNANDO LORES","160103","24","06","04","LORETO","MAYNAS PERIFERIE","TAMSHIYACU","I-3"]
[null,{"$f":"VALUE(renipress[[#This Row],[Código Único]])","v":38},"GOBIERNO REGIONAL","00000038","SANTA ANA DE MUYUY","LORETO","MAYNAS","FERNANDO LORES","160103","24","06","04","LORETO","MAYNAS PERIFERIE","TAMSHIYACU","I-1"]
[null,{"$f":"VALUE(renipress[[#This Row],[Código Único]])","v":39},"GOBIERNO REGIONAL","00000039","DOS DE MAYO DE FERNANDO LORES","LORETO","MAYNAS","FERNANDO LORES","160103","24","06","04","LORETO","MAYNAS PERIFERIE","TAMSHIYACU","I-1"]
[null,{"$f":"VALUE(renipress[[#This Row],[Código Único]])","v":40},"GOBIERNO REGIONAL","00000040","AUCAYO","LORETO","MAYNAS","FERNANDO LORES","160103","24","06","04","LORETO","MAYNAS PERIFERIE","TAMSHIYACU","I-2"]
[null,{"$f":"VALUE(renipress[[#This Row],[Código Único]])","v":41},"GOBIERNO REGIONAL","00000041","ESPERANZA TAHUAYO","LORETO","MAYNAS","FERNANDO LORES","160103","24","06","04","LORETO","MAYNAS PERIFERIE","TAMSHIYACU","I-1"]
[null,{"$f":"VALUE(renipress[[#This Row],[Código Único]])","v":42},"GOBIERNO REGIONAL","00000042","MANGUA DE FERNANDO LORES","LORETO","MAYNAS","FERNANDO LORES","160103","24","06","04","LORETO","MAYNAS PERIFERIE","TAMSHIYACU","I-1"]
[null,{"$f":"VALUE(renipress[[#This Row],[Código Único]])","v":43},"GOBIERNO REGIONAL","00000043","NUEVO PROGRESO","LORETO","MAYNAS","FERNANDO LORES","160103","24","06","04","LORETO","MAYNAS PERIFERIE","TAMSHIYACU","I-1"]
[null,{"$f":"VALUE(renipress[[#This Row],[Código Único]])","v":44},"GOBIERNO REGIONAL","00000044","II SAN JORGE","LORETO","MAYNAS","FERNANDO LORES","160103","24","00","00","LORETO","NO PERTENECE A NINGUNA RED","NO PERTENECE A NINGUNA MICRORED","Sin Categoría"]
[null,{"$f":"VALUE(renipress[[#This Row],[Código Único]])","v":45},"GOBIERNO REGIONAL","00000045","YACAPANA I ZONA","LORETO","MAYNAS","FERNANDO LORES","160103","24","06","04","LORETO","MAYNAS PERIFERIE","TAMSHIYACU","I-1"]
[null,{"$f":"VALUE(renipress[[#This Row],[Código Único]])","v":46},"GOBIERNO REGIONAL","00000046","NUEVO VALENTIN","LORETO","MAYNAS","FERNANDO LORES","160103","24","06","04","LORETO","MAYNAS PERIFERIE","TAMSHIYACU","I-1"]
[null,{"$f":"VALUE(renipress[[#This Row],[Código Único]])","v":47},"GOBIERNO REGIONAL","00000047","SAN SALVADOR DE OMAGUAS","LORETO","MAYNAS","FERNANDO LORES","160103","24","06","04","LORETO","MAYNAS PERIFERIE","TAMSHIYACU","I-1"]
[null,{"$f":"VALUE(renipress[[#This Row],[Código Único]])","v":48},"GOBIERNO REGIONAL","00000048","MUNICHS - RIO ITAYA","LORETO","MAYNAS","BELEN","160112","24","05","03","LORETO","MAYNAS CIUDAD","BELEN","I-1"]
[null,{"$f":"VALUE(renipress[[#This Row],[Código Único]])","v":49},"GOBIERNO REGIONAL","00000049","SAN ANTONIO - RIO ITAYA","LORETO","MAYNAS","BELEN","160112","24","05","03","LORETO","MAYNAS CIUDAD","BELEN","I-1"]
[null,{"$f":"VALUE(renipress[[#This Row],[Código Único]])","v":50},"GOBIERNO REGIONAL","00000050","CABO PANTOJA - RÍO AMAZONAS","LORETO","MAYNAS","IQUITOS","160101","24","05","03","LORETO","MAYNAS CIUDAD","BELEN","I-1"]
[null,{"$f":"VALUE(renipress[[#This Row],[Código Único]])","v":51},"GOBIERNO REGIONAL","00000051","6 DE OCTUBRE","LORETO","MAYNAS","BELEN","160112","24","05","03","LORETO","MAYNAS CIUDAD","BELEN","I-3"]
[null,{"$f":"VALUE(renipress[[#This Row],[Código Único]])","v":52},"GOBIERNO REGIONAL","00000052","SOLEDAD DE VILLA BELEN","LORETO","MAYNAS","BELEN","160112","24","05","03","LORETO","MAYNAS CIUDAD","BELEN","I-1"]
[null,{"$f":"VALUE(renipress[[#This Row],[Código Único]])","v":53},"GOBIERNO REGIONAL","00000053","ANGAMOS","LORETO","REQUENA","YAQUERANA","160511","24","06","05","LORETO","MAYNAS PERIFERIE","ANGAMOS","I-3"]
[null,{"$f":"VALUE(renipress[[#This Row],[Código Único]])","v":54},"GOBIERNO REGIONAL","00000054","INDIANA","LORETO","MAYNAS","INDIANA","160104","24","06","03","LORETO","MAYNAS PERIFERIE","MAZAN","I-3"]
[null,{"$f":"VALUE(renipress[[#This Row],[Código Único]])","v":55},"GOBIERNO REGIONAL","00000055","MANITI I ZONA","LORETO","MAYNAS","INDIANA","160104","24","06","03","LORETO","MAYNAS PERIFERIE","MAZAN","I-1"]
[null,{"$f":"VALUE(renipress[[#This Row],[Código Único]])","v":56},"GOBIERNO REGIONAL","00000056","SANTA CECILIA","LORETO","MAYNAS","INDIANA","160104","24","06","03","LORETO","MAYNAS PERIFERIE","MAZAN","I-1"]
[null,{"$f":"VALUE(renipress[[#This Row],[Código Único]])","v":57},"GOBIERNO REGIONAL","00000057","YANAYACU BOMBONAJE","LORETO","MAYNAS","INDIANA","160104","24","06","03","LORETO","MAYNAS PERIFERIE","MAZAN","I-1"]
[null,{"$f":"VALUE(renipress[[#This Row],[Código Único]])","v":58},"GOBIERNO REGIONAL","00000058","VAINILLA","LORETO","MAYNAS","INDIANA","160104","24","06","03","LORETO","MAYNAS PERIFERIE","MAZAN","I-1"]
[null,{"$f":"VALUE(renipress[[#This Row],[Código Único]])","v":59},"GOBIERNO REGIONAL","00000059","SINCHICUY","LORETO","MAYNAS","INDIANA","160104","24","06","03","LORETO","MAYNAS PERIFERIE","MAZAN","I-1"]
[null,{"$f":"VALUE(renipress[[#This Row],[Código Único]])","v":60},"GOBIERNO REGIONAL","00000060","FRANCISCO DE ORELLANA","LORETO","MAYNAS","LAS AMAZONAS","160105","24","06","03","LORETO","MAYNAS PERIFERIE","MAZAN","I-3"]
[null,{"$f":"VALUE(renipress[[#This Row],[Código Único]])","v":61},"GOBIERNO REGIONAL","00000061","SANTA MARIA DE MARUPA","LORETO","MAYNAS","LAS AMAZONAS","160105","24","06","03","LORETO","MAYNAS PERIFERIE","MAZAN","I-1"]
[null,{"$f":"VALUE(renipress[[#This Row],[Código Único]])","v":62},"GOBIERNO REGIONAL","00000062","ORAN","LORETO","MAYNAS","LAS AMAZONAS","160105","24","06","03","LORETO","MAYNAS PERIFERIE","MAZAN","I-1"]
[null,{"$f":"VALUE(renipress[[#This Row],[Código Único]])","v":63},"GOBIERNO REGIONAL","00000063","YANASHI","LORETO","MAYNAS","LAS AMAZONAS","160105","24","06","03","LORETO","MAYNAS PERIFERIE","MAZAN","I-3"]
[null,{"$f":"VALUE(renipress[[#This Row],[Código Único]])","v":64},"GOBIERNO REGIONAL","00000064","IPRESS I-3 MAZAN","LORETO","MAYNAS","MAZAN","160106","24","06","03","LORETO","MAYNAS PERIFERIE","MAZAN","I-3"]
[null,{"$f":"VALUE(renipress[[#This Row],[Código Único]])","v":65},"GOBIERNO REGIONAL","00000065","TAMANCO","LORETO","MAYNAS","MAZAN","160106","24","06","03","LORETO","MAYNAS PERIFERIE","MAZAN","I-1"]
[null,{"$f":"VALUE(renipress[[#This Row],[Código Único]])","v":66},"GOBIERNO REGIONAL","00000066","HOSPITAL II-1 SANTA CLOTILDE","LORETO","MAYNAS","NAPO","160107","24","06","02","LORETO","MAYNAS PERIFERIE","SANTA CLOTILDE","II-1"]
[null,{"$f":"VALUE(renipress[[#This Row],[Código Único]])","v":67},"GOBIERNO REGIONAL","00000067","NUEVA LIBERTAD","LORETO","MAYNAS","NAPO","160107","24","06","02","LORETO","MAYNAS PERIFERIE","SANTA CLOTILDE","I-1"]
[null,{"$f":"VALUE(renipress[[#This Row],[Código Único]])","v":68},"GOBIERNO REGIONAL","00000068","NEGRO URCO","LORETO","MAYNAS","NAPO","160107","24","06","02","LORETO","MAYNAS PERIFERIE","SANTA CLOTILDE","I-1"]
[null,{"$f":"VALUE(renipress[[#This Row],[Código Único]])","v":69},"GOBIERNO REGIONAL","00000069","TACSHA CURARAY","LORETO","MAYNAS","NAPO","160107","24","06","02","LORETO","MAYNAS PERIFERIE","SANTA CLOTILDE","I-1"]
[null,{"$f":"VALUE(renipress[[#This Row],[Código Único]])","v":70},"GOBIERNO REGIONAL","00000070","CAMPO SERIO","LORETO","MAYNAS","TORRES CAUSANA","160110","24","06","02","LORETO","MAYNAS PERIFERIE","SANTA CLOTILDE","I-1"]
[null,{"$f":"VALUE(renipress[[#This Row],[Código Único]])","v":71},"GOBIERNO REGIONAL","00000071","ANGOTEROS","LORETO","MAYNAS","TORRES CAUSANA","160110","24","06","02","LORETO","MAYNAS PERIFERIE","SANTA CLOTILDE","I-2"]
[null,{"$f":"VALUE(renipress[[#This Row],[Código Único]])","v":72},"GOBIERNO REGIONAL","00000072","TEMPESTAD","LORETO","MAYNAS","TORRES CAUSANA","160110","24","06","02","LORETO","MAYNAS PERIFERIE","SANTA CLOTILDE","I-1"]
[null,{"$f":"VALUE(renipress[[#This Row],[Código Único]])","v":73},"GOBIERNO REGIONAL","00000073","II  VENCEDORES","LORETO","MAYNAS","TORRES CAUSANA","160110","24","00","00","LORETO","NO PERTENECE A NINGUNA RED","NO PERTENECE A NINGUNA MICRORED","Sin Categoría"]
[null,{"$f":"VALUE(renipress[[#This Row],[Código Único]])","v":74},"GOBIERNO REGIONAL","00000074","CABO PANTOJA DE TORRES CAUSANA","LORETO","MAYNAS","TORRES CAUSANA","160110","24","06","02","LORETO","MAYNAS PERIFERIE","SANTA CLOTILDE","I-2"]
[null,{"$f":"VALUE(renipress[[#This Row],[Código Único]])","v":75},"GOBIERNO REGIONAL","00000075","TORRES CAUSANA","LORETO","MAYNAS","TORRES CAUSANA","160110","24","06","02","LORETO","MAYNAS PERIFERIE","SANTA CLOTILDE","I-1"]
[null,{"$f":"VALUE(renipress[[#This Row],[Código Único]])","v":76},"GOBIERNO REGIONAL","00000076","SAN ANTONIO DE CACAO","LORETO","MARISCAL RAMON CASTILLA","RAMON CASTILLA","160401","24","07","01","LORETO","RAMON CASTILLA","CABALLO COCHA","I-1"]
[null,{"$f":"VALUE(renipress[[#This Row],[Código Único]])","v":77},"GOBIERNO REGIONAL","00000077","C.S. I-3 EL ESTRECHO","LORETO","PUTUMAYO","PUTUMAYO","160801","24","06","01","LORETO","MAYNAS PERIFERIE","PUTUMAYO","I-3"]
[null,{"$f":"VALUE(renipress[[#This Row],[Código Único]])","v":78},"GOBIERNO REGIONAL","00000078","EL ALAMO","LORETO","PUTUMAYO","YAGUAS","160804","24","06","01","LORETO","MAYNAS PERIFERIE","PUTUMAYO","I-1"]
[null,{"$f":"VALUE(renipress[[#This Row],[Código Único]])","v":79},"GOBIERNO REGIONAL","00000079","HUAPAPA","LORETO","PUTUMAYO","YAGUAS","160804","24","06","01","LORETO","MAYNAS PERIFERIE","PUTUMAYO","I-1"]
[null,{"$f":"VALUE(renipress[[#This Row],[Código Único]])","v":80},"GOBIERNO REGIONAL","00000080","REMANSO","LORETO","PUTUMAYO","YAGUAS","160804","24","06","01","LORETO","MAYNAS PERIFERIE","PUTUMAYO","I-2"]
[null,{"$f":"VALUE(renipress[[#This Row],[Código Único]])","v":81},"GOBIERNO REGIONAL","00000081","BETANIA","LORETO","PUTUMAYO","YAGUAS","160804","24","06","01","LORETO","MAYNAS PERIFERIE","PUTUMAYO","I-1"]
[null,{"$f":"VALUE(renipress[[#This Row],[Código Único]])","v":82},"GOBIERNO REGIONAL","00000082","LA FLORIDA","LORETO","PUTUMAYO","PUTUMAYO","160801","24","06","01","LORETO","MAYNAS PERIFERIE","PUTUMAYO","I-1"]
[null,{"$f":"VALUE(renipress[[#This Row],[Código Único]])","v":83},"GOBIERNO REGIONAL","00000083","SAN PEDRO DE TOTOYA","LORETO","PUTUMAYO","PUTUMAYO","160801","24","06","01","LORETO","MAYNAS PERIFERIE","PUTUMAYO","I-1"]
[null,{"$f":"VALUE(renipress[[#This Row],[Código Único]])","v":84},"GOBIERNO REGIONAL","00000084","FLOR DE AGOSTO","LORETO","PUTUMAYO","PUTUMAYO","160801","24","06","01","LORETO","MAYNAS PERIFERIE","PUTUMAYO","I-1"]
[null,{"$f":"VALUE(renipress[[#This Row],[Código Único]])","v":85},"GOBIERNO REGIONAL","00000085","IPRESS 1-3 SAN FRANCISCO DE ERE","LORETO","PUTUMAYO","ROSA PANDURO","160802","24","06","01","LORETO","MAYNAS PERIFERIE","PUTUMAYO","I-1"]
[null,{"$f":"VALUE(renipress[[#This Row],[Código Único]])","v":86},"GOBIERNO REGIONAL","00000086","SANTA MERCEDES","LORETO","PUTUMAYO","ROSA PANDURO","160802","24","06","01","LORETO","MAYNAS PERIFERIE","PUTUMAYO","I-1"]
[null,{"$f":"VALUE(renipress[[#This Row],[Código Único]])","v":87},"GOBIERNO REGIONAL","00000087","BELLAVISTA DE TENIENTE MANUEL CLAVERO","LORETO","PUTUMAYO","TENIENTE MANUEL CLAVERO","160803","24","06","01","LORETO","MAYNAS PERIFERIE","PUTUMAYO","I-1"]
[null,{"$f":"VALUE(renipress[[#This Row],[Código Único]])","v":88},"GOBIERNO REGIONAL","00000088","SOPLIN VARGAS","LORETO","PUTUMAYO","TENIENTE MANUEL CLAVERO","160803","24","06","01","LORETO","MAYNAS PERIFERIE","PUTUMAYO","I-2"]
[null,{"$f":"VALUE(renipress[[#This Row],[Código Único]])","v":89},"GOBIERNO REGIONAL","00000089","TRES FRONTERAS","LORETO","PUTUMAYO","TENIENTE MANUEL CLAVERO","160803","24","06","01","LORETO","MAYNAS PERIFERIE","PUTUMAYO","I-1"]
[null,{"$f":"VALUE(renipress[[#This Row],[Código Único]])","v":90},"GOBIERNO REGIONAL","00000090","NUEVA ESPERANZA DE TENIENTE MANUEL CLAVERO","LORETO","PUTUMAYO","TENIENTE MANUEL CLAVERO","160803","24","06","01","LORETO","MAYNAS PERIFERIE","PUTUMAYO","I-1"]
[null,{"$f":"VALUE(renipress[[#This Row],[Código Único]])","v":91},"GOBIERNO REGIONAL","00000091","NAUTA - NUCLEO BASE","LORETO","LORETO","NAUTA","160301","24","08","01","LORETO","LORETO","NAUTA","I-4"]
[null,{"$f":"VALUE(renipress[[#This Row],[Código Único]])","v":92},"GOBIERNO REGIONAL","00000092","SAN JOAQUIN DE OMAGUAS","LORETO","LORETO","NAUTA","160301","24","08","01","LORETO","LORETO","NAUTA","I-1"]
[null,{"$f":"VALUE(renipress[[#This Row],[Código Único]])","v":93},"GOBIERNO REGIONAL","00000093","MIRAFLORES DENAUTA","LORETO","LORETO","NAUTA","160301","24","08","01","LORETO","LORETO","NAUTA","I-2"]
[null,{"$f":"VALUE(renipress[[#This Row],[Código Único]])","v":94},"GOBIERNO REGIONAL","00000094","PALIZADA","LORETO","LORETO","NAUTA","160301","24","08","01","LORETO","LORETO","NAUTA","I-1"]
[null,{"$f":"VALUE(renipress[[#This Row],[Código Único]])","v":95},"GOBIERNO REGIONAL","00000095","SANTA FE","LORETO","LORETO","NAUTA","160301","24","08","01","LORETO","LORETO","NAUTA","I-1"]
[null,{"$f":"VALUE(renipress[[#This Row],[Código Único]])","v":96},"GOBIERNO REGIONAL","00000096","GRAU","LORETO","LORETO","NAUTA","160301","24","08","01","LORETO","LORETO","NAUTA","I-1"]
[null,{"$f":"VALUE(renipress[[#This Row],[Código Único]])","v":97},"GOBIERNO REGIONAL","00000097","SAN REGIS","LORETO","LORETO","NAUTA","160301","24","08","01","LORETO","LORETO","NAUTA","I-1"]
[null,{"$f":"VALUE(renipress[[#This Row],[Código Único]])","v":98},"GOBIERNO REGIONAL","00000098","SANTA RITA DE CASTILLA","LORETO","LORETO","PARINARI","160302","24","08","01","LORETO","LORETO","NAUTA","I-3"]
[null,{"$f":"VALUE(renipress[[#This Row],[Código Único]])","v":99},"GOBIERNO REGIONAL","00000099","SANTA ISABEL DE YUMBATURO","LORETO","LORETO","PARINARI","160302","24","08","01","LORETO","LORETO","NAUTA","I-1"]
[null,{"$f":"VALUE(renipress[[#This Row],[Código Único]])","v":100},"GOBIERNO REGIONAL","00000100","SANTA ROSA DE LAGARTO","LORETO","LORETO","PARINARI","160302","24","08","01","LORETO","LORETO","NAUTA","I-1"]
[null,{"$f":"VALUE(renipress[[#This Row],[Código Único]])","v":101},"GOBIERNO REGIONAL","00000101","INTUTO","LORETO","LORETO","TIGRE","160303","24","08","05","LORETO","LORETO","INTUTO","I-3"]
[null,{"$f":"VALUE(renipress[[#This Row],[Código Único]])","v":102},"GOBIERNO REGIONAL","00000102","LIBERTAD DEL TIGRE","LORETO","LORETO","TIGRE","160303","24","08","05","LORETO","LORETO","INTUTO","I-1"]
[null,{"$f":"VALUE(renipress[[#This Row],[Código Único]])","v":103},"GOBIERNO REGIONAL","00000103","PAICHE PLAYA","LORETO","LORETO","TIGRE","160303","24","08","05","LORETO","LORETO","INTUTO","I-1"]
[null,{"$f":"VALUE(renipress[[#This Row],[Código Único]])","v":104},"GOBIERNO REGIONAL","00000104","CENTRO DE SALUD 12 DE OCTUBRE","LORETO","LORETO","TIGRE","160303","24","08","05","LORETO","LORETO","INTUTO","I-3"]
[null,{"$f":"VALUE(renipress[[#This Row],[Código Único]])","v":105},"GOBIERNO REGIONAL","00000105","VILLA TROMPETEROS","LORETO","LORETO","TROMPETEROS","160304","24","08","03","LORETO","LORETO","VILLA TROMPETERO","I-4"]
[null,{"$f":"VALUE(renipress[[#This Row],[Código Único]])","v":106},"GOBIERNO REGIONAL","00000106","P.S I-2 PAMPA HERMOSA DE TROMPETEROS","LORETO","LORETO","TROMPETEROS","160304","24","08","03","LORETO","LORETO","VILLA TROMPETERO","I-2"]
[null,{"$f":"VALUE(renipress[[#This Row],[Código Único]])","v":107},"GOBIERNO REGIONAL","00000107","P.S. I-1 NUEVA JERUSALEN","LORETO","LORETO","TROMPETEROS","160304","24","08","03","LORETO","LORETO","VILLA TROMPETERO","I-1"]
[null,{"$f":"VALUE(renipress[[#This Row],[Código Único]])","v":108},"GOBIERNO REGIONAL","00000108","PROVIDENCIA","LORETO","LORETO","TROMPETEROS","160304","24","08","03","LORETO","LORETO","VILLA TROMPETERO","I-1"]
[null,{"$f":"VALUE(renipress[[#This Row],[Código Único]])","v":109},"GOBIERNO REGIONAL","00000109","MAYPUCO","LORETO","LORETO","URARINAS","160305","24","08","04","LORETO","LORETO","MAYPUCO","I-3"]
[null,{"$f":"VALUE(renipress[[#This Row],[Código Único]])","v":110},"GOBIERNO REGIONAL","00000110","NUEVA ESPERANZA DE URARINAS","LORETO","LORETO","URARINAS","160305","24","08","04","LORETO","LORETO","MAYPUCO","I-1"]
[null,{"$f":"VALUE(renipress[[#This Row],[Código Único]])","v":111},"GOBIERNO REGIONAL","00000111","CONCORDIA","LORETO","LORETO","URARINAS","160305","24","08","04","LORETO","LORETO","MAYPUCO","I-1"]
[null,{"$f":"VALUE(renipress[[#This Row],[Código Único]])","v":112},"GOBIERNO REGIONAL","00000112","REFORMA","LORETO","LORETO","URARINAS","160305","24","08","04","LORETO","LORETO","MAYPUCO","I-1"]
[null,{"$f":"VALUE(renipress[[#This Row],[Código Único]])","v":113},"GOBIERNO REGIONAL","00000113","PEVAS","LORETO","MARISCAL RAMON CASTILLA","PEBAS","160402","24","07","03","LORETO","RAMON CASTILLA","PEVAS","I-3"]
[null,{"$f":"VALUE(renipress[[#This Row],[Código Único]])","v":114},"GOBIERNO REGIONAL","00000114","HUANTA","LORETO","MARISCAL RAMON CASTILLA","PEBAS","160402","24","07","03","LORETO","RAMON CASTILLA","PEVAS","I-1"]
[null,{"$f":"VALUE(renipress[[#This Row],[Código Único]])","v":115},"GOBIERNO REGIONAL","00000115","PUCAURQUILLO","LORETO","MARISCAL RAMON CASTILLA","PEBAS","160402","24","07","03","LORETO","RAMON CASTILLA","PEVAS","I-1"]
[null,{"$f":"VALUE(renipress[[#This Row],[Código Único]])","v":116},"GOBIERNO REGIONAL","00000116","BRILLO NUEVO","LORETO","MARISCAL RAMON CASTILLA","PEBAS","160402","24","07","03","LORETO","RAMON CASTILLA","PEVAS","I-1"]
[null,{"$f":"VALUE(renipress[[#This Row],[Código Único]])","v":117},"GOBIERNO REGIONAL","00000117","SAN FRANCISCO DE PEVAS","LORETO","MARISCAL RAMON CASTILLA","PEBAS","160402","24","07","03","LORETO","RAMON CASTILLA","PEVAS","I-1"]
[null,{"$f":"VALUE(renipress[[#This Row],[Código Único]])","v":118},"GOBIERNO REGIONAL","00000118","CABALLOCOCHA","LORETO","MARISCAL RAMON CASTILLA","RAMON CASTILLA","160401","24","07","01","LORETO","RAMON CASTILLA","CABALLO COCHA","I-4"]
[null,{"$f":"VALUE(renipress[[#This Row],[Código Único]])","v":119},"GOBIERNO REGIONAL","00000119","CHIMBOTE","LORETO","MARISCAL RAMON CASTILLA","RAMON CASTILLA","160401","24","07","01","LORETO","RAMON CASTILLA","CABALLO COCHA","I-1"]
[null,{"$f":"VALUE(renipress[[#This Row],[Código Único]])","v":120},"GOBIERNO REGIONAL","00000120","ISLA DEL TIGRE","LORETO","MARISCAL RAMON CASTILLA","RAMON CASTILLA","160401","24","07","01","LORETO","RAMON CASTILLA","CABALLO COCHA","I-1"]
[null,{"$f":"VALUE(renipress[[#This Row],[Código Único]])","v":121},"GOBIERNO REGIONAL","00000121","CUSHILLOCOCHA","LORETO","MARISCAL RAMON CASTILLA","RAMON CASTILLA","160401","24","07","01","LORETO","RAMON CASTILLA","CABALLO COCHA","I-1"]
[null,{"$f":"VALUE(renipress[[#This Row],[Código Único]])","v":122},"GOBIERNO REGIONAL","00000122","BELLAVISTA CALLARU","LORETO","MARISCAL RAMON CASTILLA","RAMON CASTILLA","160401","24","07","04","LORETO","RAMON CASTILLA","ISLANDIA","I-1"]
[null,{"$f":"VALUE(renipress[[#This Row],[Código Único]])","v":123},"GOBIERNO REGIONAL","00000123","SAN PABLO","LORETO","MARISCAL RAMON CASTILLA","SAN PABLO","160404","24","07","02","LORETO","RAMON CASTILLA","SAN PABLO","I-3"]
[null,{"$f":"VALUE(renipress[[#This Row],[Código Único]])","v":124},"GOBIERNO REGIONAL","00000124","SANTA ELENA DE IMAZA","LORETO","MARISCAL RAMON CASTILLA","SAN PABLO","160404","24","07","02","LORETO","RAMON CASTILLA","SAN PABLO","I-1"]
[null,{"$f":"VALUE(renipress[[#This Row],[Código Único]])","v":125},"GOBIERNO REGIONAL","00000125","ISLANDIA DEL YAVARI","LORETO","MARISCAL RAMON CASTILLA","YAVARI","160403","24","07","04","LORETO","RAMON CASTILLA","ISLANDIA","I-3"]
[null,{"$f":"VALUE(renipress[[#This Row],[Código Único]])","v":126},"GOBIERNO REGIONAL","00000126","BUEN SUCESO","LORETO","MARISCAL RAMON CASTILLA","YAVARI","160403","24","07","04","LORETO","RAMON CASTILLA","ISLANDIA","I-1"]
[null,{"$f":"VALUE(renipress[[#This Row],[Código Único]])","v":127},"GOBIERNO REGIONAL","00000127","SANTA TERESA","LORETO","MARISCAL RAMON CASTILLA","YAVARI","160403","24","07","04","LORETO","RAMON CASTILLA","ISLANDIA","I-1"]
[null,{"$f":"VALUE(renipress[[#This Row],[Código Único]])","v":128},"GOBIERNO REGIONAL","00000128","NUEVA ESPERANZA DEL YAVARI","LORETO","MARISCAL RAMON CASTILLA","YAVARI","160403","24","07","04","LORETO","RAMON CASTILLA","ISLANDIA","I-1"]
[null,{"$f":"VALUE(renipress[[#This Row],[Código Único]])","v":129},"GOBIERNO REGIONAL","00000129","SANTA ELENA","LORETO","REQUENA","ALTO TAPICHE","160502","24","10","01","LORETO","REQUENA","REQUENA","I-2"]
[null,{"$f":"VALUE(renipress[[#This Row],[Código Único]])","v":130},"GOBIERNO REGIONAL","00000130","FATIMA","LORETO","REQUENA","ALTO TAPICHE","160502","24","10","01","LORETO","REQUENA","REQUENA","I-1"]
[null,{"$f":"VALUE(renipress[[#This Row],[Código Único]])","v":131},"GOBIERNO REGIONAL","00000131","SAN ANTONIO DE FORTALEZA","LORETO","REQUENA","ALTO TAPICHE","160502","24","10","01","LORETO","REQUENA","REQUENA","I-1"]
[null,{"$f":"VALUE(renipress[[#This Row],[Código Único]])","v":132},"GOBIERNO REGIONAL","00000132","FLOR DE PUNGA","LORETO","REQUENA","CAPELO","160503","24","10","04","LORETO","REQUENA","SAN MARTIN CAPELO","I-3"]
[null,{"$f":"VALUE(renipress[[#This Row],[Código Único]])","v":133},"GOBIERNO REGIONAL","00000133","HUATAPI","LORETO","REQUENA","CAPELO","160503","24","10","04","LORETO","REQUENA","SAN MARTIN CAPELO","I-1"]
[null,{"$f":"VALUE(renipress[[#This Row],[Código Único]])","v":134},"GOBIERNO REGIONAL","00000134","SINTICO","LORETO","REQUENA","EMILIO SAN MARTIN","160504","24","10","04","LORETO","REQUENA","SAN MARTIN CAPELO","I-1"]
[null,{"$f":"VALUE(renipress[[#This Row],[Código Único]])","v":135},"GOBIERNO REGIONAL","00000135","TAMANCO VIEJO","LORETO","REQUENA","EMILIO SAN MARTIN","160504","24","10","04","LORETO","REQUENA","SAN MARTIN CAPELO","I-2"]
[null,{"$f":"VALUE(renipress[[#This Row],[Código Único]])","v":136},"GOBIERNO REGIONAL","00000136","GENARO HERRERA","LORETO","REQUENA","JENARO HERRERA","160510","24","10","01","LORETO","REQUENA","REQUENA","I-3"]
[null,{"$f":"VALUE(renipress[[#This Row],[Código Único]])","v":137},"GOBIERNO REGIONAL","00000137","SAN ROQUE DE MAQUIA","LORETO","REQUENA","MAQUIA","160505","24","10","01","LORETO","REQUENA","REQUENA","I-3"]
[null,{"$f":"VALUE(renipress[[#This Row],[Código Único]])","v":138},"GOBIERNO REGIONAL","00000138","ARICA VIEJO","LORETO","REQUENA","MAQUIA","160505","24","10","01","LORETO","REQUENA","REQUENA","I-1"]
[null,{"$f":"VALUE(renipress[[#This Row],[Código Único]])","v":139},"GOBIERNO REGIONAL","00000139","NUEVO JUNIN","LORETO","REQUENA","MAQUIA","160505","24","10","01","LORETO","REQUENA","REQUENA","I-1"]
[null,{"$f":"VALUE(renipress[[#This Row],[Código Único]])","v":140},"GOBIERNO REGIONAL","00000140","PIURI ISLA","LORETO","REQUENA","MAQUIA","160505","24","10","01","LORETO","REQUENA","REQUENA","I-1"]
[null,{"$f":"VALUE(renipress[[#This Row],[Código Único]])","v":141},"GOBIERNO REGIONAL","00000141","NUEVO SAN JOSE","LORETO","REQUENA","MAQUIA","160505","24","10","01","LORETO","REQUENA","REQUENA","I-1"]
[null,{"$f":"VALUE(renipress[[#This Row],[Código Único]])","v":142},"GOBIERNO REGIONAL","00000142","NUEVO LIBERAL","LORETO","REQUENA","MAQUIA","160505","24","10","03","LORETO","REQUENA","BRETAÑA","I-1"]
[null,{"$f":"VALUE(renipress[[#This Row],[Código Único]])","v":143},"GOBIERNO REGIONAL","00000143","VICTORIA","LORETO","REQUENA","MAQUIA","160505","24","10","03","LORETO","REQUENA","BRETAÑA","I-1"]
[null,{"$f":"VALUE(renipress[[#This Row],[Código Único]])","v":144},"GOBIERNO REGIONAL","00000144","P.S I - 1 OBRERO","LORETO","REQUENA","MAQUIA","160505","24","10","03","LORETO","REQUENA","BRETAÑA","I-1"]
[null,{"$f":"VALUE(renipress[[#This Row],[Código Único]])","v":145},"GOBIERNO REGIONAL","00000145","BOLIVAR DEL MAQUIA","LORETO","REQUENA","MAQUIA","160505","24","10","03","LORETO","REQUENA","BRETAÑA","I-1"]
[null,{"$f":"VALUE(renipress[[#This Row],[Código Único]])","v":146},"GOBIERNO REGIONAL","00000146","CENTRO DE SALUD I-3 BRETAÑA","LORETO","REQUENA","PUINAHUA","160506","24","10","03","LORETO","REQUENA","BRETAÑA","I-3"]
[null,{"$f":"VALUE(renipress[[#This Row],[Código Único]])","v":147},"GOBIERNO REGIONAL","00000147","SAN CARLOS DEL PUINAHUA","LORETO","REQUENA","PUINAHUA","160506","24","10","03","LORETO","REQUENA","BRETAÑA","I-1"]
[null,{"$f":"VALUE(renipress[[#This Row],[Código Único]])","v":148},"GOBIERNO REGIONAL","00000148","PS I-1 MANCO CAPAC","LORETO","REQUENA","PUINAHUA","160506","24","10","03","LORETO","REQUENA","BRETAÑA","I-1"]
[null,{"$f":"VALUE(renipress[[#This Row],[Código Único]])","v":149},"GOBIERNO REGIONAL","00000149","HUACRACHIRO","LORETO","REQUENA","PUINAHUA","160506","24","10","03","LORETO","REQUENA","BRETAÑA","I-1"]
[null,{"$f":"VALUE(renipress[[#This Row],[Código Único]])","v":150},"GOBIERNO REGIONAL","00000150","C.S. I-4 REQUENA","LORETO","REQUENA","REQUENA","160501","24","10","01","LORETO","REQUENA","REQUENA","I-4"]
[null,{"$f":"VALUE(renipress[[#This Row],[Código Único]])","v":151},"GOBIERNO REGIONAL","00000151","HUARMI ISLA","LORETO","REQUENA","REQUENA","160501","24","10","01","LORETO","REQUENA","REQUENA","I-1"]
[null,{"$f":"VALUE(renipress[[#This Row],[Código Único]])","v":152},"GOBIERNO REGIONAL","00000152","GALICIA","LORETO","REQUENA","REQUENA","160501","24","10","01","LORETO","REQUENA","REQUENA","I-1"]
[null,{"$f":"VALUE(renipress[[#This Row],[Código Único]])","v":153},"GOBIERNO REGIONAL","00000153","YUCURUCHI","LORETO","REQUENA","SAQUENA","160507","24","10","01","LORETO","REQUENA","REQUENA","I-1"]
[null,{"$f":"VALUE(renipress[[#This Row],[Código Único]])","v":154},"GOBIERNO REGIONAL","00000154","SAPUENA","LORETO","REQUENA","SAQUENA","160507","24","10","01","LORETO","REQUENA","REQUENA","I-1"]
[null,{"$f":"VALUE(renipress[[#This Row],[Código Único]])","v":155},"GOBIERNO REGIONAL","00000155","BAGAZAN DE SAPUENA","LORETO","REQUENA","SAQUENA","160507","24","10","01","LORETO","REQUENA","REQUENA","I-2"]
[null,{"$f":"VALUE(renipress[[#This Row],[Código Único]])","v":156},"GOBIERNO REGIONAL","00000156","EL SOL","LORETO","REQUENA","SAQUENA","160507","24","10","01","LORETO","REQUENA","REQUENA","I-1"]
[null,{"$f":"VALUE(renipress[[#This Row],[Código Único]])","v":157},"GOBIERNO REGIONAL","00000157","CURINGA","LORETO","REQUENA","SOPLIN","160508","24","10","01","LORETO","REQUENA","REQUENA","I-1"]
[null,{"$f":"VALUE(renipress[[#This Row],[Código Único]])","v":158},"GOBIERNO REGIONAL","00000158","CAPANAHUA","LORETO","REQUENA","SOPLIN","160508","24","10","01","LORETO","REQUENA","REQUENA","I-1"]
[null,{"$f":"VALUE(renipress[[#This Row],[Código Único]])","v":159},"GOBIERNO REGIONAL","00000159","SAN PEDRO","LORETO","REQUENA","TAPICHE","160509","24","10","01","LORETO","REQUENA","REQUENA","I-1"]
[null,{"$f":"VALUE(renipress[[#This Row],[Código Único]])","v":160},"GOBIERNO REGIONAL","00000160","IBERIA","LORETO","REQUENA","TAPICHE","160509","24","10","04","LORETO","REQUENA","SAN MARTIN CAPELO","I-1"]
[null,{"$f":"VALUE(renipress[[#This Row],[Código Único]])","v":161},"GOBIERNO REGIONAL","00000161","CENTRO DE SALUD I-3 JUANCITO DE SARAYACU","LORETO","UCAYALI","SARAYACU","160605","24","09","02","LORETO","UCAYALI","SARAYACU","I-4"]
[null,{"$f":"VALUE(renipress[[#This Row],[Código Único]])","v":162},"GOBIERNO REGIONAL","00000162","HOSPITAL II-I  CONTAMANA","LORETO","UCAYALI","CONTAMANA","160601","24","00","00","LORETO","NO PERTENECE A NINGUNA RED","NO PERTENECE A NINGUNA MICRORED","II-1"]
[null,{"$f":"VALUE(renipress[[#This Row],[Código Único]])","v":163},"GOBIERNO REGIONAL","00000163","PUESTO SALUD I-1 SANTA ROSA CHIA TIPISHCA","LORETO","UCAYALI","CONTAMANA","160601","24","09","01","LORETO","UCAYALI","CONTAMANA","I-1"]
[null,{"$f":"VALUE(renipress[[#This Row],[Código Único]])","v":164},"GOBIERNO REGIONAL","00000164","PUESTO DE SALUD I-1 CANAAN","LORETO","UCAYALI","CONTAMANA","160601","24","09","01","LORETO","UCAYALI","CONTAMANA","I-1"]
[null,{"$f":"VALUE(renipress[[#This Row],[Código Único]])","v":165},"GOBIERNO REGIONAL","00000165","PUESTO DE SALUD I-1 PROGRESO DE CONTAMANA","LORETO","UCAYALI","CONTAMANA","160601","24","09","01","LORETO","UCAYALI","CONTAMANA","I-1"]
[null,{"$f":"VALUE(renipress[[#This Row],[Código Único]])","v":166},"GOBIERNO REGIONAL","00000166","HOLANDA","LORETO","UCAYALI","CONTAMANA","160601","24","09","01","LORETO","UCAYALI","CONTAMANA","I-1"]
[null,{"$f":"VALUE(renipress[[#This Row],[Código Único]])","v":167},"GOBIERNO REGIONAL","00000167","PUESTO DE SALUD I -1 TUMBES","LORETO","UCAYALI","CONTAMANA","160601","24","09","01","LORETO","UCAYALI","CONTAMANA","I-1"]
[null,{"$f":"VALUE(renipress[[#This Row],[Código Único]])","v":168},"GOBIERNO REGIONAL","00000168","PUESTO DE SALUD I-1 NUEVO EDEN","LORETO","UCAYALI","CONTAMANA","160601","24","09","01","LORETO","UCAYALI","CONTAMANA","I-1"]
[null,{"$f":"VALUE(renipress[[#This Row],[Código Único]])","v":169},"GOBIERNO REGIONAL","00000169","PUESTO DE SALUD I-1 CHARASMANA","LORETO","UCAYALI","CONTAMANA","160601","24","09","01","LORETO","UCAYALI","CONTAMANA","I-1"]
[null,{"$f":"VALUE(renipress[[#This Row],[Código Único]])","v":170},"GOBIERNO REGIONAL","00000170","PUESTO DE SALUD I-2 INAHUAYA","LORETO","UCAYALI","INAHUAYA","160602","24","09","01","LORETO","UCAYALI","CONTAMANA","I-2"]
[null,{"$f":"VALUE(renipress[[#This Row],[Código Único]])","v":171},"GOBIERNO REGIONAL","00000171","CENTRO DE SALUD I-3 TIRUNTAN","LORETO","UCAYALI","PADRE MARQUEZ","160603","24","09","03","LORETO","UCAYALI","PADRE MARQUEZ","I-3"]
[null,{"$f":"VALUE(renipress[[#This Row],[Código Único]])","v":172},"GOBIERNO REGIONAL","00000172","ROHABOYA","LORETO","UCAYALI","PADRE MARQUEZ","160603","24","09","03","LORETO","UCAYALI","PADRE MARQUEZ","I-1"]
[null,{"$f":"VALUE(renipress[[#This Row],[Código Único]])","v":173},"GOBIERNO REGIONAL","00000173","PAHOYAN","LORETO","UCAYALI","PADRE MARQUEZ","160603","24","09","03","LORETO","UCAYALI","PADRE MARQUEZ","I-1"]
[null,{"$f":"VALUE(renipress[[#This Row],[Código Único]])","v":174},"GOBIERNO REGIONAL","00000174","PUESTO DE SALUD I-1 MARISCAL CASTILLA DE PADRE MARQUEZ","LORETO","UCAYALI","PADRE MARQUEZ","160603","24","09","03","LORETO","UCAYALI","PADRE MARQUEZ","I-1"]
[null,{"$f":"VALUE(renipress[[#This Row],[Código Único]])","v":175},"GOBIERNO REGIONAL","00000175","PUESTO DE SALUD I-1 ALFONSO UGARTE","LORETO","UCAYALI","PADRE MARQUEZ","160603","24","09","03","LORETO","UCAYALI","PADRE MARQUEZ","I-1"]
[null,{"$f":"VALUE(renipress[[#This Row],[Código Único]])","v":176},"GOBIERNO REGIONAL","00000176","CENTRO DE SALUD I-3 PAMPA HERMOZA DE PAMPA HERMOZA","LORETO","UCAYALI","PAMPA HERMOSA","160604","24","09","01","LORETO","UCAYALI","CONTAMANA","I-3"]
[null,{"$f":"VALUE(renipress[[#This Row],[Código Único]])","v":177},"GOBIERNO REGIONAL","00000177","LA PEDRERA","LORETO","UCAYALI","SARAYACU","160605","24","09","02","LORETO","UCAYALI","SARAYACU","I-1"]
[null,{"$f":"VALUE(renipress[[#This Row],[Código Único]])","v":178},"GOBIERNO REGIONAL","00000178","MONTE BELLO","LORETO","UCAYALI","SARAYACU","160605","24","09","02","LORETO","UCAYALI","SARAYACU","I-1"]
[null,{"$f":"VALUE(renipress[[#This Row],[Código Único]])","v":179},"GOBIERNO REGIONAL","00000179","PUESTO DE SALUD I-1 MAHUIZO","LORETO","UCAYALI","SARAYACU","160605","24","09","02","LORETO","UCAYALI","SARAYACU","I-1"]
[null,{"$f":"VALUE(renipress[[#This Row],[Código Único]])","v":180},"GOBIERNO REGIONAL","00000180","NUEVO DOS DE MAYO","LORETO","UCAYALI","SARAYACU","160605","24","09","02","LORETO","UCAYALI","SARAYACU","I-1"]
[null,{"$f":"VALUE(renipress[[#This Row],[Código Único]])","v":181},"GOBIERNO REGIONAL","00000181","PUESTO DE SALUD I-1 DOS DE MAYO DE SARAYACU","LORETO","UCAYALI","SARAYACU","160605","24","09","02","LORETO","UCAYALI","SARAYACU","I-1"]
[null,{"$f":"VALUE(renipress[[#This Row],[Código Único]])","v":182},"GOBIERNO REGIONAL","00000182","CENTRO DE ALUD I-3 TIERRA BLANCA","LORETO","UCAYALI","SARAYACU","160605","24","09","02","LORETO","UCAYALI","SARAYACU","I-3"]
[null,{"$f":"VALUE(renipress[[#This Row],[Código Único]])","v":183},"GOBIERNO REGIONAL","00000183","PUESTO DE SALUD I-1 HUAÑUNA","LORETO","UCAYALI","SARAYACU","160605","24","09","02","LORETO","UCAYALI","SARAYACU","I-1"]
[null,{"$f":"VALUE(renipress[[#This Row],[Código Único]])","v":184},"GOBIERNO REGIONAL","00000184","PUESTO DE SALUD I-1 PUERTO ENRIQUE","LORETO","UCAYALI","SARAYACU","160605","24","09","02","LORETO","UCAYALI","SARAYACU","I-1"]
[null,{"$f":"VALUE(renipress[[#This Row],[Código Único]])","v":185},"GOBIERNO REGIONAL","00000185","CENTRO DE SALUD I-3 ORELLANA","LORETO","UCAYALI","VARGAS GUERRA","160606","24","09","01","LORETO","UCAYALI","CONTAMANA","I-4"]
[null,{"$f":"VALUE(renipress[[#This Row],[Código Único]])","v":186},"GOBIERNO REGIONAL","00000186","C.S. I-3 SAN GABRIEL DE VARADERO","LORETO","ALTO AMAZONAS","BALSAPUERTO","160202","24","11","03","LORETO","ALTO AMAZONAS","BALSAPUERTO","I-3"]
[null,{"$f":"VALUE(renipress[[#This Row],[Código Único]])","v":187},"GOBIERNO REGIONAL","00000187","C.S.  I-4 BALSAPUERTO","LORETO","ALTO AMAZONAS","BALSAPUERTO","160202","24","11","03","LORETO","ALTO AMAZONAS","BALSAPUERTO","I-4"]
[null,{"$f":"VALUE(renipress[[#This Row],[Código Único]])","v":188},"GOBIERNO REGIONAL","00000188","VISTA ALEGRE DE BALSAPUERTO","LORETO","ALTO AMAZONAS","BALSAPUERTO","160202","24","11","03","LORETO","ALTO AMAZONAS","BALSAPUERTO","I-1"]
[null,{"$f":"VALUE(renipress[[#This Row],[Código Único]])","v":189},"GOBIERNO REGIONAL","00000189","P.S. I-1 NUEVA VIDA","LORETO","ALTO AMAZONAS","BALSAPUERTO","160202","24","11","03","LORETO","ALTO AMAZONAS","BALSAPUERTO","I-1"]
[null,{"$f":"VALUE(renipress[[#This Row],[Código Único]])","v":190},"GOBIERNO REGIONAL","00000190","P.S. I-1 PROGRESO DE BALSAPUERTO","LORETO","ALTO AMAZONAS","BALSAPUERTO","160202","24","11","03","LORETO","ALTO AMAZONAS","BALSAPUERTO","I-1"]
[null,{"$f":"VALUE(renipress[[#This Row],[Código Único]])","v":191},"GOBIERNO REGIONAL","00000191","C.S. I-3 JEBEROS","LORETO","ALTO AMAZONAS","JEBEROS","160205","24","11","06","LORETO","ALTO AMAZONAS","JEBEROS","I-3"]
[null,{"$f":"VALUE(renipress[[#This Row],[Código Único]])","v":192},"GOBIERNO REGIONAL","00000192","P.S. I-1 BELLAVISTA DE JEBEROS","LORETO","ALTO AMAZONAS","JEBEROS","160205","24","11","06","LORETO","ALTO AMAZONAS","JEBEROS","I-1"]
[null,{"$f":"VALUE(renipress[[#This Row],[Código Único]])","v":193},"GOBIERNO REGIONAL","00000193","C.S. I-4 LAGUNAS","LORETO","ALTO AMAZONAS","LAGUNAS","160206","24","11","05","LORETO","ALTO AMAZONAS","LAGUNAS","I-4"]
[null,{"$f":"VALUE(renipress[[#This Row],[Código Único]])","v":194},"GOBIERNO REGIONAL","00000194","P.S. I-1 PUCACURO DE LAGUNAS","LORETO","ALTO AMAZONAS","LAGUNAS","160206","24","11","05","LORETO","ALTO AMAZONAS","LAGUNAS","I-1"]
[null,{"$f":"VALUE(renipress[[#This Row],[Código Único]])","v":195},"GOBIERNO REGIONAL","00000195","P.S. I-1 PUERTO VICTORIA","LORETO","ALTO AMAZONAS","LAGUNAS","160206","24","11","05","LORETO","ALTO AMAZONAS","LAGUNAS","I-1"]
[null,{"$f":"VALUE(renipress[[#This Row],[Código Único]])","v":196},"GOBIERNO REGIONAL","00000196","P.S. I-1 ARAHUANTE","LORETO","ALTO AMAZONAS","LAGUNAS","160206","24","11","05","LORETO","ALTO AMAZONAS","LAGUNAS","I-1"]
[null,{"$f":"VALUE(renipress[[#This Row],[Código Único]])","v":197},"GOBIERNO REGIONAL","00000197","P.S. I-1 BARRIO CENTRAL","LORETO","ALTO AMAZONAS","LAGUNAS","160206","24","11","05","LORETO","ALTO AMAZONAS","LAGUNAS","I-1"]
[null,{"$f":"VALUE(renipress[[#This Row],[Código Único]])","v":198},"GOBIERNO REGIONAL","00000198","P.S. I-1 CHARUPA","LORETO","ALTO AMAZONAS","LAGUNAS","160206","24","12","02","LORETO","DATEM DEL MARAÑON","BARRANCA","I-1"]
[null,{"$f":"VALUE(renipress[[#This Row],[Código Único]])","v":199},"GOBIERNO REGIONAL","00000199","P.S. I-1 NUEVO MUNDO","LORETO","ALTO AMAZONAS","LAGUNAS","160206","24","11","05","LORETO","ALTO AMAZONAS","LAGUNAS","I-1"]
[null,{"$f":"VALUE(renipress[[#This Row],[Código Único]])","v":200},"GOBIERNO REGIONAL","00000200","P.S. I-1 HUANCAYO","LORETO","ALTO AMAZONAS","LAGUNAS","160206","24","11","05","LORETO","ALTO AMAZONAS","LAGUNAS","I-1"]
[null,{"$f":"VALUE(renipress[[#This Row],[Código Único]])","v":201},"GOBIERNO REGIONAL","00000201","P.S. I-1 TAMARATE","LORETO","ALTO AMAZONAS","LAGUNAS","160206","24","11","05","LORETO","ALTO AMAZONAS","LAGUNAS","I-1"]
[null,{"$f":"VALUE(renipress[[#This Row],[Código Único]])","v":202},"GOBIERNO REGIONAL","00000202","C.S. I-3 SANTA CRUZ","LORETO","ALTO AMAZONAS","SANTA CRUZ","160210","24","11","04","LORETO","ALTO AMAZONAS","SANTA CRUZ","I-3"]
[null,{"$f":"VALUE(renipress[[#This Row],[Código Único]])","v":203},"GOBIERNO REGIONAL","00000203","ISLANDIA DE SANTA CRUZ","LORETO","ALTO AMAZONAS","SANTA CRUZ","160210","24","11","04","LORETO","ALTO AMAZONAS","SANTA CRUZ","I-1"]
[null,{"$f":"VALUE(renipress[[#This Row],[Código Único]])","v":204},"GOBIERNO REGIONAL","00000204","P.S. I-1 ACHUAL TIPISCHA","LORETO","ALTO AMAZONAS","SANTA CRUZ","160210","24","11","04","LORETO","ALTO AMAZONAS","SANTA CRUZ","I-1"]
[null,{"$f":"VALUE(renipress[[#This Row],[Código Único]])","v":205},"GOBIERNO REGIONAL","00000205","P.S. I-1 LAGO NARANJAL","LORETO","ALTO AMAZONAS","SANTA CRUZ","160210","24","11","04","LORETO","ALTO AMAZONAS","SANTA CRUZ","I-1"]
[null,{"$f":"VALUE(renipress[[#This Row],[Código Único]])","v":206},"GOBIERNO REGIONAL","00000206","P.S. I-1 JORGE CHAVEZ","LORETO","ALTO AMAZONAS","TENIENTE CESAR LOPEZ ROJAS","160211","24","11","02","LORETO","ALTO AMAZONAS","TENIENTE CESAR LOPEZ ROJAS","I-1"]
[null,{"$f":"VALUE(renipress[[#This Row],[Código Único]])","v":207},"GOBIERNO REGIONAL","00000207","P.S. I-1 CUIPARI","LORETO","ALTO AMAZONAS","TENIENTE CESAR LOPEZ ROJAS","160211","24","11","02","LORETO","ALTO AMAZONAS","TENIENTE CESAR LOPEZ ROJAS","I-1"]
[null,{"$f":"VALUE(renipress[[#This Row],[Código Único]])","v":208},"GOBIERNO REGIONAL","00000208","P.S. I-1 SONAPI","LORETO","ALTO AMAZONAS","TENIENTE CESAR LOPEZ ROJAS","160211","24","11","02","LORETO","ALTO AMAZONAS","TENIENTE CESAR LOPEZ ROJAS","I-1"]
[null,{"$f":"VALUE(renipress[[#This Row],[Código Único]])","v":209},"GOBIERNO REGIONAL","00000209","C.S. I-3 SHUCUSHYACU","LORETO","ALTO AMAZONAS","TENIENTE CESAR LOPEZ ROJAS","160211","24","11","02","LORETO","ALTO AMAZONAS","TENIENTE CESAR LOPEZ ROJAS","I-3"]
[null,{"$f":"VALUE(renipress[[#This Row],[Código Único]])","v":210},"GOBIERNO REGIONAL","00000210","HOSPITAL SANTA GEMA DE  YURIMAGUAS","LORETO","ALTO AMAZONAS","YURIMAGUAS","160201","24","00","00","LORETO","NO PERTENECE A NINGUNA RED","NO PERTENECE A NINGUNA MICRORED","II-1"]
[null,{"$f":"VALUE(renipress[[#This Row],[Código Único]])","v":211},"GOBIERNO REGIONAL","00000211","C.S. 1-3 CENTRO ESPEC.MATERNO INFAN.AGUAMIRO","LORETO","ALTO AMAZONAS","YURIMAGUAS","160201","24","11","01","LORETO","ALTO AMAZONAS","YURIMAGUAS","I-3"]
[null,{"$f":"VALUE(renipress[[#This Row],[Código Único]])","v":212},"GOBIERNO REGIONAL","00000212","C.S. I-4 PAMPA HERMOZA DE YURIMAGUAS","LORETO","ALTO AMAZONAS","YURIMAGUAS","160201","24","11","01","LORETO","ALTO AMAZONAS","YURIMAGUAS","I-4"]
[null,{"$f":"VALUE(renipress[[#This Row],[Código Único]])","v":213},"GOBIERNO REGIONAL","00000213","P.S. I-1 PROVIDENCIA DE YURIMAGUAS","LORETO","ALTO AMAZONAS","YURIMAGUAS","160201","24","11","01","LORETO","ALTO AMAZONAS","YURIMAGUAS","I-1"]
[null,{"$f":"VALUE(renipress[[#This Row],[Código Único]])","v":214},"GOBIERNO REGIONAL","00000214","C.S. I-3 SANTA MARÍA","LORETO","ALTO AMAZONAS","YURIMAGUAS","160201","24","11","01","LORETO","ALTO AMAZONAS","YURIMAGUAS","I-3"]
[null,{"$f":"VALUE(renipress[[#This Row],[Código Único]])","v":215},"GOBIERNO REGIONAL","00000215","P.S. I-1 NUEVA ERA","LORETO","ALTO AMAZONAS","YURIMAGUAS","160201","24","11","01","LORETO","ALTO AMAZONAS","YURIMAGUAS","I-1"]
[null,{"$f":"VALUE(renipress[[#This Row],[Código Único]])","v":216},"GOBIERNO REGIONAL","00000216","P.S. I-1 ZAPOTE","LORETO","ALTO AMAZONAS","YURIMAGUAS","160201","24","11","01","LORETO","ALTO AMAZONAS","YURIMAGUAS","I-1"]
[null,{"$f":"VALUE(renipress[[#This Row],[Código Único]])","v":217},"GOBIERNO REGIONAL","00000217","P.S. I-1 LAGO SANANGO","LORETO","ALTO AMAZONAS","YURIMAGUAS","160201","24","11","01","LORETO","ALTO AMAZONAS","YURIMAGUAS","I-1"]
[null,{"$f":"VALUE(renipress[[#This Row],[Código Único]])","v":218},"GOBIERNO REGIONAL","00000218","P.S. I-1 ALTO MOHENA","LORETO","ALTO AMAZONAS","YURIMAGUAS","160201","24","11","01","LORETO","ALTO AMAZONAS","YURIMAGUAS","I-1"]
[null,{"$f":"VALUE(renipress[[#This Row],[Código Único]])","v":219},"GOBIERNO REGIONAL","00000219","P.S. I-1 SAN PEDRO DE ZAPOTE","LORETO","ALTO AMAZONAS","YURIMAGUAS","160201","24","11","01","LORETO","ALTO AMAZONAS","YURIMAGUAS","I-1"]
[null,{"$f":"VALUE(renipress[[#This Row],[Código Único]])","v":220},"GOBIERNO REGIONAL","00000220","P.S. I-1 JEBERILLOS","LORETO","ALTO AMAZONAS","YURIMAGUAS","160201","24","11","01","LORETO","ALTO AMAZONAS","YURIMAGUAS","I-1"]
[null,{"$f":"VALUE(renipress[[#This Row],[Código Único]])","v":221},"GOBIERNO REGIONAL","00000221","P.S. I-1 ACHUAL LIMON","LORETO","ALTO AMAZONAS","YURIMAGUAS","160201","24","11","01","LORETO","ALTO AMAZONAS","YURIMAGUAS","I-1"]
[null,{"$f":"VALUE(renipress[[#This Row],[Código Único]])","v":222},"GOBIERNO REGIONAL","00000222","C.S. I-3 MUNICHIS DE YURIMAGUAS","LORETO","ALTO AMAZONAS","YURIMAGUAS","160201","24","11","01","LORETO","ALTO AMAZONAS","YURIMAGUAS","I-3"]
[null,{"$f":"VALUE(renipress[[#This Row],[Código Único]])","v":223},"GOBIERNO REGIONAL","00000223","P.S. I-1 VARADERILLO","LORETO","ALTO AMAZONAS","YURIMAGUAS","160201","24","11","01","LORETO","ALTO AMAZONAS","YURIMAGUAS","I-1"]
[null,{"$f":"VALUE(renipress[[#This Row],[Código Único]])","v":224},"GOBIERNO REGIONAL","00000224","C.S. I-3 LOMA","LORETO","ALTO AMAZONAS","YURIMAGUAS","160201","24","11","01","LORETO","ALTO AMAZONAS","YURIMAGUAS","I-3"]
[null,{"$f":"VALUE(renipress[[#This Row],[Código Único]])","v":225},"GOBIERNO REGIONAL","00000225","P.S. I-1 TUPAC AMARU DE YURIMAGUAS","LORETO","ALTO AMAZONAS","YURIMAGUAS","160201","24","11","01","LORETO","ALTO AMAZONAS","YURIMAGUAS","I-1"]
[null,{"$f":"VALUE(renipress[[#This Row],[Código Único]])","v":226},"GOBIERNO REGIONAL","00000226","P.S. I-1 PUERTO PERU","LORETO","ALTO AMAZONAS","YURIMAGUAS","160201","24","11","01","LORETO","ALTO AMAZONAS","YURIMAGUAS","I-1"]
[null,{"$f":"VALUE(renipress[[#This Row],[Código Único]])","v":227},"GOBIERNO REGIONAL","00000227","COTOYACU","LORETO","ALTO AMAZONAS","YURIMAGUAS","160201","24","11","01","LORETO","ALTO AMAZONAS","YURIMAGUAS","I-1"]
[null,{"$f":"VALUE(renipress[[#This Row],[Código Único]])","v":228},"GOBIERNO REGIONAL","00000228","C.S. I-3 CARRETERA KM 1.5","LORETO","ALTO AMAZONAS","YURIMAGUAS","160201","24","11","01","LORETO","ALTO AMAZONAS","YURIMAGUAS","I-3"]
[null,{"$f":"VALUE(renipress[[#This Row],[Código Único]])","v":229},"GOBIERNO REGIONAL","00000229","P.S. I-1 AA.HH. 30 DE AGOSTO KM. 17","LORETO","ALTO AMAZONAS","YURIMAGUAS","160201","24","11","01","LORETO","ALTO AMAZONAS","YURIMAGUAS","I-1"]
[null,{"$f":"VALUE(renipress[[#This Row],[Código Único]])","v":230},"GOBIERNO REGIONAL","00000230","P.S. I-1 SAN JUAN DE PAMPLONA","LORETO","ALTO AMAZONAS","YURIMAGUAS","160201","24","11","01","LORETO","ALTO AMAZONAS","YURIMAGUAS","I-1"]
[null,{"$f":"VALUE(renipress[[#This Row],[Código Único]])","v":231},"GOBIERNO REGIONAL","00000231","P.S. I-1 SANTO TOMAS DE YURIMAGUAS","LORETO","ALTO AMAZONAS","YURIMAGUAS","160201","24","11","01","LORETO","ALTO AMAZONAS","YURIMAGUAS","I-1"]
[null,{"$f":"VALUE(renipress[[#This Row],[Código Único]])","v":232},"GOBIERNO REGIONAL","00000232","C.S. I-3 GRAU KM.40","LORETO","ALTO AMAZONAS","YURIMAGUAS","160201","24","11","01","LORETO","ALTO AMAZONAS","YURIMAGUAS","I-3"]
[null,{"$f":"VALUE(renipress[[#This Row],[Código Único]])","v":233},"GOBIERNO REGIONAL","00000233","P.S. I-1 NUEVA ALIANZA","LORETO","ALTO AMAZONAS","YURIMAGUAS","160201","24","11","01","LORETO","ALTO AMAZONAS","YURIMAGUAS","I-1"]
[null,{"$f":"VALUE(renipress[[#This Row],[Código Único]])","v":234},"GOBIERNO REGIONAL","00000234","P.S. I-1 SAN FRANCISCO PAMPAYACU","LORETO","ALTO AMAZONAS","YURIMAGUAS","160201","24","11","01","LORETO","ALTO AMAZONAS","YURIMAGUAS","I-1"]
[null,{"$f":"VALUE(renipress[[#This Row],[Código Único]])","v":235},"GOBIERNO REGIONAL","00000235","C.S. I-4 SAN LORENZO","LORETO","DATEM DEL MARAÑON","BARRANCA","160701","24","12","02","LORETO","DATEM DEL MARAÑON","BARRANCA","I-4"]
[null,{"$f":"VALUE(renipress[[#This Row],[Código Único]])","v":236},"GOBIERNO REGIONAL","00000236","P.S. I-1 LIBERTAD DE BARRANCA","LORETO","DATEM DEL MARAÑON","BARRANCA","160701","24","12","02","LORETO","DATEM DEL MARAÑON","BARRANCA","I-1"]
[null,{"$f":"VALUE(renipress[[#This Row],[Código Único]])","v":237},"GOBIERNO REGIONAL","00000237","P.S. I-1 INDUSTRIAL","LORETO","DATEM DEL MARAÑON","BARRANCA","160701","24","12","02","LORETO","DATEM DEL MARAÑON","BARRANCA","I-1"]
[null,{"$f":"VALUE(renipress[[#This Row],[Código Único]])","v":238},"GOBIERNO REGIONAL","00000238","P.S. I-1 TIGRE PLAYA","LORETO","DATEM DEL MARAÑON","BARRANCA","160701","24","12","02","LORETO","DATEM DEL MARAÑON","BARRANCA","I-1"]
[null,{"$f":"VALUE(renipress[[#This Row],[Código Único]])","v":239},"GOBIERNO REGIONAL","00000239","P.S. I-1 BUENA VISTA DE BARRANCA","LORETO","DATEM DEL MARAÑON","BARRANCA","160701","24","12","02","LORETO","DATEM DEL MARAÑON","BARRANCA","I-1"]
[null,{"$f":"VALUE(renipress[[#This Row],[Código Único]])","v":240},"GOBIERNO REGIONAL","00000240","P.S. I-2 SANTA MARIA DE CAHUAPANAS","LORETO","DATEM DEL MARAÑON","CAHUAPANAS","160702","24","12","06","LORETO","DATEM DEL MARAÑON","CAHUAPANAS","I-2"]
[null,{"$f":"VALUE(renipress[[#This Row],[Código Único]])","v":241},"GOBIERNO REGIONAL","00000241","BARRANQUITA DE CAHUAPANAS","LORETO","DATEM DEL MARAÑON","CAHUAPANAS","160702","24","12","06","LORETO","DATEM DEL MARAÑON","CAHUAPANAS","I-1"]
[null,{"$f":"VALUE(renipress[[#This Row],[Código Único]])","v":242},"GOBIERNO REGIONAL","00000242","SAN MIGUEL","LORETO","DATEM DEL MARAÑON","CAHUAPANAS","160702","24","12","06","LORETO","DATEM DEL MARAÑON","CAHUAPANAS","I-1"]
[null,{"$f":"VALUE(renipress[[#This Row],[Código Único]])","v":243},"GOBIERNO REGIONAL","00000243","PALMICHE","LORETO","DATEM DEL MARAÑON","CAHUAPANAS","160702","24","12","06","LORETO","DATEM DEL MARAÑON","CAHUAPANAS","I-1"]
[null,{"$f":"VALUE(renipress[[#This Row],[Código Único]])","v":244},"GOBIERNO REGIONAL","00000244","KAUPAN","LORETO","DATEM DEL MARAÑON","CAHUAPANAS","160702","24","12","06","LORETO","DATEM DEL MARAÑON","CAHUAPANAS","I-1"]
[null,{"$f":"VALUE(renipress[[#This Row],[Código Único]])","v":245},"GOBIERNO REGIONAL","00000245","P.S. I-1 SAN ANTONIO DE CAHUAPANAS","LORETO","DATEM DEL MARAÑON","CAHUAPANAS","160702","24","12","06","LORETO","DATEM DEL MARAÑON","CAHUAPANAS","I-1"]
[null,{"$f":"VALUE(renipress[[#This Row],[Código Único]])","v":246},"GOBIERNO REGIONAL","00000246","C.S. I-3 SARAMIRIZA","LORETO","DATEM DEL MARAÑON","MANSERICHE","160703","24","12","01","LORETO","DATEM DEL MARAÑON","MANSERICHE","I-3"]
[null,{"$f":"VALUE(renipress[[#This Row],[Código Único]])","v":247},"GOBIERNO REGIONAL","00000247","BORJA","LORETO","DATEM DEL MARAÑON","MANSERICHE","160703","24","12","01","LORETO","DATEM DEL MARAÑON","MANSERICHE","I-1"]
[null,{"$f":"VALUE(renipress[[#This Row],[Código Único]])","v":248},"GOBIERNO REGIONAL","00000248","FELIX FLORES","LORETO","DATEM DEL MARAÑON","MANSERICHE","160703","24","12","01","LORETO","DATEM DEL MARAÑON","MANSERICHE","I-1"]
[null,{"$f":"VALUE(renipress[[#This Row],[Código Único]])","v":249},"GOBIERNO REGIONAL","00000249","SACHA PAPA","LORETO","DATEM DEL MARAÑON","MANSERICHE","160703","24","12","01","LORETO","DATEM DEL MARAÑON","MANSERICHE","I-2"]
[null,{"$f":"VALUE(renipress[[#This Row],[Código Único]])","v":250},"GOBIERNO REGIONAL","00000250","ATAHUALPA","LORETO","DATEM DEL MARAÑON","MANSERICHE","160703","24","12","01","LORETO","DATEM DEL MARAÑON","MANSERICHE","I-2"]
[null,{"$f":"VALUE(renipress[[#This Row],[Código Único]])","v":251},"GOBIERNO REGIONAL","00000251","P.S. I-2 PUERTO AMERICA","LORETO","DATEM DEL MARAÑON","MORONA","160704","24","12","04","LORETO","DATEM DEL MARAÑON","MORONA","I-2"]
[null,{"$f":"VALUE(renipress[[#This Row],[Código Único]])","v":252},"GOBIERNO REGIONAL","00000252","PUERTO ALEGRIA DE MORONA","LORETO","DATEM DEL MARAÑON","MORONA","160704","24","12","04","LORETO","DATEM DEL MARAÑON","MORONA","I-1"]
[null,{"$f":"VALUE(renipress[[#This Row],[Código Único]])","v":253},"GOBIERNO REGIONAL","00000253","PIJUAYAL","LORETO","DATEM DEL MARAÑON","MORONA","160704","24","12","04","LORETO","DATEM DEL MARAÑON","MORONA","I-1"]
[null,{"$f":"VALUE(renipress[[#This Row],[Código Único]])","v":254},"GOBIERNO REGIONAL","00000254","CABALLITO","LORETO","DATEM DEL MARAÑON","MORONA","160704","24","12","04","LORETO","DATEM DEL MARAÑON","MORONA","I-1"]
[null,{"$f":"VALUE(renipress[[#This Row],[Código Único]])","v":255},"GOBIERNO REGIONAL","00000255","SAN JUAN DEL MORONA","LORETO","DATEM DEL MARAÑON","MORONA","160704","24","12","04","LORETO","DATEM DEL MARAÑON","MORONA","I-1"]
[null,{"$f":"VALUE(renipress[[#This Row],[Código Único]])","v":256},"GOBIERNO REGIONAL","00000256","PANINTZA","LORETO","DATEM DEL MARAÑON","MORONA","160704","24","12","04","LORETO","DATEM DEL MARAÑON","MORONA","I-1"]
[null,{"$f":"VALUE(renipress[[#This Row],[Código Único]])","v":257},"GOBIERNO REGIONAL","00000257","SHINGUITO","LORETO","DATEM DEL MARAÑON","MORONA","160704","24","12","04","LORETO","DATEM DEL MARAÑON","MORONA","I-1"]
[null,{"$f":"VALUE(renipress[[#This Row],[Código Único]])","v":258},"GOBIERNO REGIONAL","00000258","NUEVO ANDOAS","LORETO","DATEM DEL MARAÑON","ANDOAS","160706","24","12","05","LORETO","DATEM DEL MARAÑON","ANDOAS","I-4"]
[null,{"$f":"VALUE(renipress[[#This Row],[Código Único]])","v":259},"GOBIERNO REGIONAL","00000259","ANDOAS VIEJO","LORETO","DATEM DEL MARAÑON","ANDOAS","160706","24","12","05","LORETO","DATEM DEL MARAÑON","ANDOAS","I-1"]
[null,{"$f":"VALUE(renipress[[#This Row],[Código Único]])","v":260},"GOBIERNO REGIONAL","00000260","P.S. I-2 ALIANZA CRISTIANA","LORETO","DATEM DEL MARAÑON","ANDOAS","160706","24","12","05","LORETO","DATEM DEL MARAÑON","ANDOAS","I-2"]
[null,{"$f":"VALUE(renipress[[#This Row],[Código Único]])","v":261},"GOBIERNO REGIONAL","00000261","P.S. I-2 MUSAKARUSHA","LORETO","DATEM DEL MARAÑON","PASTAZA","160705","24","12","03","LORETO","DATEM DEL MARAÑON","PASTAZA","I-2"]
[null,{"$f":"VALUE(renipress[[#This Row],[Código Único]])","v":262},"GOBIERNO REGIONAL","00000262","P.S. I-2 CHUINTAR","LORETO","DATEM DEL MARAÑON","PASTAZA","160705","24","12","03","LORETO","DATEM DEL MARAÑON","PASTAZA","I-2"]
[null,{"$f":"VALUE(renipress[[#This Row],[Código Único]])","v":263},"GOBIERNO REGIONAL","00000263","SABALOYACU","LORETO","DATEM DEL MARAÑON","ANDOAS","160706","24","12","05","LORETO","DATEM DEL MARAÑON","ANDOAS","I-1"]
[null,{"$f":"VALUE(renipress[[#This Row],[Código Único]])","v":264},"GOBIERNO REGIONAL","00000264","P.S. I-2 LOBOYACU","LORETO","DATEM DEL MARAÑON","ANDOAS","160706","24","12","05","LORETO","DATEM DEL MARAÑON","ANDOAS","I-2"]
[null,{"$f":"VALUE(renipress[[#This Row],[Código Único]])","v":265},"GOBIERNO REGIONAL","00000265","WASHIENTZA","LORETO","DATEM DEL MARAÑON","ANDOAS","160706","24","12","05","LORETO","DATEM DEL MARAÑON","ANDOAS","I-1"]
[null,{"$f":"VALUE(renipress[[#This Row],[Código Único]])","v":266},"GOBIERNO REGIONAL","00000266","NUEVO PROGRESO - HUITOYACU","LORETO","DATEM DEL MARAÑON","PASTAZA","160705","24","12","03","LORETO","DATEM DEL MARAÑON","PASTAZA","I-1"]
[null,{"$f":"VALUE(renipress[[#This Row],[Código Único]])","v":267},"GOBIERNO REGIONAL","00000267","NUEVA YARINA","LORETO","DATEM DEL MARAÑON","PASTAZA","160705","24","12","03","LORETO","DATEM DEL MARAÑON","PASTAZA","I-1"]
[null,{"$f":"VALUE(renipress[[#This Row],[Código Único]])","v":268},"GOBIERNO REGIONAL","00000268","C.S. I-3 ULLPAYACU","LORETO","DATEM DEL MARAÑON","PASTAZA","160705","24","12","03","LORETO","DATEM DEL MARAÑON","PASTAZA","I-3"]
[null,{"$f":"VALUE(renipress[[#This Row],[Código Único]])","v":269},"GOBIERNO REGIONAL","00000269","UWIJINT","LORETO","DATEM DEL MARAÑON","PASTAZA","160705","24","12","03","LORETO","DATEM DEL MARAÑON","PASTAZA","I-1"]
[null,{"$f":"VALUE(renipress[[#This Row],[Código Único]])","v":270},"GOBIERNO REGIONAL","00000270","SAN JOSE DE LUPUNA","LORETO","MAYNAS","IQUITOS","160101","24","05","01","LORETO","MAYNAS CIUDAD","IQUITOS NORTE","I-1"]
[null,{"$f":"VALUE(renipress[[#This Row],[Código Único]])","v":271},"GOBIERNO REGIONAL","00000271","IPRESS I-2 MASUSA","LORETO","MAYNAS","PUNCHANA","160108","24","05","04","LORETO","MAYNAS CIUDAD","PUNCHANA","I-2"]
[null,{"$f":"VALUE(renipress[[#This Row],[Código Único]])","v":272},"GOBIERNO REGIONAL","00000272","CENTRO FUERTE","LORETO","MAYNAS","PUNCHANA","160108","24","05","04","LORETO","MAYNAS CIUDAD","PUNCHANA","I-1"]
[null,{"$f":"VALUE(renipress[[#This Row],[Código Único]])","v":273},"GOBIERNO REGIONAL","00000273","SAN ANTONIO DE PINTUYACU","LORETO","MAYNAS","ALTO NANAY","160102","24","05","01","LORETO","MAYNAS CIUDAD","IQUITOS NORTE","I-1"]
[null,{"$f":"VALUE(renipress[[#This Row],[Código Único]])","v":274},"GOBIERNO REGIONAL","00000274","II  MIRAFLORES (CAIJ)","LORETO","MAYNAS","SAN JUAN BAUTISTA","160113","24","00","00","LORETO","NO PERTENECE A NINGUNA RED","NO PERTENECE A NINGUNA MICRORED","I-2"]
[null,{"$f":"VALUE(renipress[[#This Row],[Código Único]])","v":275},"GOBIERNO REGIONAL","00000275","ACLAS BELEN DE VILLA BELEN","LORETO","MAYNAS","BELEN","160112","24","05","03","LORETO","MAYNAS CIUDAD","BELEN","I-3"]
[null,{"$f":"VALUE(renipress[[#This Row],[Código Único]])","v":276},"GOBIERNO REGIONAL","00000276","GALLITO","LORETO","MAYNAS","IQUITOS","160101","24","05","03","LORETO","MAYNAS CIUDAD","BELEN","I-1"]
[null,{"$f":"VALUE(renipress[[#This Row],[Código Único]])","v":277},"GOBIERNO REGIONAL","00000277","SERAFIN FILOMENO","LORETO","MAYNAS","FERNANDO LORES","160103","24","06","04","LORETO","MAYNAS PERIFERIE","TAMSHIYACU","I-1"]
[null,{"$f":"VALUE(renipress[[#This Row],[Código Único]])","v":278},"GOBIERNO REGIONAL","00000278","BUENAS LOMAS","LORETO","REQUENA","YAQUERANA","160511","24","06","05","LORETO","MAYNAS PERIFERIE","ANGAMOS","I-1"]
[null,{"$f":"VALUE(renipress[[#This Row],[Código Único]])","v":279},"GOBIERNO REGIONAL","00000279","HUAMAN URCO","LORETO","MAYNAS","MAZAN","160106","24","06","03","LORETO","MAYNAS PERIFERIE","MAZAN","I-1"]
[null,{"$f":"VALUE(renipress[[#This Row],[Código Único]])","v":280},"GOBIERNO REGIONAL","00000280","MANGUA DEL MAZAN","LORETO","MAYNAS","MAZAN","160106","24","06","03","LORETO","MAYNAS PERIFERIE","MAZAN","I-1"]
[null,{"$f":"VALUE(renipress[[#This Row],[Código Único]])","v":281},"GOBIERNO REGIONAL","00000281","SAN FRANCISCO DE BUEN PASO","LORETO","MAYNAS","MAZAN","160106","24","06","03","LORETO","MAYNAS PERIFERIE","MAZAN","I-1"]
[null,{"$f":"VALUE(renipress[[#This Row],[Código Único]])","v":282},"GOBIERNO REGIONAL","00000282","LIBERTAD - RIO MAZAN","LORETO","MAYNAS","MAZAN","160106","24","06","03","LORETO","MAYNAS PERIFERIE","MAZAN","I-1"]
[null,{"$f":"VALUE(renipress[[#This Row],[Código Único]])","v":283},"GOBIERNO REGIONAL","00000283","SAN LUIS DE TACSHA CURARAY","LORETO","MAYNAS","NAPO","160107","24","06","02","LORETO","MAYNAS PERIFERIE","SANTA CLOTILDE","I-1"]
[null,{"$f":"VALUE(renipress[[#This Row],[Código Único]])","v":284},"GOBIERNO REGIONAL","00000284","RUMI TUMI","LORETO","MAYNAS","NAPO","160107","24","06","02","LORETO","MAYNAS PERIFERIE","SANTA CLOTILDE","I-1"]
[null,{"$f":"VALUE(renipress[[#This Row],[Código Único]])","v":285},"GOBIERNO REGIONAL","00000285","SAN RAFAEL","LORETO","MAYNAS","NAPO","160107","24","06","02","LORETO","MAYNAS PERIFERIE","SANTA CLOTILDE","I-1"]
[null,{"$f":"VALUE(renipress[[#This Row],[Código Único]])","v":286},"GOBIERNO REGIONAL","00000286","BUENA VISTA DEL NAPO","LORETO","MAYNAS","NAPO","160107","24","06","02","LORETO","MAYNAS PERIFERIE","SANTA CLOTILDE","I-1"]
[null,{"$f":"VALUE(renipress[[#This Row],[Código Único]])","v":287},"GOBIERNO REGIONAL","00000287","ANGUSILLA","LORETO","PUTUMAYO","TENIENTE MANUEL CLAVERO","160803","24","06","01","LORETO","MAYNAS PERIFERIE","PUTUMAYO","I-1"]
[null,{"$f":"VALUE(renipress[[#This Row],[Código Único]])","v":288},"GOBIERNO REGIONAL","00000288","SAN JOSE DE SARAMURO","LORETO","LORETO","URARINAS","160305","24","08","04","LORETO","LORETO","MAYPUCO","I-2"]
[null,{"$f":"VALUE(renipress[[#This Row],[Código Único]])","v":289},"GOBIERNO REGIONAL","00000289","PIURA","LORETO","LORETO","TIGRE","160303","24","08","05","LORETO","LORETO","INTUTO","I-1"]
[null,{"$f":"VALUE(renipress[[#This Row],[Código Único]])","v":290},"GOBIERNO REGIONAL","00000290","SAN ANTONIO - BAJO AMAZONAS","LORETO","MARISCAL RAMON CASTILLA","SAN PABLO","160404","24","07","02","LORETO","RAMON CASTILLA","SAN PABLO","I-1"]
[null,{"$f":"VALUE(renipress[[#This Row],[Código Único]])","v":291},"GOBIERNO REGIONAL","00000291","SANTA ROSA DE RAMON CASTILLA","LORETO","MARISCAL RAMON CASTILLA","YAVARI","160403","24","07","04","LORETO","RAMON CASTILLA","ISLANDIA","I-3"]
[null,{"$f":"VALUE(renipress[[#This Row],[Código Único]])","v":292},"GOBIERNO REGIONAL","00000292","PUERTO ALEGRIA DE RAMON CASTILLA","LORETO","MARISCAL RAMON CASTILLA","RAMON CASTILLA","160401","24","07","04","LORETO","RAMON CASTILLA","ISLANDIA","I-1"]
[null,{"$f":"VALUE(renipress[[#This Row],[Código Único]])","v":293},"GOBIERNO REGIONAL","00000293","CAROCURAHUAYTE","LORETO","REQUENA","REQUENA","160501","24","10","01","LORETO","REQUENA","REQUENA","I-1"]
[null,{"$f":"VALUE(renipress[[#This Row],[Código Único]])","v":294},"GOBIERNO REGIONAL","00000294","PUESTO DE SALUD I-1 SAN PABLO DE SINUYA","LORETO","UCAYALI","CONTAMANA","160601","24","09","01","LORETO","UCAYALI","CONTAMANA","I-1"]
[null,{"$f":"VALUE(renipress[[#This Row],[Código Único]])","v":295},"GOBIERNO REGIONAL","00000295","PUESTO DE SALUD I-1 SANTA ROSA DEL PISQUI","LORETO","UCAYALI","CONTAMANA","160601","24","09","01","LORETO","UCAYALI","CONTAMANA","I-1"]
[null,{"$f":"VALUE(renipress[[#This Row],[Código Único]])","v":296},"GOBIERNO REGIONAL","00000296","MIGUEL GRAU","LORETO","UCAYALI","SARAYACU","160605","24","09","02","LORETO","UCAYALI","SARAYACU","I-1"]
[null,{"$f":"VALUE(renipress[[#This Row],[Código Único]])","v":297},"GOBIERNO REGIONAL","00000297","PUESTO DE SALUD I-1 SAMAN","LORETO","UCAYALI","SARAYACU","160605","24","09","02","LORETO","UCAYALI","SARAYACU","I-1"]
[null,{"$f":"VALUE(renipress[[#This Row],[Código Único]])","v":298},"GOBIERNO REGIONAL","00000298","PUESTO DE SALUD ALTO PERILLO I-1","LORETO","UCAYALI","PAMPA HERMOSA","160604","24","09","01","LORETO","UCAYALI","CONTAMANA","I-1"]
[null,{"$f":"VALUE(renipress[[#This Row],[Código Único]])","v":299},"GOBIERNO REGIONAL","00000299","P.S. I-1 PARINARI","LORETO","ALTO AMAZONAS","TENIENTE CESAR LOPEZ ROJAS","160211","24","11","02","LORETO","ALTO AMAZONAS","TENIENTE CESAR LOPEZ ROJAS","I-1"]
[null,{"$f":"VALUE(renipress[[#This Row],[Código Único]])","v":300},"GOBIERNO REGIONAL","00000300","P.S. I-1 LIBERTAD DE CUIPARILLO","LORETO","ALTO AMAZONAS","TENIENTE CESAR LOPEZ ROJAS","160211","24","11","02","LORETO","ALTO AMAZONAS","TENIENTE CESAR LOPEZ ROJAS","I-1"]
[null,{"$f":"VALUE(renipress[[#This Row],[Código Único]])","v":301},"GOBIERNO REGIONAL","00000301","P.S. I-1 GLORIA","LORETO","ALTO AMAZONAS","TENIENTE CESAR LOPEZ ROJAS","160211","24","11","02","LORETO","ALTO AMAZONAS","TENIENTE CESAR LOPEZ ROJAS","I-1"]
[null,{"$f":"VALUE(renipress[[#This Row],[Código Único]])","v":302},"GOBIERNO REGIONAL","00000302","P.S. I-1 PANAM","LORETO","ALTO AMAZONAS","BALSAPUERTO","160202","24","11","03","LORETO","ALTO AMAZONAS","BALSAPUERTO","I-1"]
[null,{"$f":"VALUE(renipress[[#This Row],[Código Único]])","v":303},"GOBIERNO REGIONAL","00000303","P.S. 1-2 NUEVO ARICA DE BALSAPUERTO","LORETO","ALTO AMAZONAS","BALSAPUERTO","160202","24","11","01","LORETO","ALTO AMAZONAS","YURIMAGUAS","I-1"]
[null,{"$f":"VALUE(renipress[[#This Row],[Código Único]])","v":304},"GOBIERNO REGIONAL","00000304","P.S. I-1 CENTRO AMERICA","LORETO","ALTO AMAZONAS","BALSAPUERTO","160202","24","11","03","LORETO","ALTO AMAZONAS","BALSAPUERTO","I-1"]
[null,{"$f":"VALUE(renipress[[#This Row],[Código Único]])","v":305},"GOBIERNO REGIONAL","00000305","SAN JUAN DEL MARAÑON","LORETO","DATEM DEL MARAÑON","MANSERICHE","160703","24","12","01","LORETO","DATEM DEL MARAÑON","MANSERICHE","I-1"]
[null,{"$f":"VALUE(renipress[[#This Row],[Código Único]])","v":306},"GOBIERNO REGIONAL","00000306","PARAGUA POZA","LORETO","DATEM DEL MARAÑON","MORONA","160704","24","12","04","LORETO","DATEM DEL MARAÑON","MORONA","I-1"]
[null,{"$f":"VALUE(renipress[[#This Row],[Código Único]])","v":307},"GOBIERNO REGIONAL","00000307","TZEKUNZA","LORETO","DATEM DEL MARAÑON","ANDOAS","160706","24","12","05","LORETO","DATEM DEL MARAÑON","ANDOAS","I-1"]
[null,{"$f":"VALUE(renipress[[#This Row],[Código Único]])","v":308},"GOBIERNO REGIONAL","00000308","HOSPITAL REGIONAL DOCENTE DE MEDICINA TROPICAL DR. JULIO CESAR DEMARINI CARO","JUNIN","CHANCHAMAYO","CHANCHAMAYO","120301","17","04","00","JUNIN","CHANCHAMAYO","NO PERTENECE A NINGUNA MICRORED","II-2"]
[null,{"$f":"VALUE(renipress[[#This Row],[Código Único]])","v":309},"GOBIERNO REGIONAL","00000309","PREVENTIVO PROMOCIONAL LA MERCED","JUNIN","CHANCHAMAYO","CHANCHAMAYO","120301","17","04","01","JUNIN","CHANCHAMAYO","SAN LUIS DE SHUARO","Sin Categoría"]
[null,{"$f":"VALUE(renipress[[#This Row],[Código Único]])","v":310},"GOBIERNO REGIONAL","00000310","VILLA DORADA","JUNIN","CHANCHAMAYO","CHANCHAMAYO","120301","17","04","03","JUNIN","CHANCHAMAYO","PERENE","I-1"]
[null,{"$f":"VALUE(renipress[[#This Row],[Código Único]])","v":311},"GOBIERNO REGIONAL","00000311","VILLA PROGRESO","JUNIN","CHANCHAMAYO","CHANCHAMAYO","120301","17","04","01","JUNIN","CHANCHAMAYO","SAN LUIS DE SHUARO","I-2"]
[null,{"$f":"VALUE(renipress[[#This Row],[Código Único]])","v":312},"GOBIERNO REGIONAL","00000312","PUEBLO PARDO","JUNIN","CHANCHAMAYO","CHANCHAMAYO","120301","17","04","01","JUNIN","CHANCHAMAYO","SAN LUIS DE SHUARO","I-1"]
[null,{"$f":"VALUE(renipress[[#This Row],[Código Único]])","v":313},"GOBIERNO REGIONAL","00000313","PAMPA AMERICANA","JUNIN","CHANCHAMAYO","CHANCHAMAYO","120301","17","04","01","JUNIN","CHANCHAMAYO","SAN LUIS DE SHUARO","Sin Categoría"]
[null,{"$f":"VALUE(renipress[[#This Row],[Código Único]])","v":314},"GOBIERNO REGIONAL","00000314","SAN LUIS DE SHUARO","JUNIN","CHANCHAMAYO","SAN LUIS DE SHUARO","120304","17","04","01","JUNIN","CHANCHAMAYO","SAN LUIS DE SHUARO","I-3"]
[null,{"$f":"VALUE(renipress[[#This Row],[Código Único]])","v":315},"GOBIERNO REGIONAL","00000315","SANCHIRIO PALOMAR","JUNIN","CHANCHAMAYO","SAN LUIS DE SHUARO","120304","17","04","01","JUNIN","CHANCHAMAYO","SAN LUIS DE SHUARO","I-3"]
[null,{"$f":"VALUE(renipress[[#This Row],[Código Único]])","v":316},"GOBIERNO REGIONAL","00000316","SANTA HERMINIA BAJA","JUNIN","CHANCHAMAYO","SAN LUIS DE SHUARO","120304","17","04","01","JUNIN","CHANCHAMAYO","SAN LUIS DE SHUARO","I-1"]
[null,{"$f":"VALUE(renipress[[#This Row],[Código Único]])","v":317},"GOBIERNO REGIONAL","00000317","RAYMONDI","JUNIN","JUNIN","ULCUMAYO","120504","17","04","01","JUNIN","CHANCHAMAYO","SAN LUIS DE SHUARO","I-1"]
[null,{"$f":"VALUE(renipress[[#This Row],[Código Único]])","v":318},"GOBIERNO REGIONAL","00000318","VILLA PERENE","JUNIN","CHANCHAMAYO","PERENE","120302","17","04","03","JUNIN","CHANCHAMAYO","PERENE","I-4"]
[null,{"$f":"VALUE(renipress[[#This Row],[Código Único]])","v":319},"GOBIERNO REGIONAL","00000319","BAJO MARANKIARI","JUNIN","CHANCHAMAYO","PERENE","120302","17","04","03","JUNIN","CHANCHAMAYO","PERENE","I-2"]
[null,{"$f":"VALUE(renipress[[#This Row],[Código Único]])","v":320},"GOBIERNO REGIONAL","00000320","PUERTO YURINAKI","JUNIN","CHANCHAMAYO","PERENE","120302","17","04","03","JUNIN","CHANCHAMAYO","PERENE","I-3"]
[null,{"$f":"VALUE(renipress[[#This Row],[Código Único]])","v":321},"GOBIERNO REGIONAL","00000321","ALTO YURINAKI","JUNIN","CHANCHAMAYO","PERENE","120302","17","04","03","JUNIN","CHANCHAMAYO","PERENE","I-2"]
[null,{"$f":"VALUE(renipress[[#This Row],[Código Único]])","v":322},"GOBIERNO REGIONAL","00000322","LIBERTAD TOTERANI","JUNIN","CHANCHAMAYO","PERENE","120302","17","04","03","JUNIN","CHANCHAMAYO","PERENE","I-1"]
[null,{"$f":"VALUE(renipress[[#This Row],[Código Único]])","v":323},"GOBIERNO REGIONAL","00000323","INCHATINGARI","JUNIN","CHANCHAMAYO","PERENE","120302","17","04","03","JUNIN","CHANCHAMAYO","PERENE","I-1"]
[null,{"$f":"VALUE(renipress[[#This Row],[Código Único]])","v":324},"GOBIERNO REGIONAL","00000324","LOS ANGELES DE UBIRIKI","JUNIN","CHANCHAMAYO","PERENE","120302","17","04","03","JUNIN","CHANCHAMAYO","PERENE","I-2"]
[null,{"$f":"VALUE(renipress[[#This Row],[Código Único]])","v":325},"GOBIERNO REGIONAL","00000325","CENTRO POBLADO MENOR LA FLORIDA","JUNIN","CHANCHAMAYO","PERENE","120302","17","04","03","JUNIN","CHANCHAMAYO","PERENE","I-2"]
[null,{"$f":"VALUE(renipress[[#This Row],[Código Único]])","v":326},"GOBIERNO REGIONAL","00000326","SANTA ROSA DE RIO AMARILLO","JUNIN","CHANCHAMAYO","PERENE","120302","17","04","03","JUNIN","CHANCHAMAYO","PERENE","I-1"]
[null,{"$f":"VALUE(renipress[[#This Row],[Código Único]])","v":327},"GOBIERNO REGIONAL","00000327","ALTO PUMPURIANI","JUNIN","CHANCHAMAYO","PERENE","120302","17","04","03","JUNIN","CHANCHAMAYO","PERENE","I-1"]
[null,{"$f":"VALUE(renipress[[#This Row],[Código Único]])","v":328},"GOBIERNO REGIONAL","00000328","CHURINGAVENI","JUNIN","CHANCHAMAYO","PERENE","120302","17","04","03","JUNIN","CHANCHAMAYO","PERENE","I-1"]
[null,{"$f":"VALUE(renipress[[#This Row],[Código Único]])","v":329},"GOBIERNO REGIONAL","00000329","HUACAMAYO","JUNIN","CHANCHAMAYO","PERENE","120302","17","04","03","JUNIN","CHANCHAMAYO","PERENE","I-1"]
[null,{"$f":"VALUE(renipress[[#This Row],[Código Único]])","v":330},"GOBIERNO REGIONAL","00000330","SAN FERNANDO DE KIVINAKI","JUNIN","CHANCHAMAYO","PERENE","120302","17","04","03","JUNIN","CHANCHAMAYO","PERENE","I-3"]
[null,{"$f":"VALUE(renipress[[#This Row],[Código Único]])","v":331},"GOBIERNO REGIONAL","00000331","LOS ANGELES TOTERANI","JUNIN","CHANCHAMAYO","PERENE","120302","17","04","03","JUNIN","CHANCHAMAYO","PERENE","I-1"]
[null,{"$f":"VALUE(renipress[[#This Row],[Código Único]])","v":332},"GOBIERNO REGIONAL","00000332","ALTO SAN JUAN","JUNIN","CHANCHAMAYO","PERENE","120302","17","04","03","JUNIN","CHANCHAMAYO","PERENE","I-1"]
[null,{"$f":"VALUE(renipress[[#This Row],[Código Único]])","v":333},"GOBIERNO REGIONAL","00000333","CENTRO TOTERANI","JUNIN","CHANCHAMAYO","PERENE","120302","17","04","03","JUNIN","CHANCHAMAYO","PERENE","I-1"]
[null,{"$f":"VALUE(renipress[[#This Row],[Código Único]])","v":334},"GOBIERNO REGIONAL","00000334","STA ROSA DE CAMONASHARI","JUNIN","CHANCHAMAYO","PERENE","120302","17","04","03","JUNIN","CHANCHAMAYO","PERENE","I-1"]
[null,{"$f":"VALUE(renipress[[#This Row],[Código Único]])","v":335},"GOBIERNO REGIONAL","00000335","ZONA PATRIA","JUNIN","CHANCHAMAYO","PERENE","120302","17","04","03","JUNIN","CHANCHAMAYO","PERENE","I-1"]
[null,{"$f":"VALUE(renipress[[#This Row],[Código Único]])","v":336},"GOBIERNO REGIONAL","00000336","ALTO YAPAZ","JUNIN","CHANCHAMAYO","SAN LUIS DE SHUARO","120304","17","04","03","JUNIN","CHANCHAMAYO","PERENE","I-1"]
[null,{"$f":"VALUE(renipress[[#This Row],[Código Único]])","v":337},"GOBIERNO REGIONAL","00000337","MIRISHARO","JUNIN","CHANCHAMAYO","PERENE","120302","17","07","01","JUNIN","PICHANAKI","CIUDAD SATELITE","I-2"]
[null,{"$f":"VALUE(renipress[[#This Row],[Código Único]])","v":338},"GOBIERNO REGIONAL","00000338","SAN CRISTOBAL","JUNIN","CHANCHAMAYO","PERENE","120302","17","07","01","JUNIN","PICHANAKI","CIUDAD SATELITE","I-1"]
[null,{"$f":"VALUE(renipress[[#This Row],[Código Único]])","v":339},"GOBIERNO REGIONAL","00000339","SAN ANTONIO ALTO PICHANAKI","JUNIN","CHANCHAMAYO","PERENE","120302","17","07","01","JUNIN","PICHANAKI","CIUDAD SATELITE","I-1"]
[null,{"$f":"VALUE(renipress[[#This Row],[Código Único]])","v":340},"GOBIERNO REGIONAL","00000340","HOSPITAL DE APOYO PICHANAKI","JUNIN","CHANCHAMAYO","PICHANAQUI","120303","17","07","00","JUNIN","PICHANAKI","NO PERTENECE A NINGUNA MICRORED","II-1"]
[null,{"$f":"VALUE(renipress[[#This Row],[Código Único]])","v":341},"GOBIERNO REGIONAL","00000341","IMPITATO CASCADA","JUNIN","CHANCHAMAYO","PICHANAQUI","120303","17","07","02","JUNIN","PICHANAKI","LAS PALMAS","I-2"]
[null,{"$f":"VALUE(renipress[[#This Row],[Código Único]])","v":342},"GOBIERNO REGIONAL","00000342","PRIMAVERA","JUNIN","CHANCHAMAYO","PICHANAQUI","120303","17","07","02","JUNIN","PICHANAKI","LAS PALMAS","I-2"]
[null,{"$f":"VALUE(renipress[[#This Row],[Código Único]])","v":343},"GOBIERNO REGIONAL","00000343","CENTRO CUYANI","JUNIN","CHANCHAMAYO","PICHANAQUI","120303","17","07","04","JUNIN","PICHANAKI","CUYANI","I-3"]
[null,{"$f":"VALUE(renipress[[#This Row],[Código Único]])","v":344},"GOBIERNO REGIONAL","00000344","LAS PALMAS","JUNIN","CHANCHAMAYO","PICHANAQUI","120303","17","07","02","JUNIN","PICHANAKI","LAS PALMAS","I-3"]
[null,{"$f":"VALUE(renipress[[#This Row],[Código Único]])","v":345},"GOBIERNO REGIONAL","00000345","PAMPA CAMONA","JUNIN","CHANCHAMAYO","PICHANAQUI","120303","17","07","02","JUNIN","PICHANAKI","LAS PALMAS","I-2"]
[null,{"$f":"VALUE(renipress[[#This Row],[Código Único]])","v":346},"GOBIERNO REGIONAL","00000346","HUANTININI","JUNIN","CHANCHAMAYO","PICHANAQUI","120303","17","07","03","JUNIN","PICHANAKI","HUACHIRIKI","I-2"]
[null,{"$f":"VALUE(renipress[[#This Row],[Código Único]])","v":347},"GOBIERNO REGIONAL","00000347","CONDADO PICHIKIARI","JUNIN","CHANCHAMAYO","PICHANAQUI","120303","17","07","04","JUNIN","PICHANAKI","CUYANI","I-2"]
[null,{"$f":"VALUE(renipress[[#This Row],[Código Único]])","v":348},"GOBIERNO REGIONAL","00000348","SAN JUAN CENTRO AUTIKI","JUNIN","CHANCHAMAYO","PICHANAQUI","120303","17","07","03","JUNIN","PICHANAKI","HUACHIRIKI","I-2"]
[null,{"$f":"VALUE(renipress[[#This Row],[Código Único]])","v":349},"GOBIERNO REGIONAL","00000349","UNIDAD EJECUTORA: RED DE SALUD PICHANAKI ","JUNIN","CHANCHAMAYO","PICHANAQUI","120303","17","07","03","JUNIN","PICHANAKI","HUACHIRIKI","I-2"]
[null,{"$f":"VALUE(renipress[[#This Row],[Código Único]])","v":350},"GOBIERNO REGIONAL","00000350","VALLE HERMOSO","JUNIN","CHANCHAMAYO","PICHANAQUI","120303","17","07","04","JUNIN","PICHANAKI","CUYANI","I-2"]
[null,{"$f":"VALUE(renipress[[#This Row],[Código Único]])","v":351},"GOBIERNO REGIONAL","00000351","HUACHIRIKI","JUNIN","CHANCHAMAYO","PICHANAQUI","120303","17","07","03","JUNIN","PICHANAKI","HUACHIRIKI","I-3"]
[null,{"$f":"VALUE(renipress[[#This Row],[Código Único]])","v":352},"GOBIERNO REGIONAL","00000352","UNION SHIMASHIRO","JUNIN","CHANCHAMAYO","PICHANAQUI","120303","17","07","02","JUNIN","PICHANAKI","LAS PALMAS","I-2"]
[null,{"$f":"VALUE(renipress[[#This Row],[Código Único]])","v":353},"GOBIERNO REGIONAL","00000353","ANDRES AVELINO CACERES","JUNIN","CHANCHAMAYO","PICHANAQUI","120303","17","07","04","JUNIN","PICHANAKI","CUYANI","I-1"]
[null,{"$f":"VALUE(renipress[[#This Row],[Código Único]])","v":354},"GOBIERNO REGIONAL","00000354","SAN RAMON","JUNIN","CHANCHAMAYO","SAN RAMON","120305","17","04","02","JUNIN","CHANCHAMAYO","SAN RAMON","I-4"]
[null,{"$f":"VALUE(renipress[[#This Row],[Código Único]])","v":355},"GOBIERNO REGIONAL","00000355","NARANJAL","JUNIN","CHANCHAMAYO","SAN RAMON","120305","17","04","02","JUNIN","CHANCHAMAYO","SAN RAMON","I-2"]
[null,{"$f":"VALUE(renipress[[#This Row],[Código Único]])","v":356},"GOBIERNO REGIONAL","00000356","LA ESPERANZA","JUNIN","CHANCHAMAYO","SAN RAMON","120305","17","04","02","JUNIN","CHANCHAMAYO","SAN RAMON","I-1"]
[null,{"$f":"VALUE(renipress[[#This Row],[Código Único]])","v":357},"GOBIERNO REGIONAL","00000357","PEDREGAL","JUNIN","CHANCHAMAYO","SAN RAMON","120305","17","04","02","JUNIN","CHANCHAMAYO","SAN RAMON","I-1"]
[null,{"$f":"VALUE(renipress[[#This Row],[Código Único]])","v":358},"GOBIERNO REGIONAL","00000358","VITOC","JUNIN","CHANCHAMAYO","VITOC","120306","17","04","02","JUNIN","CHANCHAMAYO","SAN RAMON","I-2"]
[null,{"$f":"VALUE(renipress[[#This Row],[Código Único]])","v":359},"GOBIERNO REGIONAL","00000359","VISCATAN","JUNIN","CHANCHAMAYO","VITOC","120306","17","04","02","JUNIN","CHANCHAMAYO","SAN RAMON","I-1"]
[null,{"$f":"VALUE(renipress[[#This Row],[Código Único]])","v":360},"GOBIERNO REGIONAL","00000360","UTCUYACU","JUNIN","CHANCHAMAYO","VITOC","120306","17","04","02","JUNIN","CHANCHAMAYO","SAN RAMON","I-1"]
[null,{"$f":"VALUE(renipress[[#This Row],[Código Único]])","v":361},"GOBIERNO REGIONAL","00000361","UCHUBAMBA","JUNIN","JAUJA","MASMA","120416","17","04","02","JUNIN","CHANCHAMAYO","SAN RAMON","I-1"]
[null,{"$f":"VALUE(renipress[[#This Row],[Código Único]])","v":362},"GOBIERNO REGIONAL","00000362","MONOBAMBA","JUNIN","JAUJA","MONOBAMBA","120419","17","04","02","JUNIN","CHANCHAMAYO","SAN RAMON","I-2"]
[null,{"$f":"VALUE(renipress[[#This Row],[Código Único]])","v":363},"GOBIERNO REGIONAL","00000363","CHACAYBAMBA","JUNIN","JAUJA","MONOBAMBA","120419","17","04","02","JUNIN","CHANCHAMAYO","SAN RAMON","I-1"]
[null,{"$f":"VALUE(renipress[[#This Row],[Código Único]])","v":364},"GOBIERNO REGIONAL","00000364","NINABAMBA","JUNIN","TARMA","HUASAHUASI","120704","17","04","02","JUNIN","CHANCHAMAYO","SAN RAMON","Sin Categoría"]
[null,{"$f":"VALUE(renipress[[#This Row],[Código Único]])","v":365},"GOBIERNO REGIONAL","00000365","HOSPITAL DOMINGO OLAVEGOYA","JUNIN","JAUJA","JAUJA","120401","17","02","00","JUNIN","JAUJA","NO PERTENECE A NINGUNA MICRORED","II-1"]
[null,{"$f":"VALUE(renipress[[#This Row],[Código Único]])","v":366},"GOBIERNO REGIONAL","00000366","PREVENTIVO PROMOCIONAL JAUJA","JUNIN","JAUJA","JAUJA","120401","17","02","01","JUNIN","JAUJA","HATUN XAUXA","Sin Categoría"]
[null,{"$f":"VALUE(renipress[[#This Row],[Código Único]])","v":367},"GOBIERNO REGIONAL","00000367","ATAURA","JUNIN","JAUJA","ATAURA","120404","17","02","01","JUNIN","JAUJA","HATUN XAUXA","I-1"]
[null,{"$f":"VALUE(renipress[[#This Row],[Código Único]])","v":368},"GOBIERNO REGIONAL","00000368","HUERTAS","JUNIN","JAUJA","HUERTAS","120410","17","02","01","JUNIN","JAUJA","HATUN XAUXA","I-1"]
[null,{"$f":"VALUE(renipress[[#This Row],[Código Único]])","v":369},"GOBIERNO REGIONAL","00000369","PACA","JUNIN","JAUJA","PACA","120422","17","02","01","JUNIN","JAUJA","HATUN XAUXA","I-2"]
[null,{"$f":"VALUE(renipress[[#This Row],[Código Único]])","v":370},"GOBIERNO REGIONAL","00000370","CANCHAPUNCO","JUNIN","JAUJA","PACCHA","120423","17","02","01","JUNIN","JAUJA","HATUN XAUXA","I-1"]
[null,{"$f":"VALUE(renipress[[#This Row],[Código Único]])","v":371},"GOBIERNO REGIONAL","00000371","PACCHA MIRAFLORES","JUNIN","JAUJA","PACCHA","120423","17","02","01","JUNIN","JAUJA","HATUN XAUXA","I-1"]
[null,{"$f":"VALUE(renipress[[#This Row],[Código Único]])","v":372},"GOBIERNO REGIONAL","00000372","MASAJCANCHA","JUNIN","JAUJA","PACCHA","120423","17","02","01","JUNIN","JAUJA","HATUN XAUXA","I-1"]
[null,{"$f":"VALUE(renipress[[#This Row],[Código Único]])","v":373},"GOBIERNO REGIONAL","00000373","PATACANCHA","JUNIN","JAUJA","PACCHA","120423","17","02","01","JUNIN","JAUJA","HATUN XAUXA","I-1"]
[null,{"$f":"VALUE(renipress[[#This Row],[Código Único]])","v":374},"GOBIERNO REGIONAL","00000374","PARCO","JUNIN","JAUJA","PARCO","120425","17","02","03","JUNIN","JAUJA","QUEBRADA DEL MANTARO","I-2"]
[null,{"$f":"VALUE(renipress[[#This Row],[Código Único]])","v":375},"GOBIERNO REGIONAL","00000375","ULLUSCA","JUNIN","JAUJA","PARCO","120425","17","02","03","JUNIN","JAUJA","QUEBRADA DEL MANTARO","I-1"]
[null,{"$f":"VALUE(renipress[[#This Row],[Código Único]])","v":376},"GOBIERNO REGIONAL","00000376","SAUSA","JUNIN","JAUJA","SAUSA","120430","17","02","01","JUNIN","JAUJA","HATUN XAUXA","I-2"]
[null,{"$f":"VALUE(renipress[[#This Row],[Código Único]])","v":377},"GOBIERNO REGIONAL","00000377","YAUYOS","JUNIN","JAUJA","YAUYOS","120434","17","02","01","JUNIN","JAUJA","HATUN XAUXA","I-3"]
[null,{"$f":"VALUE(renipress[[#This Row],[Código Único]])","v":378},"GOBIERNO REGIONAL","00000378","HUANCAS","JUNIN","JAUJA","YAUYOS","120434","17","02","01","JUNIN","JAUJA","HATUN XAUXA","I-1"]
[null,{"$f":"VALUE(renipress[[#This Row],[Código Único]])","v":379},"GOBIERNO REGIONAL","00000379","ACOLLA","JUNIN","JAUJA","ACOLLA","120402","17","02","02","JUNIN","JAUJA","VALLE DE YANAMARCA","I-3"]
[null,{"$f":"VALUE(renipress[[#This Row],[Código Único]])","v":380},"GOBIERNO REGIONAL","00000380","EL TINGO","JUNIN","JAUJA","ACOLLA","120402","17","02","02","JUNIN","JAUJA","VALLE DE YANAMARCA","I-2"]
[null,{"$f":"VALUE(renipress[[#This Row],[Código Único]])","v":381},"GOBIERNO REGIONAL","00000381","SACAS","JUNIN","JAUJA","ACOLLA","120402","17","02","02","JUNIN","JAUJA","VALLE DE YANAMARCA","I-1"]
[null,{"$f":"VALUE(renipress[[#This Row],[Código Único]])","v":382},"GOBIERNO REGIONAL","00000382","YANAMARCA","JUNIN","JAUJA","ACOLLA","120402","17","02","02","JUNIN","JAUJA","VALLE DE YANAMARCA","I-2"]
[null,{"$f":"VALUE(renipress[[#This Row],[Código Único]])","v":383},"GOBIERNO REGIONAL","00000383","PACHASCUCHO","JUNIN","JAUJA","ACOLLA","120402","17","02","02","JUNIN","JAUJA","VALLE DE YANAMARCA","I-2"]
[null,{"$f":"VALUE(renipress[[#This Row],[Código Único]])","v":384},"GOBIERNO REGIONAL","00000384","TINGO PACCHA","JUNIN","JAUJA","ACOLLA","120402","17","02","02","JUNIN","JAUJA","VALLE DE YANAMARCA","I-2"]
[null,{"$f":"VALUE(renipress[[#This Row],[Código Único]])","v":385},"GOBIERNO REGIONAL","00000385","MARCO","JUNIN","JAUJA","MARCO","120415","17","02","02","JUNIN","JAUJA","VALLE DE YANAMARCA","I-2"]
[null,{"$f":"VALUE(renipress[[#This Row],[Código Único]])","v":386},"GOBIERNO REGIONAL","00000386","YANACANCHA","JUNIN","JAUJA","PACA","120422","17","02","02","JUNIN","JAUJA","VALLE DE YANAMARCA","I-1"]
[null,{"$f":"VALUE(renipress[[#This Row],[Código Único]])","v":387},"GOBIERNO REGIONAL","00000387","PICHJAPUQUIO","JUNIN","JAUJA","PACA","120422","17","02","02","JUNIN","JAUJA","VALLE DE YANAMARCA","Sin Categoría"]
[null,{"$f":"VALUE(renipress[[#This Row],[Código Único]])","v":388},"GOBIERNO REGIONAL","00000388","POMACANCHA","JUNIN","JAUJA","POMACANCHA","120426","17","02","02","JUNIN","JAUJA","VALLE DE YANAMARCA","I-1"]
[null,{"$f":"VALUE(renipress[[#This Row],[Código Único]])","v":389},"GOBIERNO REGIONAL","00000389","ARMONIA","JUNIN","JAUJA","POMACANCHA","120426","17","02","02","JUNIN","JAUJA","VALLE DE YANAMARCA","I-1"]
[null,{"$f":"VALUE(renipress[[#This Row],[Código Único]])","v":390},"GOBIERNO REGIONAL","00000390","CASABLANCA","JUNIN","JAUJA","POMACANCHA","120426","17","02","02","JUNIN","JAUJA","VALLE DE YANAMARCA","I-1"]
[null,{"$f":"VALUE(renipress[[#This Row],[Código Único]])","v":391},"GOBIERNO REGIONAL","00000391","TUNANMARCA","JUNIN","JAUJA","TUNAN MARCA","120432","17","02","02","JUNIN","JAUJA","VALLE DE YANAMARCA","I-1"]
[null,{"$f":"VALUE(renipress[[#This Row],[Código Único]])","v":392},"GOBIERNO REGIONAL","00000392","CONOPA","JUNIN","JAUJA","HUAMALI","120408","17","02","01","JUNIN","JAUJA","HATUN XAUXA","Sin Categoría"]
[null,{"$f":"VALUE(renipress[[#This Row],[Código Único]])","v":393},"GOBIERNO REGIONAL","00000393","JULCAN","JUNIN","JAUJA","JULCAN","120412","17","02","06","JUNIN","JAUJA","VALLE AZUL","I-2"]
[null,{"$f":"VALUE(renipress[[#This Row],[Código Único]])","v":394},"GOBIERNO REGIONAL","00000394","MASMA","JUNIN","JAUJA","MASMA","120416","17","02","06","JUNIN","JAUJA","VALLE AZUL","I-3"]
[null,{"$f":"VALUE(renipress[[#This Row],[Código Único]])","v":395},"GOBIERNO REGIONAL","00000395","MASMA CHICCHE","JUNIN","JAUJA","MASMA CHICCHE","120417","17","02","06","JUNIN","JAUJA","VALLE AZUL","I-1"]
[null,{"$f":"VALUE(renipress[[#This Row],[Código Único]])","v":396},"GOBIERNO REGIONAL","00000396","NUNUNHUAYO","JUNIN","JAUJA","MASMA CHICCHE","120417","17","02","01","JUNIN","JAUJA","HATUN XAUXA","Sin Categoría"]
[null,{"$f":"VALUE(renipress[[#This Row],[Código Único]])","v":397},"GOBIERNO REGIONAL","00000397","MOLINOS","JUNIN","JAUJA","MOLINOS","120418","17","02","06","JUNIN","JAUJA","VALLE AZUL","I-2"]
[null,{"$f":"VALUE(renipress[[#This Row],[Código Único]])","v":398},"GOBIERNO REGIONAL","00000398","QUERO","JUNIN","JAUJA","MOLINOS","120418","17","02","06","JUNIN","JAUJA","VALLE AZUL","I-1"]
[null,{"$f":"VALUE(renipress[[#This Row],[Código Único]])","v":399},"GOBIERNO REGIONAL","00000399","CURIMARCA","JUNIN","JAUJA","MOLINOS","120418","17","02","06","JUNIN","JAUJA","VALLE AZUL","I-2"]
[null,{"$f":"VALUE(renipress[[#This Row],[Código Único]])","v":400},"GOBIERNO REGIONAL","00000400","HUARIPAMPA","JUNIN","JAUJA","HUARIPAMPA","120409","17","02","07","JUNIN","JAUJA","MARGEN DERECHA","I-1"]
[null,{"$f":"VALUE(renipress[[#This Row],[Código Único]])","v":401},"GOBIERNO REGIONAL","00000401","HUANCANI","JUNIN","JAUJA","LEONOR ORDOÑEZ","120413","17","02","07","JUNIN","JAUJA","MARGEN DERECHA","I-1"]
[null,{"$f":"VALUE(renipress[[#This Row],[Código Único]])","v":402},"GOBIERNO REGIONAL","00000402","MUQUI","JUNIN","JAUJA","MUQUI","120420","17","02","07","JUNIN","JAUJA","MARGEN DERECHA","I-1"]
[null,{"$f":"VALUE(renipress[[#This Row],[Código Único]])","v":403},"GOBIERNO REGIONAL","00000403","MUQUIYAUYO","JUNIN","JAUJA","MUQUIYAUYO","120421","17","02","07","JUNIN","JAUJA","MARGEN DERECHA","I-2"]
[null,{"$f":"VALUE(renipress[[#This Row],[Código Único]])","v":404},"GOBIERNO REGIONAL","00000404","SINCOS","JUNIN","JAUJA","SINCOS","120431","17","02","07","JUNIN","JAUJA","MARGEN DERECHA","I-3"]
[null,{"$f":"VALUE(renipress[[#This Row],[Código Único]])","v":405},"GOBIERNO REGIONAL","00000405","LLACUARIPAMPA","JUNIN","JAUJA","SINCOS","120431","17","02","07","JUNIN","JAUJA","MARGEN DERECHA","I-1"]
[null,{"$f":"VALUE(renipress[[#This Row],[Código Único]])","v":406},"GOBIERNO REGIONAL","00000406","ARAMACHAY","JUNIN","JAUJA","SINCOS","120431","17","02","07","JUNIN","JAUJA","MARGEN DERECHA","I-2"]
[null,{"$f":"VALUE(renipress[[#This Row],[Código Único]])","v":407},"GOBIERNO REGIONAL","00000407","SALLAHUACHAC","JUNIN","JAUJA","SINCOS","120431","17","02","07","JUNIN","JAUJA","MARGEN DERECHA","I-1"]
[null,{"$f":"VALUE(renipress[[#This Row],[Código Único]])","v":408},"GOBIERNO REGIONAL","00000408","CHALHUAS","JUNIN","JAUJA","SINCOS","120431","17","02","07","JUNIN","JAUJA","MARGEN DERECHA","I-1"]
[null,{"$f":"VALUE(renipress[[#This Row],[Código Único]])","v":409},"GOBIERNO REGIONAL","00000409","APATA","JUNIN","JAUJA","APATA","120403","17","02","05","JUNIN","JAUJA","MARGEN IZQUIERDA","I-3"]
[null,{"$f":"VALUE(renipress[[#This Row],[Código Único]])","v":410},"GOBIERNO REGIONAL","00000410","NUEVA ESPERANZA","JUNIN","JAUJA","APATA","120403","17","02","05","JUNIN","JAUJA","MARGEN IZQUIERDA","I-1"]
[null,{"$f":"VALUE(renipress[[#This Row],[Código Único]])","v":411},"GOBIERNO REGIONAL","00000411","SAN JOSE DE APATA","JUNIN","JAUJA","APATA","120403","17","02","05","JUNIN","JAUJA","MARGEN IZQUIERDA","I-1"]
[null,{"$f":"VALUE(renipress[[#This Row],[Código Único]])","v":412},"GOBIERNO REGIONAL","00000412","CHICCHE","JUNIN","JAUJA","APATA","120403","17","02","05","JUNIN","JAUJA","MARGEN IZQUIERDA","I-1"]
[null,{"$f":"VALUE(renipress[[#This Row],[Código Único]])","v":413},"GOBIERNO REGIONAL","00000413","PAUCAR APATA","JUNIN","JAUJA","APATA","120403","17","02","05","JUNIN","JAUJA","MARGEN IZQUIERDA","I-1"]
[null,{"$f":"VALUE(renipress[[#This Row],[Código Único]])","v":414},"GOBIERNO REGIONAL","00000414","EL MANTARO","JUNIN","JAUJA","EL MANTARO","120407","17","02","05","JUNIN","JAUJA","MARGEN IZQUIERDA","I-1"]
[null,{"$f":"VALUE(renipress[[#This Row],[Código Único]])","v":415},"GOBIERNO REGIONAL","00000415","HUAMALI","JUNIN","JAUJA","HUAMALI","120408","17","02","05","JUNIN","JAUJA","MARGEN IZQUIERDA","I-2"]
[null,{"$f":"VALUE(renipress[[#This Row],[Código Único]])","v":416},"GOBIERNO REGIONAL","00000416","SAN LORENZO","JUNIN","JAUJA","SAN LORENZO","120428","17","02","05","JUNIN","JAUJA","MARGEN IZQUIERDA","I-1"]
[null,{"$f":"VALUE(renipress[[#This Row],[Código Único]])","v":417},"GOBIERNO REGIONAL","00000417","PANCAN","JUNIN","JAUJA","PANCAN","120424","17","02","08","JUNIN","JAUJA","VALLE DE YACUS","I-1"]
[null,{"$f":"VALUE(renipress[[#This Row],[Código Único]])","v":418},"GOBIERNO REGIONAL","00000418","HUASQUICHA","JUNIN","JAUJA","PANCAN","120424","17","02","08","JUNIN","JAUJA","VALLE DE YACUS","I-1"]
[null,{"$f":"VALUE(renipress[[#This Row],[Código Único]])","v":419},"GOBIERNO REGIONAL","00000419","RICRAN","JUNIN","JAUJA","RICRAN","120427","17","02","08","JUNIN","JAUJA","VALLE DE YACUS","I-2"]
[null,{"$f":"VALUE(renipress[[#This Row],[Código Único]])","v":420},"GOBIERNO REGIONAL","00000420","TAMBILLO","JUNIN","JAUJA","RICRAN","120427","17","02","01","JUNIN","JAUJA","HATUN XAUXA","Sin Categoría"]
[null,{"$f":"VALUE(renipress[[#This Row],[Código Único]])","v":421},"GOBIERNO REGIONAL","00000421","APAYCANCHA","JUNIN","JAUJA","RICRAN","120427","17","02","08","JUNIN","JAUJA","VALLE DE YACUS","I-1"]
[null,{"$f":"VALUE(renipress[[#This Row],[Código Único]])","v":422},"GOBIERNO REGIONAL","00000422","SAN PEDRO DE CHUNAN","JUNIN","JAUJA","SAN PEDRO DE CHUNAN","120429","17","02","08","JUNIN","JAUJA","VALLE DE YACUS","I-1"]
[null,{"$f":"VALUE(renipress[[#This Row],[Código Único]])","v":423},"GOBIERNO REGIONAL","00000423","YAULI - JAUJA","JUNIN","JAUJA","YAULI","120433","17","02","08","JUNIN","JAUJA","VALLE DE YACUS","I-2"]
[null,{"$f":"VALUE(renipress[[#This Row],[Código Único]])","v":424},"GOBIERNO REGIONAL","00000424","CANCHAYLLO","JUNIN","JAUJA","CANCHAYLLO","120405","17","02","03","JUNIN","JAUJA","QUEBRADA DEL MANTARO","I-2"]
[null,{"$f":"VALUE(renipress[[#This Row],[Código Único]])","v":425},"GOBIERNO REGIONAL","00000425","EL ROSARIO","JUNIN","JAUJA","CURICACA","120406","17","02","03","JUNIN","JAUJA","QUEBRADA DEL MANTARO","I-2"]
[null,{"$f":"VALUE(renipress[[#This Row],[Código Único]])","v":426},"GOBIERNO REGIONAL","00000426","JANJAILLO","JUNIN","JAUJA","JANJAILLO","120411","17","02","03","JUNIN","JAUJA","QUEBRADA DEL MANTARO","I-2"]
[null,{"$f":"VALUE(renipress[[#This Row],[Código Único]])","v":427},"GOBIERNO REGIONAL","00000427","LLOCLLAPAMPA","JUNIN","JAUJA","LLOCLLAPAMPA","120414","17","02","03","JUNIN","JAUJA","QUEBRADA DEL MANTARO","I-3"]
[null,{"$f":"VALUE(renipress[[#This Row],[Código Único]])","v":428},"GOBIERNO REGIONAL","00000428","MATACHICO","JUNIN","JAUJA","LLOCLLAPAMPA","120414","17","02","03","JUNIN","JAUJA","QUEBRADA DEL MANTARO","I-1"]
[null,{"$f":"VALUE(renipress[[#This Row],[Código Único]])","v":429},"GOBIERNO REGIONAL","00000429","CHACAPALPA","JUNIN","YAULI","CHACAPALPA","120802","17","02","04","JUNIN","JAUJA","YAULI-OROYA","I-1"]
[null,{"$f":"VALUE(renipress[[#This Row],[Código Único]])","v":430},"GOBIERNO REGIONAL","00000430","HUAYHUAY","JUNIN","YAULI","HUAY HUAY","120803","17","02","04","JUNIN","JAUJA","YAULI-OROYA","I-2"]
[null,{"$f":"VALUE(renipress[[#This Row],[Código Único]])","v":431},"GOBIERNO REGIONAL","00000431","SUITUCANCHA","JUNIN","YAULI","SUITUCANCHA","120809","17","02","04","JUNIN","JAUJA","YAULI-OROYA","I-2"]
[null,{"$f":"VALUE(renipress[[#This Row],[Código Único]])","v":432},"GOBIERNO REGIONAL","00000432","DE APOYO MANUEL HIGA ARAKAKI","JUNIN","SATIPO","SATIPO","120601","17","05","00","JUNIN","SATIPO","NO PERTENECE A NINGUNA MICRORED","II-1"]
[null,{"$f":"VALUE(renipress[[#This Row],[Código Único]])","v":433},"GOBIERNO REGIONAL","00000433","BELEN","JUNIN","SATIPO","LLAYLLA","120603","17","05","02","JUNIN","SATIPO","MAZAMARI","I-1"]
[null,{"$f":"VALUE(renipress[[#This Row],[Código Único]])","v":434},"GOBIERNO REGIONAL","00000434","MAZAMARI","JUNIN","SATIPO","MAZAMARI","120604","17","05","02","JUNIN","SATIPO","MAZAMARI","I-4"]
[null,{"$f":"VALUE(renipress[[#This Row],[Código Único]])","v":435},"GOBIERNO REGIONAL","00000435","CAPIRUSHARI","JUNIN","SATIPO","MAZAMARI","120604","17","05","02","JUNIN","SATIPO","MAZAMARI","I-2"]
[null,{"$f":"VALUE(renipress[[#This Row],[Código Único]])","v":436},"GOBIERNO REGIONAL","00000436","PUEBLO LIBRE DE PAURIALI","JUNIN","SATIPO","MAZAMARI","120604","17","05","02","JUNIN","SATIPO","MAZAMARI","I-2"]
[null,{"$f":"VALUE(renipress[[#This Row],[Código Único]])","v":437},"GOBIERNO REGIONAL","00000437","COMUNIDAD NATIVA DE PANGA","JUNIN","SATIPO","MAZAMARI","120604","17","05","02","JUNIN","SATIPO","MAZAMARI","I-2"]
[null,{"$f":"VALUE(renipress[[#This Row],[Código Único]])","v":438},"GOBIERNO REGIONAL","00000438","TZIRIARI","JUNIN","SATIPO","PANGOA","120606","17","05","02","JUNIN","SATIPO","MAZAMARI","I-3"]
[null,{"$f":"VALUE(renipress[[#This Row],[Código Único]])","v":439},"GOBIERNO REGIONAL","00000439","SAN CRISTOBAL","JUNIN","SATIPO","PANGOA","120606","17","05","02","JUNIN","SATIPO","MAZAMARI","I-1"]
[null,{"$f":"VALUE(renipress[[#This Row],[Código Único]])","v":440},"GOBIERNO REGIONAL","00000440","SAN JOSE DE MIRAFLORES","JUNIN","SATIPO","PANGOA","120606","17","08","01","JUNIN","SAN MARTIN DE PANGOA","SAN RAMON DE PANGOA","I-2"]
[null,{"$f":"VALUE(renipress[[#This Row],[Código Único]])","v":441},"GOBIERNO REGIONAL","00000441","OVENTENI","JUNIN","SATIPO","RIO TAMBO","120608","17","05","02","JUNIN","SATIPO","MAZAMARI","Sin Categoría"]
[null,{"$f":"VALUE(renipress[[#This Row],[Código Único]])","v":442},"GOBIERNO REGIONAL","00000442","SAN MARTIN DE PANGOA","JUNIN","SATIPO","PANGOA","120606","17","08","00","JUNIN","SAN MARTIN DE PANGOA","NO PERTENECE A NINGUNA MICRORED","II-1"]
[null,{"$f":"VALUE(renipress[[#This Row],[Código Único]])","v":443},"GOBIERNO REGIONAL","00000443","SAN RAMON DE PANGOA","JUNIN","SATIPO","PANGOA","120606","17","08","01","JUNIN","SAN MARTIN DE PANGOA","SAN RAMON DE PANGOA","I-3"]
[null,{"$f":"VALUE(renipress[[#This Row],[Código Único]])","v":444},"GOBIERNO REGIONAL","00000444","CHAVINI","JUNIN","SATIPO","PANGOA","120606","17","08","01","JUNIN","SAN MARTIN DE PANGOA","SAN RAMON DE PANGOA","I-1"]
[null,{"$f":"VALUE(renipress[[#This Row],[Código Único]])","v":445},"GOBIERNO REGIONAL","00000445","SAN ANTONIO DE SONOMORO","JUNIN","SATIPO","PANGOA","120606","17","08","02","JUNIN","SAN MARTIN DE PANGOA","SAN ANTONIO DE SONOMORO","I-3"]
[null,{"$f":"VALUE(renipress[[#This Row],[Código Único]])","v":446},"GOBIERNO REGIONAL","00000446","CUBANTIA","JUNIN","SATIPO","PANGOA","120606","17","08","03","JUNIN","SAN MARTIN DE PANGOA","CUBANTIA","I-2"]
[null,{"$f":"VALUE(renipress[[#This Row],[Código Único]])","v":447},"GOBIERNO REGIONAL","00000447","VILLA MARIA","JUNIN","SATIPO","PANGOA","120606","17","08","01","JUNIN","SAN MARTIN DE PANGOA","SAN RAMON DE PANGOA","I-2"]
[null,{"$f":"VALUE(renipress[[#This Row],[Código Único]])","v":448},"GOBIERNO REGIONAL","00000448","NAYLAM DE SONOMORO","JUNIN","SATIPO","PANGOA","120606","17","08","02","JUNIN","SAN MARTIN DE PANGOA","SAN ANTONIO DE SONOMORO","I-2"]
[null,{"$f":"VALUE(renipress[[#This Row],[Código Único]])","v":449},"GOBIERNO REGIONAL","00000449","MAZARONQUIARI","JUNIN","SATIPO","PANGOA","120606","17","08","03","JUNIN","SAN MARTIN DE PANGOA","CUBANTIA","I-1"]
[null,{"$f":"VALUE(renipress[[#This Row],[Código Único]])","v":450},"GOBIERNO REGIONAL","00000450","ALTO KIATARI","JUNIN","SATIPO","PANGOA","120606","17","08","01","JUNIN","SAN MARTIN DE PANGOA","SAN RAMON DE PANGOA","I-1"]
[null,{"$f":"VALUE(renipress[[#This Row],[Código Único]])","v":451},"GOBIERNO REGIONAL","00000451","MATERENI","JUNIN","SATIPO","PANGOA","120606","17","08","03","JUNIN","SAN MARTIN DE PANGOA","CUBANTIA","I-1"]
[null,{"$f":"VALUE(renipress[[#This Row],[Código Único]])","v":452},"GOBIERNO REGIONAL","00000452","FORTALEZA","JUNIN","SATIPO","PANGOA","120606","17","08","03","JUNIN","SAN MARTIN DE PANGOA","CUBANTIA","I-2"]
[null,{"$f":"VALUE(renipress[[#This Row],[Código Único]])","v":453},"GOBIERNO REGIONAL","00000453","UNION CHAVINI","JUNIN","SATIPO","PANGOA","120606","17","08","01","JUNIN","SAN MARTIN DE PANGOA","SAN RAMON DE PANGOA","I-1"]
[null,{"$f":"VALUE(renipress[[#This Row],[Código Único]])","v":454},"GOBIERNO REGIONAL","00000454","CAMPIRUSHARI","JUNIN","SATIPO","PANGOA","120606","17","08","03","JUNIN","SAN MARTIN DE PANGOA","CUBANTIA","I-2"]
[null,{"$f":"VALUE(renipress[[#This Row],[Código Único]])","v":455},"GOBIERNO REGIONAL","00000455","JERUSALEN DE MIÑARO DE NOMESTSIGUENGA","JUNIN","SATIPO","PANGOA","120606","17","08","03","JUNIN","SAN MARTIN DE PANGOA","CUBANTIA","I-1"]
[null,{"$f":"VALUE(renipress[[#This Row],[Código Único]])","v":456},"GOBIERNO REGIONAL","00000456","SANTA ROSA ALTO KIATARI","JUNIN","SATIPO","PANGOA","120606","17","08","01","JUNIN","SAN MARTIN DE PANGOA","SAN RAMON DE PANGOA","I-1"]
[null,{"$f":"VALUE(renipress[[#This Row],[Código Único]])","v":457},"GOBIERNO REGIONAL","00000457","BOCA KIATARI","JUNIN","SATIPO","PANGOA","120606","17","08","03","JUNIN","SAN MARTIN DE PANGOA","CUBANTIA","I-2"]
[null,{"$f":"VALUE(renipress[[#This Row],[Código Único]])","v":458},"GOBIERNO REGIONAL","00000458","VILCABAMBA","JUNIN","SATIPO","PANGOA","120606","17","08","01","JUNIN","SAN MARTIN DE PANGOA","SAN RAMON DE PANGOA","I-1"]
[null,{"$f":"VALUE(renipress[[#This Row],[Código Único]])","v":459},"GOBIERNO REGIONAL","00000459","CUSHIRENI","JUNIN","SATIPO","RIO TAMBO","120608","17","05","05","JUNIN","SATIPO","POYENI","I-1"]
[null,{"$f":"VALUE(renipress[[#This Row],[Código Único]])","v":460},"GOBIERNO REGIONAL","00000460","BETANIA","JUNIN","SATIPO","RIO TAMBO","120608","17","05","05","JUNIN","SATIPO","POYENI","I-3"]
[null,{"$f":"VALUE(renipress[[#This Row],[Código Único]])","v":461},"GOBIERNO REGIONAL","00000461","SHEVOJA","JUNIN","SATIPO","RIO TAMBO","120608","17","05","05","JUNIN","SATIPO","POYENI","I-1"]
[null,{"$f":"VALUE(renipress[[#This Row],[Código Único]])","v":462},"GOBIERNO REGIONAL","00000462","POYENI","JUNIN","SATIPO","RIO TAMBO","120608","17","05","05","JUNIN","SATIPO","POYENI","I-3"]
[null,{"$f":"VALUE(renipress[[#This Row],[Código Único]])","v":463},"GOBIERNO REGIONAL","00000463","BOCA CHEMBO","JUNIN","SATIPO","RIO TAMBO","120608","17","05","05","JUNIN","SATIPO","POYENI","I-2"]
[null,{"$f":"VALUE(renipress[[#This Row],[Código Único]])","v":464},"GOBIERNO REGIONAL","00000464","IMPANEKIARI","JUNIN","SATIPO","RIO TAMBO","120608","17","05","05","JUNIN","SATIPO","POYENI","I-1"]
[null,{"$f":"VALUE(renipress[[#This Row],[Código Único]])","v":465},"GOBIERNO REGIONAL","00000465","CAPITIRI","JUNIN","SATIPO","RIO TAMBO","120608","17","05","05","JUNIN","SATIPO","POYENI","I-2"]
[null,{"$f":"VALUE(renipress[[#This Row],[Código Único]])","v":466},"GOBIERNO REGIONAL","00000466","SANTA ROSITA DE SHIRINTIARI","JUNIN","SATIPO","RIO TAMBO","120608","17","05","05","JUNIN","SATIPO","POYENI","I-1"]
[null,{"$f":"VALUE(renipress[[#This Row],[Código Único]])","v":467},"GOBIERNO REGIONAL","00000467","SHIMA","JUNIN","SATIPO","RIO TAMBO","120608","17","05","05","JUNIN","SATIPO","POYENI","I-2"]
[null,{"$f":"VALUE(renipress[[#This Row],[Código Único]])","v":468},"GOBIERNO REGIONAL","00000468","MICAELA BASTIDAS MORALES","JUNIN","SATIPO","PANGOA","120606","17","05","06","JUNIN","SATIPO","VALLE ESMERALDA","I-1"]
[null,{"$f":"VALUE(renipress[[#This Row],[Código Único]])","v":469},"GOBIERNO REGIONAL","00000469","PUERTO OCOPA","JUNIN","SATIPO","RIO TAMBO","120608","17","05","04","JUNIN","SATIPO","PUERTO OCOPA","I-3"]
[null,{"$f":"VALUE(renipress[[#This Row],[Código Único]])","v":470},"GOBIERNO REGIONAL","00000470","SAN MIGUEL DE OTICA","JUNIN","SATIPO","RIO TAMBO","120608","17","05","04","JUNIN","SATIPO","PUERTO OCOPA","I-2"]
[null,{"$f":"VALUE(renipress[[#This Row],[Código Único]])","v":471},"GOBIERNO REGIONAL","00000471","CUTIVIRENI","JUNIN","SATIPO","RIO TAMBO","120608","17","05","06","JUNIN","SATIPO","VALLE ESMERALDA","I-2"]
[null,{"$f":"VALUE(renipress[[#This Row],[Código Único]])","v":472},"GOBIERNO REGIONAL","00000472","OVIRI","JUNIN","SATIPO","RIO TAMBO","120608","17","05","04","JUNIN","SATIPO","PUERTO OCOPA","I-2"]
[null,{"$f":"VALUE(renipress[[#This Row],[Código Único]])","v":473},"GOBIERNO REGIONAL","00000473","SAN VICENTE DE CANAAN","JUNIN","SATIPO","RIO TAMBO","120608","17","05","04","JUNIN","SATIPO","PUERTO OCOPA","I-3"]
[null,{"$f":"VALUE(renipress[[#This Row],[Código Único]])","v":474},"GOBIERNO REGIONAL","00000474","QUITENI","JUNIN","SATIPO","RIO TAMBO","120608","17","05","04","JUNIN","SATIPO","PUERTO OCOPA","I-2"]
[null,{"$f":"VALUE(renipress[[#This Row],[Código Único]])","v":475},"GOBIERNO REGIONAL","00000475","CAPERUSIA","JUNIN","SATIPO","RIO TAMBO","120608","17","05","04","JUNIN","SATIPO","PUERTO OCOPA","I-1"]
[null,{"$f":"VALUE(renipress[[#This Row],[Código Único]])","v":476},"GOBIERNO REGIONAL","00000476","PREVENTIVO PROMOCIONAL SATIPO","JUNIN","SATIPO","SATIPO","120601","17","05","01","JUNIN","SATIPO","RIO NEGRO-SATIPO","Sin Categoría"]
[null,{"$f":"VALUE(renipress[[#This Row],[Código Único]])","v":477},"GOBIERNO REGIONAL","00000477","HUAHUARI","JUNIN","SATIPO","RIO NEGRO","120607","17","05","01","JUNIN","SATIPO","RIO NEGRO-SATIPO","I-2"]
[null,{"$f":"VALUE(renipress[[#This Row],[Código Único]])","v":478},"GOBIERNO REGIONAL","00000478","RIO VENADO","JUNIN","SATIPO","SATIPO","120601","17","05","01","JUNIN","SATIPO","RIO NEGRO-SATIPO","I-2"]
[null,{"$f":"VALUE(renipress[[#This Row],[Código Único]])","v":479},"GOBIERNO REGIONAL","00000479","SANTO DGO DE MARANKIARI","JUNIN","SATIPO","SATIPO","120601","17","05","01","JUNIN","SATIPO","RIO NEGRO-SATIPO","I-2"]
[null,{"$f":"VALUE(renipress[[#This Row],[Código Único]])","v":480},"GOBIERNO REGIONAL","00000480","BAJO CAPIRO","JUNIN","SATIPO","SATIPO","120601","17","05","01","JUNIN","SATIPO","RIO NEGRO-SATIPO","I-2"]
[null,{"$f":"VALUE(renipress[[#This Row],[Código Único]])","v":481},"GOBIERNO REGIONAL","00000481","PARATUSHALI","JUNIN","SATIPO","SATIPO","120601","17","05","01","JUNIN","SATIPO","RIO NEGRO-SATIPO","I-2"]
[null,{"$f":"VALUE(renipress[[#This Row],[Código Único]])","v":482},"GOBIERNO REGIONAL","00000482","HUANTASHIRI","JUNIN","SATIPO","SATIPO","120601","17","05","01","JUNIN","SATIPO","RIO NEGRO-SATIPO","I-2"]
[null,{"$f":"VALUE(renipress[[#This Row],[Código Único]])","v":483},"GOBIERNO REGIONAL","00000483","SANIBENI","JUNIN","SATIPO","SATIPO","120601","17","05","01","JUNIN","SATIPO","RIO NEGRO-SATIPO","I-2"]
[null,{"$f":"VALUE(renipress[[#This Row],[Código Único]])","v":484},"GOBIERNO REGIONAL","00000484","ALTO PAURELI","JUNIN","SATIPO","SATIPO","120601","17","05","01","JUNIN","SATIPO","RIO NEGRO-SATIPO","I-1"]
[null,{"$f":"VALUE(renipress[[#This Row],[Código Único]])","v":485},"GOBIERNO REGIONAL","00000485","COVIRIALI","JUNIN","SATIPO","COVIRIALI","120602","17","05","01","JUNIN","SATIPO","RIO NEGRO-SATIPO","I-3"]
[null,{"$f":"VALUE(renipress[[#This Row],[Código Único]])","v":486},"GOBIERNO REGIONAL","00000486","SAN PEDRO","JUNIN","SATIPO","COVIRIALI","120602","17","05","01","JUNIN","SATIPO","RIO NEGRO-SATIPO","I-2"]
[null,{"$f":"VALUE(renipress[[#This Row],[Código Único]])","v":487},"GOBIERNO REGIONAL","00000487","SANTA MARIA","JUNIN","SATIPO","COVIRIALI","120602","17","05","01","JUNIN","SATIPO","RIO NEGRO-SATIPO","I-1"]
[null,{"$f":"VALUE(renipress[[#This Row],[Código Único]])","v":488},"GOBIERNO REGIONAL","00000488","SAN ANDRES","JUNIN","SATIPO","COVIRIALI","120602","17","05","01","JUNIN","SATIPO","RIO NEGRO-SATIPO","I-1"]
[null,{"$f":"VALUE(renipress[[#This Row],[Código Único]])","v":489},"GOBIERNO REGIONAL","00000489","BUENOS AIRES","JUNIN","SATIPO","COVIRIALI","120602","17","05","01","JUNIN","SATIPO","RIO NEGRO-SATIPO","I-1"]
[null,{"$f":"VALUE(renipress[[#This Row],[Código Único]])","v":490},"GOBIERNO REGIONAL","00000490","LLAYLLA","JUNIN","SATIPO","LLAYLLA","120603","17","05","02","JUNIN","SATIPO","MAZAMARI","I-3"]
[null,{"$f":"VALUE(renipress[[#This Row],[Código Único]])","v":491},"GOBIERNO REGIONAL","00000491","HERMOSA PAMPA","JUNIN","SATIPO","LLAYLLA","120603","17","05","02","JUNIN","SATIPO","MAZAMARI","I-2"]
[null,{"$f":"VALUE(renipress[[#This Row],[Código Único]])","v":492},"GOBIERNO REGIONAL","00000492","SANTA ROSITA","JUNIN","SATIPO","PAMPA HERMOSA","120605","17","05","01","JUNIN","SATIPO","RIO NEGRO-SATIPO","I-2"]
[null,{"$f":"VALUE(renipress[[#This Row],[Código Único]])","v":493},"GOBIERNO REGIONAL","00000493","MARIPOSA","JUNIN","SATIPO","PAMPA HERMOSA","120605","17","05","01","JUNIN","SATIPO","RIO NEGRO-SATIPO","I-2"]
[null,{"$f":"VALUE(renipress[[#This Row],[Código Único]])","v":494},"GOBIERNO REGIONAL","00000494","APALLA CALABAZA","JUNIN","SATIPO","PAMPA HERMOSA","120605","17","05","01","JUNIN","SATIPO","RIO NEGRO-SATIPO","I-2"]
[null,{"$f":"VALUE(renipress[[#This Row],[Código Único]])","v":495},"GOBIERNO REGIONAL","00000495","RIO  NEGRO","JUNIN","SATIPO","RIO NEGRO","120607","17","05","01","JUNIN","SATIPO","RIO NEGRO-SATIPO","I-3"]
[null,{"$f":"VALUE(renipress[[#This Row],[Código Único]])","v":496},"GOBIERNO REGIONAL","00000496","VILLA CAPIRI","JUNIN","SATIPO","RIO NEGRO","120607","17","05","01","JUNIN","SATIPO","RIO NEGRO-SATIPO","I-2"]
[null,{"$f":"VALUE(renipress[[#This Row],[Código Único]])","v":497},"GOBIERNO REGIONAL","00000497","RIO CHARI ALTO","JUNIN","SATIPO","RIO NEGRO","120607","17","05","01","JUNIN","SATIPO","RIO NEGRO-SATIPO","I-2"]
[null,{"$f":"VALUE(renipress[[#This Row],[Código Único]])","v":498},"GOBIERNO REGIONAL","00000498","PITOCUNA","JUNIN","SATIPO","RIO NEGRO","120607","17","05","01","JUNIN","SATIPO","RIO NEGRO-SATIPO","I-2"]
[null,{"$f":"VALUE(renipress[[#This Row],[Código Único]])","v":499},"GOBIERNO REGIONAL","00000499","PUENTE IPOKI","JUNIN","SATIPO","RIO NEGRO","120607","17","05","01","JUNIN","SATIPO","RIO NEGRO-SATIPO","I-2"]
[null,{"$f":"VALUE(renipress[[#This Row],[Código Único]])","v":500},"GOBIERNO REGIONAL","00000500","AOTI","JUNIN","SATIPO","RIO TAMBO","120608","17","05","01","JUNIN","SATIPO","RIO NEGRO-SATIPO","I-2"]
[null,{"$f":"VALUE(renipress[[#This Row],[Código Único]])","v":501},"GOBIERNO REGIONAL","00000501","ALTO PITOCUNA","JUNIN","SATIPO","RIO NEGRO","120607","17","05","01","JUNIN","SATIPO","RIO NEGRO-SATIPO","I-2"]
[null,{"$f":"VALUE(renipress[[#This Row],[Código Único]])","v":502},"GOBIERNO REGIONAL","00000502","CUSHIVIANI","JUNIN","SATIPO","RIO NEGRO","120607","17","05","01","JUNIN","SATIPO","RIO NEGRO-SATIPO","I-2"]
[null,{"$f":"VALUE(renipress[[#This Row],[Código Único]])","v":503},"GOBIERNO REGIONAL","00000503","UNION CUVIRIAKI","JUNIN","SATIPO","RIO NEGRO","120607","17","05","01","JUNIN","SATIPO","RIO NEGRO-SATIPO","I-2"]
[null,{"$f":"VALUE(renipress[[#This Row],[Código Único]])","v":504},"GOBIERNO REGIONAL","00000504","SHABASHIPANGO","JUNIN","SATIPO","RIO NEGRO","120607","17","05","01","JUNIN","SATIPO","RIO NEGRO-SATIPO","I-1"]
[null,{"$f":"VALUE(renipress[[#This Row],[Código Único]])","v":505},"GOBIERNO REGIONAL","00000505","SAN JUAN DE CHENI","JUNIN","SATIPO","RIO NEGRO","120607","17","05","01","JUNIN","SATIPO","RIO NEGRO-SATIPO","I-2"]
[null,{"$f":"VALUE(renipress[[#This Row],[Código Único]])","v":506},"GOBIERNO REGIONAL","00000506","UNION CAPIRI","JUNIN","SATIPO","RIO NEGRO","120607","17","05","01","JUNIN","SATIPO","RIO NEGRO-SATIPO","I-3"]
[null,{"$f":"VALUE(renipress[[#This Row],[Código Único]])","v":507},"GOBIERNO REGIONAL","00000507","BOCA MANTARO","JUNIN","SATIPO","VIZCATAN DEL ENE","120609","17","05","06","JUNIN","SATIPO","VALLE ESMERALDA","I-2"]
[null,{"$f":"VALUE(renipress[[#This Row],[Código Único]])","v":508},"GOBIERNO REGIONAL","00000508","PAQUICHARI","JUNIN","SATIPO","PANGOA","120606","17","05","04","JUNIN","SATIPO","PUERTO OCOPA","Sin Categoría"]
[null,{"$f":"VALUE(renipress[[#This Row],[Código Único]])","v":509},"GOBIERNO REGIONAL","00000509","SAN MIGUEL DE ENE SHINPINSHARIATO","JUNIN","SATIPO","VIZCATAN DEL ENE","120609","17","05","06","JUNIN","SATIPO","VALLE ESMERALDA","I-1"]
[null,{"$f":"VALUE(renipress[[#This Row],[Código Único]])","v":510},"GOBIERNO REGIONAL","00000510","FLORIDA","JUNIN","SATIPO","VIZCATAN DEL ENE","120609","17","05","06","JUNIN","SATIPO","VALLE ESMERALDA","I-1"]
[null,{"$f":"VALUE(renipress[[#This Row],[Código Único]])","v":511},"GOBIERNO REGIONAL","00000511","SAN JUAN DE MANTARO","JUNIN","SATIPO","VIZCATAN DEL ENE","120609","17","05","06","JUNIN","SATIPO","VALLE ESMERALDA","I-1"]
[null,{"$f":"VALUE(renipress[[#This Row],[Código Único]])","v":512},"GOBIERNO REGIONAL","00000512","TUNONTUARI RIO ENE","JUNIN","SATIPO","VIZCATAN DEL ENE","120609","17","05","06","JUNIN","SATIPO","VALLE ESMERALDA","I-1"]
[null,{"$f":"VALUE(renipress[[#This Row],[Código Único]])","v":513},"GOBIERNO REGIONAL","00000513","QUEMPIRI","JUNIN","SATIPO","RIO TAMBO","120608","17","05","06","JUNIN","SATIPO","VALLE ESMERALDA","I-1"]
[null,{"$f":"VALUE(renipress[[#This Row],[Código Único]])","v":514},"GOBIERNO REGIONAL","00000514","FE Y ALEGRIA LA PRIMAVERA","JUNIN","SATIPO","RIO TAMBO","120608","17","05","06","JUNIN","SATIPO","VALLE ESMERALDA","I-1"]
[null,{"$f":"VALUE(renipress[[#This Row],[Código Único]])","v":515},"GOBIERNO REGIONAL","00000515","YAVIRO","JUNIN","SATIPO","RIO TAMBO","120608","17","05","06","JUNIN","SATIPO","VALLE ESMERALDA","I-2"]
[null,{"$f":"VALUE(renipress[[#This Row],[Código Único]])","v":516},"GOBIERNO REGIONAL","00000516","PUERTO ROCA","JUNIN","SATIPO","RIO TAMBO","120608","17","05","06","JUNIN","SATIPO","VALLE ESMERALDA","I-2"]
[null,{"$f":"VALUE(renipress[[#This Row],[Código Único]])","v":517},"GOBIERNO REGIONAL","00000517","VALLE ESMERALDA","JUNIN","SATIPO","RIO TAMBO","120608","17","05","06","JUNIN","SATIPO","VALLE ESMERALDA","I-3"]
[null,{"$f":"VALUE(renipress[[#This Row],[Código Único]])","v":518},"GOBIERNO REGIONAL","00000518","SAN CARLOS ALTO ENE","JUNIN","SATIPO","RIO TAMBO","120608","17","05","06","JUNIN","SATIPO","VALLE ESMERALDA","I-1"]
[null,{"$f":"VALUE(renipress[[#This Row],[Código Único]])","v":519},"GOBIERNO REGIONAL","00000519","DE APOYO JUNIN","JUNIN","JUNIN","JUNIN","120501","17","06","00","JUNIN","JUNIN","NO PERTENECE A NINGUNA MICRORED","II-1"]
[null,{"$f":"VALUE(renipress[[#This Row],[Código Único]])","v":520},"GOBIERNO REGIONAL","00000520","DE APOYO FELIX MAYORCA SOTO","JUNIN","TARMA","TARMA","120701","17","03","00","JUNIN","TARMA","NO PERTENECE A NINGUNA MICRORED","II-2"]
[null,{"$f":"VALUE(renipress[[#This Row],[Código Único]])","v":521},"GOBIERNO REGIONAL","00000521","ACOBAMBA","JUNIN","TARMA","ACOBAMBA","120702","17","03","03","JUNIN","TARMA","ACOBAMBA","I-4"]
[null,{"$f":"VALUE(renipress[[#This Row],[Código Único]])","v":522},"GOBIERNO REGIONAL","00000522","PICOY","JUNIN","TARMA","ACOBAMBA","120702","17","03","03","JUNIN","TARMA","ACOBAMBA","I-1"]
[null,{"$f":"VALUE(renipress[[#This Row],[Código Único]])","v":523},"GOBIERNO REGIONAL","00000523","HUARACAYO","JUNIN","TARMA","ACOBAMBA","120702","17","03","03","JUNIN","TARMA","ACOBAMBA","I-1"]
[null,{"$f":"VALUE(renipress[[#This Row],[Código Único]])","v":524},"GOBIERNO REGIONAL","00000524","TUPIN","JUNIN","TARMA","ACOBAMBA","120702","17","03","03","JUNIN","TARMA","ACOBAMBA","I-1"]
[null,{"$f":"VALUE(renipress[[#This Row],[Código Único]])","v":525},"GOBIERNO REGIONAL","00000525","HUAYLAHUICHAN","JUNIN","TARMA","ACOBAMBA","120702","17","03","03","JUNIN","TARMA","ACOBAMBA","I-1"]
[null,{"$f":"VALUE(renipress[[#This Row],[Código Único]])","v":526},"GOBIERNO REGIONAL","00000526","COLLPA","JUNIN","TARMA","ACOBAMBA","120702","17","03","03","JUNIN","TARMA","ACOBAMBA","I-1"]
[null,{"$f":"VALUE(renipress[[#This Row],[Código Único]])","v":527},"GOBIERNO REGIONAL","00000527","C.S. PALCAMAYO","JUNIN","TARMA","PALCAMAYO","120707","17","03","03","JUNIN","TARMA","ACOBAMBA","I-3"]
[null,{"$f":"VALUE(renipress[[#This Row],[Código Único]])","v":528},"GOBIERNO REGIONAL","00000528","YANAPUQUIO","JUNIN","TARMA","PALCAMAYO","120707","17","03","03","JUNIN","TARMA","ACOBAMBA","I-1"]
[null,{"$f":"VALUE(renipress[[#This Row],[Código Único]])","v":529},"GOBIERNO REGIONAL","00000529","OCHONGA","JUNIN","TARMA","PALCAMAYO","120707","17","03","03","JUNIN","TARMA","ACOBAMBA","I-1"]
[null,{"$f":"VALUE(renipress[[#This Row],[Código Único]])","v":530},"GOBIERNO REGIONAL","00000530","RICRICAN CAUQUIRAN","JUNIN","TARMA","PALCAMAYO","120707","17","03","03","JUNIN","TARMA","ACOBAMBA","I-1"]
[null,{"$f":"VALUE(renipress[[#This Row],[Código Único]])","v":531},"GOBIERNO REGIONAL","00000531","INCACHACA YANAMACHAY","JUNIN","TARMA","PALCAMAYO","120707","17","03","03","JUNIN","TARMA","ACOBAMBA","I-1"]
[null,{"$f":"VALUE(renipress[[#This Row],[Código Único]])","v":532},"GOBIERNO REGIONAL","00000532","HUAMANIA","JUNIN","TARMA","PALCAMAYO","120707","17","03","03","JUNIN","TARMA","ACOBAMBA","I-1"]
[null,{"$f":"VALUE(renipress[[#This Row],[Código Único]])","v":533},"GOBIERNO REGIONAL","00000533","CALCA","JUNIN","TARMA","PALCAMAYO","120707","17","03","03","JUNIN","TARMA","ACOBAMBA","I-1"]
[null,{"$f":"VALUE(renipress[[#This Row],[Código Único]])","v":534},"GOBIERNO REGIONAL","00000534","SAN PEDRO DE CAJAS","JUNIN","TARMA","SAN PEDRO DE CAJAS","120708","17","03","03","JUNIN","TARMA","ACOBAMBA","I-3"]
[null,{"$f":"VALUE(renipress[[#This Row],[Código Único]])","v":535},"GOBIERNO REGIONAL","00000535","SAN JOSE DE CAYASH","JUNIN","TARMA","SAN PEDRO DE CAJAS","120708","17","03","03","JUNIN","TARMA","ACOBAMBA","I-1"]
[null,{"$f":"VALUE(renipress[[#This Row],[Código Único]])","v":536},"GOBIERNO REGIONAL","00000536","HUAYRE","JUNIN","JUNIN","JUNIN","120501","17","06","02","JUNIN","JUNIN","CARHUAMAYO","I-1"]
[null,{"$f":"VALUE(renipress[[#This Row],[Código Único]])","v":537},"GOBIERNO REGIONAL","00000537","CARHUAMAYO","JUNIN","JUNIN","CARHUAMAYO","120502","17","06","02","JUNIN","JUNIN","CARHUAMAYO","I-3"]
[null,{"$f":"VALUE(renipress[[#This Row],[Código Único]])","v":538},"GOBIERNO REGIONAL","00000538","LLAUPI","JUNIN","JUNIN","ULCUMAYO","120504","17","06","02","JUNIN","JUNIN","CARHUAMAYO","I-1"]
[null,{"$f":"VALUE(renipress[[#This Row],[Código Único]])","v":539},"GOBIERNO REGIONAL","00000539","PUYAY","JUNIN","JUNIN","ULCUMAYO","120504","17","06","02","JUNIN","JUNIN","CARHUAMAYO","I-1"]
[null,{"$f":"VALUE(renipress[[#This Row],[Código Único]])","v":540},"GOBIERNO REGIONAL","00000540","JACHAHUANCA","JUNIN","JUNIN","ULCUMAYO","120504","17","06","02","JUNIN","JUNIN","CARHUAMAYO","I-1"]
[null,{"$f":"VALUE(renipress[[#This Row],[Código Único]])","v":541},"GOBIERNO REGIONAL","00000541","CARAPACHO","JUNIN","JUNIN","ULCUMAYO","120504","17","06","02","JUNIN","JUNIN","CARHUAMAYO","I-1"]
[null,{"$f":"VALUE(renipress[[#This Row],[Código Único]])","v":542},"GOBIERNO REGIONAL","00000542","HUASAHUASI","JUNIN","TARMA","HUASAHUASI","120704","17","03","04","JUNIN","TARMA","HUASAHUASI","I-4"]
[null,{"$f":"VALUE(renipress[[#This Row],[Código Único]])","v":543},"GOBIERNO REGIONAL","00000543","CASCA","JUNIN","TARMA","HUASAHUASI","120704","17","03","04","JUNIN","TARMA","HUASAHUASI","I-1"]
[null,{"$f":"VALUE(renipress[[#This Row],[Código Único]])","v":544},"GOBIERNO REGIONAL","00000544","PUNRAY","JUNIN","TARMA","HUASAHUASI","120704","17","03","04","JUNIN","TARMA","HUASAHUASI","I-1"]
[null,{"$f":"VALUE(renipress[[#This Row],[Código Único]])","v":545},"MINSA","00000545","PUESTO DE SALUD DE HUACUAS","JUNIN","TARMA","HUASAHUASI","120704","17","03","04","JUNIN","TARMA","HUASAHUASI","I-1"]
[null,{"$f":"VALUE(renipress[[#This Row],[Código Único]])","v":546},"GOBIERNO REGIONAL","00000546","SAN JUAN DE LA LIBERTAD","JUNIN","TARMA","HUASAHUASI","120704","17","03","04","JUNIN","TARMA","HUASAHUASI","I-1"]
[null,{"$f":"VALUE(renipress[[#This Row],[Código Único]])","v":547},"GOBIERNO REGIONAL","00000547","CHIRAS","JUNIN","TARMA","HUASAHUASI","120704","17","03","04","JUNIN","TARMA","HUASAHUASI","I-1"]
[null,{"$f":"VALUE(renipress[[#This Row],[Código Único]])","v":548},"GOBIERNO REGIONAL","00000548","TIAMBRA","JUNIN","TARMA","HUASAHUASI","120704","17","03","04","JUNIN","TARMA","HUASAHUASI","I-1"]
[null,{"$f":"VALUE(renipress[[#This Row],[Código Único]])","v":549},"GOBIERNO REGIONAL","00000549","PREVENTIVO PROMOCIONAL JUNIN","JUNIN","JUNIN","JUNIN","120501","17","06","01","JUNIN","JUNIN","JUNIN","Sin Categoría"]
[null,{"$f":"VALUE(renipress[[#This Row],[Código Único]])","v":550},"GOBIERNO REGIONAL","00000550","SASICUCHO","JUNIN","JUNIN","JUNIN","120501","17","06","01","JUNIN","JUNIN","JUNIN","I-1"]
[null,{"$f":"VALUE(renipress[[#This Row],[Código Único]])","v":551},"GOBIERNO REGIONAL","00000551","ONDORES","JUNIN","JUNIN","ONDORES","120503","17","06","01","JUNIN","JUNIN","JUNIN","I-3"]
[null,{"$f":"VALUE(renipress[[#This Row],[Código Único]])","v":552},"GOBIERNO REGIONAL","00000552","PARI","JUNIN","JUNIN","ONDORES","120503","17","06","01","JUNIN","JUNIN","JUNIN","I-1"]
[null,{"$f":"VALUE(renipress[[#This Row],[Código Único]])","v":553},"GOBIERNO REGIONAL","00000553","ATOCSAICO","JUNIN","JUNIN","ONDORES","120503","17","06","01","JUNIN","JUNIN","JUNIN","I-1"]
[null,{"$f":"VALUE(renipress[[#This Row],[Código Único]])","v":554},"GOBIERNO REGIONAL","00000554","SHALACANCHA","JUNIN","JUNIN","ULCUMAYO","120504","17","06","01","JUNIN","JUNIN","JUNIN","I-1"]
[null,{"$f":"VALUE(renipress[[#This Row],[Código Único]])","v":555},"GOBIERNO REGIONAL","00000555","RAYANNIOC","JUNIN","JUNIN","ULCUMAYO","120504","17","06","01","JUNIN","JUNIN","JUNIN","I-1"]
[null,{"$f":"VALUE(renipress[[#This Row],[Código Único]])","v":556},"GOBIERNO REGIONAL","00000556","CHUPAN","JUNIN","TARMA","SAN PEDRO DE CAJAS","120708","17","06","01","JUNIN","JUNIN","JUNIN","I-1"]
[null,{"$f":"VALUE(renipress[[#This Row],[Código Único]])","v":557},"GOBIERNO REGIONAL","00000557","YANEC","JUNIN","TARMA","SAN PEDRO DE CAJAS","120708","17","06","01","JUNIN","JUNIN","JUNIN","I-1"]
[null,{"$f":"VALUE(renipress[[#This Row],[Código Único]])","v":558},"GOBIERNO REGIONAL","00000558","ACANCOCHA","JUNIN","TARMA","SAN PEDRO DE CAJAS","120708","17","06","01","JUNIN","JUNIN","JUNIN","I-1"]
[null,{"$f":"VALUE(renipress[[#This Row],[Código Único]])","v":559},"GOBIERNO REGIONAL","00000559","LA OROYA","JUNIN","YAULI","LA OROYA","120801","17","02","04","JUNIN","JAUJA","YAULI-OROYA","I-4"]
[null,{"$f":"VALUE(renipress[[#This Row],[Código Único]])","v":560},"GOBIERNO REGIONAL","00000560","HUAYNACANCHA","JUNIN","YAULI","LA OROYA","120801","17","02","04","JUNIN","JAUJA","YAULI-OROYA","I-2"]
[null,{"$f":"VALUE(renipress[[#This Row],[Código Único]])","v":561},"GOBIERNO REGIONAL","00000561","MARCAPOMACOCHA","JUNIN","YAULI","MARCAPOMACOCHA","120804","17","02","04","JUNIN","JAUJA","YAULI-OROYA","I-2"]
[null,{"$f":"VALUE(renipress[[#This Row],[Código Único]])","v":562},"GOBIERNO REGIONAL","00000562","SAN FRANCISCO DE YANTAC","JUNIN","YAULI","MARCAPOMACOCHA","120804","17","02","04","JUNIN","JAUJA","YAULI-OROYA","I-1"]
[null,{"$f":"VALUE(renipress[[#This Row],[Código Único]])","v":563},"GOBIERNO REGIONAL","00000563","MOROCOCHA","JUNIN","YAULI","MOROCOCHA","120805","17","02","04","JUNIN","JAUJA","YAULI-OROYA","I-3"]
[null,{"$f":"VALUE(renipress[[#This Row],[Código Único]])","v":564},"GOBIERNO REGIONAL","00000564","PACCHA - LA OROYA","JUNIN","YAULI","PACCHA","120806","17","02","04","JUNIN","JAUJA","YAULI-OROYA","I-2"]
[null,{"$f":"VALUE(renipress[[#This Row],[Código Único]])","v":565},"GOBIERNO REGIONAL","00000565","SANTA BARBARA DE CARHUACAYAN","JUNIN","YAULI","SANTA BARBARA DE CARHUACAYAN","120807","17","06","01","JUNIN","JUNIN","JUNIN","I-1"]
[null,{"$f":"VALUE(renipress[[#This Row],[Código Único]])","v":566},"GOBIERNO REGIONAL","00000566","SANTA ROSA DE SACCO","JUNIN","YAULI","SANTA ROSA DE SACCO","120808","17","02","04","JUNIN","JAUJA","YAULI-OROYA","I-3"]
[null,{"$f":"VALUE(renipress[[#This Row],[Código Único]])","v":567},"GOBIERNO REGIONAL","00000567","YAULI- LA OROYA","JUNIN","YAULI","YAULI","120810","17","02","04","JUNIN","JAUJA","YAULI-OROYA","I-2"]
[null,{"$f":"VALUE(renipress[[#This Row],[Código Único]])","v":568},"GOBIERNO REGIONAL","00000568","CONGAS ANTACUCHO","JUNIN","TARMA","HUARICOLCA","120703","17","03","02","JUNIN","TARMA","PALCA","I-1"]
[null,{"$f":"VALUE(renipress[[#This Row],[Código Único]])","v":569},"GOBIERNO REGIONAL","00000569","PALCA","JUNIN","TARMA","PALCA","120706","17","03","02","JUNIN","TARMA","PALCA","I-3"]
[null,{"$f":"VALUE(renipress[[#This Row],[Código Único]])","v":570},"GOBIERNO REGIONAL","00000570","ÑAHUIN","JUNIN","TARMA","PALCA","120706","17","03","02","JUNIN","TARMA","PALCA","I-1"]
[null,{"$f":"VALUE(renipress[[#This Row],[Código Único]])","v":571},"GOBIERNO REGIONAL","00000571","CARPAPATA","JUNIN","TARMA","PALCA","120706","17","03","02","JUNIN","TARMA","PALCA","I-1"]
[null,{"$f":"VALUE(renipress[[#This Row],[Código Único]])","v":572},"GOBIERNO REGIONAL","00000572","LLACSACACA","JUNIN","TARMA","PALCA","120706","17","03","02","JUNIN","TARMA","PALCA","I-1"]
[null,{"$f":"VALUE(renipress[[#This Row],[Código Único]])","v":573},"MINSA","00000573","PUESTO DE SALUD CHIPOCAYO","JUNIN","TARMA","PALCA","120706","17","03","02","JUNIN","TARMA","PALCA","I-1"]
[null,{"$f":"VALUE(renipress[[#This Row],[Código Único]])","v":574},"GOBIERNO REGIONAL","00000574","YAROCA","JUNIN","TARMA","PALCA","120706","17","03","02","JUNIN","TARMA","PALCA","I-1"]
[null,{"$f":"VALUE(renipress[[#This Row],[Código Único]])","v":575},"MINSA","00000575","HUARIPAMPA","JUNIN","TARMA","PALCA","120706","17","03","02","JUNIN","TARMA","PALCA","I-1"]
[null,{"$f":"VALUE(renipress[[#This Row],[Código Único]])","v":576},"GOBIERNO REGIONAL","00000576","PATAY","JUNIN","TARMA","PALCA","120706","17","03","02","JUNIN","TARMA","PALCA","I-1"]
[null,{"$f":"VALUE(renipress[[#This Row],[Código Único]])","v":577},"GOBIERNO REGIONAL","00000577","TAPO","JUNIN","TARMA","TAPO","120709","17","03","02","JUNIN","TARMA","PALCA","I-2"]
[null,{"$f":"VALUE(renipress[[#This Row],[Código Único]])","v":578},"GOBIERNO REGIONAL","00000578","YURACMAYO","JUNIN","TARMA","TAPO","120709","17","03","02","JUNIN","TARMA","PALCA","I-1"]
[null,{"$f":"VALUE(renipress[[#This Row],[Código Único]])","v":579},"GOBIERNO REGIONAL","00000579","MACO","JUNIN","TARMA","TAPO","120709","17","03","02","JUNIN","TARMA","PALCA","I-1"]
[null,{"$f":"VALUE(renipress[[#This Row],[Código Único]])","v":580},"GOBIERNO REGIONAL","00000580","CASACOTO - SAN ANTONIO","JUNIN","TARMA","TAPO","120709","17","03","02","JUNIN","TARMA","PALCA","I-1"]
[null,{"$f":"VALUE(renipress[[#This Row],[Código Único]])","v":581},"GOBIERNO REGIONAL","00000581","QUETA","JUNIN","TARMA","TAPO","120709","17","03","02","JUNIN","TARMA","PALCA","I-1"]
[null,{"$f":"VALUE(renipress[[#This Row],[Código Único]])","v":582},"GOBIERNO REGIONAL","00000582","PACCHAC","JUNIN","TARMA","TAPO","120709","17","03","02","JUNIN","TARMA","PALCA","I-1"]
[null,{"$f":"VALUE(renipress[[#This Row],[Código Único]])","v":583},"GOBIERNO REGIONAL","00000583","PREVENTIVO PROMOCIONAL TARMA","JUNIN","TARMA","TARMA","120701","17","03","01","JUNIN","TARMA","TARMA","Sin Categoría"]
[null,{"$f":"VALUE(renipress[[#This Row],[Código Único]])","v":584},"GOBIERNO REGIONAL","00000584","TARMATAMBO","JUNIN","TARMA","TARMA","120701","17","03","01","JUNIN","TARMA","TARMA","I-1"]
[null,{"$f":"VALUE(renipress[[#This Row],[Código Único]])","v":585},"GOBIERNO REGIONAL","00000585","COCHAS","JUNIN","TARMA","TARMA","120701","17","03","01","JUNIN","TARMA","TARMA","I-1"]
[null,{"$f":"VALUE(renipress[[#This Row],[Código Único]])","v":586},"GOBIERNO REGIONAL","00000586","PUESTO DE SALUD MUYLO","JUNIN","TARMA","TARMA","120701","17","03","01","JUNIN","TARMA","TARMA","I-1"]
[null,{"$f":"VALUE(renipress[[#This Row],[Código Único]])","v":587},"GOBIERNO REGIONAL","00000587","POMACHACA","JUNIN","TARMA","TARMA","120701","17","03","01","JUNIN","TARMA","TARMA","I-1"]
[null,{"$f":"VALUE(renipress[[#This Row],[Código Único]])","v":588},"GOBIERNO REGIONAL","00000588","MULLUCRO","JUNIN","TARMA","TARMA","120701","17","03","01","JUNIN","TARMA","TARMA","I-1"]
[null,{"$f":"VALUE(renipress[[#This Row],[Código Único]])","v":589},"GOBIERNO REGIONAL","00000589","VICORA CONGAS","JUNIN","TARMA","TARMA","120701","17","03","01","JUNIN","TARMA","TARMA","I-1"]
[null,{"$f":"VALUE(renipress[[#This Row],[Código Único]])","v":590},"GOBIERNO REGIONAL","00000590","MISARURASHA","JUNIN","TARMA","TARMA","120701","17","03","01","JUNIN","TARMA","TARMA","I-1"]
[null,{"$f":"VALUE(renipress[[#This Row],[Código Único]])","v":591},"GOBIERNO REGIONAL","00000591","CARHUACATAC","JUNIN","TARMA","TARMA","120701","17","03","01","JUNIN","TARMA","TARMA","I-1"]
[null,{"$f":"VALUE(renipress[[#This Row],[Código Único]])","v":592},"GOBIERNO REGIONAL","00000592","PALCAPACCHA","JUNIN","TARMA","TARMA","120701","17","03","01","JUNIN","TARMA","TARMA","I-1"]
[null,{"$f":"VALUE(renipress[[#This Row],[Código Único]])","v":593},"GOBIERNO REGIONAL","00000593","PUESTO DE SALUD SANYACANCHA","JUNIN","TARMA","TARMA","120701","17","03","01","JUNIN","TARMA","TARMA","I-1"]
[null,{"$f":"VALUE(renipress[[#This Row],[Código Único]])","v":594},"GOBIERNO REGIONAL","00000594","POMACOCHA","JUNIN","TARMA","TARMA","120701","17","03","01","JUNIN","TARMA","TARMA","Sin Categoría"]
[null,{"$f":"VALUE(renipress[[#This Row],[Código Único]])","v":595},"GOBIERNO REGIONAL","00000595","HUARICOLCA","JUNIN","TARMA","HUARICOLCA","120703","17","03","01","JUNIN","TARMA","TARMA","I-2"]
[null,{"$f":"VALUE(renipress[[#This Row],[Código Único]])","v":596},"GOBIERNO REGIONAL","00000596","APAYCANCHILLA","JUNIN","TARMA","HUARICOLCA","120703","17","03","01","JUNIN","TARMA","TARMA","I-1"]
[null,{"$f":"VALUE(renipress[[#This Row],[Código Único]])","v":597},"GOBIERNO REGIONAL","00000597","LA UNION LETICIA","JUNIN","TARMA","LA UNION","120705","17","03","01","JUNIN","TARMA","TARMA","I-2"]
[null,{"$f":"VALUE(renipress[[#This Row],[Código Único]])","v":598},"GOBIERNO REGIONAL","00000598","CUYRUHUASI","JUNIN","TARMA","LA UNION","120705","17","03","01","JUNIN","TARMA","TARMA","I-1"]
[null,{"$f":"VALUE(renipress[[#This Row],[Código Único]])","v":599},"GOBIERNO REGIONAL","00000599","CONDORCOCHA","JUNIN","TARMA","LA UNION","120705","17","03","01","JUNIN","TARMA","TARMA","I-1"]
[null,{"$f":"VALUE(renipress[[#This Row],[Código Único]])","v":600},"GOBIERNO REGIONAL","00000600","UCHURACRA","JUNIN","TARMA","LA UNION","120705","17","03","01","JUNIN","TARMA","TARMA","I-1"]
[null,{"$f":"VALUE(renipress[[#This Row],[Código Único]])","v":601},"GOBIERNO REGIONAL","00000601","ULCUMAYO","JUNIN","JUNIN","ULCUMAYO","120504","17","06","03","JUNIN","JUNIN","ULCUMAYO","I-3"]
[null,{"$f":"VALUE(renipress[[#This Row],[Código Único]])","v":602},"GOBIERNO REGIONAL","00000602","QUILCATACTA","JUNIN","JUNIN","ULCUMAYO","120504","17","06","03","JUNIN","JUNIN","ULCUMAYO","I-2"]
[null,{"$f":"VALUE(renipress[[#This Row],[Código Único]])","v":603},"GOBIERNO REGIONAL","00000603","YAPACMARCA","JUNIN","JUNIN","ULCUMAYO","120504","17","06","03","JUNIN","JUNIN","ULCUMAYO","I-1"]
[null,{"$f":"VALUE(renipress[[#This Row],[Código Único]])","v":604},"GOBIERNO REGIONAL","00000604","TAMBOS","JUNIN","JUNIN","ULCUMAYO","120504","17","06","03","JUNIN","JUNIN","ULCUMAYO","I-2"]
[null,{"$f":"VALUE(renipress[[#This Row],[Código Único]])","v":605},"GOBIERNO REGIONAL","00000605","SHOGUE","JUNIN","JUNIN","ULCUMAYO","120504","17","06","03","JUNIN","JUNIN","ULCUMAYO","I-1"]
[null,{"$f":"VALUE(renipress[[#This Row],[Código Único]])","v":606},"GOBIERNO REGIONAL","00000606","QUIPACANCHA","JUNIN","JUNIN","ULCUMAYO","120504","17","06","03","JUNIN","JUNIN","ULCUMAYO","I-1"]
[null,{"$f":"VALUE(renipress[[#This Row],[Código Único]])","v":607},"GOBIERNO REGIONAL","00000607","PISCURRURAY","JUNIN","JUNIN","ULCUMAYO","120504","17","06","03","JUNIN","JUNIN","ULCUMAYO","I-1"]
[null,{"$f":"VALUE(renipress[[#This Row],[Código Único]])","v":608},"GOBIERNO REGIONAL","00000608","CHILCA","JUNIN","HUANCAYO","CHILCA","120107","17","01","06","JUNIN","VALLE DEL MANTARO","CHILCA","I-4"]
[null,{"$f":"VALUE(renipress[[#This Row],[Código Único]])","v":609},"GOBIERNO REGIONAL","00000609","AZAPAMPA","JUNIN","HUANCAYO","CHILCA","120107","17","01","06","JUNIN","VALLE DEL MANTARO","CHILCA","I-2"]
[null,{"$f":"VALUE(renipress[[#This Row],[Código Único]])","v":610},"GOBIERNO REGIONAL","00000610","AUQUIMARCA","JUNIN","HUANCAYO","CHILCA","120107","17","01","06","JUNIN","VALLE DEL MANTARO","CHILCA","I-3"]
[null,{"$f":"VALUE(renipress[[#This Row],[Código Único]])","v":611},"GOBIERNO REGIONAL","00000611","LA ESPERANZA","JUNIN","HUANCAYO","CHILCA","120107","17","01","06","JUNIN","VALLE DEL MANTARO","CHILCA","I-2"]
[null,{"$f":"VALUE(renipress[[#This Row],[Código Único]])","v":612},"GOBIERNO REGIONAL","00000612","CHUPURO","JUNIN","HUANCAYO","CHUPURO","120111","17","01","06","JUNIN","VALLE DEL MANTARO","CHILCA","I-2"]
[null,{"$f":"VALUE(renipress[[#This Row],[Código Único]])","v":613},"GOBIERNO REGIONAL","00000613","CARHUAPACCHA","JUNIN","HUANCAYO","CHUPURO","120111","17","01","06","JUNIN","VALLE DEL MANTARO","CHILCA","I-1"]
[null,{"$f":"VALUE(renipress[[#This Row],[Código Único]])","v":614},"GOBIERNO REGIONAL","00000614","SOCOS","JUNIN","HUANCAYO","CHUPURO","120111","17","01","06","JUNIN","VALLE DEL MANTARO","CHILCA","I-1"]
[null,{"$f":"VALUE(renipress[[#This Row],[Código Único]])","v":615},"GOBIERNO REGIONAL","00000615","CULLHUAS","JUNIN","HUANCAYO","CULLHUAS","120113","17","01","06","JUNIN","VALLE DEL MANTARO","CHILCA","I-2"]
[null,{"$f":"VALUE(renipress[[#This Row],[Código Único]])","v":616},"GOBIERNO REGIONAL","00000616","PIHUAS","JUNIN","HUANCAYO","CULLHUAS","120113","17","01","06","JUNIN","VALLE DEL MANTARO","CHILCA","I-1"]
[null,{"$f":"VALUE(renipress[[#This Row],[Código Único]])","v":617},"GOBIERNO REGIONAL","00000617","RETAMA BAJA","JUNIN","HUANCAYO","CULLHUAS","120113","17","01","06","JUNIN","VALLE DEL MANTARO","CHILCA","I-1"]
[null,{"$f":"VALUE(renipress[[#This Row],[Código Único]])","v":618},"GOBIERNO REGIONAL","00000618","RETAMA CENTRO","JUNIN","HUANCAYO","CULLHUAS","120113","17","01","06","JUNIN","VALLE DEL MANTARO","CHILCA","Sin Categoría"]
[null,{"$f":"VALUE(renipress[[#This Row],[Código Único]])","v":619},"GOBIERNO REGIONAL","00000619","HUACRAPUQUIO","JUNIN","HUANCAYO","HUACRAPUQUIO","120116","17","01","06","JUNIN","VALLE DEL MANTARO","CHILCA","I-2"]
[null,{"$f":"VALUE(renipress[[#This Row],[Código Único]])","v":620},"GOBIERNO REGIONAL","00000620","HUANCAN","JUNIN","HUANCAYO","HUANCAN","120119","17","01","06","JUNIN","VALLE DEL MANTARO","CHILCA","I-3"]
[null,{"$f":"VALUE(renipress[[#This Row],[Código Único]])","v":621},"GOBIERNO REGIONAL","00000621","HUARI","JUNIN","HUANCAYO","HUANCAN","120119","17","01","06","JUNIN","VALLE DEL MANTARO","CHILCA","I-2"]
[null,{"$f":"VALUE(renipress[[#This Row],[Código Único]])","v":622},"GOBIERNO REGIONAL","00000622","HUAYUCACHI","JUNIN","HUANCAYO","HUAYUCACHI","120121","17","01","06","JUNIN","VALLE DEL MANTARO","CHILCA","I-3"]
[null,{"$f":"VALUE(renipress[[#This Row],[Código Único]])","v":623},"GOBIERNO REGIONAL","00000623","HUMANMARCA","JUNIN","HUANCAYO","HUAYUCACHI","120121","17","01","06","JUNIN","VALLE DEL MANTARO","CHILCA","I-1"]
[null,{"$f":"VALUE(renipress[[#This Row],[Código Único]])","v":624},"GOBIERNO REGIONAL","00000624","PUCARA","JUNIN","HUANCAYO","PUCARA","120126","17","01","06","JUNIN","VALLE DEL MANTARO","CHILCA","I-3"]
[null,{"$f":"VALUE(renipress[[#This Row],[Código Único]])","v":625},"GOBIERNO REGIONAL","00000625","MARCAVALLE","JUNIN","HUANCAYO","PUCARA","120126","17","01","06","JUNIN","VALLE DEL MANTARO","CHILCA","I-2"]
[null,{"$f":"VALUE(renipress[[#This Row],[Código Único]])","v":626},"GOBIERNO REGIONAL","00000626","RAQUINA","JUNIN","HUANCAYO","PUCARA","120126","17","01","06","JUNIN","VALLE DEL MANTARO","CHILCA","I-1"]
[null,{"$f":"VALUE(renipress[[#This Row],[Código Único]])","v":627},"GOBIERNO REGIONAL","00000627","JATUN SUCLLA","JUNIN","HUANCAYO","PUCARA","120126","17","01","06","JUNIN","VALLE DEL MANTARO","CHILCA","I-1"]
[null,{"$f":"VALUE(renipress[[#This Row],[Código Único]])","v":628},"GOBIERNO REGIONAL","00000628","DOS DE MAYO","JUNIN","HUANCAYO","PUCARA","120126","17","01","06","JUNIN","VALLE DEL MANTARO","CHILCA","I-1"]
[null,{"$f":"VALUE(renipress[[#This Row],[Código Único]])","v":629},"GOBIERNO REGIONAL","00000629","SAPALLANGA","JUNIN","HUANCAYO","SAPALLANGA","120133","17","01","06","JUNIN","VALLE DEL MANTARO","CHILCA","I-3"]
[null,{"$f":"VALUE(renipress[[#This Row],[Código Único]])","v":630},"GOBIERNO REGIONAL","00000630","LA PUNTA","JUNIN","HUANCAYO","SAPALLANGA","120133","17","01","06","JUNIN","VALLE DEL MANTARO","CHILCA","I-2"]
[null,{"$f":"VALUE(renipress[[#This Row],[Código Único]])","v":631},"GOBIERNO REGIONAL","00000631","COCHARCAS","JUNIN","HUANCAYO","SAPALLANGA","120133","17","01","06","JUNIN","VALLE DEL MANTARO","CHILCA","I-1"]
[null,{"$f":"VALUE(renipress[[#This Row],[Código Único]])","v":632},"GOBIERNO REGIONAL","00000632","MILUCHACA","JUNIN","HUANCAYO","SAPALLANGA","120133","17","01","06","JUNIN","VALLE DEL MANTARO","CHILCA","I-1"]
[null,{"$f":"VALUE(renipress[[#This Row],[Código Único]])","v":633},"GOBIERNO REGIONAL","00000633","MIRAFLORES","JUNIN","HUANCAYO","SAPALLANGA","120133","17","01","06","JUNIN","VALLE DEL MANTARO","CHILCA","I-1"]
[null,{"$f":"VALUE(renipress[[#This Row],[Código Único]])","v":634},"GOBIERNO REGIONAL","00000634","HUAYLLASPANCA","JUNIN","HUANCAYO","SAPALLANGA","120133","17","01","06","JUNIN","VALLE DEL MANTARO","CHILCA","I-1"]
[null,{"$f":"VALUE(renipress[[#This Row],[Código Único]])","v":635},"GOBIERNO REGIONAL","00000635","VIQUES","JUNIN","HUANCAYO","VIQUES","120136","17","01","06","JUNIN","VALLE DEL MANTARO","CHILCA","I-2"]
[null,{"$f":"VALUE(renipress[[#This Row],[Código Único]])","v":636},"GOBIERNO REGIONAL","00000636","CHAMBARA","JUNIN","CONCEPCION","CHAMBARA","120204","17","09","02","JUNIN","RED DE SALUD CHUPACA","HUACHAC","I-2"]
[null,{"$f":"VALUE(renipress[[#This Row],[Código Único]])","v":637},"GOBIERNO REGIONAL","00000637","STA. ROSA DE TISTES","JUNIN","CONCEPCION","CHAMBARA","120204","17","09","02","JUNIN","RED DE SALUD CHUPACA","HUACHAC","I-1"]
[null,{"$f":"VALUE(renipress[[#This Row],[Código Único]])","v":638},"GOBIERNO REGIONAL","00000638","SAN BLAS","JUNIN","CONCEPCION","CHAMBARA","120204","17","09","02","JUNIN","RED DE SALUD CHUPACA","HUACHAC","I-1"]
[null,{"$f":"VALUE(renipress[[#This Row],[Código Único]])","v":639},"GOBIERNO REGIONAL","00000639","ANGASMAYO","JUNIN","CONCEPCION","CHAMBARA","120204","17","09","02","JUNIN","RED DE SALUD CHUPACA","HUACHAC","I-1"]
[null,{"$f":"VALUE(renipress[[#This Row],[Código Único]])","v":640},"GOBIERNO REGIONAL","00000640","MANZANARES","JUNIN","CONCEPCION","MANZANARES","120208","17","09","02","JUNIN","RED DE SALUD CHUPACA","HUACHAC","I-1"]
[null,{"$f":"VALUE(renipress[[#This Row],[Código Único]])","v":641},"GOBIERNO REGIONAL","00000641","SAN JOSE DE QUERO","JUNIN","CONCEPCION","SAN JOSE DE QUERO","120214","17","09","03","JUNIN","RED DE SALUD CHUPACA","CHAQUICOCHA","I-3"]
[null,{"$f":"VALUE(renipress[[#This Row],[Código Único]])","v":642},"GOBIERNO REGIONAL","00000642","CHAQUICOCHA","JUNIN","CONCEPCION","SAN JOSE DE QUERO","120214","17","09","03","JUNIN","RED DE SALUD CHUPACA","CHAQUICOCHA","I-2"]
[null,{"$f":"VALUE(renipress[[#This Row],[Código Único]])","v":643},"GOBIERNO REGIONAL","00000643","SAN ROQUE DE HUARMITA","JUNIN","CONCEPCION","SAN JOSE DE QUERO","120214","17","09","03","JUNIN","RED DE SALUD CHUPACA","CHAQUICOCHA","I-1"]
[null,{"$f":"VALUE(renipress[[#This Row],[Código Único]])","v":644},"GOBIERNO REGIONAL","00000644","STA. ROSA DE HUARMITA","JUNIN","CONCEPCION","SAN JOSE DE QUERO","120214","17","09","03","JUNIN","RED DE SALUD CHUPACA","CHAQUICOCHA","I-1"]
[null,{"$f":"VALUE(renipress[[#This Row],[Código Único]])","v":645},"GOBIERNO REGIONAL","00000645","USIBAMBA","JUNIN","CONCEPCION","SAN JOSE DE QUERO","120214","17","09","03","JUNIN","RED DE SALUD CHUPACA","CHAQUICOCHA","I-2"]
[null,{"$f":"VALUE(renipress[[#This Row],[Código Único]])","v":646},"GOBIERNO REGIONAL","00000646","PEDRO SANCHEZ MEZA - CHUPACA","JUNIN","CHUPACA","CHUPACA","120901","17","09","01","JUNIN","RED DE SALUD CHUPACA","CHUPACA","I-4"]
[null,{"$f":"VALUE(renipress[[#This Row],[Código Único]])","v":647},"GOBIERNO REGIONAL","00000647","AHUAC","JUNIN","CHUPACA","AHUAC","120902","17","09","01","JUNIN","RED DE SALUD CHUPACA","CHUPACA","I-2"]
[null,{"$f":"VALUE(renipress[[#This Row],[Código Único]])","v":648},"GOBIERNO REGIONAL","00000648","HUARISCA","JUNIN","CHUPACA","AHUAC","120902","17","09","01","JUNIN","RED DE SALUD CHUPACA","CHUPACA","I-1"]
[null,{"$f":"VALUE(renipress[[#This Row],[Código Único]])","v":649},"GOBIERNO REGIONAL","00000649","CHONGOS BAJO","JUNIN","CHUPACA","CHONGOS BAJO","120903","17","09","01","JUNIN","RED DE SALUD CHUPACA","CHUPACA","I-3"]
[null,{"$f":"VALUE(renipress[[#This Row],[Código Único]])","v":650},"GOBIERNO REGIONAL","00000650","PUMPUNYA","JUNIN","CHUPACA","CHONGOS BAJO","120903","17","09","01","JUNIN","RED DE SALUD CHUPACA","CHUPACA","I-1"]
[null,{"$f":"VALUE(renipress[[#This Row],[Código Único]])","v":651},"GOBIERNO REGIONAL","00000651","HUACHAC","JUNIN","CHUPACA","HUACHAC","120904","17","09","02","JUNIN","RED DE SALUD CHUPACA","HUACHAC","I-3"]
[null,{"$f":"VALUE(renipress[[#This Row],[Código Único]])","v":652},"GOBIERNO REGIONAL","00000652","HUAYAO","JUNIN","CHUPACA","HUACHAC","120904","17","09","02","JUNIN","RED DE SALUD CHUPACA","HUACHAC","I-1"]
[null,{"$f":"VALUE(renipress[[#This Row],[Código Único]])","v":653},"GOBIERNO REGIONAL","00000653","MARCATUNA","JUNIN","CHUPACA","HUACHAC","120904","17","09","02","JUNIN","RED DE SALUD CHUPACA","HUACHAC","I-1"]
[null,{"$f":"VALUE(renipress[[#This Row],[Código Único]])","v":654},"GOBIERNO REGIONAL","00000654","ANTAPAMPA","JUNIN","CHUPACA","HUACHAC","120904","17","09","02","JUNIN","RED DE SALUD CHUPACA","HUACHAC","I-1"]
[null,{"$f":"VALUE(renipress[[#This Row],[Código Único]])","v":655},"GOBIERNO REGIONAL","00000655","HUAMANCACA CHICO","JUNIN","CHUPACA","HUAMANCACA CHICO","120905","17","09","01","JUNIN","RED DE SALUD CHUPACA","CHUPACA","I-2"]
[null,{"$f":"VALUE(renipress[[#This Row],[Código Único]])","v":656},"GOBIERNO REGIONAL","00000656","SAN JUAN DE ISCOS","JUNIN","CHUPACA","SAN JUAN DE YSCOS","120906","17","09","01","JUNIN","RED DE SALUD CHUPACA","CHUPACA","I-2"]
[null,{"$f":"VALUE(renipress[[#This Row],[Código Único]])","v":657},"GOBIERNO REGIONAL","00000657","TINYARI CHICO","JUNIN","CHUPACA","SAN JUAN DE YSCOS","120906","17","09","01","JUNIN","RED DE SALUD CHUPACA","CHUPACA","I-1"]
[null,{"$f":"VALUE(renipress[[#This Row],[Código Único]])","v":658},"GOBIERNO REGIONAL","00000658","TINYARI GRANDE","JUNIN","CHUPACA","SAN JUAN DE YSCOS","120906","17","09","01","JUNIN","RED DE SALUD CHUPACA","CHUPACA","I-1"]
[null,{"$f":"VALUE(renipress[[#This Row],[Código Único]])","v":659},"GOBIERNO REGIONAL","00000659","SAN JUAN DE JARPA","JUNIN","CHUPACA","SAN JUAN DE JARPA","120907","17","09","04","JUNIN","RED DE SALUD CHUPACA","JARPA","I-3"]
[null,{"$f":"VALUE(renipress[[#This Row],[Código Único]])","v":660},"GOBIERNO REGIONAL","00000660","TRES DE DICIEMBRE","JUNIN","CHUPACA","TRES DE DICIEMBRE","120908","17","09","01","JUNIN","RED DE SALUD CHUPACA","CHUPACA","I-2"]
[null,{"$f":"VALUE(renipress[[#This Row],[Código Único]])","v":661},"GOBIERNO REGIONAL","00000661","YANACANCHA","JUNIN","CHUPACA","YANACANCHA","120909","17","09","04","JUNIN","RED DE SALUD CHUPACA","JARPA","I-2"]
[null,{"$f":"VALUE(renipress[[#This Row],[Código Único]])","v":662},"GOBIERNO REGIONAL","00000662","STO DOMINGO DE CACHI","JUNIN","CHUPACA","YANACANCHA","120909","17","09","04","JUNIN","RED DE SALUD CHUPACA","JARPA","I-1"]
[null,{"$f":"VALUE(renipress[[#This Row],[Código Único]])","v":663},"GOBIERNO REGIONAL","00000663","INGENIO","JUNIN","HUANCAYO","INGENIO","120122","17","01","02","JUNIN","VALLE DEL MANTARO","CONCEPCION","I-2"]
[null,{"$f":"VALUE(renipress[[#This Row],[Código Único]])","v":664},"GOBIERNO REGIONAL","00000664","CASACANCHA","JUNIN","HUANCAYO","INGENIO","120122","17","01","02","JUNIN","VALLE DEL MANTARO","CONCEPCION","I-1"]
[null,{"$f":"VALUE(renipress[[#This Row],[Código Único]])","v":665},"GOBIERNO REGIONAL","00000665","QUICHUAY","JUNIN","HUANCAYO","QUICHUAY","120127","17","01","02","JUNIN","VALLE DEL MANTARO","CONCEPCION","I-2"]
[null,{"$f":"VALUE(renipress[[#This Row],[Código Único]])","v":666},"GOBIERNO REGIONAL","00000666","STO DOMINGO DE ACOBAMBA","JUNIN","HUANCAYO","SANTO DOMINGO DE ACOBAMBA","120135","17","01","03","JUNIN","VALLE DEL MANTARO","COMAS","I-3"]
[null,{"$f":"VALUE(renipress[[#This Row],[Código Único]])","v":667},"GOBIERNO REGIONAL","00000667","MATICHACRA","JUNIN","HUANCAYO","SANTO DOMINGO DE ACOBAMBA","120135","17","01","03","JUNIN","VALLE DEL MANTARO","COMAS","I-2"]
[null,{"$f":"VALUE(renipress[[#This Row],[Código Único]])","v":668},"GOBIERNO REGIONAL","00000668","PAURAN ATICOCHA","JUNIN","HUANCAYO","SANTO DOMINGO DE ACOBAMBA","120135","17","01","03","JUNIN","VALLE DEL MANTARO","COMAS","I-1"]
[null,{"$f":"VALUE(renipress[[#This Row],[Código Único]])","v":669},"GOBIERNO REGIONAL","00000669","PUMABAMBA","JUNIN","HUANCAYO","SANTO DOMINGO DE ACOBAMBA","120135","17","01","03","JUNIN","VALLE DEL MANTARO","COMAS","I-2"]
[null,{"$f":"VALUE(renipress[[#This Row],[Código Único]])","v":670},"GOBIERNO REGIONAL","00000670","SANTA ROSA DE ASTILLERIA","JUNIN","HUANCAYO","SANTO DOMINGO DE ACOBAMBA","120135","17","01","03","JUNIN","VALLE DEL MANTARO","COMAS","I-1"]
[null,{"$f":"VALUE(renipress[[#This Row],[Código Único]])","v":671},"GOBIERNO REGIONAL","00000671","DAVID GUERRERO DUARTE","JUNIN","CONCEPCION","CONCEPCION","120201","17","01","02","JUNIN","VALLE DEL MANTARO","CONCEPCION","I-4"]
[null,{"$f":"VALUE(renipress[[#This Row],[Código Único]])","v":672},"GOBIERNO REGIONAL","00000672","ANDAMARCA","JUNIN","CONCEPCION","ANDAMARCA","120203","17","01","03","JUNIN","VALLE DEL MANTARO","COMAS","I-2"]
[null,{"$f":"VALUE(renipress[[#This Row],[Código Único]])","v":673},"GOBIERNO REGIONAL","00000673","PUCACOCHA","JUNIN","CONCEPCION","ANDAMARCA","120203","17","01","03","JUNIN","VALLE DEL MANTARO","COMAS","I-2"]
[null,{"$f":"VALUE(renipress[[#This Row],[Código Único]])","v":674},"GOBIERNO REGIONAL","00000674","HUANCAMACHAY","JUNIN","CONCEPCION","ANDAMARCA","120203","17","05","01","JUNIN","SATIPO","RIO NEGRO-SATIPO","Sin Categoría"]
[null,{"$f":"VALUE(renipress[[#This Row],[Código Único]])","v":675},"GOBIERNO REGIONAL","00000675","SAN JUAN","JUNIN","CONCEPCION","ANDAMARCA","120203","17","01","03","JUNIN","VALLE DEL MANTARO","COMAS","Sin Categoría"]
[null,{"$f":"VALUE(renipress[[#This Row],[Código Único]])","v":676},"GOBIERNO REGIONAL","00000676","COCHAS","JUNIN","CONCEPCION","COCHAS","120205","17","01","03","JUNIN","VALLE DEL MANTARO","COMAS","I-2"]
[null,{"$f":"VALUE(renipress[[#This Row],[Código Único]])","v":677},"GOBIERNO REGIONAL","00000677","PILCOLLAMA","JUNIN","CONCEPCION","COCHAS","120205","17","01","03","JUNIN","VALLE DEL MANTARO","COMAS","I-1"]
[null,{"$f":"VALUE(renipress[[#This Row],[Código Único]])","v":678},"GOBIERNO REGIONAL","00000678","COMAS","JUNIN","CONCEPCION","COMAS","120206","17","01","03","JUNIN","VALLE DEL MANTARO","COMAS","I-3"]
[null,{"$f":"VALUE(renipress[[#This Row],[Código Único]])","v":679},"GOBIERNO REGIONAL","00000679","CANCHAPALCA","JUNIN","CONCEPCION","COMAS","120206","17","01","03","JUNIN","VALLE DEL MANTARO","COMAS","I-2"]
[null,{"$f":"VALUE(renipress[[#This Row],[Código Único]])","v":680},"GOBIERNO REGIONAL","00000680","RACRACALLA","JUNIN","CONCEPCION","COMAS","120206","17","01","03","JUNIN","VALLE DEL MANTARO","COMAS","I-2"]
[null,{"$f":"VALUE(renipress[[#This Row],[Código Único]])","v":681},"GOBIERNO REGIONAL","00000681","POMAMANTA","JUNIN","CONCEPCION","COMAS","120206","17","01","03","JUNIN","VALLE DEL MANTARO","COMAS","I-1"]
[null,{"$f":"VALUE(renipress[[#This Row],[Código Único]])","v":682},"GOBIERNO REGIONAL","00000682","TALHUIS","JUNIN","CONCEPCION","COMAS","120206","17","01","03","JUNIN","VALLE DEL MANTARO","COMAS","I-1"]
[null,{"$f":"VALUE(renipress[[#This Row],[Código Único]])","v":683},"GOBIERNO REGIONAL","00000683","PUQUIAN","JUNIN","CONCEPCION","COMAS","120206","17","01","03","JUNIN","VALLE DEL MANTARO","COMAS","I-1"]
[null,{"$f":"VALUE(renipress[[#This Row],[Código Único]])","v":684},"GOBIERNO REGIONAL","00000684","RUNATULLO","JUNIN","CONCEPCION","COMAS","120206","17","01","03","JUNIN","VALLE DEL MANTARO","COMAS","I-1"]
[null,{"$f":"VALUE(renipress[[#This Row],[Código Único]])","v":685},"GOBIERNO REGIONAL","00000685","HEROINAS TOLEDO","JUNIN","CONCEPCION","HEROINAS TOLEDO","120207","17","01","02","JUNIN","VALLE DEL MANTARO","CONCEPCION","I-1"]
[null,{"$f":"VALUE(renipress[[#This Row],[Código Único]])","v":686},"GOBIERNO REGIONAL","00000686","MARISCAL CASTILLA","JUNIN","CONCEPCION","MARISCAL CASTILLA","120209","17","01","03","JUNIN","VALLE DEL MANTARO","COMAS","I-2"]
[null,{"$f":"VALUE(renipress[[#This Row],[Código Único]])","v":687},"GOBIERNO REGIONAL","00000687","MATAHUASI","JUNIN","CONCEPCION","MATAHUASI","120210","17","01","02","JUNIN","VALLE DEL MANTARO","CONCEPCION","I-3"]
[null,{"$f":"VALUE(renipress[[#This Row],[Código Único]])","v":688},"GOBIERNO REGIONAL","00000688","MARAVILCA","JUNIN","CONCEPCION","MATAHUASI","120210","17","01","02","JUNIN","VALLE DEL MANTARO","CONCEPCION","I-1"]
[null,{"$f":"VALUE(renipress[[#This Row],[Código Único]])","v":689},"GOBIERNO REGIONAL","00000689","YANAMUCLO","JUNIN","CONCEPCION","MATAHUASI","120210","17","01","02","JUNIN","VALLE DEL MANTARO","CONCEPCION","I-1"]
[null,{"$f":"VALUE(renipress[[#This Row],[Código Único]])","v":690},"GOBIERNO REGIONAL","00000690","NUEVE DE JULIO","JUNIN","CONCEPCION","NUEVE DE JULIO","120212","17","01","02","JUNIN","VALLE DEL MANTARO","CONCEPCION","I-1"]
[null,{"$f":"VALUE(renipress[[#This Row],[Código Único]])","v":691},"GOBIERNO REGIONAL","00000691","STA. ROSA DE OCOPA","JUNIN","CONCEPCION","SANTA ROSA DE OCOPA","120215","17","01","02","JUNIN","VALLE DEL MANTARO","CONCEPCION","I-3"]
[null,{"$f":"VALUE(renipress[[#This Row],[Código Único]])","v":692},"GOBIERNO REGIONAL","00000692","HUANCHAR","JUNIN","CONCEPCION","SANTA ROSA DE OCOPA","120215","17","01","02","JUNIN","VALLE DEL MANTARO","CONCEPCION","I-1"]
[null,{"$f":"VALUE(renipress[[#This Row],[Código Único]])","v":693},"GOBIERNO REGIONAL","00000693","CARHUACALLANGA","JUNIN","HUANCAYO","CARHUACALLANGA","120104","17","09","05","JUNIN","RED DE SALUD CHUPACA","VALLE DEL CANIPACO","I-1"]
[null,{"$f":"VALUE(renipress[[#This Row],[Código Único]])","v":694},"GOBIERNO REGIONAL","00000694","CHACAPAMPA","JUNIN","HUANCAYO","CHACAPAMPA","120105","17","09","05","JUNIN","RED DE SALUD CHUPACA","VALLE DEL CANIPACO","I-1"]
[null,{"$f":"VALUE(renipress[[#This Row],[Código Único]])","v":695},"GOBIERNO REGIONAL","00000695","HUACAN","JUNIN","HUANCAYO","CHACAPAMPA","120105","17","09","05","JUNIN","RED DE SALUD CHUPACA","VALLE DEL CANIPACO","I-1"]
[null,{"$f":"VALUE(renipress[[#This Row],[Código Único]])","v":696},"GOBIERNO REGIONAL","00000696","LOS ANGELES","JUNIN","HUANCAYO","CHACAPAMPA","120105","17","09","05","JUNIN","RED DE SALUD CHUPACA","VALLE DEL CANIPACO","I-1"]
[null,{"$f":"VALUE(renipress[[#This Row],[Código Único]])","v":697},"GOBIERNO REGIONAL","00000697","CHICCHE","JUNIN","HUANCAYO","CHICCHE","120106","17","09","05","JUNIN","RED DE SALUD CHUPACA","VALLE DEL CANIPACO","I-1"]
[null,{"$f":"VALUE(renipress[[#This Row],[Código Único]])","v":698},"GOBIERNO REGIONAL","00000698","VISTA ALEGRE","JUNIN","HUANCAYO","CHICCHE","120106","17","09","05","JUNIN","RED DE SALUD CHUPACA","VALLE DEL CANIPACO","I-1"]
[null,{"$f":"VALUE(renipress[[#This Row],[Código Único]])","v":699},"GOBIERNO REGIONAL","00000699","YANA YANA","JUNIN","HUANCAYO","CHICCHE","120106","17","09","05","JUNIN","RED DE SALUD CHUPACA","VALLE DEL CANIPACO","I-1"]
[null,{"$f":"VALUE(renipress[[#This Row],[Código Único]])","v":700},"GOBIERNO REGIONAL","00000700","CHONGOS ALTO","JUNIN","HUANCAYO","CHONGOS ALTO","120108","17","09","05","JUNIN","RED DE SALUD CHUPACA","VALLE DEL CANIPACO","I-3"]
[null,{"$f":"VALUE(renipress[[#This Row],[Código Único]])","v":701},"GOBIERNO REGIONAL","00000701","COLCA","JUNIN","HUANCAYO","COLCA","120112","17","09","05","JUNIN","RED DE SALUD CHUPACA","VALLE DEL CANIPACO","I-2"]
[null,{"$f":"VALUE(renipress[[#This Row],[Código Único]])","v":702},"GOBIERNO REGIONAL","00000702","STA. CRUZ DE LARIA","JUNIN","HUANCAYO","COLCA","120112","17","01","06","JUNIN","VALLE DEL MANTARO","CHILCA","I-1"]
[null,{"$f":"VALUE(renipress[[#This Row],[Código Único]])","v":703},"GOBIERNO REGIONAL","00000703","HUASICANCHA","JUNIN","HUANCAYO","HUASICANCHA","120120","17","09","05","JUNIN","RED DE SALUD CHUPACA","VALLE DEL CANIPACO","I-1"]
[null,{"$f":"VALUE(renipress[[#This Row],[Código Único]])","v":704},"GOBIERNO REGIONAL","00000704","HOSPITAL REGIONAL DOCENTE DE ENFERMEDADES NEOPLASICAS","JUNIN","HUANCAYO","EL TAMBO","120114","17","00","00","JUNIN","NO PERTENECE A NINGUNA RED","NO PERTENECE A NINGUNA MICRORED","II-E"]
[null,{"$f":"VALUE(renipress[[#This Row],[Código Único]])","v":705},"GOBIERNO REGIONAL","00000705","JUSTICIA PAZ Y VIDA","JUNIN","HUANCAYO","EL TAMBO","120114","17","01","05","JUNIN","VALLE DEL MANTARO","EL TAMBO","I-4"]
[null,{"$f":"VALUE(renipress[[#This Row],[Código Único]])","v":706},"GOBIERNO REGIONAL","00000706","SAÑOS GRANDE","JUNIN","HUANCAYO","EL TAMBO","120114","17","01","05","JUNIN","VALLE DEL MANTARO","EL TAMBO","I-1"]
[null,{"$f":"VALUE(renipress[[#This Row],[Código Único]])","v":707},"GOBIERNO REGIONAL","00000707","SAN MARTIN","JUNIN","HUANCAYO","EL TAMBO","120114","17","01","05","JUNIN","VALLE DEL MANTARO","EL TAMBO","I-3"]
[null,{"$f":"VALUE(renipress[[#This Row],[Código Único]])","v":708},"GOBIERNO REGIONAL","00000708","PACCHA","JUNIN","HUANCAYO","EL TAMBO","120114","17","01","05","JUNIN","VALLE DEL MANTARO","EL TAMBO","I-1"]
[null,{"$f":"VALUE(renipress[[#This Row],[Código Único]])","v":709},"GOBIERNO REGIONAL","00000709","UMUTO","JUNIN","HUANCAYO","EL TAMBO","120114","17","01","05","JUNIN","VALLE DEL MANTARO","EL TAMBO","I-1"]
[null,{"$f":"VALUE(renipress[[#This Row],[Código Único]])","v":710},"GOBIERNO REGIONAL","00000710","INCHO","JUNIN","HUANCAYO","EL TAMBO","120114","17","01","05","JUNIN","VALLE DEL MANTARO","EL TAMBO","I-1"]
[null,{"$f":"VALUE(renipress[[#This Row],[Código Único]])","v":711},"GOBIERNO REGIONAL","00000711","SAÑOS CHICO","JUNIN","HUANCAYO","EL TAMBO","120114","17","01","05","JUNIN","VALLE DEL MANTARO","EL TAMBO","I-1"]
[null,{"$f":"VALUE(renipress[[#This Row],[Código Único]])","v":712},"MINSA","00000712","PUESTO DE SALUD DE AZA","JUNIN","HUANCAYO","EL TAMBO","120114","17","01","05","JUNIN","VALLE DEL MANTARO","EL TAMBO","I-1"]
[null,{"$f":"VALUE(renipress[[#This Row],[Código Único]])","v":713},"GOBIERNO REGIONAL","00000713","BATANYACU","JUNIN","HUANCAYO","EL TAMBO","120114","17","01","05","JUNIN","VALLE DEL MANTARO","EL TAMBO","I-2"]
[null,{"$f":"VALUE(renipress[[#This Row],[Código Único]])","v":714},"GOBIERNO REGIONAL","00000714","JUAN PARRA DEL RIEGO","JUNIN","HUANCAYO","EL TAMBO","120114","17","01","05","JUNIN","VALLE DEL MANTARO","EL TAMBO","I-3"]
[null,{"$f":"VALUE(renipress[[#This Row],[Código Único]])","v":715},"GOBIERNO REGIONAL","00000715","PUESTO DE SALUD RAMIRO PRIALE","JUNIN","HUANCAYO","EL TAMBO","120114","17","01","05","JUNIN","VALLE DEL MANTARO","EL TAMBO","I-2"]
[null,{"$f":"VALUE(renipress[[#This Row],[Código Único]])","v":716},"GOBIERNO REGIONAL","00000716","HUALAOYO","JUNIN","HUANCAYO","EL TAMBO","120114","17","01","05","JUNIN","VALLE DEL MANTARO","EL TAMBO","I-1"]
[null,{"$f":"VALUE(renipress[[#This Row],[Código Único]])","v":717},"GOBIERNO REGIONAL","00000717","LA VICTORIA","JUNIN","HUANCAYO","EL TAMBO","120114","17","01","05","JUNIN","VALLE DEL MANTARO","EL TAMBO","I-1"]
[null,{"$f":"VALUE(renipress[[#This Row],[Código Único]])","v":718},"GOBIERNO REGIONAL","00000718","HUALHUAS","JUNIN","HUANCAYO","HUALHUAS","120117","17","01","05","JUNIN","VALLE DEL MANTARO","EL TAMBO","I-2"]
[null,{"$f":"VALUE(renipress[[#This Row],[Código Único]])","v":719},"GOBIERNO REGIONAL","00000719","PILCOMAYO","JUNIN","HUANCAYO","PILCOMAYO","120125","17","01","05","JUNIN","VALLE DEL MANTARO","EL TAMBO","I-3"]
[null,{"$f":"VALUE(renipress[[#This Row],[Código Único]])","v":720},"GOBIERNO REGIONAL","00000720","QUILCAS","JUNIN","HUANCAYO","QUILCAS","120128","17","01","05","JUNIN","VALLE DEL MANTARO","EL TAMBO","I-2"]
[null,{"$f":"VALUE(renipress[[#This Row],[Código Único]])","v":721},"GOBIERNO REGIONAL","00000721","COLPAR","JUNIN","HUANCAYO","QUILCAS","120128","17","01","05","JUNIN","VALLE DEL MANTARO","EL TAMBO","I-1"]
[null,{"$f":"VALUE(renipress[[#This Row],[Código Único]])","v":722},"GOBIERNO REGIONAL","00000722","SAN AGUSTIN DE CAJAS","JUNIN","HUANCAYO","SAN AGUSTIN","120129","17","01","05","JUNIN","VALLE DEL MANTARO","EL TAMBO","I-3"]
[null,{"$f":"VALUE(renipress[[#This Row],[Código Único]])","v":723},"GOBIERNO REGIONAL","00000723","COILLOR","JUNIN","HUANCAYO","SAN AGUSTIN","120129","17","01","05","JUNIN","VALLE DEL MANTARO","EL TAMBO","I-1"]
[null,{"$f":"VALUE(renipress[[#This Row],[Código Único]])","v":724},"GOBIERNO REGIONAL","00000724","SAN JERONIMO","JUNIN","HUANCAYO","SAN JERONIMO DE TUNAN","120130","17","01","05","JUNIN","VALLE DEL MANTARO","EL TAMBO","I-3"]
[null,{"$f":"VALUE(renipress[[#This Row],[Código Único]])","v":725},"GOBIERNO REGIONAL","00000725","SAN PEDRO DE SAÑO","JUNIN","HUANCAYO","SAÑO","120132","17","01","05","JUNIN","VALLE DEL MANTARO","EL TAMBO","I-2"]
[null,{"$f":"VALUE(renipress[[#This Row],[Código Único]])","v":726},"GOBIERNO REGIONAL","00000726","SICAYA","JUNIN","HUANCAYO","SICAYA","120134","17","01","05","JUNIN","VALLE DEL MANTARO","EL TAMBO","I-3"]
[null,{"$f":"VALUE(renipress[[#This Row],[Código Único]])","v":727},"GOBIERNO REGIONAL","00000727","LA LIBERTAD","JUNIN","HUANCAYO","HUANCAYO","120101","17","01","07","JUNIN","VALLE DEL MANTARO","LA LIBERTAD","I-4"]
[null,{"$f":"VALUE(renipress[[#This Row],[Código Único]])","v":728},"GOBIERNO REGIONAL","00000728","OCOPILLA","JUNIN","HUANCAYO","HUANCAYO","120101","17","01","07","JUNIN","VALLE DEL MANTARO","LA LIBERTAD","I-3"]
[null,{"$f":"VALUE(renipress[[#This Row],[Código Único]])","v":729},"GOBIERNO REGIONAL","00000729","UÑAS","JUNIN","HUANCAYO","HUANCAYO","120101","17","01","07","JUNIN","VALLE DEL MANTARO","LA LIBERTAD","I-2"]
[null,{"$f":"VALUE(renipress[[#This Row],[Código Único]])","v":730},"GOBIERNO REGIONAL","00000730","VILCACOTO","JUNIN","HUANCAYO","HUANCAYO","120101","17","01","07","JUNIN","VALLE DEL MANTARO","LA LIBERTAD","I-2"]
[null,{"$f":"VALUE(renipress[[#This Row],[Código Único]])","v":731},"GOBIERNO REGIONAL","00000731","PALIAN","JUNIN","HUANCAYO","HUANCAYO","120101","17","01","07","JUNIN","VALLE DEL MANTARO","LA LIBERTAD","I-2"]
[null,{"$f":"VALUE(renipress[[#This Row],[Código Único]])","v":732},"GOBIERNO REGIONAL","00000732","SAN FRANCISCO","JUNIN","HUANCAYO","HUANCAYO","120101","17","01","07","JUNIN","VALLE DEL MANTARO","LA LIBERTAD","I-2"]
[null,{"$f":"VALUE(renipress[[#This Row],[Código Único]])","v":733},"GOBIERNO REGIONAL","00000733","CULLPA","JUNIN","HUANCAYO","EL TAMBO","120114","17","01","05","JUNIN","VALLE DEL MANTARO","EL TAMBO","I-1"]
[null,{"$f":"VALUE(renipress[[#This Row],[Código Único]])","v":734},"GOBIERNO REGIONAL","00000734","COCHAS GRANDE","JUNIN","HUANCAYO","EL TAMBO","120114","17","01","05","JUNIN","VALLE DEL MANTARO","EL TAMBO","I-1"]
[null,{"$f":"VALUE(renipress[[#This Row],[Código Único]])","v":735},"GOBIERNO REGIONAL","00000735","COCHAS CHICO","JUNIN","HUANCAYO","EL TAMBO","120114","17","01","05","JUNIN","VALLE DEL MANTARO","EL TAMBO","I-2"]
[null,{"$f":"VALUE(renipress[[#This Row],[Código Único]])","v":736},"GOBIERNO REGIONAL","00000736","PARIAHUANCA","JUNIN","HUANCAYO","PARIAHUANCA","120124","17","01","07","JUNIN","VALLE DEL MANTARO","LA LIBERTAD","I-3"]
[null,{"$f":"VALUE(renipress[[#This Row],[Código Único]])","v":737},"GOBIERNO REGIONAL","00000737","LAMPA","JUNIN","HUANCAYO","PARIAHUANCA","120124","17","01","07","JUNIN","VALLE DEL MANTARO","LA LIBERTAD","I-2"]
[null,{"$f":"VALUE(renipress[[#This Row],[Código Único]])","v":738},"GOBIERNO REGIONAL","00000738","PANTY","JUNIN","HUANCAYO","PARIAHUANCA","120124","17","01","07","JUNIN","VALLE DEL MANTARO","LA LIBERTAD","I-1"]
[null,{"$f":"VALUE(renipress[[#This Row],[Código Único]])","v":739},"GOBIERNO REGIONAL","00000739","SAN BALVIN","JUNIN","HUANCAYO","PARIAHUANCA","120124","17","01","07","JUNIN","VALLE DEL MANTARO","LA LIBERTAD","I-2"]
[null,{"$f":"VALUE(renipress[[#This Row],[Código Único]])","v":740},"GOBIERNO REGIONAL","00000740","ANTARPA","JUNIN","HUANCAYO","PARIAHUANCA","120124","17","01","07","JUNIN","VALLE DEL MANTARO","LA LIBERTAD","I-1"]
[null,{"$f":"VALUE(renipress[[#This Row],[Código Único]])","v":741},"GOBIERNO REGIONAL","00000741","CEDRUYO","JUNIN","HUANCAYO","PARIAHUANCA","120124","17","01","07","JUNIN","VALLE DEL MANTARO","LA LIBERTAD","I-1"]
[null,{"$f":"VALUE(renipress[[#This Row],[Código Único]])","v":742},"GOBIERNO REGIONAL","00000742","LLACSAPIRCA","JUNIN","HUANCAYO","PARIAHUANCA","120124","17","01","07","JUNIN","VALLE DEL MANTARO","LA LIBERTAD","I-2"]
[null,{"$f":"VALUE(renipress[[#This Row],[Código Único]])","v":743},"GOBIERNO REGIONAL","00000743","ROCCHAC","JUNIN","HUANCAYO","PARIAHUANCA","120124","17","01","07","JUNIN","VALLE DEL MANTARO","LA LIBERTAD","I-1"]
[null,{"$f":"VALUE(renipress[[#This Row],[Código Único]])","v":744},"GOBIERNO REGIONAL","00000744","YUNCACHAQUICOCHA","JUNIN","HUANCAYO","SANTO DOMINGO DE ACOBAMBA","120135","17","01","03","JUNIN","VALLE DEL MANTARO","COMAS","I-2"]
[null,{"$f":"VALUE(renipress[[#This Row],[Código Único]])","v":745},"GOBIERNO REGIONAL","00000745","ACO","JUNIN","CONCEPCION","ACO","120202","17","01","02","JUNIN","VALLE DEL MANTARO","CONCEPCION","I-2"]
[null,{"$f":"VALUE(renipress[[#This Row],[Código Único]])","v":746},"GOBIERNO REGIONAL","00000746","QUICHA CHICO","JUNIN","CONCEPCION","ACO","120202","17","01","02","JUNIN","VALLE DEL MANTARO","CONCEPCION","I-1"]
[null,{"$f":"VALUE(renipress[[#This Row],[Código Único]])","v":747},"GOBIERNO REGIONAL","00000747","QUICHA GRANDE","JUNIN","CONCEPCION","ACO","120202","17","01","02","JUNIN","VALLE DEL MANTARO","CONCEPCION","I-1"]
[null,{"$f":"VALUE(renipress[[#This Row],[Código Único]])","v":748},"GOBIERNO REGIONAL","00000748","MITO","JUNIN","CONCEPCION","MITO","120211","17","01","02","JUNIN","VALLE DEL MANTARO","CONCEPCION","I-1"]
[null,{"$f":"VALUE(renipress[[#This Row],[Código Único]])","v":749},"GOBIERNO REGIONAL","00000749","SAN LUIS YAICO","JUNIN","CONCEPCION","MITO","120211","17","01","02","JUNIN","VALLE DEL MANTARO","CONCEPCION","I-1"]
[null,{"$f":"VALUE(renipress[[#This Row],[Código Único]])","v":750},"GOBIERNO REGIONAL","00000750","MATAHULO","JUNIN","CONCEPCION","MITO","120211","17","01","02","JUNIN","VALLE DEL MANTARO","CONCEPCION","I-1"]
[null,{"$f":"VALUE(renipress[[#This Row],[Código Único]])","v":751},"GOBIERNO REGIONAL","00000751","ORCOTUNA","JUNIN","CONCEPCION","ORCOTUNA","120213","17","01","02","JUNIN","VALLE DEL MANTARO","CONCEPCION","I-3"]
[null,{"$f":"VALUE(renipress[[#This Row],[Código Único]])","v":752},"GOBIERNO REGIONAL","00000752","VICSO","JUNIN","CONCEPCION","ORCOTUNA","120213","17","01","02","JUNIN","VALLE DEL MANTARO","CONCEPCION","I-1"]
[null,{"$f":"VALUE(renipress[[#This Row],[Código Único]])","v":753},"GOBIERNO REGIONAL","00000753","HOSPITAL REGIONAL DOCENTE CLINICO QUIRURGICO DANIEL ALCIDES CARRION DE HUANCAYO","JUNIN","HUANCAYO","HUANCAYO","120101","17","00","00","JUNIN","NO PERTENECE A NINGUNA RED","NO PERTENECE A NINGUNA MICRORED","III-E"]
[null,{"$f":"VALUE(renipress[[#This Row],[Código Único]])","v":754},"GOBIERNO REGIONAL","00000754","HOSPITAL REGIONAL HERMILIO VALDIZAN","HUANUCO","HUANUCO","HUANUCO","100101","14","00","00","HUANUCO","NO PERTENECE A NINGUNA RED","NO PERTENECE A NINGUNA MICRORED","II-2"]
[null,{"$f":"VALUE(renipress[[#This Row],[Código Único]])","v":755},"GOBIERNO REGIONAL","00000755","PERU-COREA","HUANUCO","HUANUCO","AMARILIS","100102","14","01","06","HUANUCO","HUANUCO","AMARILIS","I-4"]
[null,{"$f":"VALUE(renipress[[#This Row],[Código Único]])","v":756},"GOBIERNO REGIONAL","00000756","CARLOS SHOWING FERRARI","HUANUCO","HUANUCO","AMARILIS","100102","14","01","06","HUANUCO","HUANUCO","AMARILIS","II-E"]
[null,{"$f":"VALUE(renipress[[#This Row],[Código Único]])","v":757},"GOBIERNO REGIONAL","00000757","POTRACANCHA","HUANUCO","HUANUCO","PILLCO MARCA","100111","14","01","18","HUANUCO","HUANUCO","PILLCOMARCA","I-3"]
[null,{"$f":"VALUE(renipress[[#This Row],[Código Único]])","v":758},"GOBIERNO REGIONAL","00000758","HUANCACHUPAC","HUANUCO","HUANUCO","SAN FRANCISCO DE CAYRAN","100107","14","01","23","HUANUCO","HUANUCO","SAN FRANCISCO DE CAYRAN","I-2"]
[null,{"$f":"VALUE(renipress[[#This Row],[Código Único]])","v":759},"GOBIERNO REGIONAL","00000759","CAYRAN","HUANUCO","HUANUCO","SAN FRANCISCO DE CAYRAN","100107","14","01","23","HUANUCO","HUANUCO","SAN FRANCISCO DE CAYRAN","I-3"]
[null,{"$f":"VALUE(renipress[[#This Row],[Código Único]])","v":760},"GOBIERNO REGIONAL","00000760","LA ESPERANZA","HUANUCO","HUANUCO","AMARILIS","100102","14","01","06","HUANUCO","HUANUCO","AMARILIS","I-2"]
[null,{"$f":"VALUE(renipress[[#This Row],[Código Único]])","v":761},"GOBIERNO REGIONAL","00000761","MALCONGA","HUANUCO","HUANUCO","AMARILIS","100102","14","01","06","HUANUCO","HUANUCO","AMARILIS","I-2"]
[null,{"$f":"VALUE(renipress[[#This Row],[Código Único]])","v":762},"GOBIERNO REGIONAL","00000762","PAUCAR","HUANUCO","HUANUCO","AMARILIS","100102","14","01","06","HUANUCO","HUANUCO","AMARILIS","I-2"]
[null,{"$f":"VALUE(renipress[[#This Row],[Código Único]])","v":763},"GOBIERNO REGIONAL","00000763","LLICUA","HUANUCO","HUANUCO","AMARILIS","100102","14","01","06","HUANUCO","HUANUCO","AMARILIS","I-2"]
[null,{"$f":"VALUE(renipress[[#This Row],[Código Único]])","v":764},"GOBIERNO REGIONAL","00000764","SANTA MARIA DEL VALLE","HUANUCO","HUANUCO","SANTA MARIA DEL VALLE","100109","14","01","16","HUANUCO","HUANUCO","SANTA MARIA DEL VALLE","I-3"]
[null,{"$f":"VALUE(renipress[[#This Row],[Código Único]])","v":765},"GOBIERNO REGIONAL","00000765","CHURUBAMBA","HUANUCO","HUANUCO","CHURUBAMBA","100104","14","01","19","HUANUCO","HUANUCO","CHURUBAMBA","I-2"]
[null,{"$f":"VALUE(renipress[[#This Row],[Código Único]])","v":766},"GOBIERNO REGIONAL","00000766","TAMBOGAN","HUANUCO","HUANUCO","CHURUBAMBA","100104","14","01","19","HUANUCO","HUANUCO","CHURUBAMBA","I-2"]
[null,{"$f":"VALUE(renipress[[#This Row],[Código Único]])","v":767},"GOBIERNO REGIONAL","00000767","UTAO","HUANUCO","HUANUCO","CHURUBAMBA","100104","14","01","19","HUANUCO","HUANUCO","CHURUBAMBA","I-2"]
[null,{"$f":"VALUE(renipress[[#This Row],[Código Único]])","v":768},"GOBIERNO REGIONAL","00000768","TAMBO DE SAN JOSE","HUANUCO","HUANUCO","SANTA MARIA DEL VALLE","100109","14","01","16","HUANUCO","HUANUCO","SANTA MARIA DEL VALLE","I-2"]
[null,{"$f":"VALUE(renipress[[#This Row],[Código Único]])","v":769},"GOBIERNO REGIONAL","00000769","POMACUCHO","HUANUCO","HUANUCO","SANTA MARIA DEL VALLE","100109","14","01","16","HUANUCO","HUANUCO","SANTA MARIA DEL VALLE","I-2"]
[null,{"$f":"VALUE(renipress[[#This Row],[Código Único]])","v":770},"GOBIERNO REGIONAL","00000770","SANTIAGO DE LLACON","HUANUCO","HUANUCO","SANTA MARIA DEL VALLE","100109","14","01","16","HUANUCO","HUANUCO","SANTA MARIA DEL VALLE","I-2"]
[null,{"$f":"VALUE(renipress[[#This Row],[Código Único]])","v":771},"GOBIERNO REGIONAL","00000771","PUESTO DE SALUD DE PACHABAMBA","HUANUCO","HUANUCO","SANTA MARIA DEL VALLE","100109","14","01","16","HUANUCO","HUANUCO","SANTA MARIA DEL VALLE","I-2"]
[null,{"$f":"VALUE(renipress[[#This Row],[Código Único]])","v":772},"GOBIERNO REGIONAL","00000772","SAN SEBASTIAN DE QUERA","HUANUCO","HUANUCO","SANTA MARIA DEL VALLE","100109","14","01","16","HUANUCO","HUANUCO","SANTA MARIA DEL VALLE","I-3"]
[null,{"$f":"VALUE(renipress[[#This Row],[Código Único]])","v":773},"GOBIERNO REGIONAL","00000773","SANTA ROSA DE SIRABAMBA","HUANUCO","HUANUCO","SANTA MARIA DEL VALLE","100109","14","01","16","HUANUCO","HUANUCO","SANTA MARIA DEL VALLE","I-2"]
[null,{"$f":"VALUE(renipress[[#This Row],[Código Único]])","v":774},"GOBIERNO REGIONAL","00000774","SANTA CRUZ DE RATACOCHA","HUANUCO","HUANUCO","SANTA MARIA DEL VALLE","100109","14","01","16","HUANUCO","HUANUCO","SANTA MARIA DEL VALLE","I-2"]
[null,{"$f":"VALUE(renipress[[#This Row],[Código Único]])","v":775},"GOBIERNO REGIONAL","00000775","ACOMAYO","HUANUCO","HUANUCO","CHINCHAO","100103","14","01","20","HUANUCO","HUANUCO","CHINCHAO","I-3"]
[null,{"$f":"VALUE(renipress[[#This Row],[Código Único]])","v":776},"GOBIERNO REGIONAL","00000776","SANTO TORIBIO DE MOGROVEJO DE ARAYPAGUA - CHINCHAO","HUANUCO","HUANUCO","CHINCHAO","100103","14","01","20","HUANUCO","HUANUCO","CHINCHAO","I-2"]
[null,{"$f":"VALUE(renipress[[#This Row],[Código Único]])","v":777},"GOBIERNO REGIONAL","00000777","PILLAO","HUANUCO","HUANUCO","SAN PABLO DE PILLAO","100113","14","01","28","HUANUCO","HUANUCO","SAN PABLO DE PILLAO","I-3"]
[null,{"$f":"VALUE(renipress[[#This Row],[Código Único]])","v":778},"GOBIERNO REGIONAL","00000778","PANAO","HUANUCO","PACHITEA","PANAO","100801","14","11","01","HUANUCO","PACHITEA","PANAO","I-3"]
[null,{"$f":"VALUE(renipress[[#This Row],[Código Único]])","v":779},"GOBIERNO REGIONAL","00000779","CHAGLLA","HUANUCO","PACHITEA","CHAGLLA","100802","14","11","04","HUANUCO","PACHITEA","CHAGLLA","I-3"]
[null,{"$f":"VALUE(renipress[[#This Row],[Código Único]])","v":780},"GOBIERNO REGIONAL","00000780","HUACACHI","HUANUCO","PACHITEA","CHAGLLA","100802","14","11","04","HUANUCO","PACHITEA","CHAGLLA","I-2"]
[null,{"$f":"VALUE(renipress[[#This Row],[Código Único]])","v":781},"GOBIERNO REGIONAL","00000781","HUARAPATAY","HUANUCO","PACHITEA","PANAO","100801","14","11","01","HUANUCO","PACHITEA","PANAO","I-2"]
[null,{"$f":"VALUE(renipress[[#This Row],[Código Único]])","v":782},"GOBIERNO REGIONAL","00000782","MOLINOS","HUANUCO","PACHITEA","MOLINO","100803","14","11","03","HUANUCO","PACHITEA","MOLINO","I-3"]
[null,{"$f":"VALUE(renipress[[#This Row],[Código Único]])","v":783},"GOBIERNO REGIONAL","00000783","TAMBILLO-UMARI","HUANUCO","PACHITEA","UMARI","100804","14","11","02","HUANUCO","PACHITEA","UMARI","I-3"]
[null,{"$f":"VALUE(renipress[[#This Row],[Código Único]])","v":784},"GOBIERNO REGIONAL","00000784","HUARICHACA","HUANUCO","PACHITEA","MOLINO","100803","14","11","03","HUANUCO","PACHITEA","MOLINO","I-3"]
[null,{"$f":"VALUE(renipress[[#This Row],[Código Único]])","v":785},"GOBIERNO REGIONAL","00000785","APARICIO POMARES","HUANUCO","HUANUCO","HUANUCO","100101","14","01","17","HUANUCO","HUANUCO","HUANUCO","I-3"]
[null,{"$f":"VALUE(renipress[[#This Row],[Código Único]])","v":786},"GOBIERNO REGIONAL","00000786","COLPA BAJA","HUANUCO","HUANUCO","HUANUCO","100101","14","01","17","HUANUCO","HUANUCO","HUANUCO","I-2"]
[null,{"$f":"VALUE(renipress[[#This Row],[Código Único]])","v":787},"GOBIERNO REGIONAL","00000787","LAS MORAS","HUANUCO","HUANUCO","HUANUCO","100101","14","01","17","HUANUCO","HUANUCO","HUANUCO","I-3"]
[null,{"$f":"VALUE(renipress[[#This Row],[Código Único]])","v":788},"GOBIERNO REGIONAL","00000788","NAUYAN RONDOS","HUANUCO","HUANUCO","HUANUCO","100101","14","01","17","HUANUCO","HUANUCO","HUANUCO","I-1"]
[null,{"$f":"VALUE(renipress[[#This Row],[Código Único]])","v":789},"GOBIERNO REGIONAL","00000789","SAN JUAN DE LIBERTAD","HUANUCO","HUANUCO","SAN PEDRO DE CHAULAN","100108","14","01","22","HUANUCO","HUANUCO","SAN PEDRO DE CHAULAN","I-2"]
[null,{"$f":"VALUE(renipress[[#This Row],[Código Único]])","v":790},"GOBIERNO REGIONAL","00000790","HUANCAPALLAC","HUANUCO","HUANUCO","QUISQUI","100106","14","01","21","HUANUCO","HUANUCO","HUANCAPALLAC","I-3"]
[null,{"$f":"VALUE(renipress[[#This Row],[Código Único]])","v":791},"GOBIERNO REGIONAL","00000791","JACAS CHICO","HUANUCO","YAROWILCA","JACAS CHICO","101105","14","10","08","HUANUCO","YAROWILCA","JACAS CHICO","I-2"]
[null,{"$f":"VALUE(renipress[[#This Row],[Código Único]])","v":792},"GOBIERNO REGIONAL","00000792","PAMPAS","HUANUCO","HUANUCO","QUISQUI","100106","14","01","21","HUANUCO","HUANUCO","HUANCAPALLAC","I-2"]
[null,{"$f":"VALUE(renipress[[#This Row],[Código Único]])","v":793},"GOBIERNO REGIONAL","00000793","YARUMAYO","HUANUCO","HUANUCO","YARUMAYO","100110","14","01","24","HUANUCO","HUANUCO","YARUMAYO","I-3"]
[null,{"$f":"VALUE(renipress[[#This Row],[Código Único]])","v":794},"GOBIERNO REGIONAL","00000794","CHAULAN","HUANUCO","HUANUCO","SAN PEDRO DE CHAULAN","100108","14","01","22","HUANUCO","HUANUCO","SAN PEDRO DE CHAULAN","I-3"]
[null,{"$f":"VALUE(renipress[[#This Row],[Código Único]])","v":795},"GOBIERNO REGIONAL","00000795","CHULLAY","HUANUCO","HUANUCO","YARUMAYO","100110","14","01","24","HUANUCO","HUANUCO","YARUMAYO","I-1"]
[null,{"$f":"VALUE(renipress[[#This Row],[Código Único]])","v":796},"GOBIERNO REGIONAL","00000796","SAN JOSE DE COZO TINGO","HUANUCO","HUANUCO","SAN PEDRO DE CHAULAN","100108","14","01","22","HUANUCO","HUANUCO","SAN PEDRO DE CHAULAN","I-1"]
[null,{"$f":"VALUE(renipress[[#This Row],[Código Único]])","v":797},"GOBIERNO REGIONAL","00000797","MARGOS","HUANUCO","HUANUCO","MARGOS","100105","14","01","05","HUANUCO","HUANUCO","MARGOS","I-3"]
[null,{"$f":"VALUE(renipress[[#This Row],[Código Único]])","v":798},"GOBIERNO REGIONAL","00000798","JESUS DE NAZARETH DE COCHAS","HUANUCO","HUANUCO","MARGOS","100105","14","01","05","HUANUCO","HUANUCO","MARGOS","I-2"]
[null,{"$f":"VALUE(renipress[[#This Row],[Código Único]])","v":799},"GOBIERNO REGIONAL","00000799","SAN FRANCISCO DE LLAMAPASHILLUM","HUANUCO","HUANUCO","MARGOS","100105","14","01","05","HUANUCO","HUANUCO","MARGOS","I-1"]
[null,{"$f":"VALUE(renipress[[#This Row],[Código Único]])","v":800},"GOBIERNO REGIONAL","00000800","PACAYHUA","HUANUCO","HUANUCO","MARGOS","100105","14","01","05","HUANUCO","HUANUCO","MARGOS","I-1"]
[null,{"$f":"VALUE(renipress[[#This Row],[Código Único]])","v":801},"GOBIERNO REGIONAL","00000801","YACUS","HUANUCO","HUANUCO","YACUS","100112","14","01","25","HUANUCO","HUANUCO","YACUS","I-2"]
[null,{"$f":"VALUE(renipress[[#This Row],[Código Único]])","v":802},"GOBIERNO REGIONAL","00000802","C.S. JESUS","HUANUCO","LAURICOCHA","JESUS","101001","14","08","05","HUANUCO","LAURICOCHA (RED FUNCIONAL)","JESUS","I-3"]
[null,{"$f":"VALUE(renipress[[#This Row],[Código Único]])","v":803},"GOBIERNO REGIONAL","00000803","SAN MIGUEL DE CAURI","HUANUCO","LAURICOCHA","SAN MIGUEL DE CAURI","101007","14","08","02","HUANUCO","LAURICOCHA (RED FUNCIONAL)","SAN MIGUEL DE CAURI","I-3"]
[null,{"$f":"VALUE(renipress[[#This Row],[Código Único]])","v":804},"GOBIERNO REGIONAL","00000804","JIVIA","HUANUCO","LAURICOCHA","JIVIA","101003","14","08","06","HUANUCO","LAURICOCHA (RED FUNCIONAL)","JIVIA","I-2"]
[null,{"$f":"VALUE(renipress[[#This Row],[Código Único]])","v":805},"GOBIERNO REGIONAL","00000805","HUARIN","HUANUCO","LAURICOCHA","SAN FRANCISCO DE ASIS","101006","14","08","07","HUANUCO","LAURICOCHA (RED FUNCIONAL)","SAN FRANCISCO DE ASIS","I-2"]
[null,{"$f":"VALUE(renipress[[#This Row],[Código Único]])","v":806},"GOBIERNO REGIONAL","00000806","CARAMARCA","HUANUCO","LAURICOCHA","SAN FRANCISCO DE ASIS","101006","14","08","07","HUANUCO","LAURICOCHA (RED FUNCIONAL)","SAN FRANCISCO DE ASIS","I-1"]
[null,{"$f":"VALUE(renipress[[#This Row],[Código Único]])","v":807},"GOBIERNO REGIONAL","00000807","COSMA","HUANUCO","LAURICOCHA","RONDOS","101005","14","08","03","HUANUCO","LAURICOCHA (RED FUNCIONAL)","RONDOS","I-1"]
[null,{"$f":"VALUE(renipress[[#This Row],[Código Único]])","v":808},"GOBIERNO REGIONAL","00000808","RONDOS","HUANUCO","LAURICOCHA","RONDOS","101005","14","08","03","HUANUCO","LAURICOCHA (RED FUNCIONAL)","RONDOS","I-3"]
[null,{"$f":"VALUE(renipress[[#This Row],[Código Único]])","v":809},"GOBIERNO REGIONAL","00000809","BAÑOS","HUANUCO","LAURICOCHA","BAÑOS","101002","14","08","04","HUANUCO","LAURICOCHA (RED FUNCIONAL)","BAÑOS","I-3"]
[null,{"$f":"VALUE(renipress[[#This Row],[Código Único]])","v":810},"GOBIERNO REGIONAL","00000810","PUESTO DE SALUD PARACSHA","HUANUCO","LAURICOCHA","JESUS","101001","14","08","05","HUANUCO","LAURICOCHA (RED FUNCIONAL)","JESUS","I-1"]
[null,{"$f":"VALUE(renipress[[#This Row],[Código Único]])","v":811},"GOBIERNO REGIONAL","00000811","PILCOCANCHA","HUANUCO","LAURICOCHA","RONDOS","101005","14","08","03","HUANUCO","LAURICOCHA (RED FUNCIONAL)","RONDOS","I-1"]
[null,{"$f":"VALUE(renipress[[#This Row],[Código Único]])","v":812},"GOBIERNO REGIONAL","00000812","QUEROPALCA","HUANUCO","LAURICOCHA","QUEROPALCA","101004","14","08","08","HUANUCO","LAURICOCHA (RED FUNCIONAL)","QUEROPALCA","I-2"]
[null,{"$f":"VALUE(renipress[[#This Row],[Código Único]])","v":813},"GOBIERNO REGIONAL","00000813","PUESTO DE SALUD SAN JUAN DE NUPE","HUANUCO","LAURICOCHA","JESUS","101001","14","08","05","HUANUCO","LAURICOCHA (RED FUNCIONAL)","JESUS","I-1"]
[null,{"$f":"VALUE(renipress[[#This Row],[Código Único]])","v":814},"GOBIERNO REGIONAL","00000814","SANTA ROSA","HUANUCO","LAURICOCHA","BAÑOS","101002","14","08","04","HUANUCO","LAURICOCHA (RED FUNCIONAL)","BAÑOS","I-2"]
[null,{"$f":"VALUE(renipress[[#This Row],[Código Único]])","v":815},"GOBIERNO REGIONAL","00000815","AMBO","HUANUCO","AMBO","AMBO","100201","14","06","01","HUANUCO","AMBO","AMBO","I-3"]
[null,{"$f":"VALUE(renipress[[#This Row],[Código Único]])","v":816},"GOBIERNO REGIONAL","00000816","COCHAPATA","HUANUCO","AMBO","AMBO","100201","14","06","01","HUANUCO","AMBO","AMBO","I-1"]
[null,{"$f":"VALUE(renipress[[#This Row],[Código Único]])","v":817},"GOBIERNO REGIONAL","00000817","CHAUCHA","HUANUCO","AMBO","AMBO","100201","14","06","01","HUANUCO","AMBO","AMBO","I-1"]
[null,{"$f":"VALUE(renipress[[#This Row],[Código Único]])","v":818},"GOBIERNO REGIONAL","00000818","CONCHAMARCA","HUANUCO","AMBO","CONCHAMARCA","100204","14","06","04","HUANUCO","AMBO","CONCHAMARCA","I-3"]
[null,{"$f":"VALUE(renipress[[#This Row],[Código Único]])","v":819},"GOBIERNO REGIONAL","00000819","ÑAUZA","HUANUCO","AMBO","CONCHAMARCA","100204","14","06","04","HUANUCO","AMBO","CONCHAMARCA","I-2"]
[null,{"$f":"VALUE(renipress[[#This Row],[Código Único]])","v":820},"GOBIERNO REGIONAL","00000820","SACSAHUANCA","HUANUCO","AMBO","AMBO","100201","14","06","01","HUANUCO","AMBO","AMBO","I-1"]
[null,{"$f":"VALUE(renipress[[#This Row],[Código Único]])","v":821},"GOBIERNO REGIONAL","00000821","TOMAYKICHUA","HUANUCO","AMBO","TOMAY-KICHWA","100208","14","06","05","HUANUCO","AMBO","TOMAYKICHWA","I-2"]
[null,{"$f":"VALUE(renipress[[#This Row],[Código Único]])","v":822},"GOBIERNO REGIONAL","00000822","MARAYPATA","HUANUCO","AMBO","AMBO","100201","14","06","01","HUANUCO","AMBO","AMBO","I-1"]
[null,{"$f":"VALUE(renipress[[#This Row],[Código Único]])","v":823},"GOBIERNO REGIONAL","00000823","HUACAR","HUANUCO","AMBO","HUACAR","100205","14","06","03","HUANUCO","AMBO","HUACAR","I-3"]
[null,{"$f":"VALUE(renipress[[#This Row],[Código Único]])","v":824},"GOBIERNO REGIONAL","00000824","ANGASMARCA","HUANUCO","AMBO","HUACAR","100205","14","06","03","HUANUCO","AMBO","HUACAR","I-2"]
[null,{"$f":"VALUE(renipress[[#This Row],[Código Único]])","v":825},"GOBIERNO REGIONAL","00000825","CAYNA","HUANUCO","AMBO","CAYNA","100202","14","06","06","HUANUCO","AMBO","CAYNA","I-2"]
[null,{"$f":"VALUE(renipress[[#This Row],[Código Único]])","v":826},"GOBIERNO REGIONAL","00000826","COLPAS","HUANUCO","AMBO","COLPAS","100203","14","06","07","HUANUCO","AMBO","COLPAS","I-2"]
[null,{"$f":"VALUE(renipress[[#This Row],[Código Único]])","v":827},"GOBIERNO REGIONAL","00000827","MOSCATUNA","HUANUCO","AMBO","HUACAR","100205","14","06","03","HUANUCO","AMBO","HUACAR","I-1"]
[null,{"$f":"VALUE(renipress[[#This Row],[Código Único]])","v":828},"GOBIERNO REGIONAL","00000828","SAN JUAN DE UTCUSH","HUANUCO","AMBO","CAYNA","100202","14","06","06","HUANUCO","AMBO","CAYNA","I-2"]
[null,{"$f":"VALUE(renipress[[#This Row],[Código Único]])","v":829},"GOBIERNO REGIONAL","00000829","YAPAC","HUANUCO","AMBO","COLPAS","100203","14","06","07","HUANUCO","AMBO","COLPAS","I-2"]
[null,{"$f":"VALUE(renipress[[#This Row],[Código Único]])","v":830},"GOBIERNO REGIONAL","00000830","SAN PEDRO DE ACOBAMBA","HUANUCO","AMBO","HUACAR","100205","14","06","03","HUANUCO","AMBO","HUACAR","I-1"]
[null,{"$f":"VALUE(renipress[[#This Row],[Código Único]])","v":831},"GOBIERNO REGIONAL","00000831","SAN RAFAEL","HUANUCO","AMBO","SAN RAFAEL","100207","14","06","02","HUANUCO","AMBO","SAN RAFAEL","I-3"]
[null,{"$f":"VALUE(renipress[[#This Row],[Código Único]])","v":832},"GOBIERNO REGIONAL","00000832","AYANCOCHA ALTA","HUANUCO","AMBO","SAN RAFAEL","100207","14","06","02","HUANUCO","AMBO","SAN RAFAEL","I-2"]
[null,{"$f":"VALUE(renipress[[#This Row],[Código Único]])","v":833},"GOBIERNO REGIONAL","00000833","COCHACALLA","HUANUCO","AMBO","SAN RAFAEL","100207","14","06","02","HUANUCO","AMBO","SAN RAFAEL","I-1"]
[null,{"$f":"VALUE(renipress[[#This Row],[Código Único]])","v":834},"GOBIERNO REGIONAL","00000834","CHACOS","HUANUCO","AMBO","SAN RAFAEL","100207","14","06","02","HUANUCO","AMBO","SAN RAFAEL","I-2"]
[null,{"$f":"VALUE(renipress[[#This Row],[Código Único]])","v":835},"GOBIERNO REGIONAL","00000835","MATIHUACA","HUANUCO","AMBO","SAN RAFAEL","100207","14","06","02","HUANUCO","AMBO","SAN RAFAEL","I-1"]
[null,{"$f":"VALUE(renipress[[#This Row],[Código Único]])","v":836},"GOBIERNO REGIONAL","00000836","TRES DE MAYO DE RODEO","HUANUCO","AMBO","SAN FRANCISCO","100206","14","06","08","HUANUCO","AMBO","SAN FRANCISCO DE MOSCA","I-2"]
[null,{"$f":"VALUE(renipress[[#This Row],[Código Único]])","v":837},"GOBIERNO REGIONAL","00000837","SAN FRANCISCO DE MOSCA","HUANUCO","AMBO","SAN FRANCISCO","100206","14","06","08","HUANUCO","AMBO","SAN FRANCISCO DE MOSCA","I-2"]
[null,{"$f":"VALUE(renipress[[#This Row],[Código Único]])","v":838},"GOBIERNO REGIONAL","00000838","STO. DOMINGO DE RONDOS","HUANUCO","AMBO","SAN RAFAEL","100207","14","06","02","HUANUCO","AMBO","SAN RAFAEL","I-2"]
[null,{"$f":"VALUE(renipress[[#This Row],[Código Único]])","v":839},"GOBIERNO REGIONAL","00000839","LA UNION","HUANUCO","DOS DE MAYO","LA UNION","100301","14","04","06","HUANUCO","DOS DE MAYO","LA UNION","I-4"]
[null,{"$f":"VALUE(renipress[[#This Row],[Código Único]])","v":840},"GOBIERNO REGIONAL","00000840","SILLAPATA","HUANUCO","DOS DE MAYO","SILLAPATA","100322","14","04","12","HUANUCO","DOS DE MAYO","SILLAPATA","I-2"]
[null,{"$f":"VALUE(renipress[[#This Row],[Código Único]])","v":841},"GOBIERNO REGIONAL","00000841","ISCOPAMPA","HUANUCO","LAURICOCHA","RONDOS","101005","14","08","03","HUANUCO","LAURICOCHA (RED FUNCIONAL)","RONDOS","I-2"]
[null,{"$f":"VALUE(renipress[[#This Row],[Código Único]])","v":842},"GOBIERNO REGIONAL","00000842","SECCHA","HUANUCO","LAURICOCHA","RONDOS","101005","14","08","03","HUANUCO","LAURICOCHA (RED FUNCIONAL)","RONDOS","I-1"]
[null,{"$f":"VALUE(renipress[[#This Row],[Código Único]])","v":843},"GOBIERNO REGIONAL","00000843","VISTA ALEGRE","HUANUCO","DOS DE MAYO","RIPAN","100317","14","04","10","HUANUCO","DOS DE MAYO","RIPAN","I-1"]
[null,{"$f":"VALUE(renipress[[#This Row],[Código Único]])","v":844},"GOBIERNO REGIONAL","00000844","RACUAY","HUANUCO","DOS DE MAYO","RIPAN","100317","14","04","10","HUANUCO","DOS DE MAYO","RIPAN","I-2"]
[null,{"$f":"VALUE(renipress[[#This Row],[Código Único]])","v":845},"GOBIERNO REGIONAL","00000845","PACHAS","HUANUCO","DOS DE MAYO","PACHAS","100313","14","04","04","HUANUCO","DOS DE MAYO","PACHAS","I-3"]
[null,{"$f":"VALUE(renipress[[#This Row],[Código Único]])","v":846},"GOBIERNO REGIONAL","00000846","SHUNQUI","HUANUCO","DOS DE MAYO","SHUNQUI","100321","14","04","11","HUANUCO","DOS DE MAYO","SHUNQUI","I-2"]
[null,{"$f":"VALUE(renipress[[#This Row],[Código Único]])","v":847},"GOBIERNO REGIONAL","00000847","YANAS","HUANUCO","DOS DE MAYO","YANAS","100323","14","04","13","HUANUCO","DOS DE MAYO","YANAS","I-2"]
[null,{"$f":"VALUE(renipress[[#This Row],[Código Único]])","v":848},"GOBIERNO REGIONAL","00000848","QUIVILLA","HUANUCO","DOS DE MAYO","QUIVILLA","100316","14","04","09","HUANUCO","DOS DE MAYO","QUIVILLA","I-3"]
[null,{"$f":"VALUE(renipress[[#This Row],[Código Único]])","v":849},"GOBIERNO REGIONAL","00000849","MARIAS","HUANUCO","DOS DE MAYO","MARIAS","100311","14","04","08","HUANUCO","DOS DE MAYO","MARIAS","I-3"]
[null,{"$f":"VALUE(renipress[[#This Row],[Código Único]])","v":850},"GOBIERNO REGIONAL","00000850","HUANCAN","HUANUCO","DOS DE MAYO","CHUQUIS","100307","14","04","07","HUANUCO","DOS DE MAYO","CHUQUIS","I-2"]
[null,{"$f":"VALUE(renipress[[#This Row],[Código Único]])","v":851},"GOBIERNO REGIONAL","00000851","CHUQUIS","HUANUCO","DOS DE MAYO","CHUQUIS","100307","14","04","07","HUANUCO","DOS DE MAYO","CHUQUIS","I-2"]
[null,{"$f":"VALUE(renipress[[#This Row],[Código Único]])","v":852},"GOBIERNO REGIONAL","00000852","PATAY RONDOS","HUANUCO","DOS DE MAYO","MARIAS","100311","14","04","08","HUANUCO","DOS DE MAYO","MARIAS","I-2"]
[null,{"$f":"VALUE(renipress[[#This Row],[Código Único]])","v":853},"GOBIERNO REGIONAL","00000853","TINGO CHICO","HUANUCO","DOS DE MAYO","CHUQUIS","100307","14","04","07","HUANUCO","DOS DE MAYO","CHUQUIS","I-1"]
[null,{"$f":"VALUE(renipress[[#This Row],[Código Único]])","v":854},"GOBIERNO REGIONAL","00000854","PICHGAS","HUANUCO","DOS DE MAYO","PACHAS","100313","14","04","04","HUANUCO","DOS DE MAYO","PACHAS","I-1"]
[null,{"$f":"VALUE(renipress[[#This Row],[Código Único]])","v":855},"GOBIERNO REGIONAL","00000855","CHAVINILLO","HUANUCO","YAROWILCA","CHAVINILLO","101101","14","10","01","HUANUCO","YAROWILCA","CHAVINILLO","I-3"]
[null,{"$f":"VALUE(renipress[[#This Row],[Código Único]])","v":856},"GOBIERNO REGIONAL","00000856","RAIN CONDOR","HUANUCO","YAROWILCA","CHAVINILLO","101101","14","10","01","HUANUCO","YAROWILCA","CHAVINILLO","I-1"]
[null,{"$f":"VALUE(renipress[[#This Row],[Código Único]])","v":857},"GOBIERNO REGIONAL","00000857","CHACABAMBA","HUANUCO","YAROWILCA","CHACABAMBA","101103","14","10","06","HUANUCO","YAROWILCA","CHACABAMBA","I-1"]
[null,{"$f":"VALUE(renipress[[#This Row],[Código Único]])","v":858},"GOBIERNO REGIONAL","00000858","CAHUAC","HUANUCO","YAROWILCA","CAHUAC","101102","14","10","04","HUANUCO","YAROWILCA","CAHUAC","I-2"]
[null,{"$f":"VALUE(renipress[[#This Row],[Código Único]])","v":859},"GOBIERNO REGIONAL","00000859","SHULLUYACU","HUANUCO","YAROWILCA","CHACABAMBA","101103","14","10","06","HUANUCO","YAROWILCA","CHACABAMBA","I-2"]
[null,{"$f":"VALUE(renipress[[#This Row],[Código Único]])","v":860},"GOBIERNO REGIONAL","00000860","AYAPITEG","HUANUCO","YAROWILCA","CHAVINILLO","101101","14","10","01","HUANUCO","YAROWILCA","CHAVINILLO","I-2"]
[null,{"$f":"VALUE(renipress[[#This Row],[Código Único]])","v":861},"GOBIERNO REGIONAL","00000861","CHORAS","HUANUCO","YAROWILCA","CHORAS","101108","14","10","05","HUANUCO","YAROWILCA","CHORAS","I-2"]
[null,{"$f":"VALUE(renipress[[#This Row],[Código Único]])","v":862},"GOBIERNO REGIONAL","00000862","OBAS","HUANUCO","YAROWILCA","OBAS","101106","14","10","02","HUANUCO","YAROWILCA","OBAS","I-3"]
[null,{"$f":"VALUE(renipress[[#This Row],[Código Único]])","v":863},"GOBIERNO REGIONAL","00000863","CHUPAN","HUANUCO","YAROWILCA","APARICIO POMARES","101104","14","10","03","HUANUCO","YAROWILCA","APARICIO POMARES","I-3"]
[null,{"$f":"VALUE(renipress[[#This Row],[Código Único]])","v":864},"GOBIERNO REGIONAL","00000864","PAMPAMARCA","HUANUCO","YAROWILCA","PAMPAMARCA","101107","14","10","07","HUANUCO","YAROWILCA","PAMPAMARCA","I-2"]
[null,{"$f":"VALUE(renipress[[#This Row],[Código Único]])","v":865},"GOBIERNO REGIONAL","00000865","RAHUA","HUANUCO","YAROWILCA","APARICIO POMARES","101104","14","10","03","HUANUCO","YAROWILCA","APARICIO POMARES","I-2"]
[null,{"$f":"VALUE(renipress[[#This Row],[Código Único]])","v":866},"GOBIERNO REGIONAL","00000866","HUACRACHUCO","HUANUCO","MARAÑON","HUACRACHUCO","100701","14","02","05","HUANUCO","MARAÑON","HUACRACHUCO","I-3"]
[null,{"$f":"VALUE(renipress[[#This Row],[Código Único]])","v":867},"GOBIERNO REGIONAL","00000867","SAN BUENAVENTURA","HUANUCO","MARAÑON","SAN BUENAVENTURA","100703","14","02","07","HUANUCO","MARAÑON","SAN BUENAVENTURA","I-2"]
[null,{"$f":"VALUE(renipress[[#This Row],[Código Único]])","v":868},"GOBIERNO REGIONAL","00000868","PUESTO DE SALUD PISO","HUANUCO","MARAÑON","HUACRACHUCO","100701","14","02","05","HUANUCO","MARAÑON","HUACRACHUCO","I-2"]
[null,{"$f":"VALUE(renipress[[#This Row],[Código Único]])","v":869},"GOBIERNO REGIONAL","00000869","HUARIPAMPA","HUANUCO","MARAÑON","HUACRACHUCO","100701","14","02","05","HUANUCO","MARAÑON","HUACRACHUCO","I-2"]
[null,{"$f":"VALUE(renipress[[#This Row],[Código Único]])","v":870},"GOBIERNO REGIONAL","00000870","SAN PEDRO DE CHOCOBAMBA","HUANUCO","MARAÑON","HUACRACHUCO","100701","14","02","05","HUANUCO","MARAÑON","HUACRACHUCO","I-1"]
[null,{"$f":"VALUE(renipress[[#This Row],[Código Único]])","v":871},"GOBIERNO REGIONAL","00000871","CHINCHIL","HUANUCO","MARAÑON","HUACRACHUCO","100701","14","02","05","HUANUCO","MARAÑON","HUACRACHUCO","I-1"]
[null,{"$f":"VALUE(renipress[[#This Row],[Código Único]])","v":872},"GOBIERNO REGIONAL","00000872","HUACHUMAY","HUANUCO","MARAÑON","HUACRACHUCO","100701","14","02","05","HUANUCO","MARAÑON","HUACRACHUCO","I-1"]
[null,{"$f":"VALUE(renipress[[#This Row],[Código Único]])","v":873},"GOBIERNO REGIONAL","00000873","VILLAMAR","HUANUCO","MARAÑON","SAN BUENAVENTURA","100703","14","02","07","HUANUCO","MARAÑON","SAN BUENAVENTURA","I-1"]
[null,{"$f":"VALUE(renipress[[#This Row],[Código Único]])","v":874},"GOBIERNO REGIONAL","00000874","HUAYCHAO","HUANUCO","MARAÑON","HUACRACHUCO","100701","14","02","05","HUANUCO","MARAÑON","HUACRACHUCO","I-1"]
[null,{"$f":"VALUE(renipress[[#This Row],[Código Único]])","v":875},"GOBIERNO REGIONAL","00000875","FRAILE RUMI","HUANUCO","MARAÑON","SAN BUENAVENTURA","100703","14","02","07","HUANUCO","MARAÑON","SAN BUENAVENTURA","I-1"]
[null,{"$f":"VALUE(renipress[[#This Row],[Código Único]])","v":876},"GOBIERNO REGIONAL","00000876","SANPEDRO DE CHOLON","HUANUCO","MARAÑON","CHOLON","100702","14","02","08","HUANUCO","MARAÑON","SAN PEDRO DE CHOLON","I-2"]
[null,{"$f":"VALUE(renipress[[#This Row],[Código Único]])","v":877},"GOBIERNO REGIONAL","00000877","HUACAYBAMBA","HUANUCO","HUACAYBAMBA","HUACAYBAMBA","100401","14","09","02","HUANUCO","HUACAYBAMBA (RED FUNCIONAL)","HUACAYBAMBA","I-3"]
[null,{"$f":"VALUE(renipress[[#This Row],[Código Único]])","v":878},"GOBIERNO REGIONAL","00000878","CANCHABAMBA","HUANUCO","HUACAYBAMBA","CANCHABAMBA","100402","14","09","03","HUANUCO","HUACAYBAMBA (RED FUNCIONAL)","CANCHABAMBA","I-3"]
[null,{"$f":"VALUE(renipress[[#This Row],[Código Único]])","v":879},"GOBIERNO REGIONAL","00000879","COCHABAMBA","HUANUCO","HUACAYBAMBA","COCHABAMBA","100403","14","09","04","HUANUCO","HUACAYBAMBA (RED FUNCIONAL)","COCHABAMBA","I-1"]
[null,{"$f":"VALUE(renipress[[#This Row],[Código Único]])","v":880},"GOBIERNO REGIONAL","00000880","QUICHIRRAGRA","HUANUCO","HUACAYBAMBA","HUACAYBAMBA","100401","14","09","02","HUANUCO","HUACAYBAMBA (RED FUNCIONAL)","HUACAYBAMBA","I-2"]
[null,{"$f":"VALUE(renipress[[#This Row],[Código Único]])","v":881},"GOBIERNO REGIONAL","00000881","PUESTO DE SALUD DE RONDOBAMBA","HUANUCO","HUACAYBAMBA","HUACAYBAMBA","100401","14","09","02","HUANUCO","HUACAYBAMBA (RED FUNCIONAL)","HUACAYBAMBA","I-1"]
[null,{"$f":"VALUE(renipress[[#This Row],[Código Único]])","v":882},"GOBIERNO REGIONAL","00000882","SANTA ANA PIRUSHTO","HUANUCO","HUACAYBAMBA","COCHABAMBA","100403","14","09","04","HUANUCO","HUACAYBAMBA (RED FUNCIONAL)","COCHABAMBA","I-1"]
[null,{"$f":"VALUE(renipress[[#This Row],[Código Único]])","v":883},"GOBIERNO REGIONAL","00000883","PINRA","HUANUCO","HUACAYBAMBA","PINRA","100404","14","09","01","HUANUCO","HUACAYBAMBA (RED FUNCIONAL)","PINRA","I-2"]
[null,{"$f":"VALUE(renipress[[#This Row],[Código Único]])","v":884},"GOBIERNO REGIONAL","00000884","CAJAN","HUANUCO","HUACAYBAMBA","PINRA","100404","14","09","01","HUANUCO","HUACAYBAMBA (RED FUNCIONAL)","PINRA","I-2"]
[null,{"$f":"VALUE(renipress[[#This Row],[Código Único]])","v":885},"GOBIERNO REGIONAL","00000885","HUARACILLO","HUANUCO","HUACAYBAMBA","PINRA","100404","14","09","01","HUANUCO","HUACAYBAMBA (RED FUNCIONAL)","PINRA","I-2"]
[null,{"$f":"VALUE(renipress[[#This Row],[Código Único]])","v":886},"GOBIERNO REGIONAL","00000886","VILLA FLORES DE RAJIN","HUANUCO","HUACAYBAMBA","CANCHABAMBA","100402","14","09","03","HUANUCO","HUACAYBAMBA (RED FUNCIONAL)","CANCHABAMBA","I-1"]
[null,{"$f":"VALUE(renipress[[#This Row],[Código Único]])","v":887},"GOBIERNO REGIONAL","00000887","LLATA","HUANUCO","HUAMALIES","LLATA","100501","14","05","11","HUANUCO","HUAMALIES","LLATA","I-4"]
[null,{"$f":"VALUE(renipress[[#This Row],[Código Único]])","v":888},"GOBIERNO REGIONAL","00000888","PAMPAS DEL CARMEN","HUANUCO","HUAMALIES","LLATA","100501","14","05","11","HUANUCO","HUAMALIES","LLATA","I-2"]
[null,{"$f":"VALUE(renipress[[#This Row],[Código Único]])","v":889},"GOBIERNO REGIONAL","00000889","EL PORVENIR","HUANUCO","HUAMALIES","LLATA","100501","14","05","11","HUANUCO","HUAMALIES","LLATA","I-2"]
[null,{"$f":"VALUE(renipress[[#This Row],[Código Único]])","v":890},"GOBIERNO REGIONAL","00000890","LIBERTAD","HUANUCO","HUAMALIES","LLATA","100501","14","05","11","HUANUCO","HUAMALIES","LLATA","I-2"]
[null,{"$f":"VALUE(renipress[[#This Row],[Código Único]])","v":891},"GOBIERNO REGIONAL","00000891","ISHANCA","HUANUCO","HUAMALIES","LLATA","100501","14","05","11","HUANUCO","HUAMALIES","LLATA","I-2"]
[null,{"$f":"VALUE(renipress[[#This Row],[Código Único]])","v":892},"GOBIERNO REGIONAL","00000892","PUÑOS","HUANUCO","HUAMALIES","PUÑOS","100509","14","05","03","HUANUCO","HUAMALIES","PUÑOS","I-3"]
[null,{"$f":"VALUE(renipress[[#This Row],[Código Único]])","v":893},"GOBIERNO REGIONAL","00000893","POQUE","HUANUCO","HUAMALIES","PUÑOS","100509","14","05","03","HUANUCO","HUAMALIES","PUÑOS","I-2"]
[null,{"$f":"VALUE(renipress[[#This Row],[Código Único]])","v":894},"GOBIERNO REGIONAL","00000894","ILLAHUASI","HUANUCO","HUAMALIES","PUÑOS","100509","14","05","03","HUANUCO","HUAMALIES","PUÑOS","I-1"]
[null,{"$f":"VALUE(renipress[[#This Row],[Código Único]])","v":895},"GOBIERNO REGIONAL","00000895","MIRAFLORES","HUANUCO","HUAMALIES","MIRAFLORES","100506","14","05","15","HUANUCO","HUAMALIES","MIRAFLORES","I-2"]
[null,{"$f":"VALUE(renipress[[#This Row],[Código Único]])","v":896},"GOBIERNO REGIONAL","00000896","CHAVIN DE PARIARCA","HUANUCO","HUAMALIES","CHAVIN DE PARIARCA","100503","14","05","02","HUANUCO","HUAMALIES","CHAVIN DE PARIARCA","I-3"]
[null,{"$f":"VALUE(renipress[[#This Row],[Código Único]])","v":897},"GOBIERNO REGIONAL","00000897","JACAS GRANDE","HUANUCO","HUAMALIES","JACAS GRANDE","100504","14","05","13","HUANUCO","HUAMALIES","JACAS GRANDE","I-2"]
[null,{"$f":"VALUE(renipress[[#This Row],[Código Único]])","v":898},"GOBIERNO REGIONAL","00000898","ANDAS","HUANUCO","HUAMALIES","JACAS GRANDE","100504","14","05","13","HUANUCO","HUAMALIES","JACAS GRANDE","I-2"]
[null,{"$f":"VALUE(renipress[[#This Row],[Código Único]])","v":899},"GOBIERNO REGIONAL","00000899","SAN JUAN DE PAMPAS","HUANUCO","HUAMALIES","CHAVIN DE PARIARCA","100503","14","05","02","HUANUCO","HUAMALIES","CHAVIN DE PARIARCA","I-1"]
[null,{"$f":"VALUE(renipress[[#This Row],[Código Único]])","v":900},"GOBIERNO REGIONAL","00000900","SINGA","HUANUCO","HUAMALIES","SINGA","100510","14","05","17","HUANUCO","HUAMALIES","SINGA","I-3"]
[null,{"$f":"VALUE(renipress[[#This Row],[Código Único]])","v":901},"GOBIERNO REGIONAL","00000901","PUNCHAO","HUANUCO","HUAMALIES","PUNCHAO","100508","14","05","16","HUANUCO","HUAMALIES","PUNCHAO","I-2"]
[null,{"$f":"VALUE(renipress[[#This Row],[Código Único]])","v":902},"GOBIERNO REGIONAL","00000902","BELLAS FLORES","HUANUCO","HUAMALIES","SINGA","100510","14","05","17","HUANUCO","HUAMALIES","SINGA","I-1"]
[null,{"$f":"VALUE(renipress[[#This Row],[Código Único]])","v":903},"GOBIERNO REGIONAL","00000903","TANTAMAYO","HUANUCO","HUAMALIES","TANTAMAYO","100511","14","05","18","HUANUCO","HUAMALIES","TANTAMAYO","I-2"]
[null,{"$f":"VALUE(renipress[[#This Row],[Código Único]])","v":904},"GOBIERNO REGIONAL","00000904","JIRCAN","HUANUCO","HUAMALIES","JIRCAN","100505","14","05","14","HUANUCO","HUAMALIES","JIRCAN","I-2"]
[null,{"$f":"VALUE(renipress[[#This Row],[Código Único]])","v":905},"GOBIERNO REGIONAL","00000905","ARANCAY","HUANUCO","HUAMALIES","ARANCAY","100502","14","05","12","HUANUCO","HUAMALIES","ARANCAY","I-2"]
[null,{"$f":"VALUE(renipress[[#This Row],[Código Único]])","v":906},"GOBIERNO REGIONAL","00000906","CARHUAPATA","HUANUCO","HUAMALIES","JACAS GRANDE","100504","14","05","13","HUANUCO","HUAMALIES","JACAS GRANDE","I-2"]
[null,{"$f":"VALUE(renipress[[#This Row],[Código Único]])","v":907},"GOBIERNO REGIONAL","00000907","PUERTO INCA","HUANUCO","PUERTO INCA","PUERTO INCA","100901","14","07","01","HUANUCO","PUERTO INCA","PUERTO INCA","I-3"]
[null,{"$f":"VALUE(renipress[[#This Row],[Código Único]])","v":908},"GOBIERNO REGIONAL","00000908","PUERTO SUNGARO","HUANUCO","PUERTO INCA","PUERTO INCA","100901","14","07","01","HUANUCO","PUERTO INCA","PUERTO INCA","I-2"]
[null,{"$f":"VALUE(renipress[[#This Row],[Código Único]])","v":909},"GOBIERNO REGIONAL","00000909","NAVIDAD","HUANUCO","PUERTO INCA","PUERTO INCA","100901","14","07","01","HUANUCO","PUERTO INCA","PUERTO INCA","I-1"]
[null,{"$f":"VALUE(renipress[[#This Row],[Código Único]])","v":910},"GOBIERNO REGIONAL","00000910","NUEVO PORVENIR","HUANUCO","PUERTO INCA","PUERTO INCA","100901","14","07","01","HUANUCO","PUERTO INCA","PUERTO INCA","I-1"]
[null,{"$f":"VALUE(renipress[[#This Row],[Código Único]])","v":911},"GOBIERNO REGIONAL","00000911","MACUYA","HUANUCO","PUERTO INCA","TOURNAVISTA","100904","14","07","06","HUANUCO","PUERTO INCA","TOURNAVISTA","I-1"]
[null,{"$f":"VALUE(renipress[[#This Row],[Código Único]])","v":912},"GOBIERNO REGIONAL","00000912","TOURNAVISTA","HUANUCO","PUERTO INCA","TOURNAVISTA","100904","14","07","06","HUANUCO","PUERTO INCA","TOURNAVISTA","I-3"]
[null,{"$f":"VALUE(renipress[[#This Row],[Código Único]])","v":913},"GOBIERNO REGIONAL","00000913","NUEVA HONORIA","HUANUCO","PUERTO INCA","HONORIA","100903","14","07","07","HUANUCO","PUERTO INCA","HONORIA","I-2"]
[null,{"$f":"VALUE(renipress[[#This Row],[Código Único]])","v":914},"GOBIERNO REGIONAL","00000914","ANTIGUA HONORIA","HUANUCO","PUERTO INCA","HONORIA","100903","14","07","07","HUANUCO","PUERTO INCA","HONORIA","I-1"]
[null,{"$f":"VALUE(renipress[[#This Row],[Código Único]])","v":915},"GOBIERNO REGIONAL","00000915","SEMUYA","HUANUCO","PUERTO INCA","HONORIA","100903","14","07","07","HUANUCO","PUERTO INCA","HONORIA","I-1"]
[null,{"$f":"VALUE(renipress[[#This Row],[Código Único]])","v":916},"GOBIERNO REGIONAL","00000916","PRINCIPE DE PAZ","HUANUCO","PUERTO INCA","TOURNAVISTA","100904","14","07","06","HUANUCO","PUERTO INCA","TOURNAVISTA","I-1"]
[null,{"$f":"VALUE(renipress[[#This Row],[Código Único]])","v":917},"GOBIERNO REGIONAL","00000917","PUESTO DE SALUD PROGRESO","HUANUCO","PUERTO INCA","TOURNAVISTA","100904","14","07","06","HUANUCO","PUERTO INCA","TOURNAVISTA","I-1"]
[null,{"$f":"VALUE(renipress[[#This Row],[Código Único]])","v":918},"GOBIERNO REGIONAL","00000918","SHEBONYA","HUANUCO","PUERTO INCA","PUERTO INCA","100901","14","07","01","HUANUCO","PUERTO INCA","PUERTO INCA","I-2"]
[null,{"$f":"VALUE(renipress[[#This Row],[Código Único]])","v":919},"GOBIERNO REGIONAL","00000919","NUEVA JERUSALEN","HUANUCO","PUERTO INCA","PUERTO INCA","100901","14","07","01","HUANUCO","PUERTO INCA","PUERTO INCA","I-1"]
[null,{"$f":"VALUE(renipress[[#This Row],[Código Único]])","v":920},"GOBIERNO REGIONAL","00000920","CLEYTON","HUANUCO","PUERTO INCA","PUERTO INCA","100901","14","07","01","HUANUCO","PUERTO INCA","PUERTO INCA","I-1"]
[null,{"$f":"VALUE(renipress[[#This Row],[Código Único]])","v":921},"GOBIERNO REGIONAL","00000921","PUERTO SIRA","HUANUCO","PUERTO INCA","PUERTO INCA","100901","14","07","01","HUANUCO","PUERTO INCA","PUERTO INCA","I-2"]
[null,{"$f":"VALUE(renipress[[#This Row],[Código Único]])","v":922},"GOBIERNO REGIONAL","00000922","SEÑOR DE LOS MILAGROS","HUANUCO","PUERTO INCA","HONORIA","100903","14","07","07","HUANUCO","PUERTO INCA","HONORIA","I-1"]
[null,{"$f":"VALUE(renipress[[#This Row],[Código Único]])","v":923},"GOBIERNO REGIONAL","00000923","UNION PORVENIR","HUANUCO","PUERTO INCA","HONORIA","100903","14","07","07","HUANUCO","PUERTO INCA","HONORIA","I-1"]
[null,{"$f":"VALUE(renipress[[#This Row],[Código Único]])","v":924},"GOBIERNO REGIONAL","00000924","YUYAPICHIS","HUANUCO","PUERTO INCA","YUYAPICHIS","100905","14","07","03","HUANUCO","PUERTO INCA","YUYAPICHIS","I-3"]
[null,{"$f":"VALUE(renipress[[#This Row],[Código Único]])","v":925},"GOBIERNO REGIONAL","00000925","DANTAS","HUANUCO","PUERTO INCA","YUYAPICHIS","100905","14","07","03","HUANUCO","PUERTO INCA","YUYAPICHIS","I-1"]
[null,{"$f":"VALUE(renipress[[#This Row],[Código Único]])","v":926},"GOBIERNO REGIONAL","00000926","STA. ROSA DE YANAYACU","HUANUCO","PUERTO INCA","YUYAPICHIS","100905","14","07","03","HUANUCO","PUERTO INCA","YUYAPICHIS","I-1"]
[null,{"$f":"VALUE(renipress[[#This Row],[Código Único]])","v":927},"GOBIERNO REGIONAL","00000927","CODO DEL POZUZO","HUANUCO","PUERTO INCA","CODO DEL POZUZO","100902","14","07","04","HUANUCO","PUERTO INCA","CODO DEL POZUZO","I-3"]
[null,{"$f":"VALUE(renipress[[#This Row],[Código Único]])","v":928},"GOBIERNO REGIONAL","00000928","SANTA MARTHA","HUANUCO","PUERTO INCA","CODO DEL POZUZO","100902","14","07","04","HUANUCO","PUERTO INCA","CODO DEL POZUZO","I-1"]
[null,{"$f":"VALUE(renipress[[#This Row],[Código Único]])","v":929},"GOBIERNO REGIONAL","00000929","SAN JUAN DE CODO","HUANUCO","PUERTO INCA","CODO DEL POZUZO","100902","14","07","04","HUANUCO","PUERTO INCA","CODO DEL POZUZO","I-1"]
[null,{"$f":"VALUE(renipress[[#This Row],[Código Único]])","v":930},"GOBIERNO REGIONAL","00000930","CHORROPAMPA","HUANUCO","PUERTO INCA","CODO DEL POZUZO","100902","14","07","04","HUANUCO","PUERTO INCA","CODO DEL POZUZO","I-2"]
[null,{"$f":"VALUE(renipress[[#This Row],[Código Único]])","v":931},"GOBIERNO REGIONAL","00000931","NUEVA ESPERANZA","HUANUCO","PUERTO INCA","CODO DEL POZUZO","100902","14","07","04","HUANUCO","PUERTO INCA","CODO DEL POZUZO","I-1"]
[null,{"$f":"VALUE(renipress[[#This Row],[Código Único]])","v":932},"GOBIERNO REGIONAL","00000932","HOSPITAL DE TINGO MARIA (HOSPITAL DE CONTINGENCIA)","HUANUCO","LEONCIO PRADO","LUYANDO","100605","14","03","00","HUANUCO","LEONCIO PRADO","NO PERTENECE A NINGUNA MICRORED","II-1"]
[null,{"$f":"VALUE(renipress[[#This Row],[Código Único]])","v":933},"GOBIERNO REGIONAL","00000933","CASTILLO GRANDE","HUANUCO","LEONCIO PRADO","CASTILLO GRANDE","100608","14","03","20","HUANUCO","LEONCIO PRADO","CASTILLO GRANDE","I-3"]
[null,{"$f":"VALUE(renipress[[#This Row],[Código Único]])","v":934},"GOBIERNO REGIONAL","00000934","BELLA","HUANUCO","LEONCIO PRADO","MARIANO DAMASO BERAUN","100606","14","03","13","HUANUCO","LEONCIO PRADO","MARIANO DAMASO BERAUN","I-1"]
[null,{"$f":"VALUE(renipress[[#This Row],[Código Único]])","v":935},"GOBIERNO REGIONAL","00000935","VENENILLO","HUANUCO","LEONCIO PRADO","JOSE CRESPO Y CASTILLO","100604","14","03","12","HUANUCO","LEONCIO PRADO","JUAN JOSE CRESPO Y CASTILLO","I-2"]
[null,{"$f":"VALUE(renipress[[#This Row],[Código Único]])","v":936},"GOBIERNO REGIONAL","00000936","PUESTO DE SALUD NARANJILLO","HUANUCO","LEONCIO PRADO","LUYANDO","100605","14","03","14","HUANUCO","LEONCIO PRADO","LUYANDO","I-2"]
[null,{"$f":"VALUE(renipress[[#This Row],[Código Único]])","v":937},"GOBIERNO REGIONAL","00000937","SUPTE SAN JORGE","HUANUCO","LEONCIO PRADO","RUPA-RUPA","100601","14","03","11","HUANUCO","LEONCIO PRADO","RUPA RUPA","I-3"]
[null,{"$f":"VALUE(renipress[[#This Row],[Código Único]])","v":938},"GOBIERNO REGIONAL","00000938","TOPA","HUANUCO","LEONCIO PRADO","DANIEL ALOMIA ROBLES","100602","14","03","15","HUANUCO","LEONCIO PRADO","DANIEL ALOMIA ROBLES","I-2"]
[null,{"$f":"VALUE(renipress[[#This Row],[Código Único]])","v":939},"GOBIERNO REGIONAL","00000939","SANTA ROSA DE SHAPAJILLA","HUANUCO","LEONCIO PRADO","LUYANDO","100605","14","03","14","HUANUCO","LEONCIO PRADO","LUYANDO","I-1"]
[null,{"$f":"VALUE(renipress[[#This Row],[Código Único]])","v":940},"GOBIERNO REGIONAL","00000940","MARONA","HUANUCO","LEONCIO PRADO","LUYANDO","100605","14","03","14","HUANUCO","LEONCIO PRADO","LUYANDO","I-2"]
[null,{"$f":"VALUE(renipress[[#This Row],[Código Único]])","v":941},"GOBIERNO REGIONAL","00000941","SAN PABLO","HUANUCO","LEONCIO PRADO","DANIEL ALOMIA ROBLES","100602","14","03","15","HUANUCO","LEONCIO PRADO","DANIEL ALOMIA ROBLES","I-1"]
[null,{"$f":"VALUE(renipress[[#This Row],[Código Único]])","v":942},"GOBIERNO REGIONAL","00000942","HUASCAR","HUANUCO","LEONCIO PRADO","RUPA-RUPA","100601","14","03","11","HUANUCO","LEONCIO PRADO","RUPA RUPA","I-1"]
[null,{"$f":"VALUE(renipress[[#This Row],[Código Único]])","v":943},"GOBIERNO REGIONAL","00000943","BOLAYNA","HUANUCO","LEONCIO PRADO","LUYANDO","100605","14","03","14","HUANUCO","LEONCIO PRADO","LUYANDO","I-2"]
[null,{"$f":"VALUE(renipress[[#This Row],[Código Único]])","v":944},"GOBIERNO REGIONAL","00000944","ALTO SAN JUAN DE TULUMAYO","HUANUCO","LEONCIO PRADO","LUYANDO","100605","14","03","14","HUANUCO","LEONCIO PRADO","LUYANDO","I-1"]
[null,{"$f":"VALUE(renipress[[#This Row],[Código Único]])","v":945},"GOBIERNO REGIONAL","00000945","PUMAHUASI","HUANUCO","LEONCIO PRADO","DANIEL ALOMIA ROBLES","100602","14","03","15","HUANUCO","LEONCIO PRADO","DANIEL ALOMIA ROBLES","I-3"]
[null,{"$f":"VALUE(renipress[[#This Row],[Código Único]])","v":946},"GOBIERNO REGIONAL","00000946","PUESTO DE SALUD HERMILIO VALDIZAN","HUANUCO","LEONCIO PRADO","HERMILIO VALDIZAN","100603","14","03","16","HUANUCO","LEONCIO PRADO","HERMILIO VALDIZAN","I-1"]
[null,{"$f":"VALUE(renipress[[#This Row],[Código Único]])","v":947},"GOBIERNO REGIONAL","00000947","RIO AZUL","HUANUCO","LEONCIO PRADO","HERMILIO VALDIZAN","100603","14","03","16","HUANUCO","LEONCIO PRADO","HERMILIO VALDIZAN","I-1"]
[null,{"$f":"VALUE(renipress[[#This Row],[Código Único]])","v":948},"GOBIERNO REGIONAL","00000948","SAN ISIDRO","HUANUCO","LEONCIO PRADO","HERMILIO VALDIZAN","100603","14","03","16","HUANUCO","LEONCIO PRADO","HERMILIO VALDIZAN","I-2"]
[null,{"$f":"VALUE(renipress[[#This Row],[Código Único]])","v":949},"GOBIERNO REGIONAL","00000949","RICARDO PALMA","HUANUCO","LEONCIO PRADO","LUYANDO","100605","14","03","14","HUANUCO","LEONCIO PRADO","LUYANDO","I-1"]
[null,{"$f":"VALUE(renipress[[#This Row],[Código Único]])","v":950},"GOBIERNO REGIONAL","00000950","ALTO PENDENCIA","HUANUCO","LEONCIO PRADO","DANIEL ALOMIA ROBLES","100602","14","03","15","HUANUCO","LEONCIO PRADO","DANIEL ALOMIA ROBLES","I-2"]
[null,{"$f":"VALUE(renipress[[#This Row],[Código Único]])","v":951},"GOBIERNO REGIONAL","00000951","SAN PEDRO DE HUAYHUANTE","HUANUCO","LEONCIO PRADO","HERMILIO VALDIZAN","100603","14","03","16","HUANUCO","LEONCIO PRADO","HERMILIO VALDIZAN","I-1"]
[null,{"$f":"VALUE(renipress[[#This Row],[Código Único]])","v":952},"GOBIERNO REGIONAL","00000952","AUCAYACU","HUANUCO","LEONCIO PRADO","JOSE CRESPO Y CASTILLO","100604","14","03","12","HUANUCO","LEONCIO PRADO","JUAN JOSE CRESPO Y CASTILLO","I-4"]
[null,{"$f":"VALUE(renipress[[#This Row],[Código Único]])","v":953},"GOBIERNO REGIONAL","00000953","ANDA","HUANUCO","LEONCIO PRADO","SANTO DOMINGO DE ANDA","100610","14","03","22","HUANUCO","LEONCIO PRADO","SANTO DOMINGO DE ANDA","I-2"]
[null,{"$f":"VALUE(renipress[[#This Row],[Código Único]])","v":954},"GOBIERNO REGIONAL","00000954","PUEBLO NUEVO","HUANUCO","LEONCIO PRADO","PUEBLO NUEVO","100609","14","03","21","HUANUCO","LEONCIO PRADO","PUEBLO NUEVO","I-1"]
[null,{"$f":"VALUE(renipress[[#This Row],[Código Único]])","v":955},"GOBIERNO REGIONAL","00000955","NUEVA ASPUZANA","HUANUCO","LEONCIO PRADO","JOSE CRESPO Y CASTILLO","100604","14","03","12","HUANUCO","LEONCIO PRADO","JUAN JOSE CRESPO Y CASTILLO","I-1"]
[null,{"$f":"VALUE(renipress[[#This Row],[Código Único]])","v":956},"GOBIERNO REGIONAL","00000956","LAS MERCEDES","HUANUCO","LEONCIO PRADO","JOSE CRESPO Y CASTILLO","100604","14","03","12","HUANUCO","LEONCIO PRADO","JUAN JOSE CRESPO Y CASTILLO","I-1"]
[null,{"$f":"VALUE(renipress[[#This Row],[Código Único]])","v":957},"GOBIERNO REGIONAL","00000957","PUCAYACU","HUANUCO","LEONCIO PRADO","PUCAYACU","100607","14","03","19","HUANUCO","LEONCIO PRADO","PUCAYACU","I-2"]
[null,{"$f":"VALUE(renipress[[#This Row],[Código Único]])","v":958},"GOBIERNO REGIONAL","00000958","TUPAC AMARU","HUANUCO","LEONCIO PRADO","JOSE CRESPO Y CASTILLO","100604","14","03","12","HUANUCO","LEONCIO PRADO","JUAN JOSE CRESPO Y CASTILLO","I-1"]
[null,{"$f":"VALUE(renipress[[#This Row],[Código Único]])","v":959},"GOBIERNO REGIONAL","00000959","COTOMONILLO","HUANUCO","LEONCIO PRADO","JOSE CRESPO Y CASTILLO","100604","14","03","12","HUANUCO","LEONCIO PRADO","JUAN JOSE CRESPO Y CASTILLO","I-1"]
[null,{"$f":"VALUE(renipress[[#This Row],[Código Único]])","v":960},"GOBIERNO REGIONAL","00000960","LA MORADA","HUANUCO","MARAÑON","LA MORADA","100704","14","02","10","HUANUCO","MARAÑON","LA MORADA","I-2"]
[null,{"$f":"VALUE(renipress[[#This Row],[Código Único]])","v":961},"GOBIERNO REGIONAL","00000961","CRISNEJAS","HUANUCO","MARAÑON","CHOLON","100702","14","02","08","HUANUCO","MARAÑON","SAN PEDRO DE CHOLON","I-1"]
[null,{"$f":"VALUE(renipress[[#This Row],[Código Único]])","v":962},"GOBIERNO REGIONAL","00000962","YANAJANCA","HUANUCO","MARAÑON","SANTA ROSA DE ALTO YANAJANCA","100705","14","02","09","HUANUCO","MARAÑON","SANTA ROSA DE ALTO YANAJANCA","I-1"]
[null,{"$f":"VALUE(renipress[[#This Row],[Código Único]])","v":963},"GOBIERNO REGIONAL","00000963","PARAISO ( MEGOTE)","HUANUCO","MARAÑON","CHOLON","100702","14","02","08","HUANUCO","MARAÑON","SAN PEDRO DE CHOLON","I-3"]
[null,{"$f":"VALUE(renipress[[#This Row],[Código Único]])","v":964},"GOBIERNO REGIONAL","00000964","ASPUZANA","HUANUCO","MARAÑON","CHOLON","100702","14","03","03","HUANUCO","LEONCIO PRADO","AUCAYACU","I-1"]
[null,{"$f":"VALUE(renipress[[#This Row],[Código Único]])","v":965},"GOBIERNO REGIONAL","00000965","MONZON","HUANUCO","HUAMALIES","MONZON","100507","14","03","04","HUANUCO","LEONCIO PRADO","MONZON","I-3"]
[null,{"$f":"VALUE(renipress[[#This Row],[Código Único]])","v":966},"GOBIERNO REGIONAL","00000966","AGUA BLANCA","HUANUCO","HUAMALIES","MONZON","100507","14","03","04","HUANUCO","LEONCIO PRADO","MONZON","I-1"]
[null,{"$f":"VALUE(renipress[[#This Row],[Código Único]])","v":967},"GOBIERNO REGIONAL","00000967","CACHICOTO","HUANUCO","HUAMALIES","MONZON","100507","14","03","04","HUANUCO","LEONCIO PRADO","MONZON","I-3"]
[null,{"$f":"VALUE(renipress[[#This Row],[Código Único]])","v":968},"GOBIERNO REGIONAL","00000968","CASHAPAMPA","HUANUCO","HUAMALIES","MONZON","100507","14","03","04","HUANUCO","LEONCIO PRADO","MONZON","I-1"]
[null,{"$f":"VALUE(renipress[[#This Row],[Código Único]])","v":969},"GOBIERNO REGIONAL","00000969","MANCHURIA","HUANUCO","HUAMALIES","MONZON","100507","14","03","04","HUANUCO","LEONCIO PRADO","MONZON","I-1"]
[null,{"$f":"VALUE(renipress[[#This Row],[Código Único]])","v":970},"GOBIERNO REGIONAL","00000970","PALO DE ACERO","HUANUCO","HUAMALIES","MONZON","100507","14","03","04","HUANUCO","LEONCIO PRADO","MONZON","I-3"]
[null,{"$f":"VALUE(renipress[[#This Row],[Código Único]])","v":971},"GOBIERNO REGIONAL","00000971","CAUNARAPA","HUANUCO","HUAMALIES","MONZON","100507","14","03","04","HUANUCO","LEONCIO PRADO","MONZON","I-1"]
[null,{"$f":"VALUE(renipress[[#This Row],[Código Único]])","v":972},"GOBIERNO REGIONAL","00000972","SACHAVACA","HUANUCO","HUAMALIES","MONZON","100507","14","03","04","HUANUCO","LEONCIO PRADO","MONZON","I-1"]
[null,{"$f":"VALUE(renipress[[#This Row],[Código Único]])","v":973},"GOBIERNO REGIONAL","00000973","CAYUMBA","HUANUCO","LEONCIO PRADO","MARIANO DAMASO BERAUN","100606","14","03","13","HUANUCO","LEONCIO PRADO","MARIANO DAMASO BERAUN","I-2"]
[null,{"$f":"VALUE(renipress[[#This Row],[Código Único]])","v":974},"GOBIERNO REGIONAL","00000974","LAS PALMAS","HUANUCO","LEONCIO PRADO","MARIANO DAMASO BERAUN","100606","14","03","13","HUANUCO","LEONCIO PRADO","MARIANO DAMASO BERAUN","I-3"]
[null,{"$f":"VALUE(renipress[[#This Row],[Código Único]])","v":975},"GOBIERNO REGIONAL","00000975","TAMBILLO GRANDE","HUANUCO","LEONCIO PRADO","MARIANO DAMASO BERAUN","100606","14","03","13","HUANUCO","LEONCIO PRADO","MARIANO DAMASO BERAUN","I-2"]
[null,{"$f":"VALUE(renipress[[#This Row],[Código Único]])","v":976},"GOBIERNO REGIONAL","00000976","PUENTE PEREZ","HUANUCO","LEONCIO PRADO","MARIANO DAMASO BERAUN","100606","14","03","13","HUANUCO","LEONCIO PRADO","MARIANO DAMASO BERAUN","I-1"]
[null,{"$f":"VALUE(renipress[[#This Row],[Código Único]])","v":977},"GOBIERNO REGIONAL","00000977","CHINCHAVITO","HUANUCO","PACHITEA","CHAGLLA","100802","14","03","13","HUANUCO","LEONCIO PRADO","MARIANO DAMASO BERAUN","I-2"]
[null,{"$f":"VALUE(renipress[[#This Row],[Código Único]])","v":978},"GOBIERNO REGIONAL","00000978","PUENTE DURAND","HUANUCO","HUANUCO","CHINCHAO","100103","14","03","13","HUANUCO","LEONCIO PRADO","MARIANO DAMASO BERAUN","I-2"]
[null,{"$f":"VALUE(renipress[[#This Row],[Código Único]])","v":979},"GOBIERNO REGIONAL","00000979","DR.DANIEL ALCIDES CARRION GARCIA.","PASCO","PASCO","YANACANCHA","190113","27","00","00","PASCO","NO PERTENECE A NINGUNA RED","NO PERTENECE A NINGUNA MICRORED","II-1"]
[null,{"$f":"VALUE(renipress[[#This Row],[Código Único]])","v":980},"GOBIERNO REGIONAL","00000980","ERNESTO GERMAN GUZMÁN GONZALES","PASCO","OXAPAMPA","OXAPAMPA","190301","27","03","00","PASCO","OXAPAMPA","NO PERTENECE A NINGUNA MICRORED","II-1"]
[null,{"$f":"VALUE(renipress[[#This Row],[Código Único]])","v":981},"GOBIERNO REGIONAL","00000981","HOSP. ROMAN EGOAVIL PANDO VILLA RICA","PASCO","OXAPAMPA","VILLA RICA","190307","27","03","03","PASCO","OXAPAMPA","VILLA RICA","II-1"]
[null,{"$f":"VALUE(renipress[[#This Row],[Código Único]])","v":982},"GOBIERNO REGIONAL","00000982","RANCAS","PASCO","PASCO","SIMON BOLIVAR","190109","27","01","05","PASCO","PASCO","SIMON BOLIVAR","I-3"]
[null,{"$f":"VALUE(renipress[[#This Row],[Código Único]])","v":983},"GOBIERNO REGIONAL","00000983","PARAGSHA","PASCO","PASCO","SIMON BOLIVAR","190109","27","01","05","PASCO","PASCO","SIMON BOLIVAR","I-3"]
[null,{"$f":"VALUE(renipress[[#This Row],[Código Único]])","v":984},"GOBIERNO REGIONAL","00000984","SAN PEDRO DE RACCO","PASCO","PASCO","SIMON BOLIVAR","190109","27","01","05","PASCO","PASCO","SIMON BOLIVAR","I-1"]
[null,{"$f":"VALUE(renipress[[#This Row],[Código Único]])","v":985},"GOBIERNO REGIONAL","00000985","QUIULACOCHA","PASCO","PASCO","SIMON BOLIVAR","190109","27","01","05","PASCO","PASCO","SIMON BOLIVAR","I-2"]
[null,{"$f":"VALUE(renipress[[#This Row],[Código Único]])","v":986},"GOBIERNO REGIONAL","00000986","YURAJHUANCA","PASCO","PASCO","SIMON BOLIVAR","190109","27","01","05","PASCO","PASCO","SIMON BOLIVAR","I-1"]
[null,{"$f":"VALUE(renipress[[#This Row],[Código Único]])","v":987},"GOBIERNO REGIONAL","00000987","SACRA FAMILIA","PASCO","PASCO","SIMON BOLIVAR","190109","27","01","05","PASCO","PASCO","SIMON BOLIVAR","I-1"]
[null,{"$f":"VALUE(renipress[[#This Row],[Código Único]])","v":988},"GOBIERNO REGIONAL","00000988","SANTA ANA DE PACOYAN","PASCO","PASCO","SIMON BOLIVAR","190109","27","01","05","PASCO","PASCO","SIMON BOLIVAR","I-1"]
[null,{"$f":"VALUE(renipress[[#This Row],[Código Único]])","v":989},"GOBIERNO REGIONAL","00000989","UCRUCANCHA","PASCO","PASCO","SIMON BOLIVAR","190109","27","01","05","PASCO","PASCO","SIMON BOLIVAR","Sin Categoría"]
[null,{"$f":"VALUE(renipress[[#This Row],[Código Único]])","v":990},"GOBIERNO REGIONAL","00000990","CHAMPAMARCA","PASCO","PASCO","SIMON BOLIVAR","190109","27","01","05","PASCO","PASCO","SIMON BOLIVAR","I-1"]
[null,{"$f":"VALUE(renipress[[#This Row],[Código Único]])","v":991},"GOBIERNO REGIONAL","00000991","TUNANCANCHA","PASCO","DANIEL ALCIDES CARRION","YANAHUANCA","190201","27","02","03","PASCO","DANIEL CARRION","YANAHUANCA","I-1"]
[null,{"$f":"VALUE(renipress[[#This Row],[Código Único]])","v":992},"GOBIERNO REGIONAL","00000992","CHANGO","PASCO","DANIEL ALCIDES CARRION","CHACAYAN","190202","27","02","01","PASCO","DANIEL CARRION","CHAUPIHUARANGA","I-2"]
[null,{"$f":"VALUE(renipress[[#This Row],[Código Único]])","v":993},"GOBIERNO REGIONAL","00000993","CHACAYAN","PASCO","DANIEL ALCIDES CARRION","CHACAYAN","190202","27","02","01","PASCO","DANIEL CARRION","CHAUPIHUARANGA","I-2"]
[null,{"$f":"VALUE(renipress[[#This Row],[Código Único]])","v":994},"GOBIERNO REGIONAL","00000994","GOYLLARISQUIZGA","PASCO","DANIEL ALCIDES CARRION","GOYLLARISQUIZGA","190203","27","02","02","PASCO","DANIEL CARRION","TUSI","I-2"]
[null,{"$f":"VALUE(renipress[[#This Row],[Código Único]])","v":995},"GOBIERNO REGIONAL","00000995","SANTA ANA DE TUSI","PASCO","DANIEL ALCIDES CARRION","SANTA ANA DE TUSI","190206","27","02","02","PASCO","DANIEL CARRION","TUSI","I-4"]
[null,{"$f":"VALUE(renipress[[#This Row],[Código Único]])","v":996},"GOBIERNO REGIONAL","00000996","SAN SANTIAGO DE ANTAPIRCA","PASCO","DANIEL ALCIDES CARRION","SANTA ANA DE TUSI","190206","27","02","02","PASCO","DANIEL CARRION","TUSI","I-2"]
[null,{"$f":"VALUE(renipress[[#This Row],[Código Único]])","v":997},"GOBIERNO REGIONAL","00000997","POCOBAMBA","PASCO","DANIEL ALCIDES CARRION","SANTA ANA DE TUSI","190206","27","02","02","PASCO","DANIEL CARRION","TUSI","I-1"]
[null,{"$f":"VALUE(renipress[[#This Row],[Código Único]])","v":998},"GOBIERNO REGIONAL","00000998","PUTAJA","PASCO","DANIEL ALCIDES CARRION","SANTA ANA DE TUSI","190206","27","02","02","PASCO","DANIEL CARRION","TUSI","I-2"]
[null,{"$f":"VALUE(renipress[[#This Row],[Código Único]])","v":999},"GOBIERNO REGIONAL","00000999","HUAYO","PASCO","DANIEL ALCIDES CARRION","SANTA ANA DE TUSI","190206","27","02","02","PASCO","DANIEL CARRION","TUSI","I-1"]
[null,{"$f":"VALUE(renipress[[#This Row],[Código Único]])","v":1000},"GOBIERNO REGIONAL","00001000","MACHIN","PASCO","DANIEL ALCIDES CARRION","SANTA ANA DE TUSI","190206","27","02","02","PASCO","DANIEL CARRION","TUSI","I-1"]
[null,{"$f":"VALUE(renipress[[#This Row],[Código Único]])","v":1001},"GOBIERNO REGIONAL","00001001","POGOG","PASCO","DANIEL ALCIDES CARRION","SANTA ANA DE TUSI","190206","27","02","02","PASCO","DANIEL CARRION","TUSI","I-1"]
[null,{"$f":"VALUE(renipress[[#This Row],[Código Único]])","v":1002},"GOBIERNO REGIONAL","00001002","CALLHUAN","PASCO","DANIEL ALCIDES CARRION","SANTA ANA DE TUSI","190206","27","02","02","PASCO","DANIEL CARRION","TUSI","I-1"]
[null,{"$f":"VALUE(renipress[[#This Row],[Código Único]])","v":1003},"GOBIERNO REGIONAL","00001003","TACTAYOG","PASCO","DANIEL ALCIDES CARRION","SANTA ANA DE TUSI","190206","27","02","02","PASCO","DANIEL CARRION","TUSI","I-1"]
[null,{"$f":"VALUE(renipress[[#This Row],[Código Único]])","v":1004},"GOBIERNO REGIONAL","00001004","VILLA CORAZON DE JESUS","PASCO","DANIEL ALCIDES CARRION","SANTA ANA DE TUSI","190206","27","02","02","PASCO","DANIEL CARRION","TUSI","I-1"]
[null,{"$f":"VALUE(renipress[[#This Row],[Código Único]])","v":1005},"GOBIERNO REGIONAL","00001005","SAN JUAN DE HUAGLAYOG","PASCO","DANIEL ALCIDES CARRION","SANTA ANA DE TUSI","190206","27","02","02","PASCO","DANIEL CARRION","TUSI","I-1"]
[null,{"$f":"VALUE(renipress[[#This Row],[Código Único]])","v":1006},"GOBIERNO REGIONAL","00001006","PAMPANIA","PASCO","DANIEL ALCIDES CARRION","SANTA ANA DE TUSI","190206","27","02","02","PASCO","DANIEL CARRION","TUSI","I-2"]
[null,{"$f":"VALUE(renipress[[#This Row],[Código Único]])","v":1007},"GOBIERNO REGIONAL","00001007","SANTA ROSA CHORA","PASCO","DANIEL ALCIDES CARRION","SANTA ANA DE TUSI","190206","27","02","02","PASCO","DANIEL CARRION","TUSI","I-2"]
[null,{"$f":"VALUE(renipress[[#This Row],[Código Único]])","v":1008},"GOBIERNO REGIONAL","00001008","AZUL MINA","PASCO","DANIEL ALCIDES CARRION","SANTA ANA DE TUSI","190206","27","02","02","PASCO","DANIEL CARRION","TUSI","Sin Categoría"]
[null,{"$f":"VALUE(renipress[[#This Row],[Código Único]])","v":1009},"GOBIERNO REGIONAL","00001009","ULIACHIN","PASCO","PASCO","CHAUPIMARCA","190101","27","01","01","PASCO","PASCO","CENTRO","I-3"]
[null,{"$f":"VALUE(renipress[[#This Row],[Código Único]])","v":1010},"GOBIERNO REGIONAL","00001010","TUPAC AMARU","PASCO","PASCO","CHAUPIMARCA","190101","27","01","01","PASCO","PASCO","CENTRO","I-3"]
[null,{"$f":"VALUE(renipress[[#This Row],[Código Único]])","v":1011},"GOBIERNO REGIONAL","00001011","EL MISTI","PASCO","PASCO","CHAUPIMARCA","190101","27","01","01","PASCO","PASCO","CENTRO","I-1"]
[null,{"$f":"VALUE(renipress[[#This Row],[Código Único]])","v":1012},"GOBIERNO REGIONAL","00001012","ANASQUIZQUE","PASCO","PASCO","YANACANCHA","190113","27","01","01","PASCO","PASCO","CENTRO","I-1"]
[null,{"$f":"VALUE(renipress[[#This Row],[Código Único]])","v":1013},"GOBIERNO REGIONAL","00001013","TINGO PALCA","PASCO","PASCO","YANACANCHA","190113","27","01","01","PASCO","PASCO","CENTRO","I-1"]
[null,{"$f":"VALUE(renipress[[#This Row],[Código Único]])","v":1014},"GOBIERNO REGIONAL","00001014","YARUSYACAN","PASCO","PASCO","SAN FCO DE ASIS DE YARUSYACAN","190108","27","01","01","PASCO","PASCO","CENTRO","I-2"]
[null,{"$f":"VALUE(renipress[[#This Row],[Código Único]])","v":1015},"GOBIERNO REGIONAL","00001015","COCHACHARAO","PASCO","PASCO","SAN FCO DE ASIS DE YARUSYACAN","190108","27","01","01","PASCO","PASCO","CENTRO","I-2"]
[null,{"$f":"VALUE(renipress[[#This Row],[Código Único]])","v":1016},"GOBIERNO REGIONAL","00001016","CHAUYAR","PASCO","PASCO","SAN FCO DE ASIS DE YARUSYACAN","190108","27","01","01","PASCO","PASCO","CENTRO","I-2"]
[null,{"$f":"VALUE(renipress[[#This Row],[Código Único]])","v":1017},"GOBIERNO REGIONAL","00001017","SAN JUAN DE MILPO","PASCO","PASCO","SAN FCO DE ASIS DE YARUSYACAN","190108","27","01","01","PASCO","PASCO","CENTRO","I-2"]
[null,{"$f":"VALUE(renipress[[#This Row],[Código Único]])","v":1018},"GOBIERNO REGIONAL","00001018","MACHCAN","PASCO","PASCO","SAN FCO DE ASIS DE YARUSYACAN","190108","27","01","01","PASCO","PASCO","CENTRO","I-1"]
[null,{"$f":"VALUE(renipress[[#This Row],[Código Único]])","v":1019},"GOBIERNO REGIONAL","00001019","JUNIPALCA","PASCO","PASCO","SAN FCO DE ASIS DE YARUSYACAN","190108","27","01","01","PASCO","PASCO","CENTRO","I-1"]
[null,{"$f":"VALUE(renipress[[#This Row],[Código Único]])","v":1020},"GOBIERNO REGIONAL","00001020","MISHARAN","PASCO","PASCO","SAN FCO DE ASIS DE YARUSYACAN","190108","27","01","01","PASCO","PASCO","CENTRO","I-1"]
[null,{"$f":"VALUE(renipress[[#This Row],[Código Único]])","v":1021},"GOBIERNO REGIONAL","00001021","JORAGNIYOC","PASCO","PASCO","SAN FCO DE ASIS DE YARUSYACAN","190108","27","01","01","PASCO","PASCO","CENTRO","Sin Categoría"]
[null,{"$f":"VALUE(renipress[[#This Row],[Código Único]])","v":1022},"GOBIERNO REGIONAL","00001022","HUANCAMACHAY","PASCO","PASCO","SAN FCO DE ASIS DE YARUSYACAN","190108","27","01","01","PASCO","PASCO","CENTRO","I-1"]
[null,{"$f":"VALUE(renipress[[#This Row],[Código Único]])","v":1023},"GOBIERNO REGIONAL","00001023","PUMACAYAN","PASCO","PASCO","SAN FCO DE ASIS DE YARUSYACAN","190108","27","01","01","PASCO","PASCO","CENTRO","I-1"]
[null,{"$f":"VALUE(renipress[[#This Row],[Código Único]])","v":1024},"GOBIERNO REGIONAL","00001024","COCHAC","PASCO","PASCO","SAN FCO DE ASIS DE YARUSYACAN","190108","27","01","02","PASCO","PASCO","HUARIACA","Sin Categoría"]
[null,{"$f":"VALUE(renipress[[#This Row],[Código Único]])","v":1025},"GOBIERNO REGIONAL","00001025","YANATAMBON","PASCO","PASCO","SAN FCO DE ASIS DE YARUSYACAN","190108","27","01","01","PASCO","PASCO","CENTRO","I-1"]
[null,{"$f":"VALUE(renipress[[#This Row],[Código Único]])","v":1026},"GOBIERNO REGIONAL","00001026","HUARIACA","PASCO","PASCO","HUARIACA","190103","27","01","02","PASCO","PASCO","HUARIACA","I-4"]
[null,{"$f":"VALUE(renipress[[#This Row],[Código Único]])","v":1027},"GOBIERNO REGIONAL","00001027","CHINCHAN","PASCO","PASCO","HUARIACA","190103","27","01","02","PASCO","PASCO","HUARIACA","I-1"]
[null,{"$f":"VALUE(renipress[[#This Row],[Código Único]])","v":1028},"GOBIERNO REGIONAL","00001028","JARCAHUACA","PASCO","PASCO","HUARIACA","190103","27","01","02","PASCO","PASCO","HUARIACA","I-1"]
[null,{"$f":"VALUE(renipress[[#This Row],[Código Único]])","v":1029},"GOBIERNO REGIONAL","00001029","SAN FRANCISCO DE PUCURHUAY","PASCO","PASCO","TICLACAYAN","190110","27","01","02","PASCO","PASCO","HUARIACA","I-1"]
[null,{"$f":"VALUE(renipress[[#This Row],[Código Único]])","v":1030},"GOBIERNO REGIONAL","00001030","PALLANCHACRA","PASCO","PASCO","PALLANCHACRA","190106","27","01","02","PASCO","PASCO","HUARIACA","I-2"]
[null,{"$f":"VALUE(renipress[[#This Row],[Código Único]])","v":1031},"GOBIERNO REGIONAL","00001031","VINCHOS","PASCO","PASCO","PALLANCHACRA","190106","27","01","02","PASCO","PASCO","HUARIACA","I-1"]
[null,{"$f":"VALUE(renipress[[#This Row],[Código Único]])","v":1032},"GOBIERNO REGIONAL","00001032","HUICHPIN","PASCO","PASCO","PALLANCHACRA","190106","27","01","02","PASCO","PASCO","HUARIACA","I-1"]
[null,{"$f":"VALUE(renipress[[#This Row],[Código Único]])","v":1033},"GOBIERNO REGIONAL","00001033","LA MERCED DE JARRIA","PASCO","PASCO","PALLANCHACRA","190106","27","01","02","PASCO","PASCO","HUARIACA","I-1"]
[null,{"$f":"VALUE(renipress[[#This Row],[Código Único]])","v":1034},"GOBIERNO REGIONAL","00001034","PARIACANCHA","PASCO","PASCO","PALLANCHACRA","190106","27","01","02","PASCO","PASCO","HUARIACA","I-1"]
[null,{"$f":"VALUE(renipress[[#This Row],[Código Único]])","v":1035},"GOBIERNO REGIONAL","00001035","CHUNQUIPATA","PASCO","PASCO","PALLANCHACRA","190106","27","01","02","PASCO","PASCO","HUARIACA","I-1"]
[null,{"$f":"VALUE(renipress[[#This Row],[Código Único]])","v":1036},"GOBIERNO REGIONAL","00001036","RAGAN","PASCO","DANIEL ALCIDES CARRION","SANTA ANA DE TUSI","190206","27","02","02","PASCO","DANIEL CARRION","TUSI","I-1"]
[null,{"$f":"VALUE(renipress[[#This Row],[Código Único]])","v":1037},"GOBIERNO REGIONAL","00001037","TICLACAYAN","PASCO","PASCO","TICLACAYAN","190110","27","01","02","PASCO","PASCO","HUARIACA","I-3"]
[null,{"$f":"VALUE(renipress[[#This Row],[Código Único]])","v":1038},"GOBIERNO REGIONAL","00001038","SAN ISIDRO DE YANAPAMPA","PASCO","PASCO","TICLACAYAN","190110","27","01","02","PASCO","PASCO","HUARIACA","I-2"]
[null,{"$f":"VALUE(renipress[[#This Row],[Código Único]])","v":1039},"GOBIERNO REGIONAL","00001039","MALAUCHACA","PASCO","PASCO","TICLACAYAN","190110","27","01","02","PASCO","PASCO","HUARIACA","Sin Categoría"]
[null,{"$f":"VALUE(renipress[[#This Row],[Código Único]])","v":1040},"GOBIERNO REGIONAL","00001040","RACRAYTINGO","PASCO","PASCO","TICLACAYAN","190110","27","01","02","PASCO","PASCO","HUARIACA","I-1"]
[null,{"$f":"VALUE(renipress[[#This Row],[Código Único]])","v":1041},"GOBIERNO REGIONAL","00001041","SAN JUAN DE YANACACHI","PASCO","PASCO","TICLACAYAN","190110","27","01","02","PASCO","PASCO","HUARIACA","I-1"]
[null,{"$f":"VALUE(renipress[[#This Row],[Código Único]])","v":1042},"GOBIERNO REGIONAL","00001042","JARAPAMPA","PASCO","PASCO","YANACANCHA","190113","27","01","02","PASCO","PASCO","HUARIACA","Sin Categoría"]
[null,{"$f":"VALUE(renipress[[#This Row],[Código Único]])","v":1043},"GOBIERNO REGIONAL","00001043","PARIAMARCA","PASCO","PASCO","YANACANCHA","190113","27","01","01","PASCO","PASCO","CENTRO","I-1"]
[null,{"$f":"VALUE(renipress[[#This Row],[Código Único]])","v":1044},"GOBIERNO REGIONAL","00001044","CAJAMARQUILLA","PASCO","PASCO","YANACANCHA","190113","27","01","01","PASCO","PASCO","CENTRO","I-2"]
[null,{"$f":"VALUE(renipress[[#This Row],[Código Único]])","v":1045},"GOBIERNO REGIONAL","00001045","LA CANDELARIA","PASCO","PASCO","YANACANCHA","190113","27","01","01","PASCO","PASCO","CENTRO","I-1"]
[null,{"$f":"VALUE(renipress[[#This Row],[Código Único]])","v":1046},"GOBIERNO REGIONAL","00001046","QUICHAS","PASCO","PASCO","YANACANCHA","190113","27","01","02","PASCO","PASCO","HUARIACA","Sin Categoría"]
[null,{"$f":"VALUE(renipress[[#This Row],[Código Único]])","v":1047},"GOBIERNO REGIONAL","00001047","HUACHON","PASCO","PASCO","HUACHON","190102","27","01","03","PASCO","PASCO","MESETA","I-3"]
[null,{"$f":"VALUE(renipress[[#This Row],[Código Único]])","v":1048},"GOBIERNO REGIONAL","00001048","QUIPARACRA","PASCO","PASCO","HUACHON","190102","27","01","03","PASCO","PASCO","MESETA","I-3"]
[null,{"$f":"VALUE(renipress[[#This Row],[Código Único]])","v":1049},"GOBIERNO REGIONAL","00001049","CHIPA","PASCO","PASCO","NINACACA","190105","27","01","03","PASCO","PASCO","MESETA","I-1"]
[null,{"$f":"VALUE(renipress[[#This Row],[Código Único]])","v":1050},"GOBIERNO REGIONAL","00001050","PUAGMARAY","PASCO","PASCO","HUACHON","190102","27","01","03","PASCO","PASCO","MESETA","I-1"]
[null,{"$f":"VALUE(renipress[[#This Row],[Código Único]])","v":1051},"GOBIERNO REGIONAL","00001051","HUAYLLAY","PASCO","PASCO","HUAYLLAY","190104","27","01","03","PASCO","PASCO","MESETA","I-3"]
[null,{"$f":"VALUE(renipress[[#This Row],[Código Único]])","v":1052},"GOBIERNO REGIONAL","00001052","HUAYCHAO","PASCO","PASCO","HUAYLLAY","190104","27","01","03","PASCO","PASCO","MESETA","I-1"]
[null,{"$f":"VALUE(renipress[[#This Row],[Código Único]])","v":1053},"GOBIERNO REGIONAL","00001053","CANCHACUCHO","PASCO","PASCO","HUAYLLAY","190104","27","01","03","PASCO","PASCO","MESETA","I-1"]
[null,{"$f":"VALUE(renipress[[#This Row],[Código Único]])","v":1054},"GOBIERNO REGIONAL","00001054","HUARIMARCAN","PASCO","PASCO","HUAYLLAY","190104","27","01","03","PASCO","PASCO","MESETA","Sin Categoría"]
[null,{"$f":"VALUE(renipress[[#This Row],[Código Único]])","v":1055},"GOBIERNO REGIONAL","00001055","LOS ANDES DE  PUCARA","PASCO","PASCO","HUAYLLAY","190104","27","01","03","PASCO","PASCO","MESETA","I-1"]
[null,{"$f":"VALUE(renipress[[#This Row],[Código Único]])","v":1056},"GOBIERNO REGIONAL","00001056","EL DIEZMO PALCAN","PASCO","PASCO","HUAYLLAY","190104","27","01","03","PASCO","PASCO","MESETA","I-1"]
[null,{"$f":"VALUE(renipress[[#This Row],[Código Único]])","v":1057},"GOBIERNO REGIONAL","00001057","ANDACANCHA","PASCO","PASCO","HUAYLLAY","190104","27","01","03","PASCO","PASCO","MESETA","Sin Categoría"]
[null,{"$f":"VALUE(renipress[[#This Row],[Código Único]])","v":1058},"GOBIERNO REGIONAL","00001058","SAN CARLOS","PASCO","PASCO","HUAYLLAY","190104","27","01","03","PASCO","PASCO","MESETA","I-1"]
[null,{"$f":"VALUE(renipress[[#This Row],[Código Único]])","v":1059},"GOBIERNO REGIONAL","00001059","LA CRUZADA","PASCO","PASCO","HUAYLLAY","190104","27","01","03","PASCO","PASCO","MESETA","I-1"]
[null,{"$f":"VALUE(renipress[[#This Row],[Código Único]])","v":1060},"GOBIERNO REGIONAL","00001060","NINACACA","PASCO","PASCO","NINACACA","190105","27","01","03","PASCO","PASCO","MESETA","I-3"]
[null,{"$f":"VALUE(renipress[[#This Row],[Código Único]])","v":1061},"GOBIERNO REGIONAL","00001061","CARHUAC","PASCO","PASCO","NINACACA","190105","27","01","03","PASCO","PASCO","MESETA","I-1"]
[null,{"$f":"VALUE(renipress[[#This Row],[Código Único]])","v":1062},"GOBIERNO REGIONAL","00001062","NUEVA AURORA","PASCO","PASCO","TICLACAYAN","190110","27","01","02","PASCO","PASCO","HUARIACA","I-1"]
[null,{"$f":"VALUE(renipress[[#This Row],[Código Único]])","v":1063},"GOBIERNO REGIONAL","00001063","SOCORRO","PASCO","PASCO","NINACACA","190105","27","01","03","PASCO","PASCO","MESETA","I-1"]
[null,{"$f":"VALUE(renipress[[#This Row],[Código Único]])","v":1064},"GOBIERNO REGIONAL","00001064","COLQUIJIRCA","PASCO","PASCO","TINYAHUARCO","190111","27","01","03","PASCO","PASCO","MESETA","I-4"]
[null,{"$f":"VALUE(renipress[[#This Row],[Código Único]])","v":1065},"GOBIERNO REGIONAL","00001065","VILLA DE PASCO","PASCO","PASCO","TINYAHUARCO","190111","27","01","03","PASCO","PASCO","MESETA","I-2"]
[null,{"$f":"VALUE(renipress[[#This Row],[Código Único]])","v":1066},"GOBIERNO REGIONAL","00001066","SMELTER","PASCO","PASCO","TINYAHUARCO","190111","27","01","03","PASCO","PASCO","MESETA","I-1"]
[null,{"$f":"VALUE(renipress[[#This Row],[Código Único]])","v":1067},"GOBIERNO REGIONAL","00001067","HUARAUCACA","PASCO","PASCO","TINYAHUARCO","190111","27","01","03","PASCO","PASCO","MESETA","I-1"]
[null,{"$f":"VALUE(renipress[[#This Row],[Código Único]])","v":1068},"GOBIERNO REGIONAL","00001068","LANCARI","PASCO","PASCO","TINYAHUARCO","190111","27","01","03","PASCO","PASCO","MESETA","Sin Categoría"]
[null,{"$f":"VALUE(renipress[[#This Row],[Código Único]])","v":1069},"GOBIERNO REGIONAL","00001069","RACRACANCHA","PASCO","PASCO","TINYAHUARCO","190111","27","01","03","PASCO","PASCO","MESETA","I-1"]
[null,{"$f":"VALUE(renipress[[#This Row],[Código Único]])","v":1070},"GOBIERNO REGIONAL","00001070","SHELBY","PASCO","PASCO","VICCO","190112","27","01","03","PASCO","PASCO","MESETA","I-2"]
[null,{"$f":"VALUE(renipress[[#This Row],[Código Único]])","v":1071},"GOBIERNO REGIONAL","00001071","VICCO","PASCO","PASCO","VICCO","190112","27","01","03","PASCO","PASCO","MESETA","I-2"]
[null,{"$f":"VALUE(renipress[[#This Row],[Código Único]])","v":1072},"GOBIERNO REGIONAL","00001072","COCHAMARCA","PASCO","PASCO","VICCO","190112","27","01","03","PASCO","PASCO","MESETA","I-1"]
[null,{"$f":"VALUE(renipress[[#This Row],[Código Único]])","v":1073},"GOBIERNO REGIONAL","00001073","CENTRO DE SALUD HUANCABAMBA","PASCO","OXAPAMPA","HUANCABAMBA","190303","27","03","01","PASCO","OXAPAMPA","OXAPAMPA, HUANCABAMBA, CHONTABAMBA","I-3"]
[null,{"$f":"VALUE(renipress[[#This Row],[Código Único]])","v":1074},"GOBIERNO REGIONAL","00001074","MALLAMPAMPA","PASCO","OXAPAMPA","HUANCABAMBA","190303","27","03","01","PASCO","OXAPAMPA","OXAPAMPA, HUANCABAMBA, CHONTABAMBA","I-2"]
[null,{"$f":"VALUE(renipress[[#This Row],[Código Único]])","v":1075},"GOBIERNO REGIONAL","00001075","GRAPANAZU","PASCO","OXAPAMPA","HUANCABAMBA","190303","27","03","01","PASCO","OXAPAMPA","OXAPAMPA, HUANCABAMBA, CHONTABAMBA","I-2"]
[null,{"$f":"VALUE(renipress[[#This Row],[Código Único]])","v":1076},"GOBIERNO REGIONAL","00001076","MUCHUYMAYO","PASCO","OXAPAMPA","HUANCABAMBA","190303","27","03","01","PASCO","OXAPAMPA","OXAPAMPA, HUANCABAMBA, CHONTABAMBA","I-1"]
[null,{"$f":"VALUE(renipress[[#This Row],[Código Único]])","v":1077},"GOBIERNO REGIONAL","00001077","PAMPACHICA","PASCO","OXAPAMPA","HUANCABAMBA","190303","27","03","01","PASCO","OXAPAMPA","OXAPAMPA, HUANCABAMBA, CHONTABAMBA","I-1"]
[null,{"$f":"VALUE(renipress[[#This Row],[Código Único]])","v":1078},"GOBIERNO REGIONAL","00001078","LANTURACHI","PASCO","OXAPAMPA","HUANCABAMBA","190303","27","03","01","PASCO","OXAPAMPA","OXAPAMPA, HUANCABAMBA, CHONTABAMBA","I-1"]
[null,{"$f":"VALUE(renipress[[#This Row],[Código Único]])","v":1079},"GOBIERNO REGIONAL","00001079","ANCAHUACHANAN","PASCO","OXAPAMPA","HUANCABAMBA","190303","27","03","01","PASCO","OXAPAMPA","OXAPAMPA, HUANCABAMBA, CHONTABAMBA","I-1"]
[null,{"$f":"VALUE(renipress[[#This Row],[Código Único]])","v":1080},"GOBIERNO REGIONAL","00001080","MONTECARLO","PASCO","OXAPAMPA","HUANCABAMBA","190303","27","03","01","PASCO","OXAPAMPA","OXAPAMPA, HUANCABAMBA, CHONTABAMBA","I-1"]
[null,{"$f":"VALUE(renipress[[#This Row],[Código Único]])","v":1081},"GOBIERNO REGIONAL","00001081","CENTRO DE SALUD CHONTABAMBA","PASCO","OXAPAMPA","CHONTABAMBA","190302","27","03","01","PASCO","OXAPAMPA","OXAPAMPA, HUANCABAMBA, CHONTABAMBA","I-3"]
[null,{"$f":"VALUE(renipress[[#This Row],[Código Único]])","v":1082},"GOBIERNO REGIONAL","00001082","MARIA TERESA","PASCO","OXAPAMPA","CHONTABAMBA","190302","27","03","01","PASCO","OXAPAMPA","OXAPAMPA, HUANCABAMBA, CHONTABAMBA","I-1"]
[null,{"$f":"VALUE(renipress[[#This Row],[Código Único]])","v":1083},"GOBIERNO REGIONAL","00001083","SAN FRANCISCO","PASCO","OXAPAMPA","CHONTABAMBA","190302","27","03","01","PASCO","OXAPAMPA","OXAPAMPA, HUANCABAMBA, CHONTABAMBA","I-1"]
[null,{"$f":"VALUE(renipress[[#This Row],[Código Único]])","v":1084},"GOBIERNO REGIONAL","00001084","TORREBAMBA","PASCO","OXAPAMPA","CHONTABAMBA","190302","27","03","01","PASCO","OXAPAMPA","OXAPAMPA, HUANCABAMBA, CHONTABAMBA","I-1"]
[null,{"$f":"VALUE(renipress[[#This Row],[Código Único]])","v":1085},"GOBIERNO REGIONAL","00001085","CHURUMAZU","PASCO","OXAPAMPA","OXAPAMPA","190301","27","03","01","PASCO","OXAPAMPA","OXAPAMPA, HUANCABAMBA, CHONTABAMBA","I-2"]
[null,{"$f":"VALUE(renipress[[#This Row],[Código Único]])","v":1086},"GOBIERNO REGIONAL","00001086","GRAMAZU","PASCO","OXAPAMPA","CHONTABAMBA","190302","27","03","01","PASCO","OXAPAMPA","OXAPAMPA, HUANCABAMBA, CHONTABAMBA","I-2"]
[null,{"$f":"VALUE(renipress[[#This Row],[Código Único]])","v":1087},"GOBIERNO REGIONAL","00001087","ALTO CHURUMAZU","PASCO","OXAPAMPA","OXAPAMPA","190301","27","03","01","PASCO","OXAPAMPA","OXAPAMPA, HUANCABAMBA, CHONTABAMBA","I-1"]
[null,{"$f":"VALUE(renipress[[#This Row],[Código Único]])","v":1088},"GOBIERNO REGIONAL","00001088","SOGORMO","PASCO","OXAPAMPA","OXAPAMPA","190301","27","03","01","PASCO","OXAPAMPA","OXAPAMPA, HUANCABAMBA, CHONTABAMBA","I-1"]
[null,{"$f":"VALUE(renipress[[#This Row],[Código Único]])","v":1089},"GOBIERNO REGIONAL","00001089","QUILLAZU","PASCO","OXAPAMPA","OXAPAMPA","190301","27","03","01","PASCO","OXAPAMPA","OXAPAMPA, HUANCABAMBA, CHONTABAMBA","I-1"]
[null,{"$f":"VALUE(renipress[[#This Row],[Código Único]])","v":1090},"GOBIERNO REGIONAL","00001090","MEZAPATA","PASCO","OXAPAMPA","OXAPAMPA","190301","27","03","01","PASCO","OXAPAMPA","OXAPAMPA, HUANCABAMBA, CHONTABAMBA","I-1"]
[null,{"$f":"VALUE(renipress[[#This Row],[Código Único]])","v":1091},"GOBIERNO REGIONAL","00001091","CANTARIZU","PASCO","OXAPAMPA","OXAPAMPA","190301","27","03","01","PASCO","OXAPAMPA","OXAPAMPA, HUANCABAMBA, CHONTABAMBA","I-1"]
[null,{"$f":"VALUE(renipress[[#This Row],[Código Único]])","v":1092},"GOBIERNO REGIONAL","00001092","RIO PISCO","PASCO","OXAPAMPA","OXAPAMPA","190301","27","03","01","PASCO","OXAPAMPA","OXAPAMPA, HUANCABAMBA, CHONTABAMBA","I-1"]
[null,{"$f":"VALUE(renipress[[#This Row],[Código Único]])","v":1093},"GOBIERNO REGIONAL","00001093","C.S. SAN CAMILO - POZUZO","PASCO","OXAPAMPA","POZUZO","190305","27","03","02","PASCO","OXAPAMPA","POZUZO","I-4"]
[null,{"$f":"VALUE(renipress[[#This Row],[Código Único]])","v":1094},"GOBIERNO REGIONAL","00001094","RIO TIGRE","PASCO","OXAPAMPA","POZUZO","190305","27","03","02","PASCO","OXAPAMPA","POZUZO","I-1"]
[null,{"$f":"VALUE(renipress[[#This Row],[Código Único]])","v":1095},"GOBIERNO REGIONAL","00001095","SAN JOSE","PASCO","OXAPAMPA","POZUZO","190305","27","03","02","PASCO","OXAPAMPA","POZUZO","I-1"]
[null,{"$f":"VALUE(renipress[[#This Row],[Código Único]])","v":1096},"GOBIERNO REGIONAL","00001096","SAN CRISTOBAL","PASCO","OXAPAMPA","PALCAZU","190304","27","03","04","PASCO","OXAPAMPA","PALCAZU","I-2"]
[null,{"$f":"VALUE(renipress[[#This Row],[Código Único]])","v":1097},"GOBIERNO REGIONAL","00001097","CAÑACHACRA","PASCO","OXAPAMPA","POZUZO","190305","27","03","02","PASCO","OXAPAMPA","POZUZO","I-2"]
[null,{"$f":"VALUE(renipress[[#This Row],[Código Único]])","v":1098},"GOBIERNO REGIONAL","00001098","BUENA VISTA","PASCO","OXAPAMPA","POZUZO","190305","27","03","02","PASCO","OXAPAMPA","POZUZO","I-1"]
[null,{"$f":"VALUE(renipress[[#This Row],[Código Único]])","v":1099},"GOBIERNO REGIONAL","00001099","CUSHI","PASCO","OXAPAMPA","POZUZO","190305","27","03","02","PASCO","OXAPAMPA","POZUZO","I-1"]
[null,{"$f":"VALUE(renipress[[#This Row],[Código Único]])","v":1100},"GOBIERNO REGIONAL","00001100","SANTA ROSA","PASCO","OXAPAMPA","POZUZO","190305","27","03","02","PASCO","OXAPAMPA","POZUZO","I-2"]
[null,{"$f":"VALUE(renipress[[#This Row],[Código Único]])","v":1101},"GOBIERNO REGIONAL","00001101","ALTO LAGARTO","PASCO","OXAPAMPA","POZUZO","190305","27","03","02","PASCO","OXAPAMPA","POZUZO","I-1"]
[null,{"$f":"VALUE(renipress[[#This Row],[Código Único]])","v":1102},"GOBIERNO REGIONAL","00001102","SAN SALVADOR","PASCO","OXAPAMPA","POZUZO","190305","27","03","02","PASCO","OXAPAMPA","POZUZO","I-1"]
[null,{"$f":"VALUE(renipress[[#This Row],[Código Único]])","v":1103},"GOBIERNO REGIONAL","00001103","SANTA  VIRGINIA","PASCO","OXAPAMPA","POZUZO","190305","27","03","02","PASCO","OXAPAMPA","POZUZO","I-1"]
[null,{"$f":"VALUE(renipress[[#This Row],[Código Único]])","v":1104},"GOBIERNO REGIONAL","00001104","ASCENCION","PASCO","OXAPAMPA","POZUZO","190305","27","03","02","PASCO","OXAPAMPA","POZUZO","I-1"]
[null,{"$f":"VALUE(renipress[[#This Row],[Código Único]])","v":1105},"GOBIERNO REGIONAL","00001105","AGUA BLANCA","HUANUCO","PUERTO INCA","CODO DEL POZUZO","100902","14","07","04","HUANUCO","PUERTO INCA","CODO DEL POZUZO","I-1"]
[null,{"$f":"VALUE(renipress[[#This Row],[Código Único]])","v":1106},"GOBIERNO REGIONAL","00001106","HUAMPOMAYO","HUANUCO","PUERTO INCA","CODO DEL POZUZO","100902","14","07","04","HUANUCO","PUERTO INCA","CODO DEL POZUZO","I-1"]
[null,{"$f":"VALUE(renipress[[#This Row],[Código Único]])","v":1107},"GOBIERNO REGIONAL","00001107","CONVENTO","PASCO","OXAPAMPA","PALCAZU","190304","27","03","04","PASCO","OXAPAMPA","PALCAZU","I-1"]
[null,{"$f":"VALUE(renipress[[#This Row],[Código Único]])","v":1108},"GOBIERNO REGIONAL","00001108","PAUCARTAMBO","PASCO","PASCO","PAUCARTAMBO","190107","27","01","04","PASCO","PASCO","PAUCARTAMBO","I-4"]
[null,{"$f":"VALUE(renipress[[#This Row],[Código Único]])","v":1109},"GOBIERNO REGIONAL","00001109","CHUPACA","PASCO","PASCO","PAUCARTAMBO","190107","27","01","04","PASCO","PASCO","PAUCARTAMBO","I-2"]
[null,{"$f":"VALUE(renipress[[#This Row],[Código Único]])","v":1110},"GOBIERNO REGIONAL","00001110","HUALLAMAYO","PASCO","PASCO","PAUCARTAMBO","190107","27","01","04","PASCO","PASCO","PAUCARTAMBO","I-2"]
[null,{"$f":"VALUE(renipress[[#This Row],[Código Único]])","v":1111},"GOBIERNO REGIONAL","00001111","BELLAVISTA","PASCO","PASCO","PAUCARTAMBO","190107","27","01","04","PASCO","PASCO","PAUCARTAMBO","I-2"]
[null,{"$f":"VALUE(renipress[[#This Row],[Código Único]])","v":1112},"GOBIERNO REGIONAL","00001112","LA VICTORIA","PASCO","PASCO","PAUCARTAMBO","190107","27","01","04","PASCO","PASCO","PAUCARTAMBO","I-1"]
[null,{"$f":"VALUE(renipress[[#This Row],[Código Único]])","v":1113},"GOBIERNO REGIONAL","00001113","ACOPALCA","PASCO","PASCO","PAUCARTAMBO","190107","27","01","04","PASCO","PASCO","PAUCARTAMBO","I-1"]
[null,{"$f":"VALUE(renipress[[#This Row],[Código Único]])","v":1114},"GOBIERNO REGIONAL","00001114","AUQUIMARCA","PASCO","PASCO","PAUCARTAMBO","190107","27","01","04","PASCO","PASCO","PAUCARTAMBO","I-2"]
[null,{"$f":"VALUE(renipress[[#This Row],[Código Único]])","v":1115},"GOBIERNO REGIONAL","00001115","TALLAPAMPA","PASCO","PASCO","PAUCARTAMBO","190107","27","01","04","PASCO","PASCO","PAUCARTAMBO","I-1"]
[null,{"$f":"VALUE(renipress[[#This Row],[Código Único]])","v":1116},"GOBIERNO REGIONAL","00001116","STA. ISABEL","PASCO","PASCO","PAUCARTAMBO","190107","27","01","04","PASCO","PASCO","PAUCARTAMBO","I-2"]
[null,{"$f":"VALUE(renipress[[#This Row],[Código Único]])","v":1117},"GOBIERNO REGIONAL","00001117","PUERTO VICTORIA","PASCO","OXAPAMPA","PUERTO BERMUDEZ","190306","27","03","05","PASCO","OXAPAMPA","PUERTO BERMUDEZ","I-1"]
[null,{"$f":"VALUE(renipress[[#This Row],[Código Único]])","v":1118},"GOBIERNO REGIONAL","00001118","CENTRO DE SALUD CIUDAD CONSTITUCIÓN","PASCO","OXAPAMPA","CONSTITUCION","190308","27","03","06","PASCO","OXAPAMPA","CIUDAD CONSTITUCION","I-4"]
[null,{"$f":"VALUE(renipress[[#This Row],[Código Único]])","v":1119},"GOBIERNO REGIONAL","00001119","MOSQUITO PLAYA","PASCO","OXAPAMPA","CONSTITUCION","190308","27","03","06","PASCO","OXAPAMPA","CIUDAD CONSTITUCION","I-1"]
[null,{"$f":"VALUE(renipress[[#This Row],[Código Único]])","v":1120},"GOBIERNO REGIONAL","00001120","CLINICA CAHUAPANAS","PASCO","OXAPAMPA","CONSTITUCION","190308","27","03","06","PASCO","OXAPAMPA","CIUDAD CONSTITUCION","I-2"]
[null,{"$f":"VALUE(renipress[[#This Row],[Código Único]])","v":1121},"GOBIERNO REGIONAL","00001121","PUERTO LAGARTO","PASCO","OXAPAMPA","CONSTITUCION","190308","27","03","06","PASCO","OXAPAMPA","CIUDAD CONSTITUCION","I-1"]
[null,{"$f":"VALUE(renipress[[#This Row],[Código Único]])","v":1122},"GOBIERNO REGIONAL","00001122","SAN FRANCISCO DE CAHUAPANAS","PASCO","OXAPAMPA","PUERTO BERMUDEZ","190306","27","03","05","PASCO","OXAPAMPA","PUERTO BERMUDEZ","I-1"]
[null,{"$f":"VALUE(renipress[[#This Row],[Código Único]])","v":1123},"GOBIERNO REGIONAL","00001123","ORELLANA","PASCO","OXAPAMPA","CONSTITUCION","190308","27","03","06","PASCO","OXAPAMPA","CIUDAD CONSTITUCION","I-2"]
[null,{"$f":"VALUE(renipress[[#This Row],[Código Único]])","v":1124},"GOBIERNO REGIONAL","00001124","HUANCAMAYO","PASCO","OXAPAMPA","PUERTO BERMUDEZ","190306","27","03","06","PASCO","OXAPAMPA","CIUDAD CONSTITUCION","I-1"]
[null,{"$f":"VALUE(renipress[[#This Row],[Código Único]])","v":1125},"GOBIERNO REGIONAL","00001125","LA VIÑA DINAMARCA","PASCO","OXAPAMPA","CONSTITUCION","190308","27","03","06","PASCO","OXAPAMPA","CIUDAD CONSTITUCION","I-1"]
[null,{"$f":"VALUE(renipress[[#This Row],[Código Único]])","v":1126},"GOBIERNO REGIONAL","00001126","CENTRO YARINA","PASCO","OXAPAMPA","CONSTITUCION","190308","27","03","06","PASCO","OXAPAMPA","CIUDAD CONSTITUCION","I-1"]
[null,{"$f":"VALUE(renipress[[#This Row],[Código Único]])","v":1127},"GOBIERNO REGIONAL","00001127","EL DORADO","PASCO","OXAPAMPA","PUERTO BERMUDEZ","190306","27","03","06","PASCO","OXAPAMPA","CIUDAD CONSTITUCION","I-2"]
[null,{"$f":"VALUE(renipress[[#This Row],[Código Único]])","v":1128},"GOBIERNO REGIONAL","00001128","SAN LUIS DE CHINCHIHUANI","PASCO","OXAPAMPA","CONSTITUCION","190308","27","03","06","PASCO","OXAPAMPA","CIUDAD CONSTITUCION","I-1"]
[null,{"$f":"VALUE(renipress[[#This Row],[Código Único]])","v":1129},"GOBIERNO REGIONAL","00001129","PUERTO AMISTAD","PASCO","OXAPAMPA","CONSTITUCION","190308","27","03","06","PASCO","OXAPAMPA","CIUDAD CONSTITUCION","I-1"]
[null,{"$f":"VALUE(renipress[[#This Row],[Código Único]])","v":1130},"GOBIERNO REGIONAL","00001130","LORENCILLO I","PASCO","OXAPAMPA","CONSTITUCION","190308","27","03","06","PASCO","OXAPAMPA","CIUDAD CONSTITUCION","I-2"]
[null,{"$f":"VALUE(renipress[[#This Row],[Código Único]])","v":1131},"GOBIERNO REGIONAL","00001131","HAUSWALD","PASCO","OXAPAMPA","CONSTITUCION","190308","27","03","06","PASCO","OXAPAMPA","CIUDAD CONSTITUCION","I-2"]
[null,{"$f":"VALUE(renipress[[#This Row],[Código Único]])","v":1132},"GOBIERNO REGIONAL","00001132","FLOR DE UN DIA","PASCO","OXAPAMPA","CONSTITUCION","190308","27","03","06","PASCO","OXAPAMPA","CIUDAD CONSTITUCION","I-1"]
[null,{"$f":"VALUE(renipress[[#This Row],[Código Único]])","v":1133},"GOBIERNO REGIONAL","00001133","ISCOZACIN","PASCO","OXAPAMPA","PALCAZU","190304","27","03","04","PASCO","OXAPAMPA","PALCAZU","I-4"]
[null,{"$f":"VALUE(renipress[[#This Row],[Código Único]])","v":1134},"GOBIERNO REGIONAL","00001134","NUEVA ALDEA","PASCO","OXAPAMPA","PALCAZU","190304","27","03","04","PASCO","OXAPAMPA","PALCAZU","I-1"]
[null,{"$f":"VALUE(renipress[[#This Row],[Código Único]])","v":1135},"GOBIERNO REGIONAL","00001135","LOMA LINDA","PASCO","OXAPAMPA","PALCAZU","190304","27","03","04","PASCO","OXAPAMPA","PALCAZU","I-1"]
[null,{"$f":"VALUE(renipress[[#This Row],[Código Único]])","v":1136},"GOBIERNO REGIONAL","00001136","BUENOS AIRES","PASCO","OXAPAMPA","PALCAZU","190304","27","03","04","PASCO","OXAPAMPA","PALCAZU","I-1"]
[null,{"$f":"VALUE(renipress[[#This Row],[Código Único]])","v":1137},"GOBIERNO REGIONAL","00001137","ALTO ISCOZACIN","PASCO","OXAPAMPA","PALCAZU","190304","27","03","04","PASCO","OXAPAMPA","PALCAZU","I-1"]
[null,{"$f":"VALUE(renipress[[#This Row],[Código Único]])","v":1138},"GOBIERNO REGIONAL","00001138","TSOPIS","PASCO","OXAPAMPA","PALCAZU","190304","27","03","04","PASCO","OXAPAMPA","PALCAZU","I-1"]
[null,{"$f":"VALUE(renipress[[#This Row],[Código Único]])","v":1139},"GOBIERNO REGIONAL","00001139","VILLA AMERICA","PASCO","OXAPAMPA","PALCAZU","190304","27","03","04","PASCO","OXAPAMPA","PALCAZU","I-2"]
[null,{"$f":"VALUE(renipress[[#This Row],[Código Único]])","v":1140},"GOBIERNO REGIONAL","00001140","CENTRO ESPERANZA","PASCO","OXAPAMPA","PALCAZU","190304","27","03","04","PASCO","OXAPAMPA","PALCAZU","I-1"]
[null,{"$f":"VALUE(renipress[[#This Row],[Código Único]])","v":1141},"GOBIERNO REGIONAL","00001141","NUEVA ESPERANZA","PASCO","OXAPAMPA","PALCAZU","190304","27","03","04","PASCO","OXAPAMPA","PALCAZU","I-1"]
[null,{"$f":"VALUE(renipress[[#This Row],[Código Único]])","v":1142},"GOBIERNO REGIONAL","00001142","PUERTO LAGUNA RAYA","PASCO","OXAPAMPA","PALCAZU","190304","27","03","04","PASCO","OXAPAMPA","PALCAZU","I-1"]
[null,{"$f":"VALUE(renipress[[#This Row],[Código Único]])","v":1143},"GOBIERNO REGIONAL","00001143","PUERTO MAYRO","PASCO","OXAPAMPA","PALCAZU","190304","27","03","04","PASCO","OXAPAMPA","PALCAZU","I-2"]
[null,{"$f":"VALUE(renipress[[#This Row],[Código Único]])","v":1144},"GOBIERNO REGIONAL","00001144","SHIRINGAMAZU ALTO","PASCO","OXAPAMPA","PALCAZU","190304","27","03","04","PASCO","OXAPAMPA","PALCAZU","I-2"]
[null,{"$f":"VALUE(renipress[[#This Row],[Código Único]])","v":1145},"GOBIERNO REGIONAL","00001145","SHIRINGAMAZU BAJO","PASCO","OXAPAMPA","PALCAZU","190304","27","03","04","PASCO","OXAPAMPA","PALCAZU","I-1"]
[null,{"$f":"VALUE(renipress[[#This Row],[Código Único]])","v":1146},"GOBIERNO REGIONAL","00001146","SANTA  ROSA DE CHUCHURRAS","PASCO","OXAPAMPA","PALCAZU","190304","27","03","04","PASCO","OXAPAMPA","PALCAZU","I-1"]
[null,{"$f":"VALUE(renipress[[#This Row],[Código Único]])","v":1147},"GOBIERNO REGIONAL","00001147","CENTRO COMPARACHIMAS","PASCO","OXAPAMPA","PALCAZU","190304","27","03","04","PASCO","OXAPAMPA","PALCAZU","I-1"]
[null,{"$f":"VALUE(renipress[[#This Row],[Código Único]])","v":1148},"GOBIERNO REGIONAL","00001148","CENTRO CASTILLA","PASCO","OXAPAMPA","PALCAZU","190304","27","03","04","PASCO","OXAPAMPA","PALCAZU","I-1"]
[null,{"$f":"VALUE(renipress[[#This Row],[Código Único]])","v":1149},"GOBIERNO REGIONAL","00001149","SANTA MARIA","PASCO","OXAPAMPA","PALCAZU","190304","27","03","04","PASCO","OXAPAMPA","PALCAZU","I-1"]
[null,{"$f":"VALUE(renipress[[#This Row],[Código Único]])","v":1150},"GOBIERNO REGIONAL","00001150","MAZUHUAZU","PASCO","OXAPAMPA","PALCAZU","190304","27","03","04","PASCO","OXAPAMPA","PALCAZU","I-1"]
[null,{"$f":"VALUE(renipress[[#This Row],[Código Único]])","v":1151},"GOBIERNO REGIONAL","00001151","RIO NEGRO","PASCO","OXAPAMPA","PALCAZU","190304","27","03","04","PASCO","OXAPAMPA","PALCAZU","I-1"]
[null,{"$f":"VALUE(renipress[[#This Row],[Código Único]])","v":1152},"GOBIERNO REGIONAL","00001152","PLAYA CALIENTE","PASCO","OXAPAMPA","PALCAZU","190304","27","03","04","PASCO","OXAPAMPA","PALCAZU","I-1"]
[null,{"$f":"VALUE(renipress[[#This Row],[Código Único]])","v":1153},"GOBIERNO REGIONAL","00001153","QUEBRADA PACO","PASCO","OXAPAMPA","PALCAZU","190304","27","03","04","PASCO","OXAPAMPA","PALCAZU","I-1"]
[null,{"$f":"VALUE(renipress[[#This Row],[Código Único]])","v":1154},"GOBIERNO REGIONAL","00001154","PUERTO BELEN","PASCO","OXAPAMPA","PALCAZU","190304","27","03","04","PASCO","OXAPAMPA","PALCAZU","I-1"]
[null,{"$f":"VALUE(renipress[[#This Row],[Código Único]])","v":1155},"GOBIERNO REGIONAL","00001155","CENTRO LAGARTO","PASCO","OXAPAMPA","PALCAZU","190304","27","03","04","PASCO","OXAPAMPA","PALCAZU","I-2"]
[null,{"$f":"VALUE(renipress[[#This Row],[Código Único]])","v":1156},"GOBIERNO REGIONAL","00001156","PUERTO BERMUDEZ","PASCO","OXAPAMPA","PUERTO BERMUDEZ","190306","27","03","05","PASCO","OXAPAMPA","PUERTO BERMUDEZ","I-4"]
[null,{"$f":"VALUE(renipress[[#This Row],[Código Único]])","v":1157},"GOBIERNO REGIONAL","00001157","SANTA ISABEL DE NEGUACHI","PASCO","OXAPAMPA","PUERTO BERMUDEZ","190306","27","03","05","PASCO","OXAPAMPA","PUERTO BERMUDEZ","I-1"]
[null,{"$f":"VALUE(renipress[[#This Row],[Código Único]])","v":1158},"GOBIERNO REGIONAL","00001158","PUERTO LIBRE YARINA","PASCO","OXAPAMPA","CONSTITUCION","190308","27","03","06","PASCO","OXAPAMPA","CIUDAD CONSTITUCION","I-1"]
[null,{"$f":"VALUE(renipress[[#This Row],[Código Único]])","v":1159},"GOBIERNO REGIONAL","00001159","PUERTO AGUACHINI","PASCO","OXAPAMPA","PUERTO BERMUDEZ","190306","27","03","05","PASCO","OXAPAMPA","PUERTO BERMUDEZ","I-2"]
[null,{"$f":"VALUE(renipress[[#This Row],[Código Único]])","v":1160},"GOBIERNO REGIONAL","00001160","PUERTO PASCUALA","PASCO","OXAPAMPA","PUERTO BERMUDEZ","190306","27","03","05","PASCO","OXAPAMPA","PUERTO BERMUDEZ","I-1"]
[null,{"$f":"VALUE(renipress[[#This Row],[Código Único]])","v":1161},"GOBIERNO REGIONAL","00001161","SANTA ROSA DE CHIVIS","PASCO","OXAPAMPA","PUERTO BERMUDEZ","190306","27","03","05","PASCO","OXAPAMPA","PUERTO BERMUDEZ","I-2"]
[null,{"$f":"VALUE(renipress[[#This Row],[Código Único]])","v":1162},"GOBIERNO REGIONAL","00001162","SAN PABLO","PASCO","OXAPAMPA","PUERTO BERMUDEZ","190306","27","03","05","PASCO","OXAPAMPA","PUERTO BERMUDEZ","I-2"]
[null,{"$f":"VALUE(renipress[[#This Row],[Código Único]])","v":1163},"GOBIERNO REGIONAL","00001163","SARGENTO LORENZ","PASCO","OXAPAMPA","PUERTO BERMUDEZ","190306","27","03","05","PASCO","OXAPAMPA","PUERTO BERMUDEZ","I-1"]
[null,{"$f":"VALUE(renipress[[#This Row],[Código Único]])","v":1164},"GOBIERNO REGIONAL","00001164","BOCA SAMAYA","PASCO","OXAPAMPA","PUERTO BERMUDEZ","190306","27","03","05","PASCO","OXAPAMPA","PUERTO BERMUDEZ","I-2"]
[null,{"$f":"VALUE(renipress[[#This Row],[Código Único]])","v":1165},"GOBIERNO REGIONAL","00001165","PUERTO YESUPE","PASCO","OXAPAMPA","PUERTO BERMUDEZ","190306","27","03","05","PASCO","OXAPAMPA","PUERTO BERMUDEZ","I-2"]
[null,{"$f":"VALUE(renipress[[#This Row],[Código Único]])","v":1166},"GOBIERNO REGIONAL","00001166","AMAMBAY","PASCO","OXAPAMPA","PUERTO BERMUDEZ","190306","27","03","05","PASCO","OXAPAMPA","PUERTO BERMUDEZ","I-2"]
[null,{"$f":"VALUE(renipress[[#This Row],[Código Único]])","v":1167},"GOBIERNO REGIONAL","00001167","QUIRISHARI","PASCO","OXAPAMPA","PUERTO BERMUDEZ","190306","27","03","05","PASCO","OXAPAMPA","PUERTO BERMUDEZ","I-1"]
[null,{"$f":"VALUE(renipress[[#This Row],[Código Único]])","v":1168},"GOBIERNO REGIONAL","00001168","EL MILAGRO","PASCO","OXAPAMPA","PUERTO BERMUDEZ","190306","27","03","05","PASCO","OXAPAMPA","PUERTO BERMUDEZ","I-1"]
[null,{"$f":"VALUE(renipress[[#This Row],[Código Único]])","v":1169},"GOBIERNO REGIONAL","00001169","ALTO CHIVIS","PASCO","OXAPAMPA","PUERTO BERMUDEZ","190306","27","03","05","PASCO","OXAPAMPA","PUERTO BERMUDEZ","I-1"]
[null,{"$f":"VALUE(renipress[[#This Row],[Código Único]])","v":1170},"GOBIERNO REGIONAL","00001170","NUEVO NEVATI","PASCO","OXAPAMPA","PUERTO BERMUDEZ","190306","27","03","05","PASCO","OXAPAMPA","PUERTO BERMUDEZ","I-1"]
[null,{"$f":"VALUE(renipress[[#This Row],[Código Único]])","v":1171},"GOBIERNO REGIONAL","00001171","ZUNGAROYALI","PASCO","OXAPAMPA","PUERTO BERMUDEZ","190306","27","03","05","PASCO","OXAPAMPA","PUERTO BERMUDEZ","I-1"]
[null,{"$f":"VALUE(renipress[[#This Row],[Código Único]])","v":1172},"GOBIERNO REGIONAL","00001172","REDENCION NEVATI","PASCO","OXAPAMPA","PUERTO BERMUDEZ","190306","27","03","05","PASCO","OXAPAMPA","PUERTO BERMUDEZ","I-1"]
[null,{"$f":"VALUE(renipress[[#This Row],[Código Único]])","v":1173},"GOBIERNO REGIONAL","00001173","UNION SIRIA","PASCO","OXAPAMPA","CONSTITUCION","190308","27","03","06","PASCO","OXAPAMPA","CIUDAD CONSTITUCION","I-1"]
[null,{"$f":"VALUE(renipress[[#This Row],[Código Único]])","v":1174},"GOBIERNO REGIONAL","00001174","TUPAC AMARU","PASCO","OXAPAMPA","PUERTO BERMUDEZ","190306","27","03","05","PASCO","OXAPAMPA","PUERTO BERMUDEZ","I-1"]
[null,{"$f":"VALUE(renipress[[#This Row],[Código Único]])","v":1175},"GOBIERNO REGIONAL","00001175","SAN FRANCISCO DE PICHANAZ","PASCO","OXAPAMPA","VILLA RICA","190307","27","03","05","PASCO","OXAPAMPA","PUERTO BERMUDEZ","I-1"]
[null,{"$f":"VALUE(renipress[[#This Row],[Código Único]])","v":1176},"GOBIERNO REGIONAL","00001176","PUENTE PAUCARTAMBO","PASCO","OXAPAMPA","VILLA RICA","190307","27","03","03","PASCO","OXAPAMPA","VILLA RICA","I-2"]
[null,{"$f":"VALUE(renipress[[#This Row],[Código Único]])","v":1177},"GOBIERNO REGIONAL","00001177","BOCAZ","PASCO","OXAPAMPA","VILLA RICA","190307","27","03","03","PASCO","OXAPAMPA","VILLA RICA","I-1"]
[null,{"$f":"VALUE(renipress[[#This Row],[Código Único]])","v":1178},"GOBIERNO REGIONAL","00001178","LOS MELLIZOS","PASCO","OXAPAMPA","VILLA RICA","190307","27","03","03","PASCO","OXAPAMPA","VILLA RICA","I-1"]
[null,{"$f":"VALUE(renipress[[#This Row],[Código Único]])","v":1179},"GOBIERNO REGIONAL","00001179","ALTO CACAZU","PASCO","OXAPAMPA","VILLA RICA","190307","27","03","03","PASCO","OXAPAMPA","VILLA RICA","I-1"]
[null,{"$f":"VALUE(renipress[[#This Row],[Código Único]])","v":1180},"GOBIERNO REGIONAL","00001180","ENEÑAS","PASCO","OXAPAMPA","VILLA RICA","190307","27","03","03","PASCO","OXAPAMPA","VILLA RICA","I-2"]
[null,{"$f":"VALUE(renipress[[#This Row],[Código Único]])","v":1181},"GOBIERNO REGIONAL","00001181","SAN JUAN DE CACAZU","PASCO","OXAPAMPA","VILLA RICA","190307","27","03","03","PASCO","OXAPAMPA","VILLA RICA","I-3"]
[null,{"$f":"VALUE(renipress[[#This Row],[Código Único]])","v":1182},"GOBIERNO REGIONAL","00001182","MAYME","PASCO","OXAPAMPA","VILLA RICA","190307","27","03","03","PASCO","OXAPAMPA","VILLA RICA","I-1"]
[null,{"$f":"VALUE(renipress[[#This Row],[Código Único]])","v":1183},"GOBIERNO REGIONAL","00001183","ÑAGAZU","PASCO","OXAPAMPA","VILLA RICA","190307","27","03","03","PASCO","OXAPAMPA","VILLA RICA","I-2"]
[null,{"$f":"VALUE(renipress[[#This Row],[Código Único]])","v":1184},"GOBIERNO REGIONAL","00001184","VILLA OYON","PASCO","OXAPAMPA","VILLA RICA","190307","27","03","03","PASCO","OXAPAMPA","VILLA RICA","I-1"]
[null,{"$f":"VALUE(renipress[[#This Row],[Código Único]])","v":1185},"GOBIERNO REGIONAL","00001185","AZULIES","PASCO","OXAPAMPA","VILLA RICA","190307","27","03","03","PASCO","OXAPAMPA","VILLA RICA","I-1"]
[null,{"$f":"VALUE(renipress[[#This Row],[Código Único]])","v":1186},"GOBIERNO REGIONAL","00001186","CEDROPAMPA","PASCO","OXAPAMPA","VILLA RICA","190307","27","03","03","PASCO","OXAPAMPA","VILLA RICA","I-2"]
[null,{"$f":"VALUE(renipress[[#This Row],[Código Único]])","v":1187},"GOBIERNO REGIONAL","00001187","ALTO ENTAZ","PASCO","OXAPAMPA","VILLA RICA","190307","27","03","03","PASCO","OXAPAMPA","VILLA RICA","I-1"]
[null,{"$f":"VALUE(renipress[[#This Row],[Código Único]])","v":1188},"GOBIERNO REGIONAL","00001188","PAMPA ENCANTADA","PASCO","OXAPAMPA","VILLA RICA","190307","27","03","03","PASCO","OXAPAMPA","VILLA RICA","I-1"]
[null,{"$f":"VALUE(renipress[[#This Row],[Código Único]])","v":1189},"GOBIERNO REGIONAL","00001189","UBIRIKI","PASCO","OXAPAMPA","VILLA RICA","190307","27","03","03","PASCO","OXAPAMPA","VILLA RICA","I-1"]
[null,{"$f":"VALUE(renipress[[#This Row],[Código Único]])","v":1190},"GOBIERNO REGIONAL","00001190","BELLA ESPERANZA","PASCO","OXAPAMPA","VILLA RICA","190307","27","03","03","PASCO","OXAPAMPA","VILLA RICA","I-1"]
[null,{"$f":"VALUE(renipress[[#This Row],[Código Único]])","v":1191},"GOBIERNO REGIONAL","00001191","OCHO DE DICIEMBRE","PASCO","DANIEL ALCIDES CARRION","PAUCAR","190204","27","02","03","PASCO","DANIEL CARRION","YANAHUANCA","I-2"]
[null,{"$f":"VALUE(renipress[[#This Row],[Código Único]])","v":1192},"GOBIERNO REGIONAL","00001192","INDEPENDENCIA","PASCO","DANIEL ALCIDES CARRION","PAUCAR","190204","27","02","03","PASCO","DANIEL CARRION","YANAHUANCA","I-1"]
[null,{"$f":"VALUE(renipress[[#This Row],[Código Único]])","v":1193},"GOBIERNO REGIONAL","00001193","CHOCOPATA","PASCO","DANIEL ALCIDES CARRION","YANAHUANCA","190201","27","02","03","PASCO","DANIEL CARRION","YANAHUANCA","I-1"]
[null,{"$f":"VALUE(renipress[[#This Row],[Código Único]])","v":1194},"GOBIERNO REGIONAL","00001194","ANDAHUAYLAS","PASCO","DANIEL ALCIDES CARRION","SAN PEDRO DE PILLAO","190205","27","02","03","PASCO","DANIEL CARRION","YANAHUANCA","I-1"]
[null,{"$f":"VALUE(renipress[[#This Row],[Código Único]])","v":1195},"GOBIERNO REGIONAL","00001195","CHINCHE TINGO","PASCO","DANIEL ALCIDES CARRION","YANAHUANCA","190201","27","02","03","PASCO","DANIEL CARRION","YANAHUANCA","I-2"]
[null,{"$f":"VALUE(renipress[[#This Row],[Código Único]])","v":1196},"GOBIERNO REGIONAL","00001196","LLICLLAO","PASCO","DANIEL ALCIDES CARRION","YANAHUANCA","190201","27","02","03","PASCO","DANIEL CARRION","YANAHUANCA","I-1"]
[null,{"$f":"VALUE(renipress[[#This Row],[Código Único]])","v":1197},"GOBIERNO REGIONAL","00001197","CACHQUIS","PASCO","DANIEL ALCIDES CARRION","YANAHUANCA","190201","27","02","03","PASCO","DANIEL CARRION","YANAHUANCA","I-1"]
[null,{"$f":"VALUE(renipress[[#This Row],[Código Único]])","v":1198},"GOBIERNO REGIONAL","00001198","CHINCHE TINGO","PASCO","DANIEL ALCIDES CARRION","YANAHUANCA","190201","27","02","03","PASCO","DANIEL CARRION","YANAHUANCA","I-2"]
[null,{"$f":"VALUE(renipress[[#This Row],[Código Único]])","v":1199},"GOBIERNO REGIONAL","00001199","CHINCHE RABI","PASCO","DANIEL ALCIDES CARRION","YANAHUANCA","190201","27","02","03","PASCO","DANIEL CARRION","YANAHUANCA","I-1"]
[null,{"$f":"VALUE(renipress[[#This Row],[Código Único]])","v":1200},"GOBIERNO REGIONAL","00001200","NUMUNYAYOG","PASCO","DANIEL ALCIDES CARRION","YANAHUANCA","190201","27","02","03","PASCO","DANIEL CARRION","YANAHUANCA","I-1"]
[null,{"$f":"VALUE(renipress[[#This Row],[Código Único]])","v":1201},"GOBIERNO REGIONAL","00001201","PAUCAR","PASCO","DANIEL ALCIDES CARRION","PAUCAR","190204","27","02","03","PASCO","DANIEL CARRION","YANAHUANCA","I-2"]
[null,{"$f":"VALUE(renipress[[#This Row],[Código Único]])","v":1202},"GOBIERNO REGIONAL","00001202","YACAN","PASCO","DANIEL ALCIDES CARRION","PAUCAR","190204","27","02","03","PASCO","DANIEL CARRION","YANAHUANCA","I-1"]
[null,{"$f":"VALUE(renipress[[#This Row],[Código Único]])","v":1203},"GOBIERNO REGIONAL","00001203","MISCA","PASCO","DANIEL ALCIDES CARRION","CHACAYAN","190202","27","02","01","PASCO","DANIEL CARRION","CHAUPIHUARANGA","I-1"]
[null,{"$f":"VALUE(renipress[[#This Row],[Código Único]])","v":1204},"GOBIERNO REGIONAL","00001204","TANGOR","PASCO","DANIEL ALCIDES CARRION","PAUCAR","190204","27","02","03","PASCO","DANIEL CARRION","YANAHUANCA","I-1"]
[null,{"$f":"VALUE(renipress[[#This Row],[Código Único]])","v":1205},"GOBIERNO REGIONAL","00001205","HUAYCHAUMARCA","PASCO","DANIEL ALCIDES CARRION","YANAHUANCA","190201","27","02","03","PASCO","DANIEL CARRION","YANAHUANCA","I-1"]
[null,{"$f":"VALUE(renipress[[#This Row],[Código Único]])","v":1206},"GOBIERNO REGIONAL","00001206","CHAUPIMARCA","PASCO","DANIEL ALCIDES CARRION","TAPUC","190207","27","02","01","PASCO","DANIEL CARRION","CHAUPIHUARANGA","I-1"]
[null,{"$f":"VALUE(renipress[[#This Row],[Código Único]])","v":1207},"GOBIERNO REGIONAL","00001207","TAPUC","PASCO","DANIEL ALCIDES CARRION","TAPUC","190207","27","02","01","PASCO","DANIEL CARRION","CHAUPIHUARANGA","I-3"]
[null,{"$f":"VALUE(renipress[[#This Row],[Código Único]])","v":1208},"GOBIERNO REGIONAL","00001208","VILCABAMBA","PASCO","DANIEL ALCIDES CARRION","VILCABAMBA","190208","27","02","01","PASCO","DANIEL CARRION","CHAUPIHUARANGA","I-2"]
[null,{"$f":"VALUE(renipress[[#This Row],[Código Único]])","v":1209},"GOBIERNO REGIONAL","00001209","SAN MIGUEL DE CUCHIS","PASCO","DANIEL ALCIDES CARRION","VILCABAMBA","190208","27","02","01","PASCO","DANIEL CARRION","CHAUPIHUARANGA","I-1"]
[null,{"$f":"VALUE(renipress[[#This Row],[Código Único]])","v":1210},"GOBIERNO REGIONAL","00001210","PATARAYOG","PASCO","DANIEL ALCIDES CARRION","VILCABAMBA","190208","27","02","01","PASCO","DANIEL CARRION","CHAUPIHUARANGA","I-1"]
[null,{"$f":"VALUE(renipress[[#This Row],[Código Único]])","v":1211},"GOBIERNO REGIONAL","00001211","COCAR","PASCO","DANIEL ALCIDES CARRION","VILCABAMBA","190208","27","02","01","PASCO","DANIEL CARRION","CHAUPIHUARANGA","I-1"]
[null,{"$f":"VALUE(renipress[[#This Row],[Código Único]])","v":1212},"GOBIERNO REGIONAL","00001212","ROCCO","PASCO","DANIEL ALCIDES CARRION","YANAHUANCA","190201","27","02","03","PASCO","DANIEL CARRION","YANAHUANCA","I-1"]
[null,{"$f":"VALUE(renipress[[#This Row],[Código Único]])","v":1213},"GOBIERNO REGIONAL","00001213","VIRGEN DEL ROSARIO DE HUAYLASJIRCA","PASCO","DANIEL ALCIDES CARRION","YANAHUANCA","190201","27","02","03","PASCO","DANIEL CARRION","YANAHUANCA","I-1"]
[null,{"$f":"VALUE(renipress[[#This Row],[Código Único]])","v":1214},"GOBIERNO REGIONAL","00001214","POMAPACHUPAN","PASCO","DANIEL ALCIDES CARRION","YANAHUANCA","190201","27","02","03","PASCO","DANIEL CARRION","YANAHUANCA","I-1"]
[null,{"$f":"VALUE(renipress[[#This Row],[Código Único]])","v":1215},"GOBIERNO REGIONAL","00001215","GORGORIN","PASCO","DANIEL ALCIDES CARRION","CHACAYAN","190202","27","02","01","PASCO","DANIEL CARRION","CHAUPIHUARANGA","I-1"]
[null,{"$f":"VALUE(renipress[[#This Row],[Código Único]])","v":1216},"GOBIERNO REGIONAL","00001216","PILLAO","PASCO","DANIEL ALCIDES CARRION","SAN PEDRO DE PILLAO","190205","27","02","03","PASCO","DANIEL CARRION","YANAHUANCA","I-2"]
[null,{"$f":"VALUE(renipress[[#This Row],[Código Único]])","v":1217},"GOBIERNO REGIONAL","00001217","MICHIVILCA","PASCO","DANIEL ALCIDES CARRION","TAPUC","190207","27","02","01","PASCO","DANIEL CARRION","CHAUPIHUARANGA","I-1"]
[null,{"$f":"VALUE(renipress[[#This Row],[Código Único]])","v":1218},"GOBIERNO REGIONAL","00001218","FREDY VALLEJOS ORE","PASCO","DANIEL ALCIDES CARRION","YANAHUANCA","190201","27","02","03","PASCO","DANIEL CARRION","YANAHUANCA","I-4"]
[null,{"$f":"VALUE(renipress[[#This Row],[Código Único]])","v":1219},"GOBIERNO REGIONAL","00001219","TAMBOPAMPA","PASCO","DANIEL ALCIDES CARRION","YANAHUANCA","190201","27","02","03","PASCO","DANIEL CARRION","YANAHUANCA","I-1"]
[null,{"$f":"VALUE(renipress[[#This Row],[Código Único]])","v":1220},"GOBIERNO REGIONAL","00001220","YANACOCHA","PASCO","DANIEL ALCIDES CARRION","YANAHUANCA","190201","27","02","03","PASCO","DANIEL CARRION","YANAHUANCA","I-1"]
[null,{"$f":"VALUE(renipress[[#This Row],[Código Único]])","v":1221},"GOBIERNO REGIONAL","00001221","SANTIAGO PAMPA","PASCO","DANIEL ALCIDES CARRION","YANAHUANCA","190201","27","02","03","PASCO","DANIEL CARRION","YANAHUANCA","I-1"]
[null,{"$f":"VALUE(renipress[[#This Row],[Código Único]])","v":1222},"GOBIERNO REGIONAL","00001222","TAMBOCHACA","PASCO","DANIEL ALCIDES CARRION","YANAHUANCA","190201","27","02","03","PASCO","DANIEL CARRION","YANAHUANCA","I-1"]
[null,{"$f":"VALUE(renipress[[#This Row],[Código Único]])","v":1223},"GOBIERNO REGIONAL","00001223","UCHUMARCA","PASCO","DANIEL ALCIDES CARRION","YANAHUANCA","190201","27","02","03","PASCO","DANIEL CARRION","YANAHUANCA","I-1"]
[null,{"$f":"VALUE(renipress[[#This Row],[Código Único]])","v":1224},"GOBIERNO REGIONAL","00001224","CHIPIPATA","PASCO","DANIEL ALCIDES CARRION","YANAHUANCA","190201","27","02","03","PASCO","DANIEL CARRION","YANAHUANCA","I-1"]
[null,{"$f":"VALUE(renipress[[#This Row],[Código Único]])","v":1225},"GOBIERNO REGIONAL","00001225","PALCA","PASCO","DANIEL ALCIDES CARRION","YANAHUANCA","190201","27","02","03","PASCO","DANIEL CARRION","YANAHUANCA","I-1"]
[null,{"$f":"VALUE(renipress[[#This Row],[Código Único]])","v":1226},"GOBIERNO REGIONAL","00001226","ASTOBAMBA HUARAUTAMBO","PASCO","DANIEL ALCIDES CARRION","YANAHUANCA","190201","27","02","03","PASCO","DANIEL CARRION","YANAHUANCA","I-1"]
[null,{"$f":"VALUE(renipress[[#This Row],[Código Único]])","v":1227},"GOBIERNO REGIONAL","00001227","POMAYAROS","PASCO","DANIEL ALCIDES CARRION","YANAHUANCA","190201","27","02","03","PASCO","DANIEL CARRION","YANAHUANCA","I-1"]
[null,{"$f":"VALUE(renipress[[#This Row],[Código Único]])","v":1228},"GOBIERNO REGIONAL","00001228","AYAYOG","PASCO","DANIEL ALCIDES CARRION","YANAHUANCA","190201","27","02","03","PASCO","DANIEL CARRION","YANAHUANCA","I-1"]
[null,{"$f":"VALUE(renipress[[#This Row],[Código Único]])","v":1229},"GOBIERNO REGIONAL","00001229","ANDES YANAHUANCA","PASCO","DANIEL ALCIDES CARRION","YANAHUANCA","190201","27","02","03","PASCO","DANIEL CARRION","YANAHUANCA","I-1"]
[null,{"$f":"VALUE(renipress[[#This Row],[Código Único]])","v":1230},"GOBIERNO REGIONAL","00001230","ANDACHACA","PASCO","DANIEL ALCIDES CARRION","YANAHUANCA","190201","27","02","03","PASCO","DANIEL CARRION","YANAHUANCA","I-2"]
[null,{"$f":"VALUE(renipress[[#This Row],[Código Único]])","v":1231},"GOBIERNO REGIONAL","00001231","HOSPITAL REGIONAL HONORIO DELGADO ESPINOZA","AREQUIPA","AREQUIPA","AREQUIPA","040101","4","00","00","AREQUIPA","NO PERTENECE A NINGUNA RED","NO PERTENECE A NINGUNA MICRORED","III-1"]
[null,{"$f":"VALUE(renipress[[#This Row],[Código Único]])","v":1232},"GOBIERNO REGIONAL","00001232","HOSPITAL GOYENECHE","AREQUIPA","AREQUIPA","AREQUIPA","040101","4","00","00","AREQUIPA","NO PERTENECE A NINGUNA RED","NO PERTENECE A NINGUNA MICRORED","III-1"]
[null,{"$f":"VALUE(renipress[[#This Row],[Código Único]])","v":1233},"GOBIERNO REGIONAL","00001233","CENTRO DE SALUD YANAHUARA","AREQUIPA","AREQUIPA","YANAHUARA","040126","4","03","10","AREQUIPA","AREQUIPA CAYLLOMA","YANAHUARA","I-3"]
[null,{"$f":"VALUE(renipress[[#This Row],[Código Único]])","v":1234},"GOBIERNO REGIONAL","00001234","CENTRO DE SALUD FRANCISCO BOLOGNESI","AREQUIPA","AREQUIPA","CAYMA","040103","4","03","05","AREQUIPA","AREQUIPA CAYLLOMA","FRANCISCO BOLOGNESI","I-3"]
[null,{"$f":"VALUE(renipress[[#This Row],[Código Único]])","v":1235},"GOBIERNO REGIONAL","00001235","BUENOS AIRES DE CAYMA","AREQUIPA","AREQUIPA","CAYMA","040103","4","03","06","AREQUIPA","AREQUIPA CAYLLOMA","BUENOS AIRES DE CAYMA","I-3"]
[null,{"$f":"VALUE(renipress[[#This Row],[Código Único]])","v":1236},"GOBIERNO REGIONAL","00001236","CERRO COLORADO","AREQUIPA","AREQUIPA","CERRO COLORADO","040104","4","03","07","AREQUIPA","AREQUIPA CAYLLOMA","CERRO COLORADO","I-3"]
[null,{"$f":"VALUE(renipress[[#This Row],[Código Único]])","v":1237},"GOBIERNO REGIONAL","00001237","MARITZA CAMPOS DIAZ - ZAMACOLA","AREQUIPA","AREQUIPA","CERRO COLORADO","040104","4","03","09","AREQUIPA","AREQUIPA CAYLLOMA","MARITZA CAMPOS DIAZ","I-4"]
[null,{"$f":"VALUE(renipress[[#This Row],[Código Único]])","v":1238},"GOBIERNO REGIONAL","00001238","CENTRO DE SALUD MARISCAL CASTILLA","AREQUIPA","AREQUIPA","CERRO COLORADO","040104","4","03","08","AREQUIPA","AREQUIPA CAYLLOMA","MARISCAL CASTILLA","I-3"]
[null,{"$f":"VALUE(renipress[[#This Row],[Código Único]])","v":1239},"GOBIERNO REGIONAL","00001239","PUESTO DE SALUD HUANCA","AREQUIPA","CAYLLOMA","HUANCA","040508","4","03","11","AREQUIPA","AREQUIPA CAYLLOMA","CIUDAD DE DIOS","I-2"]
[null,{"$f":"VALUE(renipress[[#This Row],[Código Único]])","v":1240},"GOBIERNO REGIONAL","00001240","TERMINAL AEREO","AREQUIPA","AREQUIPA","CERRO COLORADO","040104","4","03","09","AREQUIPA","AREQUIPA CAYLLOMA","MARITZA CAMPOS DIAZ","Sin Categoría"]
[null,{"$f":"VALUE(renipress[[#This Row],[Código Único]])","v":1241},"GOBIERNO REGIONAL","00001241","PUESTO DE SALUD SUMBAY - CHASQUIPAMPA","AREQUIPA","AREQUIPA","YANAHUARA","040126","4","03","11","AREQUIPA","AREQUIPA CAYLLOMA","CIUDAD DE DIOS","I-1"]
[null,{"$f":"VALUE(renipress[[#This Row],[Código Único]])","v":1242},"GOBIERNO REGIONAL","00001242","PUESTO DE SALUD IMATA","AREQUIPA","CAYLLOMA","SAN ANTONIO DE CHUCA","040514","4","03","11","AREQUIPA","AREQUIPA CAYLLOMA","CIUDAD DE DIOS","I-2"]
[null,{"$f":"VALUE(renipress[[#This Row],[Código Único]])","v":1243},"GOBIERNO REGIONAL","00001243","PUESTO DE SALUD PILLONES","AREQUIPA","CAYLLOMA","SAN ANTONIO DE CHUCA","040514","4","03","11","AREQUIPA","AREQUIPA CAYLLOMA","CIUDAD DE DIOS","I-1"]
[null,{"$f":"VALUE(renipress[[#This Row],[Código Único]])","v":1244},"GOBIERNO REGIONAL","00001244","PUESTO DE SALUD LA TOMILLA","AREQUIPA","AREQUIPA","CAYMA","040103","4","03","05","AREQUIPA","AREQUIPA CAYLLOMA","FRANCISCO BOLOGNESI","I-2"]
[null,{"$f":"VALUE(renipress[[#This Row],[Código Único]])","v":1245},"GOBIERNO REGIONAL","00001245","SAN JOSE","AREQUIPA","AREQUIPA","CAYMA","040103","4","03","06","AREQUIPA","AREQUIPA CAYLLOMA","BUENOS AIRES DE CAYMA","I-2"]
[null,{"$f":"VALUE(renipress[[#This Row],[Código Único]])","v":1246},"GOBIERNO REGIONAL","00001246","DEAN VALDIVIA","AREQUIPA","AREQUIPA","CAYMA","040103","4","03","06","AREQUIPA","AREQUIPA CAYLLOMA","BUENOS AIRES DE CAYMA","I-2"]
[null,{"$f":"VALUE(renipress[[#This Row],[Código Único]])","v":1247},"GOBIERNO REGIONAL","00001247","PUESTO DE SALUD CIUDAD MUNICIPAL","AREQUIPA","AREQUIPA","CERRO COLORADO","040104","4","03","09","AREQUIPA","AREQUIPA CAYLLOMA","MARITZA CAMPOS DIAZ","I-2"]
[null,{"$f":"VALUE(renipress[[#This Row],[Código Único]])","v":1248},"GOBIERNO REGIONAL","00001248","ALTO LIBERTAD","AREQUIPA","AREQUIPA","CERRO COLORADO","040104","4","03","07","AREQUIPA","AREQUIPA CAYLLOMA","CERRO COLORADO","I-3"]
[null,{"$f":"VALUE(renipress[[#This Row],[Código Único]])","v":1249},"GOBIERNO REGIONAL","00001249","CENTRO DE SALUD SEMI RURAL PACHACUTEC","AREQUIPA","AREQUIPA","CERRO COLORADO","040104","4","03","08","AREQUIPA","AREQUIPA CAYLLOMA","MARISCAL CASTILLA","I-3"]
[null,{"$f":"VALUE(renipress[[#This Row],[Código Único]])","v":1250},"GOBIERNO REGIONAL","00001250","PUESTO DE SALUD JOSE SANTOS ATAHUALPA","AREQUIPA","AREQUIPA","CERRO COLORADO","040104","4","03","08","AREQUIPA","AREQUIPA CAYLLOMA","MARISCAL CASTILLA","I-2"]
[null,{"$f":"VALUE(renipress[[#This Row],[Código Único]])","v":1251},"GOBIERNO REGIONAL","00001251","PUESTO DE SALUD NAZARENO","AREQUIPA","AREQUIPA","CERRO COLORADO","040104","4","03","09","AREQUIPA","AREQUIPA CAYLLOMA","MARITZA CAMPOS DIAZ","I-2"]
[null,{"$f":"VALUE(renipress[[#This Row],[Código Único]])","v":1252},"GOBIERNO REGIONAL","00001252","PUESTO DE SALUD EL CURAL","AREQUIPA","AREQUIPA","CERRO COLORADO","040104","4","03","08","AREQUIPA","AREQUIPA CAYLLOMA","MARISCAL CASTILLA","I-1"]
[null,{"$f":"VALUE(renipress[[#This Row],[Código Único]])","v":1253},"GOBIERNO REGIONAL","00001253","CENTRO DE SALUD CIUDAD DE DIOS","AREQUIPA","AREQUIPA","YURA","040128","4","03","11","AREQUIPA","AREQUIPA CAYLLOMA","CIUDAD DE DIOS","I-3"]
[null,{"$f":"VALUE(renipress[[#This Row],[Código Único]])","v":1254},"GOBIERNO REGIONAL","00001254","PUESTO DE SALUD YURA","AREQUIPA","AREQUIPA","YURA","040128","4","03","11","AREQUIPA","AREQUIPA CAYLLOMA","CIUDAD DE DIOS","I-2"]
[null,{"$f":"VALUE(renipress[[#This Row],[Código Único]])","v":1255},"GOBIERNO REGIONAL","00001255","PUESTO DE SALUD LLUTA","AREQUIPA","CAYLLOMA","LLUTA","040511","4","03","11","AREQUIPA","AREQUIPA CAYLLOMA","CIUDAD DE DIOS","I-2"]
[null,{"$f":"VALUE(renipress[[#This Row],[Código Único]])","v":1256},"GOBIERNO REGIONAL","00001256","PUESTO DE SALUD TAYA","AREQUIPA","CAYLLOMA","LLUTA","040511","4","03","11","AREQUIPA","AREQUIPA CAYLLOMA","CIUDAD DE DIOS","I-2"]
[null,{"$f":"VALUE(renipress[[#This Row],[Código Único]])","v":1257},"GOBIERNO REGIONAL","00001257","VICTOR RAUL HINOJOSA","AREQUIPA","AREQUIPA","JOSE LUIS BUSTAMANTE Y RIVERO","040129","4","03","23","AREQUIPA","AREQUIPA CAYLLOMA","VICTOR RAUL HINOJOZA","I-3"]
[null,{"$f":"VALUE(renipress[[#This Row],[Código Único]])","v":1258},"GOBIERNO REGIONAL","00001258","CENTRO DE SALUD SAN MARTIN DE SOCABAYA","AREQUIPA","AREQUIPA","SOCABAYA","040122","4","03","25","AREQUIPA","AREQUIPA CAYLLOMA","SAN MARTIN DE SOCABAYA","I-3"]
[null,{"$f":"VALUE(renipress[[#This Row],[Código Único]])","v":1259},"GOBIERNO REGIONAL","00001259","CENTRO DE SALUD JAVIER LLOSA GARCIA -  HUNTER","AREQUIPA","AREQUIPA","JACOBO HUNTER","040107","4","03","22","AREQUIPA","AREQUIPA CAYLLOMA","HUNTER","I-4"]
[null,{"$f":"VALUE(renipress[[#This Row],[Código Único]])","v":1260},"GOBIERNO REGIONAL","00001260","CENTRO DE SALUD TIABAYA","AREQUIPA","AREQUIPA","TIABAYA","040123","4","03","24","AREQUIPA","AREQUIPA CAYLLOMA","TIABAYA","I-3"]
[null,{"$f":"VALUE(renipress[[#This Row],[Código Único]])","v":1261},"GOBIERNO REGIONAL","00001261","CENTRO DE SALUD DE CHARACATO","AREQUIPA","AREQUIPA","CHARACATO","040105","4","03","21","AREQUIPA","AREQUIPA CAYLLOMA","CHARACATO","I-3"]
[null,{"$f":"VALUE(renipress[[#This Row],[Código Único]])","v":1262},"GOBIERNO REGIONAL","00001262","PUESTO DE SALUD POLOBAYA","AREQUIPA","AREQUIPA","POLOBAYA","040114","4","03","21","AREQUIPA","AREQUIPA CAYLLOMA","CHARACATO","I-2"]
[null,{"$f":"VALUE(renipress[[#This Row],[Código Único]])","v":1263},"GOBIERNO REGIONAL","00001263","PUESTO DE SALUD 13 DE ENERO","AREQUIPA","AREQUIPA","JOSE LUIS BUSTAMANTE Y RIVERO","040129","4","03","23","AREQUIPA","AREQUIPA CAYLLOMA","VICTOR RAUL HINOJOZA","I-2"]
[null,{"$f":"VALUE(renipress[[#This Row],[Código Único]])","v":1264},"GOBIERNO REGIONAL","00001264","CENTRO DE SALUD LAS ESMERALDAS","AREQUIPA","AREQUIPA","JOSE LUIS BUSTAMANTE Y RIVERO","040129","4","03","23","AREQUIPA","AREQUIPA CAYLLOMA","VICTOR RAUL HINOJOZA","I-3"]
[null,{"$f":"VALUE(renipress[[#This Row],[Código Único]])","v":1265},"GOBIERNO REGIONAL","00001265","HUGO LUMBRERAS CRUZ","AREQUIPA","AREQUIPA","JOSE LUIS BUSTAMANTE Y RIVERO","040129","4","03","23","AREQUIPA","AREQUIPA CAYLLOMA","VICTOR RAUL HINOJOZA","I-2"]
[null,{"$f":"VALUE(renipress[[#This Row],[Código Único]])","v":1266},"GOBIERNO REGIONAL","00001266","FELIX NAQUIRA VILDOSO","AREQUIPA","AREQUIPA","JOSE LUIS BUSTAMANTE Y RIVERO","040129","4","03","23","AREQUIPA","AREQUIPA CAYLLOMA","VICTOR RAUL HINOJOZA","I-2"]
[null,{"$f":"VALUE(renipress[[#This Row],[Código Único]])","v":1267},"GOBIERNO REGIONAL","00001267","CERRO JULI","AREQUIPA","AREQUIPA","JOSE LUIS BUSTAMANTE Y RIVERO","040129","4","03","23","AREQUIPA","AREQUIPA CAYLLOMA","VICTOR RAUL HINOJOZA","I-2"]
[null,{"$f":"VALUE(renipress[[#This Row],[Código Único]])","v":1268},"GOBIERNO REGIONAL","00001268","CENTRO DE SALUD 4 DE OCTUBRE","AREQUIPA","AREQUIPA","SOCABAYA","040122","4","03","25","AREQUIPA","AREQUIPA CAYLLOMA","SAN MARTIN DE SOCABAYA","I-3"]
[null,{"$f":"VALUE(renipress[[#This Row],[Código Único]])","v":1269},"GOBIERNO REGIONAL","00001269","PUESTO DE SALUD CIUDAD MI TRABAJO","AREQUIPA","AREQUIPA","SOCABAYA","040122","4","03","25","AREQUIPA","AREQUIPA CAYLLOMA","SAN MARTIN DE SOCABAYA","I-2"]
[null,{"$f":"VALUE(renipress[[#This Row],[Código Único]])","v":1270},"GOBIERNO REGIONAL","00001270","PUESTO DE SALUD LARA","AREQUIPA","AREQUIPA","SOCABAYA","040122","4","03","25","AREQUIPA","AREQUIPA CAYLLOMA","SAN MARTIN DE SOCABAYA","I-2"]
[null,{"$f":"VALUE(renipress[[#This Row],[Código Único]])","v":1271},"GOBIERNO REGIONAL","00001271","CENTRO DE SALUD SAN FERNANDO","AREQUIPA","AREQUIPA","SOCABAYA","040122","4","03","25","AREQUIPA","AREQUIPA CAYLLOMA","SAN MARTIN DE SOCABAYA","I-3"]
[null,{"$f":"VALUE(renipress[[#This Row],[Código Único]])","v":1272},"GOBIERNO REGIONAL","00001272","PUESTO DE SALUD SALAVERRY","AREQUIPA","AREQUIPA","SOCABAYA","040122","4","03","25","AREQUIPA","AREQUIPA CAYLLOMA","SAN MARTIN DE SOCABAYA","I-2"]
[null,{"$f":"VALUE(renipress[[#This Row],[Código Único]])","v":1273},"GOBIERNO REGIONAL","00001273","PUESTO DE SALUD DANIEL ALCIDES CARRION","AREQUIPA","AREQUIPA","JACOBO HUNTER","040107","4","03","22","AREQUIPA","AREQUIPA CAYLLOMA","HUNTER","I-2"]
[null,{"$f":"VALUE(renipress[[#This Row],[Código Único]])","v":1274},"GOBIERNO REGIONAL","00001274","PUESTO DE SALUD PAMPAS DEL CUZCO","AREQUIPA","AREQUIPA","JACOBO HUNTER","040107","4","03","22","AREQUIPA","AREQUIPA CAYLLOMA","HUNTER","I-2"]
[null,{"$f":"VALUE(renipress[[#This Row],[Código Único]])","v":1275},"GOBIERNO REGIONAL","00001275","PUESTO DE SALUD CHILPINILLA","AREQUIPA","AREQUIPA","JACOBO HUNTER","040107","4","03","22","AREQUIPA","AREQUIPA CAYLLOMA","HUNTER","I-2"]
[null,{"$f":"VALUE(renipress[[#This Row],[Código Único]])","v":1276},"GOBIERNO REGIONAL","00001276","CENTRO DE SALUD CAMINOS DEL INCA","AREQUIPA","AREQUIPA","JACOBO HUNTER","040107","4","03","22","AREQUIPA","AREQUIPA CAYLLOMA","HUNTER","I-2"]
[null,{"$f":"VALUE(renipress[[#This Row],[Código Único]])","v":1277},"GOBIERNO REGIONAL","00001277","ALTO ALIANZA","AREQUIPA","AREQUIPA","JACOBO HUNTER","040107","4","03","22","AREQUIPA","AREQUIPA CAYLLOMA","HUNTER","I-2"]
[null,{"$f":"VALUE(renipress[[#This Row],[Código Único]])","v":1278},"GOBIERNO REGIONAL","00001278","TERMINAL TERRESTRE","AREQUIPA","AREQUIPA","JACOBO HUNTER","040107","4","03","22","AREQUIPA","AREQUIPA CAYLLOMA","HUNTER","I-2"]
[null,{"$f":"VALUE(renipress[[#This Row],[Código Único]])","v":1279},"GOBIERNO REGIONAL","00001279","PUESTO DE SALUD UPIS PAISAJISTA","AREQUIPA","AREQUIPA","JACOBO HUNTER","040107","4","03","22","AREQUIPA","AREQUIPA CAYLLOMA","HUNTER","I-2"]
[null,{"$f":"VALUE(renipress[[#This Row],[Código Único]])","v":1280},"GOBIERNO REGIONAL","00001280","CERRO VERDE","AREQUIPA","AREQUIPA","UCHUMAYO","040124","4","03","24","AREQUIPA","AREQUIPA CAYLLOMA","TIABAYA","I-3"]
[null,{"$f":"VALUE(renipress[[#This Row],[Código Único]])","v":1281},"GOBIERNO REGIONAL","00001281","CONGATA","AREQUIPA","AREQUIPA","UCHUMAYO","040124","4","03","24","AREQUIPA","AREQUIPA CAYLLOMA","TIABAYA","I-3"]
[null,{"$f":"VALUE(renipress[[#This Row],[Código Único]])","v":1282},"GOBIERNO REGIONAL","00001282","PUESTO DE SALUD SACHACA","AREQUIPA","AREQUIPA","SACHACA","040117","4","03","10","AREQUIPA","AREQUIPA CAYLLOMA","YANAHUARA","I-2"]
[null,{"$f":"VALUE(renipress[[#This Row],[Código Único]])","v":1283},"GOBIERNO REGIONAL","00001283","PUESTO DE SALUD PAMPA DE CAMARONES","AREQUIPA","AREQUIPA","SACHACA","040117","4","03","10","AREQUIPA","AREQUIPA CAYLLOMA","YANAHUARA","I-2"]
[null,{"$f":"VALUE(renipress[[#This Row],[Código Único]])","v":1284},"GOBIERNO REGIONAL","00001284","PUESTO DE SALUD LEOPOLDO RONDON - SABANDIA","AREQUIPA","AREQUIPA","SABANDIA","040116","4","03","21","AREQUIPA","AREQUIPA CAYLLOMA","CHARACATO","I-2"]
[null,{"$f":"VALUE(renipress[[#This Row],[Código Único]])","v":1285},"GOBIERNO REGIONAL","00001285","PUESTO DE SALUD MOLLEBAYA","AREQUIPA","AREQUIPA","MOLLEBAYA","040111","4","03","21","AREQUIPA","AREQUIPA CAYLLOMA","CHARACATO","I-1"]
[null,{"$f":"VALUE(renipress[[#This Row],[Código Único]])","v":1286},"GOBIERNO REGIONAL","00001286","PUESTO DE SALUD QUEQUEÑA","AREQUIPA","AREQUIPA","QUEQUEÑA","040115","4","03","21","AREQUIPA","AREQUIPA CAYLLOMA","CHARACATO","I-2"]
[null,{"$f":"VALUE(renipress[[#This Row],[Código Único]])","v":1287},"GOBIERNO REGIONAL","00001287","PUESTO DE SALUD YARABAMBA","AREQUIPA","AREQUIPA","YARABAMBA","040127","4","03","21","AREQUIPA","AREQUIPA CAYLLOMA","CHARACATO","I-2"]
[null,{"$f":"VALUE(renipress[[#This Row],[Código Único]])","v":1288},"GOBIERNO REGIONAL","00001288","PUESTO DE SALUD POCSI","AREQUIPA","AREQUIPA","POCSI","040113","4","03","21","AREQUIPA","AREQUIPA CAYLLOMA","CHARACATO","I-1"]
[null,{"$f":"VALUE(renipress[[#This Row],[Código Único]])","v":1289},"GOBIERNO REGIONAL","00001289","PUESTO DE SALUD PIACA","AREQUIPA","AREQUIPA","POCSI","040113","4","03","21","AREQUIPA","AREQUIPA CAYLLOMA","CHARACATO","I-2"]
[null,{"$f":"VALUE(renipress[[#This Row],[Código Único]])","v":1290},"GOBIERNO REGIONAL","00001290","UCHUMAYO","AREQUIPA","AREQUIPA","UCHUMAYO","040124","4","03","24","AREQUIPA","AREQUIPA CAYLLOMA","TIABAYA","I-1"]
[null,{"$f":"VALUE(renipress[[#This Row],[Código Único]])","v":1291},"GOBIERNO REGIONAL","00001291","CENTRO DE SALUD ALTO SELVA ALEGRE","AREQUIPA","AREQUIPA","ALTO SELVA ALEGRE","040102","4","03","13","AREQUIPA","AREQUIPA CAYLLOMA","ALTO SELVA ALEGRE","I-3"]
[null,{"$f":"VALUE(renipress[[#This Row],[Código Único]])","v":1292},"GOBIERNO REGIONAL","00001292","CENTRO DE SALUD EDIFICADORES MISTI","AREQUIPA","AREQUIPA","MIRAFLORES","040110","4","03","16","AREQUIPA","AREQUIPA CAYLLOMA","EDIFICADORES MISTI","I-4"]
[null,{"$f":"VALUE(renipress[[#This Row],[Código Único]])","v":1293},"GOBIERNO REGIONAL","00001293","CENTRO DE SALUD MIRAFLORES","AREQUIPA","AREQUIPA","MIRAFLORES","040110","4","03","16","AREQUIPA","AREQUIPA CAYLLOMA","EDIFICADORES MISTI","I-3"]
[null,{"$f":"VALUE(renipress[[#This Row],[Código Único]])","v":1294},"GOBIERNO REGIONAL","00001294","CENTRO DE SALUD MARIANO MELGAR","AREQUIPA","AREQUIPA","MARIANO MELGAR","040109","4","03","14","AREQUIPA","AREQUIPA CAYLLOMA","MARIANO MELGAR","I-4"]
[null,{"$f":"VALUE(renipress[[#This Row],[Código Único]])","v":1295},"GOBIERNO REGIONAL","00001295","CENTRO DE SALUD GENERALISIMO SAN MARTIN","AREQUIPA","AREQUIPA","MARIANO MELGAR","040109","4","03","15","AREQUIPA","AREQUIPA CAYLLOMA","GRLMO. SAN MARTIN","I-3"]
[null,{"$f":"VALUE(renipress[[#This Row],[Código Único]])","v":1296},"GOBIERNO REGIONAL","00001296","CENTRO DE SALUD  AMPLIACIÓN PAUCARPATA","AREQUIPA","AREQUIPA","PAUCARPATA","040112","4","03","18","AREQUIPA","AREQUIPA CAYLLOMA","AMPLIACION PAUCARPATA","I-4"]
[null,{"$f":"VALUE(renipress[[#This Row],[Código Único]])","v":1297},"GOBIERNO REGIONAL","00001297","CENTRO DE SALUD CIUDAD BLANCA","AREQUIPA","AREQUIPA","PAUCARPATA","040112","4","03","19","AREQUIPA","AREQUIPA CAYLLOMA","CIUDAD BLANCA","I-3"]
[null,{"$f":"VALUE(renipress[[#This Row],[Código Único]])","v":1298},"GOBIERNO REGIONAL","00001298","CENTRO DE SALUD 15 DE AGOSTO","AREQUIPA","AREQUIPA","PAUCARPATA","040112","4","03","17","AREQUIPA","AREQUIPA CAYLLOMA","15 DE AGOSTO","I-3"]
[null,{"$f":"VALUE(renipress[[#This Row],[Código Único]])","v":1299},"GOBIERNO REGIONAL","00001299","CENTRO DE SALUD CHIGUATA","AREQUIPA","AREQUIPA","CHIGUATA","040106","4","03","20","AREQUIPA","AREQUIPA CAYLLOMA","CHIGUATA","I-3"]
[null,{"$f":"VALUE(renipress[[#This Row],[Código Único]])","v":1300},"GOBIERNO REGIONAL","00001300","APURIMAC","AREQUIPA","AREQUIPA","ALTO SELVA ALEGRE","040102","4","03","13","AREQUIPA","AREQUIPA CAYLLOMA","ALTO SELVA ALEGRE","I-3"]
[null,{"$f":"VALUE(renipress[[#This Row],[Código Único]])","v":1301},"GOBIERNO REGIONAL","00001301","LEONES DEL MISTI","AREQUIPA","AREQUIPA","ALTO SELVA ALEGRE","040102","4","03","13","AREQUIPA","AREQUIPA CAYLLOMA","ALTO SELVA ALEGRE","I-2"]
[null,{"$f":"VALUE(renipress[[#This Row],[Código Único]])","v":1302},"GOBIERNO REGIONAL","00001302","INDEPENDENCIA","AREQUIPA","AREQUIPA","ALTO SELVA ALEGRE","040102","4","03","13","AREQUIPA","AREQUIPA CAYLLOMA","ALTO SELVA ALEGRE","I-3"]
[null,{"$f":"VALUE(renipress[[#This Row],[Código Único]])","v":1303},"GOBIERNO REGIONAL","00001303","SAN JUAN BAUTISTA","AREQUIPA","AREQUIPA","ALTO SELVA ALEGRE","040102","4","03","13","AREQUIPA","AREQUIPA CAYLLOMA","ALTO SELVA ALEGRE","I-2"]
[null,{"$f":"VALUE(renipress[[#This Row],[Código Único]])","v":1304},"GOBIERNO REGIONAL","00001304","HEROES DEL CENEPA","AREQUIPA","AREQUIPA","ALTO SELVA ALEGRE","040102","4","03","13","AREQUIPA","AREQUIPA CAYLLOMA","ALTO SELVA ALEGRE","I-2"]
[null,{"$f":"VALUE(renipress[[#This Row],[Código Único]])","v":1305},"GOBIERNO REGIONAL","00001305","PUESTO DE SALUD TOMASA T. COMDEMAYTA","AREQUIPA","AREQUIPA","MIRAFLORES","040110","4","03","16","AREQUIPA","AREQUIPA CAYLLOMA","EDIFICADORES MISTI","I-2"]
[null,{"$f":"VALUE(renipress[[#This Row],[Código Único]])","v":1306},"GOBIERNO REGIONAL","00001306","CENTRO DE SALUD PORVENIR-MIRAFLORES","AREQUIPA","AREQUIPA","MIRAFLORES","040110","4","03","16","AREQUIPA","AREQUIPA CAYLLOMA","EDIFICADORES MISTI","I-3"]
[null,{"$f":"VALUE(renipress[[#This Row],[Código Único]])","v":1307},"GOBIERNO REGIONAL","00001307","CENTRO DE SALUD MATEO PUMACAHUA","AREQUIPA","AREQUIPA","MIRAFLORES","040110","4","03","16","AREQUIPA","AREQUIPA CAYLLOMA","EDIFICADORES MISTI","I-3"]
[null,{"$f":"VALUE(renipress[[#This Row],[Código Único]])","v":1308},"GOBIERNO REGIONAL","00001308","PUESTO DE SALUD ATALAYA","AREQUIPA","AREQUIPA","MARIANO MELGAR","040109","4","03","14","AREQUIPA","AREQUIPA CAYLLOMA","MARIANO MELGAR","I-2"]
[null,{"$f":"VALUE(renipress[[#This Row],[Código Único]])","v":1309},"GOBIERNO REGIONAL","00001309","JERUSALEN","AREQUIPA","AREQUIPA","MARIANO MELGAR","040109","4","03","15","AREQUIPA","AREQUIPA CAYLLOMA","GRLMO. SAN MARTIN","I-2"]
[null,{"$f":"VALUE(renipress[[#This Row],[Código Único]])","v":1310},"GOBIERNO REGIONAL","00001310","CENTRO DE SALUD MANUEL PRADO","AREQUIPA","AREQUIPA","PAUCARPATA","040112","4","03","18","AREQUIPA","AREQUIPA CAYLLOMA","AMPLIACION PAUCARPATA","I-3"]
[null,{"$f":"VALUE(renipress[[#This Row],[Código Único]])","v":1311},"GOBIERNO REGIONAL","00001311","ALTO JESUS","AREQUIPA","AREQUIPA","PAUCARPATA","040112","4","03","19","AREQUIPA","AREQUIPA CAYLLOMA","CIUDAD BLANCA","I-2"]
[null,{"$f":"VALUE(renipress[[#This Row],[Código Único]])","v":1312},"GOBIERNO REGIONAL","00001312","ISRAEL","AREQUIPA","AREQUIPA","PAUCARPATA","040112","4","03","19","AREQUIPA","AREQUIPA CAYLLOMA","CIUDAD BLANCA","I-2"]
[null,{"$f":"VALUE(renipress[[#This Row],[Código Único]])","v":1313},"GOBIERNO REGIONAL","00001313","CENTRO DE SALUD NUEVA ALBORADA","AREQUIPA","AREQUIPA","PAUCARPATA","040112","4","03","18","AREQUIPA","AREQUIPA CAYLLOMA","AMPLIACION PAUCARPATA","I-3"]
[null,{"$f":"VALUE(renipress[[#This Row],[Código Único]])","v":1314},"GOBIERNO REGIONAL","00001314","SAN JUAN DE CIUDAD BLANCA","AREQUIPA","AREQUIPA","PAUCARPATA","040112","4","03","19","AREQUIPA","AREQUIPA CAYLLOMA","CIUDAD BLANCA","I-3"]
[null,{"$f":"VALUE(renipress[[#This Row],[Código Único]])","v":1315},"GOBIERNO REGIONAL","00001315","CENTRO DE SALUD CAMPO MARTE","AREQUIPA","AREQUIPA","PAUCARPATA","040112","4","03","18","AREQUIPA","AREQUIPA CAYLLOMA","AMPLIACION PAUCARPATA","I-3"]
[null,{"$f":"VALUE(renipress[[#This Row],[Código Único]])","v":1316},"GOBIERNO REGIONAL","00001316","PUESTO DE SALUD MIGUEL GRAU  MODULO A","AREQUIPA","AREQUIPA","PAUCARPATA","040112","4","03","17","AREQUIPA","AREQUIPA CAYLLOMA","15 DE AGOSTO","I-2"]
[null,{"$f":"VALUE(renipress[[#This Row],[Código Único]])","v":1317},"GOBIERNO REGIONAL","00001317","CENTRO DE SALUD MIGUEL GRAU  B","AREQUIPA","AREQUIPA","PAUCARPATA","040112","4","03","17","AREQUIPA","AREQUIPA CAYLLOMA","15 DE AGOSTO","I-3"]
[null,{"$f":"VALUE(renipress[[#This Row],[Código Único]])","v":1318},"GOBIERNO REGIONAL","00001318","PUESTO DE SALUD MIGUEL GRAU  MODULO C-D","AREQUIPA","AREQUIPA","PAUCARPATA","040112","4","03","17","AREQUIPA","AREQUIPA CAYLLOMA","15 DE AGOSTO","I-2"]
[null,{"$f":"VALUE(renipress[[#This Row],[Código Único]])","v":1319},"GOBIERNO REGIONAL","00001319","PUESTO DE SALUD SAN JUAN DE TARUCANI","AREQUIPA","AREQUIPA","SAN JUAN DE TARUCANI","040119","4","03","20","AREQUIPA","AREQUIPA CAYLLOMA","CHIGUATA","I-2"]
[null,{"$f":"VALUE(renipress[[#This Row],[Código Único]])","v":1320},"GOBIERNO REGIONAL","00001320","PUESTO DE SALUD ARENALES","AREQUIPA","AREQUIPA","CHIGUATA","040106","4","03","20","AREQUIPA","AREQUIPA CAYLLOMA","CHIGUATA","I-1"]
[null,{"$f":"VALUE(renipress[[#This Row],[Código Único]])","v":1321},"GOBIERNO REGIONAL","00001321","PUESTO DE SALUD SALINAS HUITO","AREQUIPA","AREQUIPA","SAN JUAN DE TARUCANI","040119","4","03","20","AREQUIPA","AREQUIPA CAYLLOMA","CHIGUATA","I-1"]
[null,{"$f":"VALUE(renipress[[#This Row],[Código Único]])","v":1322},"GOBIERNO REGIONAL","00001322","LA JOYA","AREQUIPA","AREQUIPA","LA JOYA","040108","4","03","26","AREQUIPA","AREQUIPA CAYLLOMA","LA JOYA","I-3"]
[null,{"$f":"VALUE(renipress[[#This Row],[Código Único]])","v":1323},"GOBIERNO REGIONAL","00001323","SAN ISIDRO","AREQUIPA","AREQUIPA","LA JOYA","040108","4","03","27","AREQUIPA","AREQUIPA CAYLLOMA","SAN ISIDRO","I-3"]
[null,{"$f":"VALUE(renipress[[#This Row],[Código Único]])","v":1324},"GOBIERNO REGIONAL","00001324","CENTRO DE SALUD VITOR","AREQUIPA","AREQUIPA","VITOR","040125","4","03","28","AREQUIPA","AREQUIPA CAYLLOMA","VITOR","I-3"]
[null,{"$f":"VALUE(renipress[[#This Row],[Código Único]])","v":1325},"GOBIERNO REGIONAL","00001325","CENTRO DE SALUD  SANDRITA PEREZ EL PEDREGAL","AREQUIPA","CAYLLOMA","MAJES","040520","4","03","12","AREQUIPA","AREQUIPA CAYLLOMA","EL PEDREGAL","I-4"]
[null,{"$f":"VALUE(renipress[[#This Row],[Código Único]])","v":1326},"GOBIERNO REGIONAL","00001326","CENTRO DE SALUD LA COLINA","AREQUIPA","CAYLLOMA","MAJES","040520","4","03","12","AREQUIPA","AREQUIPA CAYLLOMA","EL PEDREGAL","I-3"]
[null,{"$f":"VALUE(renipress[[#This Row],[Código Único]])","v":1327},"GOBIERNO REGIONAL","00001327","PUESTO DE SALUD CERRITO BUENA VISTA","AREQUIPA","AREQUIPA","LA JOYA","040108","4","03","26","AREQUIPA","AREQUIPA CAYLLOMA","LA JOYA","I-1"]
[null,{"$f":"VALUE(renipress[[#This Row],[Código Único]])","v":1328},"GOBIERNO REGIONAL","00001328","LOS MEDANOS","AREQUIPA","AREQUIPA","LA JOYA","040108","4","03","26","AREQUIPA","AREQUIPA CAYLLOMA","LA JOYA","I-1"]
[null,{"$f":"VALUE(renipress[[#This Row],[Código Único]])","v":1329},"GOBIERNO REGIONAL","00001329","BENITO LAZO","AREQUIPA","AREQUIPA","LA JOYA","040108","4","03","26","AREQUIPA","AREQUIPA CAYLLOMA","LA JOYA","I-1"]
[null,{"$f":"VALUE(renipress[[#This Row],[Código Único]])","v":1330},"GOBIERNO REGIONAL","00001330","EL CRUCE - TRIUNFO","AREQUIPA","AREQUIPA","LA JOYA","040108","4","03","26","AREQUIPA","AREQUIPA CAYLLOMA","LA JOYA","I-3"]
[null,{"$f":"VALUE(renipress[[#This Row],[Código Único]])","v":1331},"GOBIERNO REGIONAL","00001331","LA CANO","AREQUIPA","AREQUIPA","LA JOYA","040108","4","03","27","AREQUIPA","AREQUIPA CAYLLOMA","SAN ISIDRO","I-1"]
[null,{"$f":"VALUE(renipress[[#This Row],[Código Único]])","v":1332},"GOBIERNO REGIONAL","00001332","PUESTO DE SALUD SAN CAMILO 6","AREQUIPA","AREQUIPA","LA JOYA","040108","4","03","27","AREQUIPA","AREQUIPA CAYLLOMA","SAN ISIDRO","I-1"]
[null,{"$f":"VALUE(renipress[[#This Row],[Código Único]])","v":1333},"GOBIERNO REGIONAL","00001333","SAN JOSE","AREQUIPA","AREQUIPA","LA JOYA","040108","4","03","27","AREQUIPA","AREQUIPA CAYLLOMA","SAN ISIDRO","I-1"]
[null,{"$f":"VALUE(renipress[[#This Row],[Código Único]])","v":1334},"GOBIERNO REGIONAL","00001334","PUESTO DE SALUD YURAMAYO","AREQUIPA","AREQUIPA","VITOR","040125","4","03","28","AREQUIPA","AREQUIPA CAYLLOMA","VITOR","I-2"]
[null,{"$f":"VALUE(renipress[[#This Row],[Código Único]])","v":1335},"GOBIERNO REGIONAL","00001335","PUESTO DE SALUD SANTA RITA DE SIGUAS","AREQUIPA","AREQUIPA","SANTA RITA DE SIHUAS","040121","4","03","28","AREQUIPA","AREQUIPA CAYLLOMA","VITOR","I-2"]
[null,{"$f":"VALUE(renipress[[#This Row],[Código Único]])","v":1336},"GOBIERNO REGIONAL","00001336","SANTA ISABEL DE SIGUAS","AREQUIPA","AREQUIPA","SANTA ISABEL DE SIGUAS","040120","4","03","12","AREQUIPA","AREQUIPA CAYLLOMA","EL PEDREGAL","I-2"]
[null,{"$f":"VALUE(renipress[[#This Row],[Código Único]])","v":1337},"GOBIERNO REGIONAL","00001337","PUESTO DE SALUD PITAY","AREQUIPA","AREQUIPA","SANTA ISABEL DE SIGUAS","040120","4","03","12","AREQUIPA","AREQUIPA CAYLLOMA","EL PEDREGAL","I-1"]
[null,{"$f":"VALUE(renipress[[#This Row],[Código Único]])","v":1338},"GOBIERNO REGIONAL","00001338","PUESTO DE SALUD SONDOR - CARAVELI","AREQUIPA","CARAVELI","CAHUACHO","040306","4","01","06","AREQUIPA","CAMANA CARAVELLI","CARAVELI","I-2"]
[null,{"$f":"VALUE(renipress[[#This Row],[Código Único]])","v":1339},"GOBIERNO REGIONAL","00001339","PUESTO DE SALUD SAN JUAN DE SIGUAS - TAMBILLO","AREQUIPA","AREQUIPA","SAN JUAN DE SIGUAS","040118","4","03","12","AREQUIPA","AREQUIPA CAYLLOMA","EL PEDREGAL","I-1"]
[null,{"$f":"VALUE(renipress[[#This Row],[Código Único]])","v":1340},"GOBIERNO REGIONAL","00001340","PUESTO DE SALUD QUERQUE","AREQUIPA","CAYLLOMA","LLUTA","040511","4","03","12","AREQUIPA","AREQUIPA CAYLLOMA","EL PEDREGAL","I-2"]
[null,{"$f":"VALUE(renipress[[#This Row],[Código Único]])","v":1341},"GOBIERNO REGIONAL","00001341","ASENTAMIENTO B-1","AREQUIPA","CAYLLOMA","MAJES","040520","4","03","12","AREQUIPA","AREQUIPA CAYLLOMA","EL PEDREGAL","I-2"]
[null,{"$f":"VALUE(renipress[[#This Row],[Código Único]])","v":1342},"GOBIERNO REGIONAL","00001342","PUESTO DE SALUD  B-2","AREQUIPA","CAYLLOMA","MAJES","040520","4","03","12","AREQUIPA","AREQUIPA CAYLLOMA","EL PEDREGAL","I-2"]
[null,{"$f":"VALUE(renipress[[#This Row],[Código Único]])","v":1343},"GOBIERNO REGIONAL","00001343","SAN CAMILO 7","AREQUIPA","ISLAY","COCACHACRA","040702","4","03","27","AREQUIPA","AREQUIPA CAYLLOMA","SAN ISIDRO","I-1"]
[null,{"$f":"VALUE(renipress[[#This Row],[Código Único]])","v":1344},"GOBIERNO REGIONAL","00001344","HOSPITAL DE CAMANA","AREQUIPA","CAMANA","CAMANA","040201","4","00","00","AREQUIPA","NO PERTENECE A NINGUNA RED","NO PERTENECE A NINGUNA MICRORED","II-1"]
[null,{"$f":"VALUE(renipress[[#This Row],[Código Único]])","v":1345},"GOBIERNO REGIONAL","00001345","CENTRO DE SALUD SAN JOSE","AREQUIPA","CAMANA","MARISCAL CACERES","040204","4","01","01","AREQUIPA","CAMANA CARAVELLI","SAN JOSE","I-3"]
[null,{"$f":"VALUE(renipress[[#This Row],[Código Único]])","v":1346},"GOBIERNO REGIONAL","00001346","LA PAMPA","AREQUIPA","CAMANA","SAMUEL PASTOR","040208","4","01","02","AREQUIPA","CAMANA CARAVELLI","LA PAMPA","I-3"]
[null,{"$f":"VALUE(renipress[[#This Row],[Código Único]])","v":1347},"GOBIERNO REGIONAL","00001347","CENTRO DE SALUD SAN GREGORIO","AREQUIPA","CAMANA","NICOLAS DE PIEROLA","040205","4","01","03","AREQUIPA","CAMANA CARAVELLI","SAN GREGORIO","I-3"]
[null,{"$f":"VALUE(renipress[[#This Row],[Código Único]])","v":1348},"GOBIERNO REGIONAL","00001348","CENTRO DE SALUD OCOÑA","AREQUIPA","CAMANA","OCOÑA","040206","4","01","04","AREQUIPA","CAMANA CARAVELLI","OCOÑA","I-3"]
[null,{"$f":"VALUE(renipress[[#This Row],[Código Único]])","v":1349},"GOBIERNO REGIONAL","00001349","CENTRO DE SALUD ATICO","AREQUIPA","CARAVELI","ATICO","040303","4","01","06","AREQUIPA","CAMANA CARAVELLI","CARAVELI","I-3"]
[null,{"$f":"VALUE(renipress[[#This Row],[Código Único]])","v":1350},"GOBIERNO REGIONAL","00001350","CENTRO DE SALUD CHALA","AREQUIPA","CARAVELI","CHALA","040307","4","01","07","AREQUIPA","CAMANA CARAVELLI","CHALA","I-3"]
[null,{"$f":"VALUE(renipress[[#This Row],[Código Único]])","v":1351},"GOBIERNO REGIONAL","00001351","CENTRO DE SALUD CARAVELI","AREQUIPA","CARAVELI","CARAVELI","040301","4","01","06","AREQUIPA","CAMANA CARAVELLI","CARAVELI","I-3"]
[null,{"$f":"VALUE(renipress[[#This Row],[Código Único]])","v":1352},"GOBIERNO REGIONAL","00001352","CENTRO DE SALUD ACARI","AREQUIPA","CARAVELI","ACARI","040302","4","01","08","AREQUIPA","CAMANA CARAVELLI","ACARI","I-3"]
[null,{"$f":"VALUE(renipress[[#This Row],[Código Único]])","v":1353},"GOBIERNO REGIONAL","00001353","CENTRO DE SALUD PUCCHUN","AREQUIPA","CAMANA","MARISCAL CACERES","040204","4","01","01","AREQUIPA","CAMANA CARAVELLI","SAN JOSE","I-3"]
[null,{"$f":"VALUE(renipress[[#This Row],[Código Único]])","v":1354},"GOBIERNO REGIONAL","00001354","PUESTO DE SALUD LUIS FERNANDEZ CORTEGANA - HUACAPUY","AREQUIPA","CAMANA","JOSE MARIA QUIMPER","040202","4","01","01","AREQUIPA","CAMANA CARAVELLI","SAN JOSE","I-2"]
[null,{"$f":"VALUE(renipress[[#This Row],[Código Único]])","v":1355},"GOBIERNO REGIONAL","00001355","EL CARDO","AREQUIPA","CAMANA","JOSE MARIA QUIMPER","040202","4","01","01","AREQUIPA","CAMANA CARAVELLI","SAN JOSE","I-2"]
[null,{"$f":"VALUE(renipress[[#This Row],[Código Único]])","v":1356},"GOBIERNO REGIONAL","00001356","PUESTO DE SALUD EL PUENTE","AREQUIPA","CAMANA","JOSE MARIA QUIMPER","040202","4","01","01","AREQUIPA","CAMANA CARAVELLI","SAN JOSE","I-1"]
[null,{"$f":"VALUE(renipress[[#This Row],[Código Único]])","v":1357},"GOBIERNO REGIONAL","00001357","EL CARMEN-CAMANA","AREQUIPA","CAMANA","SAMUEL PASTOR","040208","4","01","02","AREQUIPA","CAMANA CARAVELLI","LA PAMPA","I-2"]
[null,{"$f":"VALUE(renipress[[#This Row],[Código Único]])","v":1358},"GOBIERNO REGIONAL","00001358","PUESTO DE SALUD LA PUNTA","AREQUIPA","CAMANA","SAMUEL PASTOR","040208","4","01","02","AREQUIPA","CAMANA CARAVELLI","LA PAMPA","I-1"]
[null,{"$f":"VALUE(renipress[[#This Row],[Código Único]])","v":1359},"GOBIERNO REGIONAL","00001359","JUAN PABLO VIZCARDO GUZMAN","AREQUIPA","CAMANA","SAMUEL PASTOR","040208","4","01","02","AREQUIPA","CAMANA CARAVELLI","LA PAMPA","I-2"]
[null,{"$f":"VALUE(renipress[[#This Row],[Código Único]])","v":1360},"GOBIERNO REGIONAL","00001360","PUESTO DE SALUD HACIENDA DEL MEDIO","AREQUIPA","CAMANA","NICOLAS DE PIEROLA","040205","4","01","03","AREQUIPA","CAMANA CARAVELLI","SAN GREGORIO","I-2"]
[null,{"$f":"VALUE(renipress[[#This Row],[Código Único]])","v":1361},"GOBIERNO REGIONAL","00001361","SONAY","AREQUIPA","CAMANA","NICOLAS DE PIEROLA","040205","4","01","03","AREQUIPA","CAMANA CARAVELLI","SAN GREGORIO","I-2"]
[null,{"$f":"VALUE(renipress[[#This Row],[Código Único]])","v":1362},"GOBIERNO REGIONAL","00001362","PUESTO DE SALUD QUILCA","AREQUIPA","CAMANA","QUILCA","040207","4","01","02","AREQUIPA","CAMANA CARAVELLI","LA PAMPA","I-2"]
[null,{"$f":"VALUE(renipress[[#This Row],[Código Único]])","v":1363},"GOBIERNO REGIONAL","00001363","LA PLANCHADA","AREQUIPA","CAMANA","OCOÑA","040206","4","01","04","AREQUIPA","CAMANA CARAVELLI","OCOÑA","I-2"]
[null,{"$f":"VALUE(renipress[[#This Row],[Código Único]])","v":1364},"GOBIERNO REGIONAL","00001364","PESCADORES","AREQUIPA","CAMANA","OCOÑA","040206","4","01","04","AREQUIPA","CAMANA CARAVELLI","OCOÑA","I-1"]
[null,{"$f":"VALUE(renipress[[#This Row],[Código Único]])","v":1365},"GOBIERNO REGIONAL","00001365","URASQUI","AREQUIPA","CAMANA","MARIANO NICOLAS VALCARCEL","040203","4","01","05","AREQUIPA","CAMANA CARAVELLI","IQUIPI","I-2"]
[null,{"$f":"VALUE(renipress[[#This Row],[Código Único]])","v":1366},"GOBIERNO REGIONAL","00001366","LA EUGENIA","AREQUIPA","CAMANA","MARIANO NICOLAS VALCARCEL","040203","4","01","04","AREQUIPA","CAMANA CARAVELLI","OCOÑA","I-2"]
[null,{"$f":"VALUE(renipress[[#This Row],[Código Único]])","v":1367},"GOBIERNO REGIONAL","00001367","PUESTO DE SALUD TOCOTA","AREQUIPA","CARAVELI","HUANUHUANU","040309","4","01","07","AREQUIPA","CAMANA CARAVELLI","CHALA","I-2"]
[null,{"$f":"VALUE(renipress[[#This Row],[Código Único]])","v":1368},"GOBIERNO REGIONAL","00001368","PUESTO DE SALUD SANTA ROSA","AREQUIPA","CARAVELI","ATIQUIPA","040304","4","01","07","AREQUIPA","CAMANA CARAVELLI","CHALA","I-1"]
[null,{"$f":"VALUE(renipress[[#This Row],[Código Único]])","v":1369},"GOBIERNO REGIONAL","00001369","PUESTO DE SALUD ATIQUIPA","AREQUIPA","CARAVELI","ATIQUIPA","040304","4","01","07","AREQUIPA","CAMANA CARAVELLI","CHALA","I-2"]
[null,{"$f":"VALUE(renipress[[#This Row],[Código Único]])","v":1370},"GOBIERNO REGIONAL","00001370","PUESTO DE SALUD CHAPARRA","AREQUIPA","CARAVELI","CHAPARRA","040308","4","01","07","AREQUIPA","CAMANA CARAVELLI","CHALA","I-2"]
[null,{"$f":"VALUE(renipress[[#This Row],[Código Único]])","v":1371},"GOBIERNO REGIONAL","00001371","PUESTO DE SALUD ACHANIZO","AREQUIPA","CARAVELI","CHAPARRA","040308","4","01","07","AREQUIPA","CAMANA CARAVELLI","CHALA","I-1"]
[null,{"$f":"VALUE(renipress[[#This Row],[Código Único]])","v":1372},"GOBIERNO REGIONAL","00001372","PUESTO DE SALUD QUICACHA","AREQUIPA","CARAVELI","QUICACHA","040312","4","01","07","AREQUIPA","CAMANA CARAVELLI","CHALA","I-2"]
[null,{"$f":"VALUE(renipress[[#This Row],[Código Único]])","v":1373},"GOBIERNO REGIONAL","00001373","PUESTO DE SALUD JAQUI","AREQUIPA","CARAVELI","JAQUI","040310","4","01","08","AREQUIPA","CAMANA CARAVELLI","ACARI","I-2"]
[null,{"$f":"VALUE(renipress[[#This Row],[Código Único]])","v":1374},"GOBIERNO REGIONAL","00001374","PUESTO DE SALUD BELLA UNION","AREQUIPA","CARAVELI","BELLA UNION","040305","4","01","08","AREQUIPA","CAMANA CARAVELLI","ACARI","I-2"]
[null,{"$f":"VALUE(renipress[[#This Row],[Código Único]])","v":1375},"GOBIERNO REGIONAL","00001375","PUESTO DE SALUD YAUCA","AREQUIPA","CARAVELI","YAUCA","040313","4","01","08","AREQUIPA","CAMANA CARAVELLI","ACARI","I-2"]
[null,{"$f":"VALUE(renipress[[#This Row],[Código Único]])","v":1376},"GOBIERNO REGIONAL","00001376","PUESTO DE SALUD LOMAS","AREQUIPA","CARAVELI","LOMAS","040311","4","01","08","AREQUIPA","CAMANA CARAVELLI","ACARI","I-2"]
[null,{"$f":"VALUE(renipress[[#This Row],[Código Único]])","v":1377},"GOBIERNO REGIONAL","00001377","PUESTO DE SALUD CAHUACHO","AREQUIPA","CARAVELI","CAHUACHO","040306","4","01","06","AREQUIPA","CAMANA CARAVELLI","CARAVELI","I-2"]
[null,{"$f":"VALUE(renipress[[#This Row],[Código Único]])","v":1378},"GOBIERNO REGIONAL","00001378","PUESTO DE SALUD SONDOR","AREQUIPA","AREQUIPA","SANTA ISABEL DE SIGUAS","040120","4","03","12","AREQUIPA","AREQUIPA CAYLLOMA","EL PEDREGAL","I-2"]
[null,{"$f":"VALUE(renipress[[#This Row],[Código Único]])","v":1379},"GOBIERNO REGIONAL","00001379","PUESTO DE SALUD AYROCA","AREQUIPA","CARAVELI","CAHUACHO","040306","4","01","06","AREQUIPA","CAMANA CARAVELLI","CARAVELI","I-2"]
[null,{"$f":"VALUE(renipress[[#This Row],[Código Único]])","v":1380},"GOBIERNO REGIONAL","00001380","CENTRO DE SALUD IQUIPI","AREQUIPA","CONDESUYOS","RIO GRANDE","040606","4","01","05","AREQUIPA","CAMANA CARAVELLI","IQUIPI","I-3"]
[null,{"$f":"VALUE(renipress[[#This Row],[Código Único]])","v":1381},"GOBIERNO REGIONAL","00001381","PIUCA","AREQUIPA","CONDESUYOS","RIO GRANDE","040606","4","01","05","AREQUIPA","CAMANA CARAVELLI","IQUIPI","I-1"]
[null,{"$f":"VALUE(renipress[[#This Row],[Código Único]])","v":1382},"GOBIERNO REGIONAL","00001382","HOSPITAL APLAO","AREQUIPA","CASTILLA","APLAO","040401","4","02","00","AREQUIPA","CASTILLA CONDESUYOS - LA UNION","NO PERTENECE A NINGUNA MICRORED","II-1"]
[null,{"$f":"VALUE(renipress[[#This Row],[Código Único]])","v":1383},"GOBIERNO REGIONAL","00001383","CENTRO DE SALUD CORIRE","AREQUIPA","CASTILLA","URACA","040413","4","02","05","AREQUIPA","CASTILLA CONDESUYOS - LA UNION","CORIRE","I-4"]
[null,{"$f":"VALUE(renipress[[#This Row],[Código Único]])","v":1384},"GOBIERNO REGIONAL","00001384","CENTRO DE SALUD HUANCARQUI","AREQUIPA","CASTILLA","HUANCARQUI","040407","4","02","01","AREQUIPA","CASTILLA CONDESUYOS - LA UNION","HUANCARQUI","I-3"]
[null,{"$f":"VALUE(renipress[[#This Row],[Código Único]])","v":1385},"GOBIERNO REGIONAL","00001385","CENTRO DE SALUD PAMPACOLCA","AREQUIPA","CASTILLA","PAMPACOLCA","040410","4","02","02","AREQUIPA","CASTILLA CONDESUYOS - LA UNION","PAMAPACOLCA","I-3"]
[null,{"$f":"VALUE(renipress[[#This Row],[Código Único]])","v":1386},"GOBIERNO REGIONAL","00001386","CENTRO DE SALUD VIRACO","AREQUIPA","CASTILLA","VIRACO","040414","4","02","04","AREQUIPA","CASTILLA CONDESUYOS - LA UNION","VIRACO","I-3"]
[null,{"$f":"VALUE(renipress[[#This Row],[Código Único]])","v":1387},"GOBIERNO REGIONAL","00001387","CENTRO DE SALUD ANDAGUA","AREQUIPA","CASTILLA","ANDAGUA","040402","4","02","03","AREQUIPA","CASTILLA CONDESUYOS - LA UNION","ANDAGUA","I-3"]
[null,{"$f":"VALUE(renipress[[#This Row],[Código Único]])","v":1388},"GOBIERNO REGIONAL","00001388","CENTRO DE SALUD CHUQUIBAMBA","AREQUIPA","CONDESUYOS","CHUQUIBAMBA","040601","4","02","06","AREQUIPA","CASTILLA CONDESUYOS - LA UNION","CHUQUIBAMBA","I-4"]
[null,{"$f":"VALUE(renipress[[#This Row],[Código Único]])","v":1389},"GOBIERNO REGIONAL","00001389","CENTRO DE SALUD YANAQUIHUA","AREQUIPA","CONDESUYOS","YANAQUIHUA","040608","4","02","06","AREQUIPA","CASTILLA CONDESUYOS - LA UNION","CHUQUIBAMBA","I-3"]
[null,{"$f":"VALUE(renipress[[#This Row],[Código Único]])","v":1390},"GOBIERNO REGIONAL","00001390","PUESTO DE SALUD TORAN","AREQUIPA","CASTILLA","URACA","040413","4","02","05","AREQUIPA","CASTILLA CONDESUYOS - LA UNION","CORIRE","I-2"]
[null,{"$f":"VALUE(renipress[[#This Row],[Código Único]])","v":1391},"GOBIERNO REGIONAL","00001391","PUESTO DE SALUD EL PEDREGAL","AREQUIPA","CASTILLA","URACA","040413","4","02","05","AREQUIPA","CASTILLA CONDESUYOS - LA UNION","CORIRE","I-2"]
[null,{"$f":"VALUE(renipress[[#This Row],[Código Único]])","v":1392},"GOBIERNO REGIONAL","00001392","PUESTO DE SALUD ESCALERILLAS","AREQUIPA","CASTILLA","URACA","040413","4","02","05","AREQUIPA","CASTILLA CONDESUYOS - LA UNION","CORIRE","I-2"]
[null,{"$f":"VALUE(renipress[[#This Row],[Código Único]])","v":1393},"GOBIERNO REGIONAL","00001393","PUESTO DE SALUD ACOY","AREQUIPA","CASTILLA","APLAO","040401","4","02","01","AREQUIPA","CASTILLA CONDESUYOS - LA UNION","HUANCARQUI","I-1"]
[null,{"$f":"VALUE(renipress[[#This Row],[Código Único]])","v":1394},"GOBIERNO REGIONAL","00001394","PUESTO DE SALUD HUATIAPILLA","AREQUIPA","CASTILLA","APLAO","040401","4","02","01","AREQUIPA","CASTILLA CONDESUYOS - LA UNION","HUANCARQUI","I-2"]
[null,{"$f":"VALUE(renipress[[#This Row],[Código Único]])","v":1395},"GOBIERNO REGIONAL","00001395","CENTRO DE SALUD LA REAL","AREQUIPA","CASTILLA","APLAO","040401","4","02","01","AREQUIPA","CASTILLA CONDESUYOS - LA UNION","HUANCARQUI","I-3"]
[null,{"$f":"VALUE(renipress[[#This Row],[Código Único]])","v":1396},"GOBIERNO REGIONAL","00001396","PUESTO DE SALUD EL CASTILLO","AREQUIPA","CASTILLA","APLAO","040401","4","02","01","AREQUIPA","CASTILLA CONDESUYOS - LA UNION","HUANCARQUI","I-2"]
[null,{"$f":"VALUE(renipress[[#This Row],[Código Único]])","v":1397},"GOBIERNO REGIONAL","00001397","PUESTO DE SALUD LA CENTRAL","AREQUIPA","CASTILLA","APLAO","040401","4","02","01","AREQUIPA","CASTILLA CONDESUYOS - LA UNION","HUANCARQUI","I-2"]
[null,{"$f":"VALUE(renipress[[#This Row],[Código Único]])","v":1398},"GOBIERNO REGIONAL","00001398","PUESTO DE SALUD SAN ANTONIO","AREQUIPA","CASTILLA","PAMPACOLCA","040410","4","02","02","AREQUIPA","CASTILLA CONDESUYOS - LA UNION","PAMAPACOLCA","I-2"]
[null,{"$f":"VALUE(renipress[[#This Row],[Código Único]])","v":1399},"GOBIERNO REGIONAL","00001399","PUESTO DE SALUD PISCOPAMPA","AREQUIPA","CASTILLA","PAMPACOLCA","040410","4","02","02","AREQUIPA","CASTILLA CONDESUYOS - LA UNION","PAMAPACOLCA","I-1"]
[null,{"$f":"VALUE(renipress[[#This Row],[Código Único]])","v":1400},"GOBIERNO REGIONAL","00001400","PUESTO DE SALUD TIPAN","AREQUIPA","CASTILLA","TIPAN","040411","4","02","04","AREQUIPA","CASTILLA CONDESUYOS - LA UNION","VIRACO","I-1"]
[null,{"$f":"VALUE(renipress[[#This Row],[Código Único]])","v":1401},"GOBIERNO REGIONAL","00001401","PUESTO DE SALUD TAGRE","AREQUIPA","CASTILLA","TIPAN","040411","4","02","04","AREQUIPA","CASTILLA CONDESUYOS - LA UNION","VIRACO","I-1"]
[null,{"$f":"VALUE(renipress[[#This Row],[Código Único]])","v":1402},"GOBIERNO REGIONAL","00001402","PUESTO DE SALUD MACHAGUAY","AREQUIPA","CASTILLA","MACHAGUAY","040408","4","02","04","AREQUIPA","CASTILLA CONDESUYOS - LA UNION","VIRACO","I-2"]
[null,{"$f":"VALUE(renipress[[#This Row],[Código Único]])","v":1403},"GOBIERNO REGIONAL","00001403","PUESTO DE SALUD UÑON","AREQUIPA","CASTILLA","UÑON","040412","4","02","04","AREQUIPA","CASTILLA CONDESUYOS - LA UNION","VIRACO","I-2"]
[null,{"$f":"VALUE(renipress[[#This Row],[Código Único]])","v":1404},"GOBIERNO REGIONAL","00001404","PUESTO DE SALUD AYO","AREQUIPA","CASTILLA","AYO","040403","4","02","03","AREQUIPA","CASTILLA CONDESUYOS - LA UNION","ANDAGUA","I-2"]
[null,{"$f":"VALUE(renipress[[#This Row],[Código Único]])","v":1405},"GOBIERNO REGIONAL","00001405","CHACHAS","AREQUIPA","CASTILLA","CHACHAS","040404","4","02","03","AREQUIPA","CASTILLA CONDESUYOS - LA UNION","ANDAGUA","I-2"]
[null,{"$f":"VALUE(renipress[[#This Row],[Código Único]])","v":1406},"GOBIERNO REGIONAL","00001406","PUESTO DE SALUD CHAPACOCO","AREQUIPA","CASTILLA","CHILCAYMARCA","040405","4","02","03","AREQUIPA","CASTILLA CONDESUYOS - LA UNION","ANDAGUA","I-1"]
[null,{"$f":"VALUE(renipress[[#This Row],[Código Único]])","v":1407},"GOBIERNO REGIONAL","00001407","CENTRO DE SALUD ORCOPAMPA","AREQUIPA","CASTILLA","ORCOPAMPA","040409","4","02","03","AREQUIPA","CASTILLA CONDESUYOS - LA UNION","ANDAGUA","I-3"]
[null,{"$f":"VALUE(renipress[[#This Row],[Código Único]])","v":1408},"GOBIERNO REGIONAL","00001408","PUESTO DE SALUD SOPORO","AREQUIPA","CASTILLA","ANDAGUA","040402","4","02","03","AREQUIPA","CASTILLA CONDESUYOS - LA UNION","ANDAGUA","I-1"]
[null,{"$f":"VALUE(renipress[[#This Row],[Código Único]])","v":1409},"GOBIERNO REGIONAL","00001409","IRAY","AREQUIPA","CONDESUYOS","IRAY","040605","4","02","06","AREQUIPA","CASTILLA CONDESUYOS - LA UNION","CHUQUIBAMBA","I-2"]
[null,{"$f":"VALUE(renipress[[#This Row],[Código Único]])","v":1410},"GOBIERNO REGIONAL","00001410","PUESTO DE SALUD CHICHAS","AREQUIPA","CONDESUYOS","CHICHAS","040604","4","02","06","AREQUIPA","CASTILLA CONDESUYOS - LA UNION","CHUQUIBAMBA","I-2"]
[null,{"$f":"VALUE(renipress[[#This Row],[Código Único]])","v":1411},"GOBIERNO REGIONAL","00001411","PUESTO DE SALUD YACHANGUILLO","AREQUIPA","CONDESUYOS","CHICHAS","040604","4","02","06","AREQUIPA","CASTILLA CONDESUYOS - LA UNION","CHUQUIBAMBA","I-2"]
[null,{"$f":"VALUE(renipress[[#This Row],[Código Único]])","v":1412},"GOBIERNO REGIONAL","00001412","PUESTO DE SALUD SALAMANCA","AREQUIPA","CONDESUYOS","SALAMANCA","040607","4","02","06","AREQUIPA","CASTILLA CONDESUYOS - LA UNION","CHUQUIBAMBA","I-2"]
[null,{"$f":"VALUE(renipress[[#This Row],[Código Único]])","v":1413},"GOBIERNO REGIONAL","00001413","PUESTO DE SALUD PUCUNCHO","AREQUIPA","CONDESUYOS","SALAMANCA","040607","4","02","06","AREQUIPA","CASTILLA CONDESUYOS - LA UNION","CHUQUIBAMBA","I-1"]
[null,{"$f":"VALUE(renipress[[#This Row],[Código Único]])","v":1414},"GOBIERNO REGIONAL","00001414","PUESTO DE SALUD ISPACAS","AREQUIPA","CONDESUYOS","YANAQUIHUA","040608","4","02","06","AREQUIPA","CASTILLA CONDESUYOS - LA UNION","CHUQUIBAMBA","I-2"]
[null,{"$f":"VALUE(renipress[[#This Row],[Código Único]])","v":1415},"GOBIERNO REGIONAL","00001415","PUESTO DE SALUD ANDARAY","AREQUIPA","CONDESUYOS","ANDARAY","040602","4","02","06","AREQUIPA","CASTILLA CONDESUYOS - LA UNION","CHUQUIBAMBA","I-2"]
[null,{"$f":"VALUE(renipress[[#This Row],[Código Único]])","v":1416},"GOBIERNO REGIONAL","00001416","YANQUE","AREQUIPA","CONDESUYOS","CHICHAS","040604","4","02","06","AREQUIPA","CASTILLA CONDESUYOS - LA UNION","CHUQUIBAMBA","I-1"]
[null,{"$f":"VALUE(renipress[[#This Row],[Código Único]])","v":1417},"GOBIERNO REGIONAL","00001417","TAUCA","AREQUIPA","CASTILLA","ANDAGUA","040402","4","00","00","AREQUIPA","NO PERTENECE A NINGUNA RED","NO PERTENECE A NINGUNA MICRORED","Sin Categoría"]
[null,{"$f":"VALUE(renipress[[#This Row],[Código Único]])","v":1418},"GOBIERNO REGIONAL","00001418","PUESTO DE SALUD JACHAÑA","AREQUIPA","CAYLLOMA","CAYLLOMA","040505","4","03","04","AREQUIPA","AREQUIPA CAYLLOMA","CAYLLOMA","I-2"]
[null,{"$f":"VALUE(renipress[[#This Row],[Código Único]])","v":1419},"GOBIERNO REGIONAL","00001419","CENTRO DE SALUD CHIVAY","AREQUIPA","CAYLLOMA","CHIVAY","040501","4","03","01","AREQUIPA","AREQUIPA CAYLLOMA","CHIVAY","I-4"]
[null,{"$f":"VALUE(renipress[[#This Row],[Código Único]])","v":1420},"GOBIERNO REGIONAL","00001420","CABANACONDE","AREQUIPA","CAYLLOMA","CABANACONDE","040503","4","03","03","AREQUIPA","AREQUIPA CAYLLOMA","CABANACONDE","I-3"]
[null,{"$f":"VALUE(renipress[[#This Row],[Código Único]])","v":1421},"GOBIERNO REGIONAL","00001421","CENTRO DE SALUD CALLALLI","AREQUIPA","CAYLLOMA","CALLALLI","040504","4","03","02","AREQUIPA","AREQUIPA CAYLLOMA","CALLALLI","I-3"]
[null,{"$f":"VALUE(renipress[[#This Row],[Código Único]])","v":1422},"GOBIERNO REGIONAL","00001422","CENTRO DE SALUD CAYLLOMA","AREQUIPA","CAYLLOMA","CAYLLOMA","040505","4","03","04","AREQUIPA","AREQUIPA CAYLLOMA","CAYLLOMA","I-3"]
[null,{"$f":"VALUE(renipress[[#This Row],[Código Único]])","v":1423},"GOBIERNO REGIONAL","00001423","PUESTO DE SALUD CANOCOTA","AREQUIPA","CAYLLOMA","CHIVAY","040501","4","03","01","AREQUIPA","AREQUIPA CAYLLOMA","CHIVAY","I-1"]
[null,{"$f":"VALUE(renipress[[#This Row],[Código Único]])","v":1424},"GOBIERNO REGIONAL","00001424","PUESTO DE SALUD COPORAQUE","AREQUIPA","CAYLLOMA","COPORAQUE","040506","4","03","01","AREQUIPA","AREQUIPA CAYLLOMA","CHIVAY","I-2"]
[null,{"$f":"VALUE(renipress[[#This Row],[Código Único]])","v":1425},"GOBIERNO REGIONAL","00001425","PUESTO DE SALUD ICHUPAMPA","AREQUIPA","CAYLLOMA","ICHUPAMPA","040509","4","03","01","AREQUIPA","AREQUIPA CAYLLOMA","CHIVAY","I-2"]
[null,{"$f":"VALUE(renipress[[#This Row],[Código Único]])","v":1426},"GOBIERNO REGIONAL","00001426","PUESTO DE SALUD LARI","AREQUIPA","CAYLLOMA","LARI","040510","4","03","01","AREQUIPA","AREQUIPA CAYLLOMA","CHIVAY","I-2"]
[null,{"$f":"VALUE(renipress[[#This Row],[Código Único]])","v":1427},"GOBIERNO REGIONAL","00001427","PUESTO DE SALUD MADRIGAL","AREQUIPA","CAYLLOMA","MADRIGAL","040513","4","03","01","AREQUIPA","AREQUIPA CAYLLOMA","CHIVAY","I-1"]
[null,{"$f":"VALUE(renipress[[#This Row],[Código Único]])","v":1428},"GOBIERNO REGIONAL","00001428","PUESTO DE SALUD YANQUE","AREQUIPA","CAYLLOMA","YANQUE","040519","4","03","01","AREQUIPA","AREQUIPA CAYLLOMA","CHIVAY","I-2"]
[null,{"$f":"VALUE(renipress[[#This Row],[Código Único]])","v":1429},"GOBIERNO REGIONAL","00001429","PUESTO DE SALUD ACHOMA","AREQUIPA","CAYLLOMA","ACHOMA","040502","4","03","01","AREQUIPA","AREQUIPA CAYLLOMA","CHIVAY","I-2"]
[null,{"$f":"VALUE(renipress[[#This Row],[Código Único]])","v":1430},"GOBIERNO REGIONAL","00001430","PUESTO DE SALUD MACA","AREQUIPA","CAYLLOMA","MACA","040512","4","03","01","AREQUIPA","AREQUIPA CAYLLOMA","CHIVAY","I-2"]
[null,{"$f":"VALUE(renipress[[#This Row],[Código Único]])","v":1431},"GOBIERNO REGIONAL","00001431","PUESTO DE SALUD COTACOTA","AREQUIPA","CAYLLOMA","TISCO","040517","4","03","02","AREQUIPA","AREQUIPA CAYLLOMA","CALLALLI","I-2"]
[null,{"$f":"VALUE(renipress[[#This Row],[Código Único]])","v":1432},"GOBIERNO REGIONAL","00001432","PINCHOLLO","AREQUIPA","CAYLLOMA","CABANACONDE","040503","4","03","03","AREQUIPA","AREQUIPA CAYLLOMA","CABANACONDE","I-2"]
[null,{"$f":"VALUE(renipress[[#This Row],[Código Único]])","v":1433},"GOBIERNO REGIONAL","00001433","HUAMBO","AREQUIPA","CAYLLOMA","HUAMBO","040507","4","03","03","AREQUIPA","AREQUIPA CAYLLOMA","CABANACONDE","I-2"]
[null,{"$f":"VALUE(renipress[[#This Row],[Código Único]])","v":1434},"GOBIERNO REGIONAL","00001434","TAPAY","AREQUIPA","CAYLLOMA","TAPAY","040516","4","03","03","AREQUIPA","AREQUIPA CAYLLOMA","CABANACONDE","I-2"]
[null,{"$f":"VALUE(renipress[[#This Row],[Código Único]])","v":1435},"GOBIERNO REGIONAL","00001435","PUESTO DE SALUD SANTA ROSA DE SIBAYO","AREQUIPA","CAYLLOMA","SIBAYO","040515","4","03","02","AREQUIPA","AREQUIPA CAYLLOMA","CALLALLI","I-2"]
[null,{"$f":"VALUE(renipress[[#This Row],[Código Único]])","v":1436},"GOBIERNO REGIONAL","00001436","PUESTO DE SALUD TUTI","AREQUIPA","CAYLLOMA","TUTI","040518","4","03","02","AREQUIPA","AREQUIPA CAYLLOMA","CALLALLI","I-2"]
[null,{"$f":"VALUE(renipress[[#This Row],[Código Único]])","v":1437},"GOBIERNO REGIONAL","00001437","PUESTO DE SALUD CHALHUANCA","AREQUIPA","CAYLLOMA","CALLALLI","040504","4","03","02","AREQUIPA","AREQUIPA CAYLLOMA","CALLALLI","I-2"]
[null,{"$f":"VALUE(renipress[[#This Row],[Código Único]])","v":1438},"GOBIERNO REGIONAL","00001438","PUESTO DE SALUD TISCO","AREQUIPA","CAYLLOMA","TISCO","040517","4","03","02","AREQUIPA","AREQUIPA CAYLLOMA","CALLALLI","I-2"]
[null,{"$f":"VALUE(renipress[[#This Row],[Código Único]])","v":1439},"GOBIERNO REGIONAL","00001439","LLANCA","AREQUIPA","CASTILLA","CHOCO","040406","4","00","00","AREQUIPA","NO PERTENECE A NINGUNA RED","NO PERTENECE A NINGUNA MICRORED","Sin Categoría"]
[null,{"$f":"VALUE(renipress[[#This Row],[Código Único]])","v":1440},"GOBIERNO REGIONAL","00001440","PUESTO DE SALUD CAYARANI","AREQUIPA","CONDESUYOS","CAYARANI","040603","4","03","04","AREQUIPA","AREQUIPA CAYLLOMA","CAYLLOMA","I-2"]
[null,{"$f":"VALUE(renipress[[#This Row],[Código Único]])","v":1441},"GOBIERNO REGIONAL","00001441","CHOCO","AREQUIPA","CASTILLA","CHOCO","040406","4","03","03","AREQUIPA","AREQUIPA CAYLLOMA","CABANACONDE","I-1"]
[null,{"$f":"VALUE(renipress[[#This Row],[Código Único]])","v":1442},"GOBIERNO REGIONAL","00001442","PUESTO DE SALUD TOLCONI","AREQUIPA","CASTILLA","CHACHAS","040404","4","03","04","AREQUIPA","AREQUIPA CAYLLOMA","CAYLLOMA","I-2"]
[null,{"$f":"VALUE(renipress[[#This Row],[Código Único]])","v":1443},"GOBIERNO REGIONAL","00001443","CENTRO DE SALUD MATARANI","AREQUIPA","ISLAY","ISLAY","040704","4","04","01","AREQUIPA","ISLAY","ALTO INCLAN","I-3"]
[null,{"$f":"VALUE(renipress[[#This Row],[Código Único]])","v":1444},"GOBIERNO REGIONAL","00001444","CENTRO DE SALUD ALTO INCLAN","AREQUIPA","ISLAY","MOLLENDO","040701","4","04","01","AREQUIPA","ISLAY","ALTO INCLAN","I-4"]
[null,{"$f":"VALUE(renipress[[#This Row],[Código Único]])","v":1445},"GOBIERNO REGIONAL","00001445","CENTRO DE SALUD COCACHACRA","AREQUIPA","ISLAY","COCACHACRA","040702","4","04","03","AREQUIPA","ISLAY","COCACHACRA","I-3"]
[null,{"$f":"VALUE(renipress[[#This Row],[Código Único]])","v":1446},"GOBIERNO REGIONAL","00001446","CENTRO DE SALUD LA PUNTA","AREQUIPA","ISLAY","PUNTA DE BOMBON","040706","4","04","02","AREQUIPA","ISLAY","LA PUNTA","I-3"]
[null,{"$f":"VALUE(renipress[[#This Row],[Código Único]])","v":1447},"GOBIERNO REGIONAL","00001447","PUESTO DE SALUD VILLA LOURDES","AREQUIPA","ISLAY","MOLLENDO","040701","4","04","01","AREQUIPA","ISLAY","ALTO INCLAN","I-2"]
[null,{"$f":"VALUE(renipress[[#This Row],[Código Único]])","v":1448},"GOBIERNO REGIONAL","00001448","PUESTO DE SALUD MEJIA","AREQUIPA","ISLAY","MEJIA","040705","4","04","01","AREQUIPA","ISLAY","ALTO INCLAN","I-2"]
[null,{"$f":"VALUE(renipress[[#This Row],[Código Único]])","v":1449},"GOBIERNO REGIONAL","00001449","CENTRO DE SALUD LA CURVA","AREQUIPA","ISLAY","DEAN VALDIVIA","040703","4","04","02","AREQUIPA","ISLAY","LA PUNTA","I-3"]
[null,{"$f":"VALUE(renipress[[#This Row],[Código Único]])","v":1450},"GOBIERNO REGIONAL","00001450","PUESTO DE SALUD ALTO ENSENADA","AREQUIPA","ISLAY","DEAN VALDIVIA","040703","4","04","02","AREQUIPA","ISLAY","LA PUNTA","I-2"]
[null,{"$f":"VALUE(renipress[[#This Row],[Código Único]])","v":1451},"GOBIERNO REGIONAL","00001451","PUESTO DE SALUD EL ARENAL","AREQUIPA","ISLAY","DEAN VALDIVIA","040703","4","04","02","AREQUIPA","ISLAY","LA PUNTA","I-2"]
[null,{"$f":"VALUE(renipress[[#This Row],[Código Único]])","v":1452},"GOBIERNO REGIONAL","00001452","PUESTO DE SALUD EL FISCAL","AREQUIPA","ISLAY","COCACHACRA","040702","4","04","03","AREQUIPA","ISLAY","COCACHACRA","I-2"]
[null,{"$f":"VALUE(renipress[[#This Row],[Código Único]])","v":1453},"GOBIERNO REGIONAL","00001453","PUESTO DE SALUD EL TORO","AREQUIPA","ISLAY","COCACHACRA","040702","4","04","03","AREQUIPA","ISLAY","COCACHACRA","I-1"]
[null,{"$f":"VALUE(renipress[[#This Row],[Código Único]])","v":1454},"GOBIERNO REGIONAL","00001454","PUESTO DE SALUD LA PASCANA","AREQUIPA","ISLAY","COCACHACRA","040702","4","04","03","AREQUIPA","ISLAY","COCACHACRA","I-2"]
[null,{"$f":"VALUE(renipress[[#This Row],[Código Único]])","v":1455},"GOBIERNO REGIONAL","00001455","CENTRO DE SALUD COTAHUASI","AREQUIPA","LA UNION","COTAHUASI","040801","4","02","07","AREQUIPA","CASTILLA CONDESUYOS - LA UNION","COTAHUASI","I-4"]
[null,{"$f":"VALUE(renipress[[#This Row],[Código Único]])","v":1456},"GOBIERNO REGIONAL","00001456","PUESTO DE SALUD TOMEPAMPA","AREQUIPA","LA UNION","TOMEPAMPA","040810","4","02","07","AREQUIPA","CASTILLA CONDESUYOS - LA UNION","COTAHUASI","I-2"]
[null,{"$f":"VALUE(renipress[[#This Row],[Código Único]])","v":1457},"GOBIERNO REGIONAL","00001457","PUESTO DE SALUD TORO","AREQUIPA","LA UNION","TORO","040811","4","02","07","AREQUIPA","CASTILLA CONDESUYOS - LA UNION","COTAHUASI","I-2"]
[null,{"$f":"VALUE(renipress[[#This Row],[Código Único]])","v":1458},"GOBIERNO REGIONAL","00001458","PUESTO DE SALUD CASPI","AREQUIPA","LA UNION","TORO","040811","4","02","07","AREQUIPA","CASTILLA CONDESUYOS - LA UNION","COTAHUASI","I-2"]
[null,{"$f":"VALUE(renipress[[#This Row],[Código Único]])","v":1459},"GOBIERNO REGIONAL","00001459","PUESTO DE SALUD HUARHUA","AREQUIPA","LA UNION","PAMPAMARCA","040805","4","02","07","AREQUIPA","CASTILLA CONDESUYOS - LA UNION","COTAHUASI","I-2"]
[null,{"$f":"VALUE(renipress[[#This Row],[Código Único]])","v":1460},"GOBIERNO REGIONAL","00001460","PUESTO DE SALUD MUNGUI","AREQUIPA","LA UNION","PAMPAMARCA","040805","4","02","07","AREQUIPA","CASTILLA CONDESUYOS - LA UNION","COTAHUASI","I-2"]
[null,{"$f":"VALUE(renipress[[#This Row],[Código Único]])","v":1461},"GOBIERNO REGIONAL","00001461","PUESTO DE SALUD TAURISMA","AREQUIPA","LA UNION","HUAYNACOTAS","040804","4","02","08","AREQUIPA","CASTILLA CONDESUYOS - LA UNION","ALCA","I-2"]
[null,{"$f":"VALUE(renipress[[#This Row],[Código Único]])","v":1462},"GOBIERNO REGIONAL","00001462","PUESTO DE SALUD PAMPAMARCA","AREQUIPA","LA UNION","PAMPAMARCA","040805","4","02","07","AREQUIPA","CASTILLA CONDESUYOS - LA UNION","COTAHUASI","I-2"]
[null,{"$f":"VALUE(renipress[[#This Row],[Código Único]])","v":1463},"GOBIERNO REGIONAL","00001463","PUESTO DE SALUD HUAYNACOTAS","AREQUIPA","LA UNION","HUAYNACOTAS","040804","4","02","08","AREQUIPA","CASTILLA CONDESUYOS - LA UNION","ALCA","I-2"]
[null,{"$f":"VALUE(renipress[[#This Row],[Código Único]])","v":1464},"GOBIERNO REGIONAL","00001464","CENTRO DE SALUD ALCA","AREQUIPA","LA UNION","ALCA","040802","4","02","08","AREQUIPA","CASTILLA CONDESUYOS - LA UNION","ALCA","I-3"]
[null,{"$f":"VALUE(renipress[[#This Row],[Código Único]])","v":1465},"GOBIERNO REGIONAL","00001465","PUESTO DE SALUD PUYCA","AREQUIPA","LA UNION","PUYCA","040806","4","02","08","AREQUIPA","CASTILLA CONDESUYOS - LA UNION","ALCA","I-2"]
[null,{"$f":"VALUE(renipress[[#This Row],[Código Único]])","v":1466},"GOBIERNO REGIONAL","00001466","PUESTO DE SALUD ANDAMARCA","AREQUIPA","LA UNION","CHARCANA","040803","4","02","07","AREQUIPA","CASTILLA CONDESUYOS - LA UNION","COTAHUASI","I-2"]
[null,{"$f":"VALUE(renipress[[#This Row],[Código Único]])","v":1467},"GOBIERNO REGIONAL","00001467","PUESTO DE SALUD CHARCANA","AREQUIPA","LA UNION","CHARCANA","040803","4","02","07","AREQUIPA","CASTILLA CONDESUYOS - LA UNION","COTAHUASI","I-2"]
[null,{"$f":"VALUE(renipress[[#This Row],[Código Único]])","v":1468},"GOBIERNO REGIONAL","00001468","PUESTO DE SALUD VELINGA","AREQUIPA","LA UNION","QUECHUALLA","040807","4","02","07","AREQUIPA","CASTILLA CONDESUYOS - LA UNION","COTAHUASI","I-1"]
[null,{"$f":"VALUE(renipress[[#This Row],[Código Único]])","v":1469},"GOBIERNO REGIONAL","00001469","PUESTO DE SALUD SAYLA","AREQUIPA","LA UNION","SAYLA","040808","4","02","07","AREQUIPA","CASTILLA CONDESUYOS - LA UNION","COTAHUASI","I-2"]
[null,{"$f":"VALUE(renipress[[#This Row],[Código Único]])","v":1470},"GOBIERNO REGIONAL","00001470","PUESTO DE SALUD TAURIA","AREQUIPA","LA UNION","TAURIA","040809","4","02","07","AREQUIPA","CASTILLA CONDESUYOS - LA UNION","COTAHUASI","I-2"]
[null,{"$f":"VALUE(renipress[[#This Row],[Código Único]])","v":1471},"GOBIERNO REGIONAL","00001471","PUESTO DE SALUD CHURCA","AREQUIPA","LA UNION","PUYCA","040806","4","02","08","AREQUIPA","CASTILLA CONDESUYOS - LA UNION","ALCA","I-2"]
[null,{"$f":"VALUE(renipress[[#This Row],[Código Único]])","v":1472},"GOBIERNO REGIONAL","00001472","RECUAY","ANCASH","RECUAY","RECUAY","021701","2","01","00","ANCASH","HUAYLAS SUR","NO PERTENECE A NINGUNA MICRORED","II-1"]
[null,{"$f":"VALUE(renipress[[#This Row],[Código Único]])","v":1473},"GOBIERNO REGIONAL","00001473","PUESTO DE SALUD COLLAHUASI","ANCASH","RECUAY","RECUAY","021701","2","01","01","ANCASH","HUAYLAS SUR","RECUAY","I-1"]
[null,{"$f":"VALUE(renipress[[#This Row],[Código Único]])","v":1474},"GOBIERNO REGIONAL","00001474","PUESTO DE SALUD TICAPAMPA","ANCASH","RECUAY","TICAPAMPA","021710","2","01","01","ANCASH","HUAYLAS SUR","RECUAY","I-1"]
[null,{"$f":"VALUE(renipress[[#This Row],[Código Único]])","v":1475},"GOBIERNO REGIONAL","00001475","PUESTO DE SALUD CAYAC","ANCASH","RECUAY","TICAPAMPA","021710","2","01","01","ANCASH","HUAYLAS SUR","RECUAY","I-1"]
[null,{"$f":"VALUE(renipress[[#This Row],[Código Único]])","v":1476},"GOBIERNO REGIONAL","00001476","CENTRO DE SALUD CATAC","ANCASH","RECUAY","CATAC","021702","2","01","02","ANCASH","HUAYLAS SUR","CATAC","I-3"]
[null,{"$f":"VALUE(renipress[[#This Row],[Código Único]])","v":1477},"GOBIERNO REGIONAL","00001477","PUESTO DE SALUD COTAPARACO","ANCASH","RECUAY","COTAPARACO","021703","2","01","02","ANCASH","HUAYLAS SUR","CATAC","I-1"]
[null,{"$f":"VALUE(renipress[[#This Row],[Código Único]])","v":1478},"GOBIERNO REGIONAL","00001478","PUESTO DE SALUD TAPACOCHA","ANCASH","RECUAY","TAPACOCHA","021709","2","01","02","ANCASH","HUAYLAS SUR","CATAC","I-1"]
[null,{"$f":"VALUE(renipress[[#This Row],[Código Único]])","v":1479},"GOBIERNO REGIONAL","00001479","PUESTO DE SALUD PAMPA DE LAMPAS","ANCASH","BOLOGNESI","CHIQUIAN","020501","2","01","02","ANCASH","HUAYLAS SUR","CATAC","I-1"]
[null,{"$f":"VALUE(renipress[[#This Row],[Código Único]])","v":1480},"GOBIERNO REGIONAL","00001480","PUESTO DE SALUD HUAYLLAPAMPA","ANCASH","RECUAY","HUAYLLAPAMPA","021704","2","01","07","ANCASH","HUAYLAS SUR","CAJACAY","I-1"]
[null,{"$f":"VALUE(renipress[[#This Row],[Código Único]])","v":1481},"GOBIERNO REGIONAL","00001481","PUESTO DE SALUD MARCA","ANCASH","RECUAY","MARCA","021706","2","01","07","ANCASH","HUAYLAS SUR","CAJACAY","I-1"]
[null,{"$f":"VALUE(renipress[[#This Row],[Código Único]])","v":1482},"GOBIERNO REGIONAL","00001482","PUESTO DE SALUD PAMPAS CHICO","ANCASH","RECUAY","PAMPAS CHICO","021707","2","01","07","ANCASH","HUAYLAS SUR","CAJACAY","I-1"]
[null,{"$f":"VALUE(renipress[[#This Row],[Código Único]])","v":1483},"GOBIERNO REGIONAL","00001483","PUESTO DE SALUD COLCA","ANCASH","BOLOGNESI","CAJACAY","020505","2","01","07","ANCASH","HUAYLAS SUR","CAJACAY","I-1"]
[null,{"$f":"VALUE(renipress[[#This Row],[Código Único]])","v":1484},"GOBIERNO REGIONAL","00001484","CENTRO DE SALUD CAJACAY","ANCASH","BOLOGNESI","CAJACAY","020505","2","01","07","ANCASH","HUAYLAS SUR","CAJACAY","I-3"]
[null,{"$f":"VALUE(renipress[[#This Row],[Código Único]])","v":1485},"GOBIERNO REGIONAL","00001485","PUESTO DE SALUD RAQUIA","ANCASH","BOLOGNESI","ANTONIO RAIMONDI","020503","2","01","07","ANCASH","HUAYLAS SUR","CAJACAY","I-1"]
[null,{"$f":"VALUE(renipress[[#This Row],[Código Único]])","v":1486},"GOBIERNO REGIONAL","00001486","PUESTO DE SALUD SANTA ROSA","ANCASH","BOLOGNESI","CAJACAY","020505","2","01","07","ANCASH","HUAYLAS SUR","CAJACAY","I-1"]
[null,{"$f":"VALUE(renipress[[#This Row],[Código Único]])","v":1487},"GOBIERNO REGIONAL","00001487","PUESTO DE SALUD LLACLLIN","ANCASH","RECUAY","LLACLLIN","021705","2","01","08","ANCASH","HUAYLAS SUR","CHASQUITAMBO","I-1"]
[null,{"$f":"VALUE(renipress[[#This Row],[Código Único]])","v":1488},"GOBIERNO REGIONAL","00001488","PUESTO DE SALUD CHAUCAYAN","ANCASH","RECUAY","LLACLLIN","021705","2","01","08","ANCASH","HUAYLAS SUR","CHASQUITAMBO","I-1"]
[null,{"$f":"VALUE(renipress[[#This Row],[Código Único]])","v":1489},"GOBIERNO REGIONAL","00001489","PUESTO DE SALUD PARARIN","ANCASH","RECUAY","PARARIN","021708","2","01","08","ANCASH","HUAYLAS SUR","CHASQUITAMBO","I-1"]
[null,{"$f":"VALUE(renipress[[#This Row],[Código Único]])","v":1490},"GOBIERNO REGIONAL","00001490","PUESTO DE SALUD CHASQUITAMBO","ANCASH","BOLOGNESI","COLQUIOC","020507","2","01","08","ANCASH","HUAYLAS SUR","CHASQUITAMBO","I-2"]
[null,{"$f":"VALUE(renipress[[#This Row],[Código Único]])","v":1491},"GOBIERNO REGIONAL","00001491","PUESTO DE SALUD HUAYLLACAYAN","ANCASH","BOLOGNESI","HUAYLLACAYAN","020510","2","01","08","ANCASH","HUAYLAS SUR","CHASQUITAMBO","I-1"]
[null,{"$f":"VALUE(renipress[[#This Row],[Código Único]])","v":1492},"GOBIERNO REGIONAL","00001492","PUESTO DE SALUD YUMPE","ANCASH","BOLOGNESI","HUAYLLACAYAN","020510","2","01","08","ANCASH","HUAYLAS SUR","CHASQUITAMBO","I-1"]
[null,{"$f":"VALUE(renipress[[#This Row],[Código Único]])","v":1493},"GOBIERNO REGIONAL","00001493","CENTRO DE SALUD CHIQUIAN","ANCASH","BOLOGNESI","CHIQUIAN","020501","2","01","05","ANCASH","HUAYLAS SUR","CHIQUIAN","I-4"]
[null,{"$f":"VALUE(renipress[[#This Row],[Código Único]])","v":1494},"GOBIERNO REGIONAL","00001494","PUESTO DE SALUD AQUIA","ANCASH","BOLOGNESI","AQUIA","020504","2","01","05","ANCASH","HUAYLAS SUR","CHIQUIAN","I-2"]
[null,{"$f":"VALUE(renipress[[#This Row],[Código Único]])","v":1495},"GOBIERNO REGIONAL","00001495","PUESTO DE SALUD RACRACHACA","ANCASH","BOLOGNESI","AQUIA","020504","2","01","05","ANCASH","HUAYLAS SUR","CHIQUIAN","I-1"]
[null,{"$f":"VALUE(renipress[[#This Row],[Código Único]])","v":1496},"GOBIERNO REGIONAL","00001496","PUESTO DE SALUD PACHAPAQUI","ANCASH","BOLOGNESI","AQUIA","020504","2","01","05","ANCASH","HUAYLAS SUR","CHIQUIAN","I-1"]
[null,{"$f":"VALUE(renipress[[#This Row],[Código Único]])","v":1497},"GOBIERNO REGIONAL","00001497","PUESTO DE SALUD HUASTA","ANCASH","BOLOGNESI","HUASTA","020509","2","01","05","ANCASH","HUAYLAS SUR","CHIQUIAN","I-2"]
[null,{"$f":"VALUE(renipress[[#This Row],[Código Único]])","v":1498},"GOBIERNO REGIONAL","00001498","PUESTO DE SALUD QUERO","ANCASH","BOLOGNESI","HUASTA","020509","2","01","05","ANCASH","HUAYLAS SUR","CHIQUIAN","I-1"]
[null,{"$f":"VALUE(renipress[[#This Row],[Código Único]])","v":1499},"GOBIERNO REGIONAL","00001499","PUESTO DE SALUD PACLLON","ANCASH","BOLOGNESI","PACLLON","020513","2","01","05","ANCASH","HUAYLAS SUR","CHIQUIAN","I-1"]
[null,{"$f":"VALUE(renipress[[#This Row],[Código Único]])","v":1500},"GOBIERNO REGIONAL","00001500","PUESTO DE SALUD LLAMAC","ANCASH","BOLOGNESI","PACLLON","020513","2","01","05","ANCASH","HUAYLAS SUR","CHIQUIAN","I-1"]
[null,{"$f":"VALUE(renipress[[#This Row],[Código Único]])","v":1501},"GOBIERNO REGIONAL","00001501","PUESTO DE SALUD CANIS","ANCASH","BOLOGNESI","CANIS","020506","2","01","06","ANCASH","HUAYLAS SUR","CORPANQUI","I-1"]
[null,{"$f":"VALUE(renipress[[#This Row],[Código Único]])","v":1502},"GOBIERNO REGIONAL","00001502","PUESTO DE SALUD LLACLLA","ANCASH","BOLOGNESI","ABELARDO PARDO LEZAMETA","020502","2","01","06","ANCASH","HUAYLAS SUR","CORPANQUI","I-1"]
[null,{"$f":"VALUE(renipress[[#This Row],[Código Único]])","v":1503},"GOBIERNO REGIONAL","00001503","PUESTO DE SALUD GORGORILLO","ANCASH","BOLOGNESI","LA PRIMAVERA","020511","2","01","06","ANCASH","HUAYLAS SUR","CORPANQUI","I-1"]
[null,{"$f":"VALUE(renipress[[#This Row],[Código Único]])","v":1504},"GOBIERNO REGIONAL","00001504","PUESTO DE SALUD MANGAS","ANCASH","BOLOGNESI","MANGAS","020512","2","01","06","ANCASH","HUAYLAS SUR","CORPANQUI","I-1"]
[null,{"$f":"VALUE(renipress[[#This Row],[Código Único]])","v":1505},"GOBIERNO REGIONAL","00001505","PUESTO DE SALUD CORPANQUI","ANCASH","BOLOGNESI","SAN MIGUEL DE CORPANQUI","020514","2","01","06","ANCASH","HUAYLAS SUR","CORPANQUI","I-2"]
[null,{"$f":"VALUE(renipress[[#This Row],[Código Único]])","v":1506},"GOBIERNO REGIONAL","00001506","PUESTO DE SALUD TICLLOS","ANCASH","BOLOGNESI","TICLLOS","020515","2","01","06","ANCASH","HUAYLAS SUR","CORPANQUI","I-1"]
[null,{"$f":"VALUE(renipress[[#This Row],[Código Único]])","v":1507},"GOBIERNO REGIONAL","00001507","CENTRO DE SALUD HUALLANCA","ANCASH","BOLOGNESI","HUALLANCA","020508","2","01","04","ANCASH","HUAYLAS SUR","HUALLANCA","I-3"]
[null,{"$f":"VALUE(renipress[[#This Row],[Código Único]])","v":1508},"GOBIERNO REGIONAL","00001508","CENTRO DE SALUD AIJA","ANCASH","AIJA","AIJA","020201","2","01","03","ANCASH","HUAYLAS SUR","AIJA","I-3"]
[null,{"$f":"VALUE(renipress[[#This Row],[Código Único]])","v":1509},"GOBIERNO REGIONAL","00001509","PUESTO DE SALUD CORIS","ANCASH","AIJA","CORIS","020202","2","01","03","ANCASH","HUAYLAS SUR","AIJA","I-2"]
[null,{"$f":"VALUE(renipress[[#This Row],[Código Único]])","v":1510},"GOBIERNO REGIONAL","00001510","PUESTO DE SALUD  QUISHUAR","ANCASH","AIJA","CORIS","020202","2","01","03","ANCASH","HUAYLAS SUR","AIJA","I-1"]
[null,{"$f":"VALUE(renipress[[#This Row],[Código Único]])","v":1511},"GOBIERNO REGIONAL","00001511","SAN DAMIAN","ANCASH","AIJA","CORIS","020202","2","01","03","ANCASH","HUAYLAS SUR","AIJA","I-1"]
[null,{"$f":"VALUE(renipress[[#This Row],[Código Único]])","v":1512},"GOBIERNO REGIONAL","00001512","PUESTO DE SALUD HUACLLAN","ANCASH","AIJA","HUACLLAN","020203","2","01","03","ANCASH","HUAYLAS SUR","AIJA","I-1"]
[null,{"$f":"VALUE(renipress[[#This Row],[Código Único]])","v":1513},"GOBIERNO REGIONAL","00001513","PUESTO DE SALUD LA MERCED","ANCASH","AIJA","LA MERCED","020204","2","01","03","ANCASH","HUAYLAS SUR","AIJA","I-1"]
[null,{"$f":"VALUE(renipress[[#This Row],[Código Único]])","v":1514},"GOBIERNO REGIONAL","00001514","PUESTO DE SALUD SANTA  CRUZ","ANCASH","AIJA","LA MERCED","020204","2","01","03","ANCASH","HUAYLAS SUR","AIJA","I-1"]
[null,{"$f":"VALUE(renipress[[#This Row],[Código Único]])","v":1515},"GOBIERNO REGIONAL","00001515","PUESTO DE SALUD SUCCHA","ANCASH","AIJA","SUCCHA","020205","2","01","03","ANCASH","HUAYLAS SUR","AIJA","I-1"]
[null,{"$f":"VALUE(renipress[[#This Row],[Código Único]])","v":1516},"GOBIERNO REGIONAL","00001516","CARHUAZ","ANCASH","CARHUAZ","CARHUAZ","020601","2","01","00","ANCASH","HUAYLAS SUR","NO PERTENECE A NINGUNA MICRORED","II-1"]
[null,{"$f":"VALUE(renipress[[#This Row],[Código Único]])","v":1517},"GOBIERNO REGIONAL","00001517","PUESTO DE SALUD MAYA","ANCASH","CARHUAZ","CARHUAZ","020601","2","01","16","ANCASH","HUAYLAS SUR","CARHUAZ","I-2"]
[null,{"$f":"VALUE(renipress[[#This Row],[Código Único]])","v":1518},"GOBIERNO REGIONAL","00001518","PUESTO DE SALUD TAURIPAMPA","ANCASH","CARHUAZ","CARHUAZ","020601","2","01","16","ANCASH","HUAYLAS SUR","CARHUAZ","I-1"]
[null,{"$f":"VALUE(renipress[[#This Row],[Código Único]])","v":1519},"GOBIERNO REGIONAL","00001519","PUESTO DE SALUD RAMPAC GRANDE","ANCASH","CARHUAZ","CARHUAZ","020601","2","01","16","ANCASH","HUAYLAS SUR","CARHUAZ","I-1"]
[null,{"$f":"VALUE(renipress[[#This Row],[Código Único]])","v":1520},"GOBIERNO REGIONAL","00001520","PUESTO DE SALUD PARIACACA","ANCASH","CARHUAZ","CARHUAZ","020601","2","01","16","ANCASH","HUAYLAS SUR","CARHUAZ","I-1"]
[null,{"$f":"VALUE(renipress[[#This Row],[Código Único]])","v":1521},"GOBIERNO REGIONAL","00001521","CENTRO DE SALUD ACOPAMPA","ANCASH","CARHUAZ","ACOPAMPA","020602","2","01","16","ANCASH","HUAYLAS SUR","CARHUAZ","I-3"]
[null,{"$f":"VALUE(renipress[[#This Row],[Código Único]])","v":1522},"GOBIERNO REGIONAL","00001522","PUESTO DE SALUD ATAQUERO","ANCASH","CARHUAZ","ATAQUERO","020605","2","01","16","ANCASH","HUAYLAS SUR","CARHUAZ","I-1"]
[null,{"$f":"VALUE(renipress[[#This Row],[Código Único]])","v":1523},"GOBIERNO REGIONAL","00001523","PUESTO DE SALUD TINCO","ANCASH","CARHUAZ","TINCO","020610","2","01","16","ANCASH","HUAYLAS SUR","CARHUAZ","I-1"]
[null,{"$f":"VALUE(renipress[[#This Row],[Código Único]])","v":1524},"GOBIERNO REGIONAL","00001524","PUESTO DE SALUD AMASHCA","ANCASH","CARHUAZ","AMASHCA","020603","2","01","20","ANCASH","HUAYLAS SUR","SHILLA","I-1"]
[null,{"$f":"VALUE(renipress[[#This Row],[Código Único]])","v":1525},"GOBIERNO REGIONAL","00001525","PUESTO DE SALUD PUNYAN","ANCASH","CARHUAZ","AMASHCA","020603","2","01","20","ANCASH","HUAYLAS SUR","SHILLA","I-1"]
[null,{"$f":"VALUE(renipress[[#This Row],[Código Único]])","v":1526},"GOBIERNO REGIONAL","00001526","PUESTO DE SALUD SHILLA","ANCASH","CARHUAZ","SHILLA","020609","2","01","20","ANCASH","HUAYLAS SUR","SHILLA","I-2"]
[null,{"$f":"VALUE(renipress[[#This Row],[Código Único]])","v":1527},"GOBIERNO REGIONAL","00001527","PUESTO DE SALUD HUAYPAN","ANCASH","YUNGAY","MANCOS","022003","2","01","20","ANCASH","HUAYLAS SUR","SHILLA","I-1"]
[null,{"$f":"VALUE(renipress[[#This Row],[Código Único]])","v":1528},"GOBIERNO REGIONAL","00001528","ANTA","ANCASH","CARHUAZ","ANTA","020604","2","01","18","ANCASH","HUAYLAS SUR","ANTA","I-3"]
[null,{"$f":"VALUE(renipress[[#This Row],[Código Único]])","v":1529},"GOBIERNO REGIONAL","00001529","CENTRO DE SALUD YUNGAR","ANCASH","CARHUAZ","YUNGAR","020611","2","01","18","ANCASH","HUAYLAS SUR","ANTA","I-3"]
[null,{"$f":"VALUE(renipress[[#This Row],[Código Único]])","v":1530},"GOBIERNO REGIONAL","00001530","PUESTO DE SALUD POYOR","ANCASH","CARHUAZ","YUNGAR","020611","2","01","18","ANCASH","HUAYLAS SUR","ANTA","I-1"]
[null,{"$f":"VALUE(renipress[[#This Row],[Código Único]])","v":1531},"GOBIERNO REGIONAL","00001531","PUESTO DE SALUD SANTA ROSA","ANCASH","CARHUAZ","YUNGAR","020611","2","01","18","ANCASH","HUAYLAS SUR","ANTA","I-1"]
[null,{"$f":"VALUE(renipress[[#This Row],[Código Único]])","v":1532},"GOBIERNO REGIONAL","00001532","PUESTO DE SALUD TRIGOPAMPA","ANCASH","CARHUAZ","YUNGAR","020611","2","01","18","ANCASH","HUAYLAS SUR","ANTA","I-1"]
[null,{"$f":"VALUE(renipress[[#This Row],[Código Único]])","v":1533},"GOBIERNO REGIONAL","00001533","MATAQUITA","ANCASH","HUARAZ","JANGAS","020106","2","01","13","ANCASH","HUAYLAS SUR","MONTERREY","I-1"]
[null,{"$f":"VALUE(renipress[[#This Row],[Código Único]])","v":1534},"GOBIERNO REGIONAL","00001534","CENTRO DE SALUD MARCARA","ANCASH","CARHUAZ","MARCARA","020606","2","01","17","ANCASH","HUAYLAS SUR","MARCARA","I-3"]
[null,{"$f":"VALUE(renipress[[#This Row],[Código Único]])","v":1535},"GOBIERNO REGIONAL","00001535","PURHUAY","ANCASH","CARHUAZ","MARCARA","020606","2","01","17","ANCASH","HUAYLAS SUR","MARCARA","I-1"]
[null,{"$f":"VALUE(renipress[[#This Row],[Código Único]])","v":1536},"GOBIERNO REGIONAL","00001536","VICOS","ANCASH","CARHUAZ","MARCARA","020606","2","01","17","ANCASH","HUAYLAS SUR","MARCARA","I-2"]
[null,{"$f":"VALUE(renipress[[#This Row],[Código Único]])","v":1537},"GOBIERNO REGIONAL","00001537","RECUAYHUANCA","ANCASH","CARHUAZ","MARCARA","020606","2","01","17","ANCASH","HUAYLAS SUR","MARCARA","I-1"]
[null,{"$f":"VALUE(renipress[[#This Row],[Código Único]])","v":1538},"GOBIERNO REGIONAL","00001538","PARIHUANCA","ANCASH","CARHUAZ","PARIAHUANCA","020607","2","01","17","ANCASH","HUAYLAS SUR","MARCARA","I-1"]
[null,{"$f":"VALUE(renipress[[#This Row],[Código Único]])","v":1539},"GOBIERNO REGIONAL","00001539","SAN MIGUEL  DE ACO","ANCASH","CARHUAZ","SAN MIGUEL DE ACO","020608","2","01","17","ANCASH","HUAYLAS SUR","MARCARA","I-1"]
[null,{"$f":"VALUE(renipress[[#This Row],[Código Único]])","v":1540},"GOBIERNO REGIONAL","00001540","HOSPITAL MAMA ASHU CHACAS","ANCASH","ASUNCION","CHACAS","020401","2","01","19","ANCASH","HUAYLAS SUR","CHACAS","I-4"]
[null,{"$f":"VALUE(renipress[[#This Row],[Código Único]])","v":1541},"GOBIERNO REGIONAL","00001541","PUESTO DE SALUD ACOCHACA","ANCASH","ASUNCION","ACOCHACA","020402","2","01","19","ANCASH","HUAYLAS SUR","CHACAS","I-2"]
[null,{"$f":"VALUE(renipress[[#This Row],[Código Único]])","v":1542},"GOBIERNO REGIONAL","00001542","PUESTO DE SALUD SAPCHA","ANCASH","ASUNCION","ACOCHACA","020402","2","01","19","ANCASH","HUAYLAS SUR","CHACAS","I-1"]
[null,{"$f":"VALUE(renipress[[#This Row],[Código Único]])","v":1543},"GOBIERNO REGIONAL","00001543","HOSPITAL VICTOR RAMOS GUARDIA - HUARAZ","ANCASH","HUARAZ","HUARAZ","020101","2","00","00","ANCASH","NO PERTENECE A NINGUNA RED","NO PERTENECE A NINGUNA MICRORED","II-2"]
[null,{"$f":"VALUE(renipress[[#This Row],[Código Único]])","v":1544},"GOBIERNO REGIONAL","00001544","PUESTO DE SALUD MACASHCA","ANCASH","HUARAZ","HUARAZ","020101","2","01","09","ANCASH","HUAYLAS SUR","SAN NICOLAS","I-1"]
[null,{"$f":"VALUE(renipress[[#This Row],[Código Único]])","v":1545},"GOBIERNO REGIONAL","00001545","PUESTO DE SALUD HUALLCOR","ANCASH","HUARAZ","HUARAZ","020101","2","01","09","ANCASH","HUAYLAS SUR","SAN NICOLAS","I-1"]
[null,{"$f":"VALUE(renipress[[#This Row],[Código Único]])","v":1546},"GOBIERNO REGIONAL","00001546","PUESTO DE SALUD SAN NICOLAS","ANCASH","HUARAZ","HUARAZ","020101","2","01","09","ANCASH","HUAYLAS SUR","SAN NICOLAS","I-2"]
[null,{"$f":"VALUE(renipress[[#This Row],[Código Único]])","v":1547},"GOBIERNO REGIONAL","00001547","PUESTO DE SALUD YANACOSHCA","ANCASH","HUARAZ","HUARAZ","020101","2","01","09","ANCASH","HUAYLAS SUR","SAN NICOLAS","I-1"]
[null,{"$f":"VALUE(renipress[[#This Row],[Código Único]])","v":1548},"GOBIERNO REGIONAL","00001548","PUESTO DE SALUD SANTA CATALINA","ANCASH","HUARAZ","HUARAZ","020101","2","01","09","ANCASH","HUAYLAS SUR","SAN NICOLAS","I-1"]
[null,{"$f":"VALUE(renipress[[#This Row],[Código Único]])","v":1549},"GOBIERNO REGIONAL","00001549","PUESTO DE SALUD HUAMARIN","ANCASH","HUARAZ","HUARAZ","020101","2","01","09","ANCASH","HUAYLAS SUR","SAN NICOLAS","I-1"]
[null,{"$f":"VALUE(renipress[[#This Row],[Código Único]])","v":1550},"GOBIERNO REGIONAL","00001550","PUESTO DE SALUD MASHUAN","ANCASH","HUARAZ","OLLEROS","020108","2","01","09","ANCASH","HUAYLAS SUR","SAN NICOLAS","I-1"]
[null,{"$f":"VALUE(renipress[[#This Row],[Código Único]])","v":1551},"GOBIERNO REGIONAL","00001551","PUESTO DE SALUD OLLEROS","ANCASH","HUARAZ","OLLEROS","020108","2","01","09","ANCASH","HUAYLAS SUR","SAN NICOLAS","I-2"]
[null,{"$f":"VALUE(renipress[[#This Row],[Código Único]])","v":1552},"GOBIERNO REGIONAL","00001552","PUESTO DE SALUD LLOCLLA","ANCASH","HUARAZ","OLLEROS","020108","2","01","09","ANCASH","HUAYLAS SUR","SAN NICOLAS","I-1"]
[null,{"$f":"VALUE(renipress[[#This Row],[Código Único]])","v":1553},"GOBIERNO REGIONAL","00001553","PUESTO DE SALUD HUARIPAMPA","ANCASH","HUARAZ","OLLEROS","020108","2","01","09","ANCASH","HUAYLAS SUR","SAN NICOLAS","I-2"]
[null,{"$f":"VALUE(renipress[[#This Row],[Código Único]])","v":1554},"GOBIERNO REGIONAL","00001554","TAYAPAMPA","ANCASH","HUARAZ","OLLEROS","020108","2","01","09","ANCASH","HUAYLAS SUR","SAN NICOLAS","Sin Categoría"]
[null,{"$f":"VALUE(renipress[[#This Row],[Código Único]])","v":1555},"GOBIERNO REGIONAL","00001555","PUESTO DE SALUD ICHOCA","ANCASH","HUARAZ","HUARAZ","020101","2","01","11","ANCASH","HUAYLAS SUR","NICRUPAMPA","I-1"]
[null,{"$f":"VALUE(renipress[[#This Row],[Código Único]])","v":1556},"GOBIERNO REGIONAL","00001556","PUESTO DE SALUD COYLLUR","ANCASH","HUARAZ","HUARAZ","020101","2","01","11","ANCASH","HUAYLAS SUR","NICRUPAMPA","I-1"]
[null,{"$f":"VALUE(renipress[[#This Row],[Código Único]])","v":1557},"GOBIERNO REGIONAL","00001557","CENTRO DE SALUD NICRUPAMPA","ANCASH","HUARAZ","INDEPENDENCIA","020105","2","01","11","ANCASH","HUAYLAS SUR","NICRUPAMPA","I-3"]
[null,{"$f":"VALUE(renipress[[#This Row],[Código Único]])","v":1558},"GOBIERNO REGIONAL","00001558","PUESTO DE SALUD HUANCHAC","ANCASH","HUARAZ","INDEPENDENCIA","020105","2","01","11","ANCASH","HUAYLAS SUR","NICRUPAMPA","I-2"]
[null,{"$f":"VALUE(renipress[[#This Row],[Código Único]])","v":1559},"GOBIERNO REGIONAL","00001559","PUESTO DE SALUD MARIAN","ANCASH","HUARAZ","INDEPENDENCIA","020105","2","01","11","ANCASH","HUAYLAS SUR","NICRUPAMPA","I-2"]
[null,{"$f":"VALUE(renipress[[#This Row],[Código Único]])","v":1560},"GOBIERNO REGIONAL","00001560","PUESTO DE SALUD UNCHUS","ANCASH","HUARAZ","INDEPENDENCIA","020105","2","01","11","ANCASH","HUAYLAS SUR","NICRUPAMPA","I-1"]
[null,{"$f":"VALUE(renipress[[#This Row],[Código Único]])","v":1561},"GOBIERNO REGIONAL","00001561","PUESTO DE SALUD LLUPA","ANCASH","HUARAZ","INDEPENDENCIA","020105","2","01","11","ANCASH","HUAYLAS SUR","NICRUPAMPA","I-2"]
[null,{"$f":"VALUE(renipress[[#This Row],[Código Único]])","v":1562},"GOBIERNO REGIONAL","00001562","CENTRO DE SALUD HUARUPAMPA","ANCASH","HUARAZ","HUARAZ","020101","2","01","10","ANCASH","HUAYLAS SUR","HUARUPAMPA","I-3"]
[null,{"$f":"VALUE(renipress[[#This Row],[Código Único]])","v":1563},"GOBIERNO REGIONAL","00001563","PUESTO DE SALUD ATIPAYAN","ANCASH","HUARAZ","INDEPENDENCIA","020105","2","01","10","ANCASH","HUAYLAS SUR","HUARUPAMPA","I-1"]
[null,{"$f":"VALUE(renipress[[#This Row],[Código Único]])","v":1564},"GOBIERNO REGIONAL","00001564","PUESTO DE SALUD HUAYAWILLCA","ANCASH","HUARAZ","INDEPENDENCIA","020105","2","01","10","ANCASH","HUAYLAS SUR","HUARUPAMPA","I-1"]
[null,{"$f":"VALUE(renipress[[#This Row],[Código Único]])","v":1565},"GOBIERNO REGIONAL","00001565","PUESTO DE SALUD QUENUAYOC","ANCASH","HUARAZ","INDEPENDENCIA","020105","2","01","10","ANCASH","HUAYLAS SUR","HUARUPAMPA","I-1"]
[null,{"$f":"VALUE(renipress[[#This Row],[Código Único]])","v":1566},"GOBIERNO REGIONAL","00001566","CHINCAY","ANCASH","HUARAZ","INDEPENDENCIA","020105","2","01","10","ANCASH","HUAYLAS SUR","HUARUPAMPA","Sin Categoría"]
[null,{"$f":"VALUE(renipress[[#This Row],[Código Único]])","v":1567},"GOBIERNO REGIONAL","00001567","CASHACANCHA","ANCASH","HUARAZ","INDEPENDENCIA","020105","2","01","10","ANCASH","HUAYLAS SUR","HUARUPAMPA","Sin Categoría"]
[null,{"$f":"VALUE(renipress[[#This Row],[Código Único]])","v":1568},"GOBIERNO REGIONAL","00001568","CENTRO DE SALUD PALMIRA","ANCASH","HUARAZ","INDEPENDENCIA","020105","2","01","12","ANCASH","HUAYLAS SUR","PALMIRA","I-3"]
[null,{"$f":"VALUE(renipress[[#This Row],[Código Único]])","v":1569},"GOBIERNO REGIONAL","00001569","PUESTO DE SALUD SHECTA","ANCASH","HUARAZ","INDEPENDENCIA","020105","2","01","12","ANCASH","HUAYLAS SUR","PALMIRA","I-1"]
[null,{"$f":"VALUE(renipress[[#This Row],[Código Único]])","v":1570},"GOBIERNO REGIONAL","00001570","PUESTO DE SALUD MARCAC","ANCASH","HUARAZ","INDEPENDENCIA","020105","2","01","12","ANCASH","HUAYLAS SUR","PALMIRA","I-1"]
[null,{"$f":"VALUE(renipress[[#This Row],[Código Único]])","v":1571},"GOBIERNO REGIONAL","00001571","OCSHARUTUNA","ANCASH","HUARAZ","INDEPENDENCIA","020105","2","01","12","ANCASH","HUAYLAS SUR","PALMIRA","Sin Categoría"]
[null,{"$f":"VALUE(renipress[[#This Row],[Código Único]])","v":1572},"GOBIERNO REGIONAL","00001572","PUESTO DE SALUD CURHUAZ","ANCASH","HUARAZ","INDEPENDENCIA","020105","2","01","12","ANCASH","HUAYLAS SUR","PALMIRA","I-1"]
[null,{"$f":"VALUE(renipress[[#This Row],[Código Único]])","v":1573},"GOBIERNO REGIONAL","00001573","PUESTO DE SALUD PARIA","ANCASH","HUARAZ","INDEPENDENCIA","020105","2","01","12","ANCASH","HUAYLAS SUR","PALMIRA","I-1"]
[null,{"$f":"VALUE(renipress[[#This Row],[Código Único]])","v":1574},"GOBIERNO REGIONAL","00001574","CENTRO DE SALUD MONTERREY","ANCASH","HUARAZ","INDEPENDENCIA","020105","2","01","13","ANCASH","HUAYLAS SUR","MONTERREY","I-3"]
[null,{"$f":"VALUE(renipress[[#This Row],[Código Único]])","v":1575},"GOBIERNO REGIONAL","00001575","PUESTO DE SALUD CHONTAYOC","ANCASH","HUARAZ","INDEPENDENCIA","020105","2","01","13","ANCASH","HUAYLAS SUR","MONTERREY","I-1"]
[null,{"$f":"VALUE(renipress[[#This Row],[Código Único]])","v":1576},"GOBIERNO REGIONAL","00001576","CHAVIN","ANCASH","HUARAZ","INDEPENDENCIA","020105","2","01","13","ANCASH","HUAYLAS SUR","MONTERREY","I-1"]
[null,{"$f":"VALUE(renipress[[#This Row],[Código Único]])","v":1577},"GOBIERNO REGIONAL","00001577","PUESTO DE SALUD HUANJA","ANCASH","HUARAZ","INDEPENDENCIA","020105","2","01","13","ANCASH","HUAYLAS SUR","MONTERREY","I-1"]
[null,{"$f":"VALUE(renipress[[#This Row],[Código Único]])","v":1578},"GOBIERNO REGIONAL","00001578","PUESTO DE SALUD TARICA","ANCASH","HUARAZ","TARICA","020112","2","01","13","ANCASH","HUAYLAS SUR","MONTERREY","I-1"]
[null,{"$f":"VALUE(renipress[[#This Row],[Código Único]])","v":1579},"GOBIERNO REGIONAL","00001579","PUESTO DE SALUD PALTAY","ANCASH","HUARAZ","TARICA","020112","2","01","13","ANCASH","HUAYLAS SUR","MONTERREY","I-2"]
[null,{"$f":"VALUE(renipress[[#This Row],[Código Único]])","v":1580},"GOBIERNO REGIONAL","00001580","PUESTO DE SALUD PASHPA","ANCASH","HUARAZ","TARICA","020112","2","01","13","ANCASH","HUAYLAS SUR","MONTERREY","I-1"]
[null,{"$f":"VALUE(renipress[[#This Row],[Código Único]])","v":1581},"GOBIERNO REGIONAL","00001581","PUESTO DE SALUD COLLON","ANCASH","HUARAZ","TARICA","020112","2","01","13","ANCASH","HUAYLAS SUR","MONTERREY","I-1"]
[null,{"$f":"VALUE(renipress[[#This Row],[Código Único]])","v":1582},"GOBIERNO REGIONAL","00001582","CENTRO DE SALUD JANGAS","ANCASH","HUARAZ","JANGAS","020106","2","01","13","ANCASH","HUAYLAS SUR","MONTERREY","I-3"]
[null,{"$f":"VALUE(renipress[[#This Row],[Código Único]])","v":1583},"GOBIERNO REGIONAL","00001583","PUESTO DE SALUD CAJAMARQUILLA","ANCASH","HUARAZ","LA LIBERTAD","020107","2","01","14","ANCASH","HUAYLAS SUR","PIRA","I-2"]
[null,{"$f":"VALUE(renipress[[#This Row],[Código Único]])","v":1584},"GOBIERNO REGIONAL","00001584","PUESTO DE SALUD PAMPAS GRANDE","ANCASH","HUARAZ","PAMPAS GRANDE","020109","2","01","14","ANCASH","HUAYLAS SUR","PIRA","I-2"]
[null,{"$f":"VALUE(renipress[[#This Row],[Código Único]])","v":1585},"GOBIERNO REGIONAL","00001585","PUESTO DE SALUD PIRA","ANCASH","HUARAZ","PIRA","020111","2","01","14","ANCASH","HUAYLAS SUR","PIRA","I-2"]
[null,{"$f":"VALUE(renipress[[#This Row],[Código Único]])","v":1586},"GOBIERNO REGIONAL","00001586","PUESTO DE SALUD YUPASH","ANCASH","HUARAZ","PIRA","020111","2","01","14","ANCASH","HUAYLAS SUR","PIRA","I-2"]
[null,{"$f":"VALUE(renipress[[#This Row],[Código Único]])","v":1587},"GOBIERNO REGIONAL","00001587","HOSPITAL DE APOYO CARAZ","ANCASH","HUAYLAS","CARAZ","021201","2","02","00","ANCASH","HUAYLAS NORTE","NO PERTENECE A NINGUNA MICRORED","II-1"]
[null,{"$f":"VALUE(renipress[[#This Row],[Código Único]])","v":1588},"GOBIERNO REGIONAL","00001588","PUESTO DE SALUD PAVAS","ANCASH","HUAYLAS","CARAZ","021201","2","02","01","ANCASH","HUAYLAS NORTE","CARAZ","I-1"]
[null,{"$f":"VALUE(renipress[[#This Row],[Código Único]])","v":1589},"GOBIERNO REGIONAL","00001589","PUESTO DE SALUD LLACSHU","ANCASH","HUAYLAS","CARAZ","021201","2","02","01","ANCASH","HUAYLAS NORTE","CARAZ","I-1"]
[null,{"$f":"VALUE(renipress[[#This Row],[Código Único]])","v":1590},"GOBIERNO REGIONAL","00001590","PUESTO DE SALUD YURACOTO","ANCASH","HUAYLAS","CARAZ","021201","2","02","01","ANCASH","HUAYLAS NORTE","CARAZ","I-1"]
[null,{"$f":"VALUE(renipress[[#This Row],[Código Único]])","v":1591},"GOBIERNO REGIONAL","00001591","PUESTO DE SALUD COCHAMARCA","ANCASH","HUAYLAS","CARAZ","021201","2","02","02","ANCASH","HUAYLAS NORTE","HUARIPAMPA","I-1"]
[null,{"$f":"VALUE(renipress[[#This Row],[Código Único]])","v":1592},"GOBIERNO REGIONAL","00001592","PUESTO DE SALUD HUAUYA","ANCASH","HUAYLAS","CARAZ","021201","2","02","01","ANCASH","HUAYLAS NORTE","CARAZ","I-1"]
[null,{"$f":"VALUE(renipress[[#This Row],[Código Único]])","v":1593},"GOBIERNO REGIONAL","00001593","PUESTO DE SALUD PAMPACOCHA","ANCASH","HUAYLAS","CARAZ","021201","2","02","02","ANCASH","HUAYLAS NORTE","HUARIPAMPA","I-1"]
[null,{"$f":"VALUE(renipress[[#This Row],[Código Único]])","v":1594},"GOBIERNO REGIONAL","00001594","PUESTO DE SALUD SANTA CRUZ","ANCASH","HUAYLAS","SANTA CRUZ","021208","2","02","02","ANCASH","HUAYLAS NORTE","HUARIPAMPA","I-1"]
[null,{"$f":"VALUE(renipress[[#This Row],[Código Único]])","v":1595},"GOBIERNO REGIONAL","00001595","CENTRO DE SALUD HUARIPAMPA","ANCASH","HUAYLAS","SANTA CRUZ","021208","2","02","02","ANCASH","HUAYLAS NORTE","HUARIPAMPA","I-3"]
[null,{"$f":"VALUE(renipress[[#This Row],[Código Único]])","v":1596},"GOBIERNO REGIONAL","00001596","CENTRO DE SALUD HUALLANCA","ANCASH","HUAYLAS","HUALLANCA","021202","2","02","06","ANCASH","HUAYLAS NORTE","YURAMARCA","I-3"]
[null,{"$f":"VALUE(renipress[[#This Row],[Código Único]])","v":1597},"GOBIERNO REGIONAL","00001597","PUESTO DE SALUD CALLHUASH","ANCASH","HUAYLAS","HUALLANCA","021202","2","02","06","ANCASH","HUAYLAS NORTE","YURAMARCA","I-1"]
[null,{"$f":"VALUE(renipress[[#This Row],[Código Único]])","v":1598},"GOBIERNO REGIONAL","00001598","PUESTO DE SALUD COLCAP","ANCASH","HUAYLAS","HUALLANCA","021202","2","02","06","ANCASH","HUAYLAS NORTE","YURAMARCA","I-1"]
[null,{"$f":"VALUE(renipress[[#This Row],[Código Único]])","v":1599},"GOBIERNO REGIONAL","00001599","PUESTO DE SALUD YURACMARCA","ANCASH","HUAYLAS","YURACMARCA","021210","2","02","06","ANCASH","HUAYLAS NORTE","YURAMARCA","I-2"]
[null,{"$f":"VALUE(renipress[[#This Row],[Código Único]])","v":1600},"GOBIERNO REGIONAL","00001600","PUESTO DE SALUD SANTA ROSA","ANCASH","HUAYLAS","YURACMARCA","021210","2","02","06","ANCASH","HUAYLAS NORTE","YURAMARCA","I-1"]
[null,{"$f":"VALUE(renipress[[#This Row],[Código Único]])","v":1601},"GOBIERNO REGIONAL","00001601","PUESTO DE SALUD QUITARACZA","ANCASH","HUAYLAS","YURACMARCA","021210","2","02","06","ANCASH","HUAYLAS NORTE","YURAMARCA","I-1"]
[null,{"$f":"VALUE(renipress[[#This Row],[Código Único]])","v":1602},"GOBIERNO REGIONAL","00001602","PUESTO DE SALUD YANAC","ANCASH","CORONGO","YANAC","020906","2","02","06","ANCASH","HUAYLAS NORTE","YURAMARCA","I-2"]
[null,{"$f":"VALUE(renipress[[#This Row],[Código Único]])","v":1603},"GOBIERNO REGIONAL","00001603","PUESTO DE SALUD HUATA","ANCASH","HUAYLAS","HUATA","021203","2","02","03","ANCASH","HUAYLAS NORTE","MATO","I-2"]
[null,{"$f":"VALUE(renipress[[#This Row],[Código Único]])","v":1604},"GOBIERNO REGIONAL","00001604","PUESTO DE SALUD RACRACALLAN","ANCASH","HUAYLAS","HUATA","021203","2","02","03","ANCASH","HUAYLAS NORTE","MATO","I-1"]
[null,{"$f":"VALUE(renipress[[#This Row],[Código Único]])","v":1605},"GOBIERNO REGIONAL","00001605","CENTRO DE SALUD MATO","ANCASH","HUAYLAS","MATO","021205","2","02","03","ANCASH","HUAYLAS NORTE","MATO","I-3"]
[null,{"$f":"VALUE(renipress[[#This Row],[Código Único]])","v":1606},"GOBIERNO REGIONAL","00001606","PUESTO DE SALUD ANCORACA","ANCASH","HUAYLAS","MATO","021205","2","02","03","ANCASH","HUAYLAS NORTE","MATO","I-1"]
[null,{"$f":"VALUE(renipress[[#This Row],[Código Único]])","v":1607},"GOBIERNO REGIONAL","00001607","PUESTO DE SALUD HUAYLAS","ANCASH","HUAYLAS","HUAYLAS","021204","2","02","04","ANCASH","HUAYLAS NORTE","HUAYLAS","I-2"]
[null,{"$f":"VALUE(renipress[[#This Row],[Código Único]])","v":1608},"GOBIERNO REGIONAL","00001608","PUESTO DE SALUD SANTO TORIBIO","ANCASH","HUAYLAS","SANTO TORIBIO","021209","2","02","04","ANCASH","HUAYLAS NORTE","HUAYLAS","I-2"]
[null,{"$f":"VALUE(renipress[[#This Row],[Código Único]])","v":1609},"GOBIERNO REGIONAL","00001609","PUESTO DE SALUD ISCAP","ANCASH","HUAYLAS","SANTO TORIBIO","021209","2","02","04","ANCASH","HUAYLAS NORTE","HUAYLAS","I-1"]
[null,{"$f":"VALUE(renipress[[#This Row],[Código Único]])","v":1610},"GOBIERNO REGIONAL","00001610","PUESTO DE SALUD COLCAS","ANCASH","HUAYLAS","SANTA CRUZ","021208","2","02","03","ANCASH","HUAYLAS NORTE","MATO","I-1"]
[null,{"$f":"VALUE(renipress[[#This Row],[Código Único]])","v":1611},"GOBIERNO REGIONAL","00001611","CENTRO DE SALUD PUEBLO LIBRE","ANCASH","HUAYLAS","PUEBLO LIBRE","021207","2","02","05","ANCASH","HUAYLAS NORTE","PUEBLO LIBRE","I-3"]
[null,{"$f":"VALUE(renipress[[#This Row],[Código Único]])","v":1612},"GOBIERNO REGIONAL","00001612","PUESTO DE SALUD CARHUA","ANCASH","HUAYLAS","PUEBLO LIBRE","021207","2","02","05","ANCASH","HUAYLAS NORTE","PUEBLO LIBRE","I-2"]
[null,{"$f":"VALUE(renipress[[#This Row],[Código Único]])","v":1613},"GOBIERNO REGIONAL","00001613","PUESTO DE SALUD HUANAYO","ANCASH","HUAYLAS","PUEBLO LIBRE","021207","2","02","05","ANCASH","HUAYLAS NORTE","PUEBLO LIBRE","I-2"]
[null,{"$f":"VALUE(renipress[[#This Row],[Código Único]])","v":1614},"GOBIERNO REGIONAL","00001614","PUESTO DE SALUD ACOYO","ANCASH","HUAYLAS","PUEBLO LIBRE","021207","2","02","05","ANCASH","HUAYLAS NORTE","PUEBLO LIBRE","I-1"]
[null,{"$f":"VALUE(renipress[[#This Row],[Código Único]])","v":1615},"GOBIERNO REGIONAL","00001615","PUESTO DE SALUD HUAMANCAYAN","ANCASH","HUAYLAS","PUEBLO LIBRE","021207","2","02","05","ANCASH","HUAYLAS NORTE","PUEBLO LIBRE","I-1"]
[null,{"$f":"VALUE(renipress[[#This Row],[Código Único]])","v":1616},"GOBIERNO REGIONAL","00001616","PUESTO DE SALUD SAN JUAN","ANCASH","HUAYLAS","PUEBLO LIBRE","021207","2","02","05","ANCASH","HUAYLAS NORTE","PUEBLO LIBRE","I-1"]
[null,{"$f":"VALUE(renipress[[#This Row],[Código Único]])","v":1617},"GOBIERNO REGIONAL","00001617","CENTRO DE SALUD PAMPAROMAS","ANCASH","HUAYLAS","PAMPAROMAS","021206","2","02","07","ANCASH","HUAYLAS NORTE","PAMPAROMAS","I-3"]
[null,{"$f":"VALUE(renipress[[#This Row],[Código Único]])","v":1618},"GOBIERNO REGIONAL","00001618","PUESTO DE SALUD PAMPAP","ANCASH","HUAYLAS","PAMPAROMAS","021206","2","02","07","ANCASH","HUAYLAS NORTE","PAMPAROMAS","I-1"]
[null,{"$f":"VALUE(renipress[[#This Row],[Código Único]])","v":1619},"GOBIERNO REGIONAL","00001619","PUESTO DE SALUD ULLPAN","ANCASH","HUAYLAS","PAMPAROMAS","021206","2","02","07","ANCASH","HUAYLAS NORTE","PAMPAROMAS","I-1"]
[null,{"$f":"VALUE(renipress[[#This Row],[Código Único]])","v":1620},"GOBIERNO REGIONAL","00001620","PUESTO DE SALUD CAJABAMBA BAJA","ANCASH","HUAYLAS","PAMPAROMAS","021206","2","02","07","ANCASH","HUAYLAS NORTE","PAMPAROMAS","I-1"]
[null,{"$f":"VALUE(renipress[[#This Row],[Código Único]])","v":1621},"GOBIERNO REGIONAL","00001621","PUESTO DE SALUD CHACLANCAYO","ANCASH","HUAYLAS","PAMPAROMAS","021206","2","02","07","ANCASH","HUAYLAS NORTE","PAMPAROMAS","I-1"]
[null,{"$f":"VALUE(renipress[[#This Row],[Código Único]])","v":1622},"GOBIERNO REGIONAL","00001622","PUESTO DE SALUD CHUNYA","ANCASH","HUAYLAS","PAMPAROMAS","021206","2","02","08","ANCASH","HUAYLAS NORTE","PICHIU","I-1"]
[null,{"$f":"VALUE(renipress[[#This Row],[Código Único]])","v":1623},"GOBIERNO REGIONAL","00001623","PUESTO DE SALUD PISHA","ANCASH","HUAYLAS","PAMPAROMAS","021206","2","02","08","ANCASH","HUAYLAS NORTE","PICHIU","I-1"]
[null,{"$f":"VALUE(renipress[[#This Row],[Código Único]])","v":1624},"GOBIERNO REGIONAL","00001624","PUESTO DE SALUD PICHIU","ANCASH","HUAYLAS","PAMPAROMAS","021206","2","02","08","ANCASH","HUAYLAS NORTE","PICHIU","I-2"]
[null,{"$f":"VALUE(renipress[[#This Row],[Código Único]])","v":1625},"GOBIERNO REGIONAL","00001625","CENTRO DE SALUD CORONGO","ANCASH","CORONGO","CORONGO","020901","2","02","09","ANCASH","HUAYLAS NORTE","CORONGO","I-3"]
[null,{"$f":"VALUE(renipress[[#This Row],[Código Único]])","v":1626},"GOBIERNO REGIONAL","00001626","PUESTO DE SALUD ACO","ANCASH","CORONGO","ACO","020902","2","02","09","ANCASH","HUAYLAS NORTE","CORONGO","I-1"]
[null,{"$f":"VALUE(renipress[[#This Row],[Código Único]])","v":1627},"GOBIERNO REGIONAL","00001627","PUESTO DE SALUD BAMBAS","ANCASH","CORONGO","BAMBAS","020903","2","02","09","ANCASH","HUAYLAS NORTE","CORONGO","I-1"]
[null,{"$f":"VALUE(renipress[[#This Row],[Código Único]])","v":1628},"GOBIERNO REGIONAL","00001628","PUESTO DE SALUD CUSCA","ANCASH","CORONGO","CUSCA","020904","2","02","09","ANCASH","HUAYLAS NORTE","CORONGO","I-1"]
[null,{"$f":"VALUE(renipress[[#This Row],[Código Único]])","v":1629},"GOBIERNO REGIONAL","00001629","PUESTO DE SALUD TARICA","ANCASH","CORONGO","CUSCA","020904","2","02","06","ANCASH","HUAYLAS NORTE","YURAMARCA","I-1"]
[null,{"$f":"VALUE(renipress[[#This Row],[Código Único]])","v":1630},"GOBIERNO REGIONAL","00001630","PUESTO DE SALUD URCON","ANCASH","CORONGO","CUSCA","020904","2","02","06","ANCASH","HUAYLAS NORTE","YURAMARCA","I-2"]
[null,{"$f":"VALUE(renipress[[#This Row],[Código Único]])","v":1631},"GOBIERNO REGIONAL","00001631","PUESTO DE SALUD LA PAMPA","ANCASH","CORONGO","LA PAMPA","020905","2","02","09","ANCASH","HUAYLAS NORTE","CORONGO","I-1"]
[null,{"$f":"VALUE(renipress[[#This Row],[Código Único]])","v":1632},"GOBIERNO REGIONAL","00001632","PUESTO DE SALUD YUPAN","ANCASH","CORONGO","YUPAN","020907","2","02","09","ANCASH","HUAYLAS NORTE","CORONGO","I-1"]
[null,{"$f":"VALUE(renipress[[#This Row],[Código Único]])","v":1633},"GOBIERNO REGIONAL","00001633","HOSPITAL DE APOYO YUNGAY","ANCASH","YUNGAY","YUNGAY","022001","2","02","00","ANCASH","HUAYLAS NORTE","NO PERTENECE A NINGUNA MICRORED","II-1"]
[null,{"$f":"VALUE(renipress[[#This Row],[Código Único]])","v":1634},"GOBIERNO REGIONAL","00001634","PUESTO DE SALUD HUASHAO","ANCASH","YUNGAY","YUNGAY","022001","2","02","10","ANCASH","HUAYLAS NORTE","YUNGAY","I-1"]
[null,{"$f":"VALUE(renipress[[#This Row],[Código Único]])","v":1635},"GOBIERNO REGIONAL","00001635","PUESTO DE SALUD CHILCA","ANCASH","YUNGAY","YUNGAY","022001","2","02","10","ANCASH","HUAYLAS NORTE","YUNGAY","I-1"]
[null,{"$f":"VALUE(renipress[[#This Row],[Código Único]])","v":1636},"GOBIERNO REGIONAL","00001636","PUESTO DE SALUD HUARCA","ANCASH","YUNGAY","YUNGAY","022001","2","02","10","ANCASH","HUAYLAS NORTE","YUNGAY","I-1"]
[null,{"$f":"VALUE(renipress[[#This Row],[Código Único]])","v":1637},"GOBIERNO REGIONAL","00001637","PUESTO DE SALUD RAYAN","ANCASH","YUNGAY","YUNGAY","022001","2","02","10","ANCASH","HUAYLAS NORTE","YUNGAY","I-1"]
[null,{"$f":"VALUE(renipress[[#This Row],[Código Único]])","v":1638},"GOBIERNO REGIONAL","00001638","PUESTO DE SALUD MATACOTO","ANCASH","YUNGAY","MATACOTO","022004","2","02","10","ANCASH","HUAYLAS NORTE","YUNGAY","I-1"]
[null,{"$f":"VALUE(renipress[[#This Row],[Código Único]])","v":1639},"GOBIERNO REGIONAL","00001639","PUESTO DE SALUD PUTACA","ANCASH","YUNGAY","SHUPLUY","022007","2","02","10","ANCASH","HUAYLAS NORTE","YUNGAY","I-1"]
[null,{"$f":"VALUE(renipress[[#This Row],[Código Único]])","v":1640},"GOBIERNO REGIONAL","00001640","PUESTO DE SALUD CASCAPARA","ANCASH","YUNGAY","CASCAPARA","022002","2","02","11","ANCASH","HUAYLAS NORTE","MANCOS","I-1"]
[null,{"$f":"VALUE(renipress[[#This Row],[Código Único]])","v":1641},"GOBIERNO REGIONAL","00001641","CENTRO DE SALUD MANCOS","ANCASH","YUNGAY","MANCOS","022003","2","02","11","ANCASH","HUAYLAS NORTE","MANCOS","I-3"]
[null,{"$f":"VALUE(renipress[[#This Row],[Código Único]])","v":1642},"GOBIERNO REGIONAL","00001642","PUESTO DE SALUD TINGUA","ANCASH","YUNGAY","MANCOS","022003","2","02","11","ANCASH","HUAYLAS NORTE","MANCOS","I-1"]
[null,{"$f":"VALUE(renipress[[#This Row],[Código Único]])","v":1643},"GOBIERNO REGIONAL","00001643","PUESTO DE SALUD UTUPAMPA","ANCASH","YUNGAY","MANCOS","022003","2","02","11","ANCASH","HUAYLAS NORTE","MANCOS","I-1"]
[null,{"$f":"VALUE(renipress[[#This Row],[Código Único]])","v":1644},"GOBIERNO REGIONAL","00001644","PUESTO DE SALUD MUSHO","ANCASH","YUNGAY","YUNGAY","022001","2","02","11","ANCASH","HUAYLAS NORTE","MANCOS","I-1"]
[null,{"$f":"VALUE(renipress[[#This Row],[Código Único]])","v":1645},"GOBIERNO REGIONAL","00001645","CENTRO DE SALUD TUMPA","ANCASH","YUNGAY","YUNGAY","022001","2","02","11","ANCASH","HUAYLAS NORTE","MANCOS","I-3"]
[null,{"$f":"VALUE(renipress[[#This Row],[Código Único]])","v":1646},"GOBIERNO REGIONAL","00001646","PUESTO DE SALUD RANRAHIRCA","ANCASH","YUNGAY","RANRAHIRCA","022006","2","02","10","ANCASH","HUAYLAS NORTE","YUNGAY","I-1"]
[null,{"$f":"VALUE(renipress[[#This Row],[Código Único]])","v":1647},"GOBIERNO REGIONAL","00001647","PUESTO DE SALUD SHUPLUY","ANCASH","YUNGAY","SHUPLUY","022007","2","02","11","ANCASH","HUAYLAS NORTE","MANCOS","I-1"]
[null,{"$f":"VALUE(renipress[[#This Row],[Código Único]])","v":1648},"GOBIERNO REGIONAL","00001648","CENTRO DE SALUD YANAMA","ANCASH","YUNGAY","YANAMA","022008","2","02","12","ANCASH","HUAYLAS NORTE","YANAMA","I-3"]
[null,{"$f":"VALUE(renipress[[#This Row],[Código Único]])","v":1649},"GOBIERNO REGIONAL","00001649","PUESTO DE SALUD CUNYA","ANCASH","YUNGAY","YANAMA","022008","2","02","12","ANCASH","HUAYLAS NORTE","YANAMA","I-1"]
[null,{"$f":"VALUE(renipress[[#This Row],[Código Único]])","v":1650},"GOBIERNO REGIONAL","00001650","PUESTO DE SALUD YURMA","ANCASH","MARISCAL LUZURIAGA","LLUMPA","021306","2","02","12","ANCASH","HUAYLAS NORTE","YANAMA","I-1"]
[null,{"$f":"VALUE(renipress[[#This Row],[Código Único]])","v":1651},"GOBIERNO REGIONAL","00001651","PUESTO DE SALUD ALPABAMBA","ANCASH","YUNGAY","YANAMA","022008","2","02","12","ANCASH","HUAYLAS NORTE","YANAMA","I-1"]
[null,{"$f":"VALUE(renipress[[#This Row],[Código Único]])","v":1652},"GOBIERNO REGIONAL","00001652","LA CALETA","ANCASH","SANTA","CHIMBOTE","021801","2","00","00","ANCASH","NO PERTENECE A NINGUNA RED","NO PERTENECE A NINGUNA MICRORED","II-2"]
[null,{"$f":"VALUE(renipress[[#This Row],[Código Único]])","v":1653},"GOBIERNO REGIONAL","00001653","PUESTO DE SALUD SAN JUAN","ANCASH","SANTA","CHIMBOTE","021801","2","04","02","ANCASH","PACIFICO NORTE","MIRAFLORES ALTO","I-2"]
[null,{"$f":"VALUE(renipress[[#This Row],[Código Único]])","v":1654},"GOBIERNO REGIONAL","00001654","CENTRO DE SALUD MIRAFLORES ALTO","ANCASH","SANTA","CHIMBOTE","021801","2","04","02","ANCASH","PACIFICO NORTE","MIRAFLORES ALTO","I-3"]
[null,{"$f":"VALUE(renipress[[#This Row],[Código Único]])","v":1655},"GOBIERNO REGIONAL","00001655","CENTRO DE SALUD FLORIDA","ANCASH","SANTA","CHIMBOTE","021801","2","04","02","ANCASH","PACIFICO NORTE","MIRAFLORES ALTO","I-3"]
[null,{"$f":"VALUE(renipress[[#This Row],[Código Único]])","v":1656},"GOBIERNO REGIONAL","00001656","PUESTO DE SALUD CAMBIO PUENTE","ANCASH","SANTA","CHIMBOTE","021801","2","04","01","ANCASH","PACIFICO NORTE","PROGRESO","I-2"]
[null,{"$f":"VALUE(renipress[[#This Row],[Código Único]])","v":1657},"GOBIERNO REGIONAL","00001657","PUESTO DE SALUD CHACHAPOYAS","ANCASH","SANTA","CHIMBOTE","021801","2","04","01","ANCASH","PACIFICO NORTE","PROGRESO","I-1"]
[null,{"$f":"VALUE(renipress[[#This Row],[Código Único]])","v":1658},"GOBIERNO REGIONAL","00001658","PUESTO DE SALUD 14 INCAS","ANCASH","SANTA","CHIMBOTE","021801","2","04","01","ANCASH","PACIFICO NORTE","PROGRESO","I-1"]
[null,{"$f":"VALUE(renipress[[#This Row],[Código Único]])","v":1659},"GOBIERNO REGIONAL","00001659","CENTRO DE SALUD PROGRESO","ANCASH","SANTA","CHIMBOTE","021801","2","04","01","ANCASH","PACIFICO NORTE","PROGRESO","I-4"]
[null,{"$f":"VALUE(renipress[[#This Row],[Código Único]])","v":1660},"GOBIERNO REGIONAL","00001660","PUESTO DE SALUD LA UNIÓN","ANCASH","SANTA","CHIMBOTE","021801","2","04","01","ANCASH","PACIFICO NORTE","PROGRESO","I-2"]
[null,{"$f":"VALUE(renipress[[#This Row],[Código Único]])","v":1661},"GOBIERNO REGIONAL","00001661","PUESTO DE SALUD SAN PEDRO","ANCASH","SANTA","CHIMBOTE","021801","2","04","01","ANCASH","PACIFICO NORTE","PROGRESO","I-2"]
[null,{"$f":"VALUE(renipress[[#This Row],[Código Único]])","v":1662},"GOBIERNO REGIONAL","00001662","PUESTO DE SALUD VICTOR  RAUL","ANCASH","SANTA","CHIMBOTE","021801","2","04","01","ANCASH","PACIFICO NORTE","PROGRESO","I-2"]
[null,{"$f":"VALUE(renipress[[#This Row],[Código Único]])","v":1663},"GOBIERNO REGIONAL","00001663","PUESTO DE SALUD TUPAC AMARU","ANCASH","SANTA","CHIMBOTE","021801","2","04","03","ANCASH","PACIFICO NORTE","MAGDALENA NUEVA","I-2"]
[null,{"$f":"VALUE(renipress[[#This Row],[Código Único]])","v":1664},"GOBIERNO REGIONAL","00001664","PUESTO DE SALUD LA ESPERANZA","ANCASH","SANTA","CHIMBOTE","021801","2","04","01","ANCASH","PACIFICO NORTE","PROGRESO","I-2"]
[null,{"$f":"VALUE(renipress[[#This Row],[Código Único]])","v":1665},"GOBIERNO REGIONAL","00001665","PUESTO DE SALUD CASCAJAL","ANCASH","SANTA","CHIMBOTE","021801","2","04","04","ANCASH","PACIFICO NORTE","SANTA","I-2"]
[null,{"$f":"VALUE(renipress[[#This Row],[Código Único]])","v":1666},"GOBIERNO REGIONAL","00001666","LACRAMARCA","ANCASH","SANTA","CHIMBOTE","021801","2","04","04","ANCASH","PACIFICO NORTE","SANTA","Sin Categoría"]
[null,{"$f":"VALUE(renipress[[#This Row],[Código Único]])","v":1667},"GOBIERNO REGIONAL","00001667","PUESTO DE SALUD LUPAHUARI","ANCASH","SANTA","CHIMBOTE","021801","2","04","01","ANCASH","PACIFICO NORTE","PROGRESO","I-1"]
[null,{"$f":"VALUE(renipress[[#This Row],[Código Único]])","v":1668},"GOBIERNO REGIONAL","00001668","PUESTO DE SALUD SANTA ANA SIERRA","ANCASH","SANTA","MACATE","021804","2","04","01","ANCASH","PACIFICO NORTE","PROGRESO","I-1"]
[null,{"$f":"VALUE(renipress[[#This Row],[Código Único]])","v":1669},"GOBIERNO REGIONAL","00001669","PUESTO DE SALUD MAGDALENA NUEVA","ANCASH","SANTA","CHIMBOTE","021801","2","04","03","ANCASH","PACIFICO NORTE","MAGDALENA NUEVA","I-2"]
[null,{"$f":"VALUE(renipress[[#This Row],[Código Único]])","v":1670},"GOBIERNO REGIONAL","00001670","PUESTO DE SALUD SANTA ANA COSTA","ANCASH","SANTA","CHIMBOTE","021801","2","04","03","ANCASH","PACIFICO NORTE","MAGDALENA NUEVA","I-1"]
[null,{"$f":"VALUE(renipress[[#This Row],[Código Único]])","v":1671},"GOBIERNO REGIONAL","00001671","DOS DE MAYO","ANCASH","SANTA","CHIMBOTE","021801","2","00","00","ANCASH","NO PERTENECE A NINGUNA RED","NO PERTENECE A NINGUNA MICRORED","Sin Categoría"]
[null,{"$f":"VALUE(renipress[[#This Row],[Código Único]])","v":1672},"GOBIERNO REGIONAL","00001672","PUESTO DE SALUD SANTA ROSA DE PAQUIRCA","ANCASH","SANTA","MACATE","021804","2","04","01","ANCASH","PACIFICO NORTE","PROGRESO","I-1"]
[null,{"$f":"VALUE(renipress[[#This Row],[Código Único]])","v":1673},"GOBIERNO REGIONAL","00001673","PUESTO DE SALUD MACATE","ANCASH","SANTA","MACATE","021804","2","04","04","ANCASH","PACIFICO NORTE","SANTA","I-2"]
[null,{"$f":"VALUE(renipress[[#This Row],[Código Único]])","v":1674},"GOBIERNO REGIONAL","00001674","PUESTO DE SALUD HUANROC","ANCASH","SANTA","MACATE","021804","2","04","04","ANCASH","PACIFICO NORTE","SANTA","I-1"]
[null,{"$f":"VALUE(renipress[[#This Row],[Código Único]])","v":1675},"GOBIERNO REGIONAL","00001675","CENTRO DE SALUD COISHCO","ANCASH","SANTA","COISHCO","021803","2","04","01","ANCASH","PACIFICO NORTE","PROGRESO","I-3"]
[null,{"$f":"VALUE(renipress[[#This Row],[Código Único]])","v":1676},"GOBIERNO REGIONAL","00001676","CENTRO DE SALUD SANTA","ANCASH","SANTA","SANTA","021808","2","04","04","ANCASH","PACIFICO NORTE","SANTA","I-3"]
[null,{"$f":"VALUE(renipress[[#This Row],[Código Único]])","v":1677},"GOBIERNO REGIONAL","00001677","PUESTO DE SALUD PUERTO SANTA","ANCASH","SANTA","SANTA","021808","2","04","04","ANCASH","PACIFICO NORTE","SANTA","I-1"]
[null,{"$f":"VALUE(renipress[[#This Row],[Código Único]])","v":1678},"GOBIERNO REGIONAL","00001678","PUESTO DE SALUD RINCONADA","ANCASH","SANTA","SANTA","021808","2","04","04","ANCASH","PACIFICO NORTE","SANTA","I-1"]
[null,{"$f":"VALUE(renipress[[#This Row],[Código Único]])","v":1679},"GOBIERNO REGIONAL","00001679","PUESTO DE SALUD TAMBO REAL","ANCASH","SANTA","SANTA","021808","2","04","04","ANCASH","PACIFICO NORTE","SANTA","I-1"]
[null,{"$f":"VALUE(renipress[[#This Row],[Código Único]])","v":1680},"GOBIERNO REGIONAL","00001680","PUESTO DE SALUD VINZOS","ANCASH","SANTA","SANTA","021808","2","04","04","ANCASH","PACIFICO NORTE","SANTA","I-1"]
[null,{"$f":"VALUE(renipress[[#This Row],[Código Único]])","v":1681},"GOBIERNO REGIONAL","00001681","PUESTO DE SALUD ALTO PERU","ANCASH","SANTA","SANTA","021808","2","04","04","ANCASH","PACIFICO NORTE","SANTA","I-1"]
[null,{"$f":"VALUE(renipress[[#This Row],[Código Único]])","v":1682},"GOBIERNO REGIONAL","00001682","PAMPA DE VINZOS","ANCASH","SANTA","SANTA","021808","2","04","04","ANCASH","PACIFICO NORTE","SANTA","Sin Categoría"]
[null,{"$f":"VALUE(renipress[[#This Row],[Código Único]])","v":1683},"GOBIERNO REGIONAL","00001683","SUCHIMAN","ANCASH","SANTA","SANTA","021808","2","04","04","ANCASH","PACIFICO NORTE","SANTA","Sin Categoría"]
[null,{"$f":"VALUE(renipress[[#This Row],[Código Único]])","v":1684},"GOBIERNO REGIONAL","00001684","CENTRO DE SALUD CABANA","ANCASH","PALLASCA","CABANA","021501","2","04","05","ANCASH","PACIFICO NORTE","CABANA","I-3"]
[null,{"$f":"VALUE(renipress[[#This Row],[Código Único]])","v":1685},"GOBIERNO REGIONAL","00001685","PUESTO DE SALUD BOLOGNESI","ANCASH","PALLASCA","BOLOGNESI","021502","2","04","05","ANCASH","PACIFICO NORTE","CABANA","I-1"]
[null,{"$f":"VALUE(renipress[[#This Row],[Código Único]])","v":1686},"GOBIERNO REGIONAL","00001686","PUESTO DE SALUD FERRER","ANCASH","PALLASCA","BOLOGNESI","021502","2","04","05","ANCASH","PACIFICO NORTE","CABANA","I-1"]
[null,{"$f":"VALUE(renipress[[#This Row],[Código Único]])","v":1687},"GOBIERNO REGIONAL","00001687","PUESTO DE SALUD HUANDOVAL","ANCASH","PALLASCA","HUANDOVAL","021505","2","04","05","ANCASH","PACIFICO NORTE","CABANA","I-2"]
[null,{"$f":"VALUE(renipress[[#This Row],[Código Único]])","v":1688},"GOBIERNO REGIONAL","00001688","CENTRO DE SALUD CONCHUCOS","ANCASH","PALLASCA","CONCHUCOS","021503","2","04","06","ANCASH","PACIFICO NORTE","PALLASCA","I-3"]
[null,{"$f":"VALUE(renipress[[#This Row],[Código Único]])","v":1689},"GOBIERNO REGIONAL","00001689","PUESTO DE SALUD MAYAS","ANCASH","PALLASCA","CONCHUCOS","021503","2","04","06","ANCASH","PACIFICO NORTE","PALLASCA","I-1"]
[null,{"$f":"VALUE(renipress[[#This Row],[Código Único]])","v":1690},"GOBIERNO REGIONAL","00001690","PUESTO DE SALUD HUATAULLO","ANCASH","PALLASCA","CONCHUCOS","021503","2","04","06","ANCASH","PACIFICO NORTE","PALLASCA","I-2"]
[null,{"$f":"VALUE(renipress[[#This Row],[Código Único]])","v":1691},"GOBIERNO REGIONAL","00001691","PUESTO DE SALUD CHALAN","ANCASH","PALLASCA","CONCHUCOS","021503","2","04","06","ANCASH","PACIFICO NORTE","PALLASCA","I-2"]
[null,{"$f":"VALUE(renipress[[#This Row],[Código Único]])","v":1692},"GOBIERNO REGIONAL","00001692","PUESTO DE SALUD LACABAMBA","ANCASH","PALLASCA","LACABAMBA","021506","2","04","06","ANCASH","PACIFICO NORTE","PALLASCA","I-1"]
[null,{"$f":"VALUE(renipress[[#This Row],[Código Único]])","v":1693},"GOBIERNO REGIONAL","00001693","PUESTO DE SALUD HUACASCHUQUE","ANCASH","PALLASCA","HUACASCHUQUE","021504","2","04","06","ANCASH","PACIFICO NORTE","PALLASCA","I-1"]
[null,{"$f":"VALUE(renipress[[#This Row],[Código Único]])","v":1694},"GOBIERNO REGIONAL","00001694","CACHUBAMBA","ANCASH","PALLASCA","BOLOGNESI","021502","2","04","05","ANCASH","PACIFICO NORTE","CABANA","Sin Categoría"]
[null,{"$f":"VALUE(renipress[[#This Row],[Código Único]])","v":1695},"GOBIERNO REGIONAL","00001695","CENTRO DE SALUD PALLASCA","ANCASH","PALLASCA","PALLASCA","021508","2","04","06","ANCASH","PACIFICO NORTE","PALLASCA","I-3"]
[null,{"$f":"VALUE(renipress[[#This Row],[Código Único]])","v":1696},"GOBIERNO REGIONAL","00001696","CENTRO DE SALUD PAMPAS","ANCASH","PALLASCA","PAMPAS","021509","2","04","06","ANCASH","PACIFICO NORTE","PALLASCA","I-3"]
[null,{"$f":"VALUE(renipress[[#This Row],[Código Único]])","v":1697},"GOBIERNO REGIONAL","00001697","PUESTO DE SALUD MONGON","ANCASH","PALLASCA","PAMPAS","021509","2","04","06","ANCASH","PACIFICO NORTE","PALLASCA","I-1"]
[null,{"$f":"VALUE(renipress[[#This Row],[Código Único]])","v":1698},"GOBIERNO REGIONAL","00001698","PUESTO DE SALUD UCHUPAMPA","ANCASH","PALLASCA","PAMPAS","021509","2","04","06","ANCASH","PACIFICO NORTE","PALLASCA","I-1"]
[null,{"$f":"VALUE(renipress[[#This Row],[Código Único]])","v":1699},"GOBIERNO REGIONAL","00001699","PUESTO DE SALUD SANTA ROSA","ANCASH","PALLASCA","SANTA ROSA","021510","2","04","05","ANCASH","PACIFICO NORTE","CABANA","I-2"]
[null,{"$f":"VALUE(renipress[[#This Row],[Código Único]])","v":1700},"GOBIERNO REGIONAL","00001700","PUESTO DE SALUD TAUCA","ANCASH","PALLASCA","TAUCA","021511","2","04","05","ANCASH","PACIFICO NORTE","CABANA","I-2"]
[null,{"$f":"VALUE(renipress[[#This Row],[Código Único]])","v":1701},"GOBIERNO REGIONAL","00001701","PUESTO DE SALUD HUALALAY","ANCASH","PALLASCA","TAUCA","021511","2","04","05","ANCASH","PACIFICO NORTE","CABANA","I-1"]
[null,{"$f":"VALUE(renipress[[#This Row],[Código Único]])","v":1702},"GOBIERNO REGIONAL","00001702","PUESTO DE SALUD LLAPO","ANCASH","PALLASCA","LLAPO","021507","2","04","05","ANCASH","PACIFICO NORTE","CABANA","I-1"]
[null,{"$f":"VALUE(renipress[[#This Row],[Código Único]])","v":1703},"GOBIERNO REGIONAL","00001703","ELEAZAR GUZMAN BARRON","ANCASH","SANTA","NUEVO CHIMBOTE","021809","2","00","00","ANCASH","NO PERTENECE A NINGUNA RED","NO PERTENECE A NINGUNA MICRORED","II-2"]
[null,{"$f":"VALUE(renipress[[#This Row],[Código Único]])","v":1704},"GOBIERNO REGIONAL","00001704","CENTRO DE SALUD YUGOSLAVIA","ANCASH","SANTA","NUEVO CHIMBOTE","021809","2","03","01","ANCASH","PACIFICO SUR","YUGOSLAVIA","I-4"]
[null,{"$f":"VALUE(renipress[[#This Row],[Código Único]])","v":1705},"GOBIERNO REGIONAL","00001705","PUESTO DE SALUD 3 DE OCTUBRE","ANCASH","SANTA","NUEVO CHIMBOTE","021809","2","03","01","ANCASH","PACIFICO SUR","YUGOSLAVIA","I-2"]
[null,{"$f":"VALUE(renipress[[#This Row],[Código Único]])","v":1706},"GOBIERNO REGIONAL","00001706","PUESTO DE SALUD VILLA MARIA","ANCASH","SANTA","NUEVO CHIMBOTE","021809","2","03","01","ANCASH","PACIFICO SUR","YUGOSLAVIA","I-2"]
[null,{"$f":"VALUE(renipress[[#This Row],[Código Único]])","v":1707},"GOBIERNO REGIONAL","00001707","PUESTO DE SALUD SATELITE","ANCASH","SANTA","NUEVO CHIMBOTE","021809","2","03","01","ANCASH","PACIFICO SUR","YUGOSLAVIA","I-2"]
[null,{"$f":"VALUE(renipress[[#This Row],[Código Único]])","v":1708},"GOBIERNO REGIONAL","00001708","PUESTO DE SALUD JIMBE","ANCASH","SANTA","CACERES DEL PERU","021802","2","03","02","ANCASH","PACIFICO SUR","SAN JACINTO","I-2"]
[null,{"$f":"VALUE(renipress[[#This Row],[Código Único]])","v":1709},"GOBIERNO REGIONAL","00001709","PUESTO DE SALUD LAMPANIN","ANCASH","SANTA","CACERES DEL PERU","021802","2","03","02","ANCASH","PACIFICO SUR","SAN JACINTO","I-1"]
[null,{"$f":"VALUE(renipress[[#This Row],[Código Único]])","v":1710},"GOBIERNO REGIONAL","00001710","PUESTO DE SALUD COLCAP","ANCASH","SANTA","CACERES DEL PERU","021802","2","03","02","ANCASH","PACIFICO SUR","SAN JACINTO","I-2"]
[null,{"$f":"VALUE(renipress[[#This Row],[Código Único]])","v":1711},"GOBIERNO REGIONAL","00001711","PUESTO DE SALUD SAMANCO","ANCASH","SANTA","SAMANCO","021807","2","03","01","ANCASH","PACIFICO SUR","YUGOSLAVIA","I-2"]
[null,{"$f":"VALUE(renipress[[#This Row],[Código Único]])","v":1712},"GOBIERNO REGIONAL","00001712","PUESTO DE SALUD LOS CHIMUS","ANCASH","SANTA","SAMANCO","021807","2","03","01","ANCASH","PACIFICO SUR","YUGOSLAVIA","I-1"]
[null,{"$f":"VALUE(renipress[[#This Row],[Código Único]])","v":1713},"GOBIERNO REGIONAL","00001713","PUESTO DE SALUD HUAMBACHO","ANCASH","SANTA","SAMANCO","021807","2","03","01","ANCASH","PACIFICO SUR","YUGOSLAVIA","I-1"]
[null,{"$f":"VALUE(renipress[[#This Row],[Código Único]])","v":1714},"GOBIERNO REGIONAL","00001714","CENTRO DE SALUD NEPEÑA","ANCASH","SANTA","NEPEÑA","021806","2","03","02","ANCASH","PACIFICO SUR","SAN JACINTO","I-3"]
[null,{"$f":"VALUE(renipress[[#This Row],[Código Único]])","v":1715},"GOBIERNO REGIONAL","00001715","CENTRO DE SALUD SAN JACINTO","ANCASH","SANTA","NEPEÑA","021806","2","03","02","ANCASH","PACIFICO SUR","SAN JACINTO","I-3"]
[null,{"$f":"VALUE(renipress[[#This Row],[Código Único]])","v":1716},"GOBIERNO REGIONAL","00001716","CENTRO DE SALUD MORO","ANCASH","SANTA","MORO","021805","2","03","02","ANCASH","PACIFICO SUR","SAN JACINTO","I-3"]
[null,{"$f":"VALUE(renipress[[#This Row],[Código Único]])","v":1717},"GOBIERNO REGIONAL","00001717","PUESTO DE SALUD POCOS","ANCASH","SANTA","MORO","021805","2","03","02","ANCASH","PACIFICO SUR","SAN JACINTO","I-1"]
[null,{"$f":"VALUE(renipress[[#This Row],[Código Único]])","v":1718},"GOBIERNO REGIONAL","00001718","PUESTO DE SALUD CAPTUY","ANCASH","SANTA","MORO","021805","2","03","02","ANCASH","PACIFICO SUR","SAN JACINTO","I-1"]
[null,{"$f":"VALUE(renipress[[#This Row],[Código Único]])","v":1719},"GOBIERNO REGIONAL","00001719","HOSPITAL DE APOYO CASMA","ANCASH","CASMA","CASMA","020801","2","03","00","ANCASH","PACIFICO SUR","NO PERTENECE A NINGUNA MICRORED","II-1"]
[null,{"$f":"VALUE(renipress[[#This Row],[Código Único]])","v":1720},"GOBIERNO REGIONAL","00001720","PUESTO DE SALUD SAN RAFAEL","ANCASH","CASMA","CASMA","020801","2","03","03","ANCASH","PACIFICO SUR","CASMA","I-1"]
[null,{"$f":"VALUE(renipress[[#This Row],[Código Único]])","v":1721},"GOBIERNO REGIONAL","00001721","PUESTO DE SALUD LA GRAMITA","ANCASH","CASMA","CASMA","020801","2","03","03","ANCASH","PACIFICO SUR","CASMA","I-1"]
[null,{"$f":"VALUE(renipress[[#This Row],[Código Único]])","v":1722},"GOBIERNO REGIONAL","00001722","PUESTO DE SALUD CASA BLANCA","ANCASH","CASMA","CASMA","020801","2","03","03","ANCASH","PACIFICO SUR","CASMA","I-1"]
[null,{"$f":"VALUE(renipress[[#This Row],[Código Único]])","v":1723},"GOBIERNO REGIONAL","00001723","CENTRO DE SALUD BUENAVISTA","ANCASH","CASMA","BUENA VISTA ALTA","020802","2","03","03","ANCASH","PACIFICO SUR","CASMA","I-3"]
[null,{"$f":"VALUE(renipress[[#This Row],[Código Único]])","v":1724},"GOBIERNO REGIONAL","00001724","PUESTO DE SALUD HUANCHUY","ANCASH","CASMA","BUENA VISTA ALTA","020802","2","03","03","ANCASH","PACIFICO SUR","CASMA","I-2"]
[null,{"$f":"VALUE(renipress[[#This Row],[Código Único]])","v":1725},"GOBIERNO REGIONAL","00001725","PUESTO DE SALUD EL OLIVAR","ANCASH","CASMA","BUENA VISTA ALTA","020802","2","03","03","ANCASH","PACIFICO SUR","CASMA","I-2"]
[null,{"$f":"VALUE(renipress[[#This Row],[Código Único]])","v":1726},"GOBIERNO REGIONAL","00001726","PUESTO DE SALUD COMANDANTE NOEL","ANCASH","CASMA","COMANDANTE NOEL","020803","2","03","03","ANCASH","PACIFICO SUR","CASMA","I-1"]
[null,{"$f":"VALUE(renipress[[#This Row],[Código Único]])","v":1727},"GOBIERNO REGIONAL","00001727","PUESTO DE SALUD TORTUGAS","ANCASH","CASMA","COMANDANTE NOEL","020803","2","03","03","ANCASH","PACIFICO SUR","CASMA","I-1"]
[null,{"$f":"VALUE(renipress[[#This Row],[Código Único]])","v":1728},"GOBIERNO REGIONAL","00001728","CENTRO DE SALUD YAUTAN","ANCASH","CASMA","YAUTAN","020804","2","03","04","ANCASH","PACIFICO SUR","YAUTAN","I-4"]
[null,{"$f":"VALUE(renipress[[#This Row],[Código Único]])","v":1729},"GOBIERNO REGIONAL","00001729","PUESTO DE SALUD CACHIPAMPA","ANCASH","CASMA","YAUTAN","020804","2","03","04","ANCASH","PACIFICO SUR","YAUTAN","I-1"]
[null,{"$f":"VALUE(renipress[[#This Row],[Código Único]])","v":1730},"GOBIERNO REGIONAL","00001730","PUESTO DE SALUD COCHABAMBA","ANCASH","HUARAZ","COCHABAMBA","020102","2","03","04","ANCASH","PACIFICO SUR","YAUTAN","I-2"]
[null,{"$f":"VALUE(renipress[[#This Row],[Código Único]])","v":1731},"GOBIERNO REGIONAL","00001731","PUESTO DE SALUD CHIPRE","ANCASH","HUARAZ","COCHABAMBA","020102","2","03","04","ANCASH","PACIFICO SUR","YAUTAN","I-1"]
[null,{"$f":"VALUE(renipress[[#This Row],[Código Único]])","v":1732},"GOBIERNO REGIONAL","00001732","PUESTO DE SALUD PUMA PUCLLANAN","ANCASH","HUARAZ","COCHABAMBA","020102","2","03","04","ANCASH","PACIFICO SUR","YAUTAN","I-1"]
[null,{"$f":"VALUE(renipress[[#This Row],[Código Único]])","v":1733},"GOBIERNO REGIONAL","00001733","COLCABAMBA","ANCASH","HUARAZ","COLCABAMBA","020103","2","03","04","ANCASH","PACIFICO SUR","YAUTAN","I-1"]
[null,{"$f":"VALUE(renipress[[#This Row],[Código Único]])","v":1734},"GOBIERNO REGIONAL","00001734","CENTRO DE SALUD PARIACOTO","ANCASH","HUARAZ","PARIACOTO","020110","2","03","04","ANCASH","PACIFICO SUR","YAUTAN","I-4"]
[null,{"$f":"VALUE(renipress[[#This Row],[Código Único]])","v":1735},"GOBIERNO REGIONAL","00001735","PUESTO DE SALUD FORTALEZA","ANCASH","HUARAZ","PARIACOTO","020110","2","03","04","ANCASH","PACIFICO SUR","YAUTAN","I-1"]
[null,{"$f":"VALUE(renipress[[#This Row],[Código Único]])","v":1736},"GOBIERNO REGIONAL","00001736","PUESTO DE SALUD CHACCHAN","ANCASH","HUARAZ","PARIACOTO","020110","2","03","04","ANCASH","PACIFICO SUR","YAUTAN","I-1"]
[null,{"$f":"VALUE(renipress[[#This Row],[Código Único]])","v":1737},"GOBIERNO REGIONAL","00001737","PUESTO DE SALUD PAMPACANCHA","ANCASH","YUNGAY","QUILLO","022005","2","03","05","ANCASH","PACIFICO SUR","QUILLO","I-1"]
[null,{"$f":"VALUE(renipress[[#This Row],[Código Único]])","v":1738},"GOBIERNO REGIONAL","00001738","CENTRO DE SALUD QUILLO","ANCASH","YUNGAY","QUILLO","022005","2","03","05","ANCASH","PACIFICO SUR","QUILLO","I-4"]
[null,{"$f":"VALUE(renipress[[#This Row],[Código Único]])","v":1739},"GOBIERNO REGIONAL","00001739","PUESTO DE SALUD HUACHO","ANCASH","YUNGAY","QUILLO","022005","2","03","05","ANCASH","PACIFICO SUR","QUILLO","I-2"]
[null,{"$f":"VALUE(renipress[[#This Row],[Código Único]])","v":1740},"GOBIERNO REGIONAL","00001740","PAMPAC","ANCASH","YUNGAY","QUILLO","022005","2","00","00","ANCASH","NO PERTENECE A NINGUNA RED","NO PERTENECE A NINGUNA MICRORED","Sin Categoría"]
[null,{"$f":"VALUE(renipress[[#This Row],[Código Único]])","v":1741},"GOBIERNO REGIONAL","00001741","HOSPITAL DE APOYO HUARMEY","ANCASH","HUARMEY","HUARMEY","021101","2","03","00","ANCASH","PACIFICO SUR","NO PERTENECE A NINGUNA MICRORED","II-1"]
[null,{"$f":"VALUE(renipress[[#This Row],[Código Único]])","v":1742},"GOBIERNO REGIONAL","00001742","PUESTO DE SALUD PUERTO HUARMEY","ANCASH","HUARMEY","HUARMEY","021101","2","03","06","ANCASH","PACIFICO SUR","HUARMEY","I-2"]
[null,{"$f":"VALUE(renipress[[#This Row],[Código Único]])","v":1743},"GOBIERNO REGIONAL","00001743","PUESTO DE SALUD CULEBRAS","ANCASH","HUARMEY","CULEBRAS","021103","2","03","06","ANCASH","PACIFICO SUR","HUARMEY","I-2"]
[null,{"$f":"VALUE(renipress[[#This Row],[Código Único]])","v":1744},"GOBIERNO REGIONAL","00001744","PUESTO DE SALUD LA VICTORIA","ANCASH","HUARMEY","HUARMEY","021101","2","03","06","ANCASH","PACIFICO SUR","HUARMEY","I-1"]
[null,{"$f":"VALUE(renipress[[#This Row],[Código Único]])","v":1745},"GOBIERNO REGIONAL","00001745","PUESTO DE SALUD MOLINO","ANCASH","HUARMEY","CULEBRAS","021103","2","03","06","ANCASH","PACIFICO SUR","HUARMEY","I-1"]
[null,{"$f":"VALUE(renipress[[#This Row],[Código Único]])","v":1746},"GOBIERNO REGIONAL","00001746","PUESTO DE SALUD QUIAN","ANCASH","HUARMEY","CULEBRAS","021103","2","03","06","ANCASH","PACIFICO SUR","HUARMEY","I-2"]
[null,{"$f":"VALUE(renipress[[#This Row],[Código Único]])","v":1747},"GOBIERNO REGIONAL","00001747","PUESTO DE SALUD RAYPA","ANCASH","HUARAZ","HUANCHAY","020104","2","03","06","ANCASH","PACIFICO SUR","HUARMEY","I-1"]
[null,{"$f":"VALUE(renipress[[#This Row],[Código Único]])","v":1748},"GOBIERNO REGIONAL","00001748","PUESTO DE SALUD HUANCHAY HZ","ANCASH","HUARAZ","HUANCHAY","020104","2","03","06","ANCASH","PACIFICO SUR","HUARMEY","I-2"]
[null,{"$f":"VALUE(renipress[[#This Row],[Código Único]])","v":1749},"GOBIERNO REGIONAL","00001749","PUESTO DE SALUD COCHAPETI","ANCASH","HUARMEY","COCHAPETI","021102","2","01","02","ANCASH","HUAYLAS SUR","CATAC","I-1"]
[null,{"$f":"VALUE(renipress[[#This Row],[Código Único]])","v":1750},"GOBIERNO REGIONAL","00001750","LAMPI","ANCASH","HUARMEY","COCHAPETI","021102","2","03","06","ANCASH","PACIFICO SUR","HUARMEY","Sin Categoría"]
[null,{"$f":"VALUE(renipress[[#This Row],[Código Único]])","v":1751},"GOBIERNO REGIONAL","00001751","PUESTO DE SALUD HUAMBA","ANCASH","HUARMEY","HUARMEY","021101","2","03","06","ANCASH","PACIFICO SUR","HUARMEY","I-1"]
[null,{"$f":"VALUE(renipress[[#This Row],[Código Único]])","v":1752},"GOBIERNO REGIONAL","00001752","PUESTO DE SALUD HUAYAN","ANCASH","HUARMEY","HUAYAN","021104","2","03","06","ANCASH","PACIFICO SUR","HUARMEY","I-2"]
[null,{"$f":"VALUE(renipress[[#This Row],[Código Único]])","v":1753},"GOBIERNO REGIONAL","00001753","PUESTO DE SALUD MALVAS","ANCASH","HUARMEY","MALVAS","021105","2","03","06","ANCASH","PACIFICO SUR","HUARMEY","I-1"]
[null,{"$f":"VALUE(renipress[[#This Row],[Código Único]])","v":1754},"GOBIERNO REGIONAL","00001754","PUESTO DE SALUD SAN MIGUEL","ANCASH","SIHUAS","CHINGALPO","021905","2","06","05","ANCASH","CONCHUCOS NORTE","QUICHES","I-1"]
[null,{"$f":"VALUE(renipress[[#This Row],[Código Único]])","v":1755},"GOBIERNO REGIONAL","00001755","PUESTO DE SALUD OCROS","ANCASH","OCROS","OCROS","021401","2","01","15","ANCASH","HUAYLAS SUR","OCROS","I-2"]
[null,{"$f":"VALUE(renipress[[#This Row],[Código Único]])","v":1756},"GOBIERNO REGIONAL","00001756","ACAS","ANCASH","OCROS","ACAS","021402","2","01","15","ANCASH","HUAYLAS SUR","OCROS","Sin Categoría"]
[null,{"$f":"VALUE(renipress[[#This Row],[Código Único]])","v":1757},"GOBIERNO REGIONAL","00001757","PUESTO DE SALUD CAJAMARQUILLA","ANCASH","OCROS","CAJAMARQUILLA","021403","2","01","15","ANCASH","HUAYLAS SUR","OCROS","Sin Categoría"]
[null,{"$f":"VALUE(renipress[[#This Row],[Código Único]])","v":1758},"GOBIERNO REGIONAL","00001758","PUESTO DE SALUD ACO DE CARHUAPAMPA","ANCASH","OCROS","CARHUAPAMPA","021404","2","01","15","ANCASH","HUAYLAS SUR","OCROS","I-1"]
[null,{"$f":"VALUE(renipress[[#This Row],[Código Único]])","v":1759},"GOBIERNO REGIONAL","00001759","PUESTO DE SALUD HUANCHAY","ANCASH","OCROS","COCHAS","021405","2","01","15","ANCASH","HUAYLAS SUR","OCROS","I-1"]
[null,{"$f":"VALUE(renipress[[#This Row],[Código Único]])","v":1760},"GOBIERNO REGIONAL","00001760","PUESTO DE SALUD CONGAS","ANCASH","OCROS","CONGAS","021406","2","01","15","ANCASH","HUAYLAS SUR","OCROS","I-1"]
[null,{"$f":"VALUE(renipress[[#This Row],[Código Único]])","v":1761},"GOBIERNO REGIONAL","00001761","PUESTO DE SALUD LLIPA","ANCASH","OCROS","LLIPA","021407","2","01","15","ANCASH","HUAYLAS SUR","OCROS","Sin Categoría"]
[null,{"$f":"VALUE(renipress[[#This Row],[Código Único]])","v":1762},"GOBIERNO REGIONAL","00001762","PUESTO DE SALUD RAJAN","ANCASH","OCROS","SAN CRISTOBAL DE RAJAN","021408","2","01","15","ANCASH","HUAYLAS SUR","OCROS","I-1"]
[null,{"$f":"VALUE(renipress[[#This Row],[Código Único]])","v":1763},"GOBIERNO REGIONAL","00001763","PUESTO DE SALUD SAN PEDRO DE COPA","ANCASH","OCROS","SAN PEDRO","021409","2","01","15","ANCASH","HUAYLAS SUR","OCROS","I-1"]
[null,{"$f":"VALUE(renipress[[#This Row],[Código Único]])","v":1764},"GOBIERNO REGIONAL","00001764","PUESTO DE SALUD CHILCAS","ANCASH","OCROS","SANTIAGO DE CHILCAS","021410","2","01","15","ANCASH","HUAYLAS SUR","OCROS","Sin Categoría"]
[null,{"$f":"VALUE(renipress[[#This Row],[Código Único]])","v":1765},"GOBIERNO REGIONAL","00001765","HOSPITAL DE APOYO DE POMABAMBA  ANTONIO CALDAS DOMINGUEZ","ANCASH","POMABAMBA","POMABAMBA","021601","2","06","00","ANCASH","CONCHUCOS NORTE","NO PERTENECE A NINGUNA MICRORED","II-1"]
[null,{"$f":"VALUE(renipress[[#This Row],[Código Único]])","v":1766},"GOBIERNO REGIONAL","00001766","PUESTO DE SALUD SOCSI","ANCASH","POMABAMBA","POMABAMBA","021601","2","06","01","ANCASH","CONCHUCOS NORTE","POMABAMBA","I-1"]
[null,{"$f":"VALUE(renipress[[#This Row],[Código Único]])","v":1767},"GOBIERNO REGIONAL","00001767","PUESTO DE SALUD CHUYAS","ANCASH","POMABAMBA","POMABAMBA","021601","2","06","01","ANCASH","CONCHUCOS NORTE","POMABAMBA","I-1"]
[null,{"$f":"VALUE(renipress[[#This Row],[Código Único]])","v":1768},"GOBIERNO REGIONAL","00001768","PUESTO DE SALUD VILCABAMBA","ANCASH","POMABAMBA","POMABAMBA","021601","2","06","01","ANCASH","CONCHUCOS NORTE","POMABAMBA","I-2"]
[null,{"$f":"VALUE(renipress[[#This Row],[Código Único]])","v":1769},"GOBIERNO REGIONAL","00001769","PUESTO DE SALUD CONOPA","ANCASH","POMABAMBA","POMABAMBA","021601","2","06","01","ANCASH","CONCHUCOS NORTE","POMABAMBA","I-2"]
[null,{"$f":"VALUE(renipress[[#This Row],[Código Único]])","v":1770},"GOBIERNO REGIONAL","00001770","PUESTO DE SALUD JANCAPAMPA","ANCASH","POMABAMBA","POMABAMBA","021601","2","06","01","ANCASH","CONCHUCOS NORTE","POMABAMBA","I-1"]
[null,{"$f":"VALUE(renipress[[#This Row],[Código Único]])","v":1771},"GOBIERNO REGIONAL","00001771","PUESTO DE SALUD CHOGO","ANCASH","POMABAMBA","POMABAMBA","021601","2","06","03","ANCASH","CONCHUCOS NORTE","PAROBAMBA","I-1"]
[null,{"$f":"VALUE(renipress[[#This Row],[Código Único]])","v":1772},"GOBIERNO REGIONAL","00001772","PUESTO DE SALUD HUAYLLAN","ANCASH","POMABAMBA","HUAYLLAN","021602","2","06","01","ANCASH","CONCHUCOS NORTE","POMABAMBA","I-1"]
[null,{"$f":"VALUE(renipress[[#This Row],[Código Único]])","v":1773},"GOBIERNO REGIONAL","00001773","PUESTO DE SALUD ACOBAMBA","ANCASH","POMABAMBA","HUAYLLAN","021602","2","06","01","ANCASH","CONCHUCOS NORTE","POMABAMBA","I-1"]
[null,{"$f":"VALUE(renipress[[#This Row],[Código Único]])","v":1774},"GOBIERNO REGIONAL","00001774","PUESTO DE SALUD HUAYCHO","ANCASH","POMABAMBA","HUAYLLAN","021602","2","06","01","ANCASH","CONCHUCOS NORTE","POMABAMBA","I-1"]
[null,{"$f":"VALUE(renipress[[#This Row],[Código Único]])","v":1775},"GOBIERNO REGIONAL","00001775","CENTRO DE SALUD PAROBAMBA VIEJO","ANCASH","POMABAMBA","PAROBAMBA","021603","2","06","03","ANCASH","CONCHUCOS NORTE","PAROBAMBA","I-4"]
[null,{"$f":"VALUE(renipress[[#This Row],[Código Único]])","v":1776},"GOBIERNO REGIONAL","00001776","PUESTO DE SALUD PAROBAMBA NUEVO","ANCASH","POMABAMBA","PAROBAMBA","021603","2","06","03","ANCASH","CONCHUCOS NORTE","PAROBAMBA","I-1"]
[null,{"$f":"VALUE(renipress[[#This Row],[Código Único]])","v":1777},"GOBIERNO REGIONAL","00001777","PUESTO DE SALUD HUANCHAYLLO","ANCASH","POMABAMBA","PAROBAMBA","021603","2","06","03","ANCASH","CONCHUCOS NORTE","PAROBAMBA","I-2"]
[null,{"$f":"VALUE(renipress[[#This Row],[Código Único]])","v":1778},"GOBIERNO REGIONAL","00001778","PUESTO DE SALUD SHUMPILLAN","ANCASH","POMABAMBA","PAROBAMBA","021603","2","06","03","ANCASH","CONCHUCOS NORTE","PAROBAMBA","I-1"]
[null,{"$f":"VALUE(renipress[[#This Row],[Código Único]])","v":1779},"GOBIERNO REGIONAL","00001779","PUESTO DE SALUD CAJAS","ANCASH","POMABAMBA","PAROBAMBA","021603","2","06","04","ANCASH","CONCHUCOS NORTE","SIHUAS","I-1"]
[null,{"$f":"VALUE(renipress[[#This Row],[Código Único]])","v":1780},"GOBIERNO REGIONAL","00001780","PUESTO DE SALUD CHANGA","ANCASH","POMABAMBA","PAROBAMBA","021603","2","06","03","ANCASH","CONCHUCOS NORTE","PAROBAMBA","I-2"]
[null,{"$f":"VALUE(renipress[[#This Row],[Código Único]])","v":1781},"GOBIERNO REGIONAL","00001781","PUESTO DE SALUD QUINUABAMBA","ANCASH","POMABAMBA","QUINUABAMBA","021604","2","06","03","ANCASH","CONCHUCOS NORTE","PAROBAMBA","I-2"]
[null,{"$f":"VALUE(renipress[[#This Row],[Código Único]])","v":1782},"GOBIERNO REGIONAL","00001782","YAMIAN","ANCASH","POMABAMBA","QUINUABAMBA","021604","2","06","03","ANCASH","CONCHUCOS NORTE","PAROBAMBA","I-1"]
[null,{"$f":"VALUE(renipress[[#This Row],[Código Único]])","v":1783},"GOBIERNO REGIONAL","00001783","CENTRO DE SALUD PISCOBAMBA","ANCASH","MARISCAL LUZURIAGA","PISCOBAMBA","021301","2","06","02","ANCASH","CONCHUCOS NORTE","PISCO BAMBA","I-4"]
[null,{"$f":"VALUE(renipress[[#This Row],[Código Único]])","v":1784},"GOBIERNO REGIONAL","00001784","PUESTO DE SALUD SOCOSBAMBA","ANCASH","MARISCAL LUZURIAGA","PISCOBAMBA","021301","2","06","02","ANCASH","CONCHUCOS NORTE","PISCO BAMBA","I-1"]
[null,{"$f":"VALUE(renipress[[#This Row],[Código Único]])","v":1785},"GOBIERNO REGIONAL","00001785","PUESTO DE SALUD CASCA","ANCASH","MARISCAL LUZURIAGA","CASCA","021302","2","06","01","ANCASH","CONCHUCOS NORTE","POMABAMBA","I-2"]
[null,{"$f":"VALUE(renipress[[#This Row],[Código Único]])","v":1786},"GOBIERNO REGIONAL","00001786","PUESTO DE SALUD PAMPACHACRA","ANCASH","MARISCAL LUZURIAGA","ELEAZAR GUZMAN BARRON","021303","2","06","02","ANCASH","CONCHUCOS NORTE","PISCO BAMBA","I-1"]
[null,{"$f":"VALUE(renipress[[#This Row],[Código Único]])","v":1787},"GOBIERNO REGIONAL","00001787","PUESTO DE SALUD PUMPA","ANCASH","MARISCAL LUZURIAGA","ELEAZAR GUZMAN BARRON","021303","2","06","02","ANCASH","CONCHUCOS NORTE","PISCO BAMBA","I-1"]
[null,{"$f":"VALUE(renipress[[#This Row],[Código Único]])","v":1788},"GOBIERNO REGIONAL","00001788","PUESTO DE SALUD LLAMA","ANCASH","MARISCAL LUZURIAGA","LLAMA","021305","2","06","02","ANCASH","CONCHUCOS NORTE","PISCO BAMBA","I-2"]
[null,{"$f":"VALUE(renipress[[#This Row],[Código Único]])","v":1789},"GOBIERNO REGIONAL","00001789","PUESTO DE SALUD LLUMPA","ANCASH","MARISCAL LUZURIAGA","LLUMPA","021306","2","06","02","ANCASH","CONCHUCOS NORTE","PISCO BAMBA","I-2"]
[null,{"$f":"VALUE(renipress[[#This Row],[Código Único]])","v":1790},"GOBIERNO REGIONAL","00001790","PUESTO DE SALUD LUCMA","ANCASH","MARISCAL LUZURIAGA","LUCMA","021307","2","06","01","ANCASH","CONCHUCOS NORTE","POMABAMBA","I-2"]
[null,{"$f":"VALUE(renipress[[#This Row],[Código Único]])","v":1791},"GOBIERNO REGIONAL","00001791","PUESTO DE SALUD SECCHA","ANCASH","MARISCAL LUZURIAGA","LUCMA","021307","2","06","01","ANCASH","CONCHUCOS NORTE","POMABAMBA","I-1"]
[null,{"$f":"VALUE(renipress[[#This Row],[Código Único]])","v":1792},"GOBIERNO REGIONAL","00001792","PUESTO DE SALUD MUSGA","ANCASH","MARISCAL LUZURIAGA","MUSGA","021308","2","06","02","ANCASH","CONCHUCOS NORTE","PISCO BAMBA","I-1"]
[null,{"$f":"VALUE(renipress[[#This Row],[Código Único]])","v":1793},"GOBIERNO REGIONAL","00001793","PUESTO DE SALUD SANASHGAN","ANCASH","MARISCAL LUZURIAGA","FIDEL OLIVAS ESCUDERO","021304","2","06","02","ANCASH","CONCHUCOS NORTE","PISCO BAMBA","I-1"]
[null,{"$f":"VALUE(renipress[[#This Row],[Código Único]])","v":1794},"GOBIERNO REGIONAL","00001794","PUESTO DE SALUD PARCO","ANCASH","MARISCAL LUZURIAGA","FIDEL OLIVAS ESCUDERO","021304","2","06","02","ANCASH","CONCHUCOS NORTE","PISCO BAMBA","I-1"]
[null,{"$f":"VALUE(renipress[[#This Row],[Código Único]])","v":1795},"GOBIERNO REGIONAL","00001795","HOSPITAL DE APOYO SIHUAS","ANCASH","SIHUAS","SIHUAS","021901","2","06","00","ANCASH","CONCHUCOS NORTE","NO PERTENECE A NINGUNA MICRORED","II-1"]
[null,{"$f":"VALUE(renipress[[#This Row],[Código Único]])","v":1796},"GOBIERNO REGIONAL","00001796","PUESTO DE SALUD RAGASH","ANCASH","SIHUAS","RAGASH","021908","2","06","04","ANCASH","CONCHUCOS NORTE","SIHUAS","I-1"]
[null,{"$f":"VALUE(renipress[[#This Row],[Código Único]])","v":1797},"GOBIERNO REGIONAL","00001797","PUESTO DE SALUD CASHAPAMPA","ANCASH","SIHUAS","CASHAPAMPA","021904","2","06","04","ANCASH","CONCHUCOS NORTE","SIHUAS","I-1"]
[null,{"$f":"VALUE(renipress[[#This Row],[Código Único]])","v":1798},"GOBIERNO REGIONAL","00001798","PUESTO DE SALUD PASACANCHA","ANCASH","SIHUAS","CASHAPAMPA","021904","2","06","04","ANCASH","CONCHUCOS NORTE","SIHUAS","I-1"]
[null,{"$f":"VALUE(renipress[[#This Row],[Código Único]])","v":1799},"GOBIERNO REGIONAL","00001799","PUESTO DE SALUD ACOBAMBA","ANCASH","SIHUAS","ACOBAMBA","021902","2","06","05","ANCASH","CONCHUCOS NORTE","QUICHES","I-1"]
[null,{"$f":"VALUE(renipress[[#This Row],[Código Único]])","v":1800},"GOBIERNO REGIONAL","00001800","PUESTO DE SALUD CHINGALPO","ANCASH","SIHUAS","CHINGALPO","021905","2","06","05","ANCASH","CONCHUCOS NORTE","QUICHES","I-1"]
[null,{"$f":"VALUE(renipress[[#This Row],[Código Único]])","v":1801},"GOBIERNO REGIONAL","00001801","PUESTO DE SALUD SAN MIGUEL","ANCASH","HUARMEY","MALVAS","021105","2","03","06","ANCASH","PACIFICO SUR","HUARMEY","I-1"]
[null,{"$f":"VALUE(renipress[[#This Row],[Código Único]])","v":1802},"GOBIERNO REGIONAL","00001802","CENTRO DE SALUD HUAYLLABAMBA","ANCASH","SIHUAS","HUAYLLABAMBA","021906","2","06","04","ANCASH","CONCHUCOS NORTE","SIHUAS","I-3"]
[null,{"$f":"VALUE(renipress[[#This Row],[Código Único]])","v":1803},"GOBIERNO REGIONAL","00001803","PUESTO DE SALUD SANTA CLARA","ANCASH","SIHUAS","HUAYLLABAMBA","021906","2","06","04","ANCASH","CONCHUCOS NORTE","SIHUAS","I-2"]
[null,{"$f":"VALUE(renipress[[#This Row],[Código Único]])","v":1804},"GOBIERNO REGIONAL","00001804","PUESTO DE SALUD PIRPO","ANCASH","SIHUAS","HUAYLLABAMBA","021906","2","06","04","ANCASH","CONCHUCOS NORTE","SIHUAS","I-1"]
[null,{"$f":"VALUE(renipress[[#This Row],[Código Único]])","v":1805},"GOBIERNO REGIONAL","00001805","PUESTO DE SALUD ULLOLLUCO","ANCASH","SIHUAS","ALFONSO UGARTE","021903","2","06","05","ANCASH","CONCHUCOS NORTE","QUICHES","I-1"]
[null,{"$f":"VALUE(renipress[[#This Row],[Código Único]])","v":1806},"GOBIERNO REGIONAL","00001806","CENTRO DE SALUD QUICHES","ANCASH","SIHUAS","QUICHES","021907","2","06","05","ANCASH","CONCHUCOS NORTE","QUICHES","I-3"]
[null,{"$f":"VALUE(renipress[[#This Row],[Código Único]])","v":1807},"GOBIERNO REGIONAL","00001807","PUESTO DE SALUD JOCOSBAMBA","ANCASH","SIHUAS","QUICHES","021907","2","06","05","ANCASH","CONCHUCOS NORTE","QUICHES","I-1"]
[null,{"$f":"VALUE(renipress[[#This Row],[Código Único]])","v":1808},"GOBIERNO REGIONAL","00001808","PUESTO DE SALUD SAN JUAN CHULLIN","ANCASH","SIHUAS","SAN JUAN","021909","2","06","04","ANCASH","CONCHUCOS NORTE","SIHUAS","I-2"]
[null,{"$f":"VALUE(renipress[[#This Row],[Código Único]])","v":1809},"GOBIERNO REGIONAL","00001809","PUESTO DE SALUD ANDAYMAYO","ANCASH","SIHUAS","SAN JUAN","021909","2","06","04","ANCASH","CONCHUCOS NORTE","SIHUAS","I-2"]
[null,{"$f":"VALUE(renipress[[#This Row],[Código Único]])","v":1810},"GOBIERNO REGIONAL","00001810","PUESTO DE SALUD CHINCHOBAMBA","ANCASH","SIHUAS","SAN JUAN","021909","2","06","04","ANCASH","CONCHUCOS NORTE","SIHUAS","I-1"]
[null,{"$f":"VALUE(renipress[[#This Row],[Código Único]])","v":1811},"GOBIERNO REGIONAL","00001811","PUESTO DE SALUD SICSIBAMBA","ANCASH","SIHUAS","SICSIBAMBA","021910","2","06","04","ANCASH","CONCHUCOS NORTE","SIHUAS","I-2"]
[null,{"$f":"VALUE(renipress[[#This Row],[Código Único]])","v":1812},"GOBIERNO REGIONAL","00001812","PUESTO DE SALUD UMBE","ANCASH","SIHUAS","SICSIBAMBA","021910","2","06","04","ANCASH","CONCHUCOS NORTE","SIHUAS","I-1"]
[null,{"$f":"VALUE(renipress[[#This Row],[Código Único]])","v":1813},"GOBIERNO REGIONAL","00001813","HOSPITAL DE APOYO HUARI","ANCASH","HUARI","HUARI","021001","2","05","00","ANCASH","CONCHUCOS SUR","NO PERTENECE A NINGUNA MICRORED","II-1"]
[null,{"$f":"VALUE(renipress[[#This Row],[Código Único]])","v":1814},"GOBIERNO REGIONAL","00001814","PUESTO DE MALLAS","ANCASH","HUARI","HUARI","021001","2","05","01","ANCASH","CONCHUCOS SUR","HUARI","I-1"]
[null,{"$f":"VALUE(renipress[[#This Row],[Código Único]])","v":1815},"GOBIERNO REGIONAL","00001815","PUESTO DE SALUD COLCAS","ANCASH","HUARI","HUARI","021001","2","05","01","ANCASH","CONCHUCOS SUR","HUARI","I-1"]
[null,{"$f":"VALUE(renipress[[#This Row],[Código Único]])","v":1816},"GOBIERNO REGIONAL","00001816","PUESTO DE SALUD YACYA","ANCASH","HUARI","HUARI","021001","2","05","01","ANCASH","CONCHUCOS SUR","HUARI","I-1"]
[null,{"$f":"VALUE(renipress[[#This Row],[Código Único]])","v":1817},"GOBIERNO REGIONAL","00001817","PUESTO DE SALUD CAJAY","ANCASH","HUARI","CAJAY","021003","2","05","01","ANCASH","CONCHUCOS SUR","HUARI","I-2"]
[null,{"$f":"VALUE(renipress[[#This Row],[Código Único]])","v":1818},"GOBIERNO REGIONAL","00001818","PUESTO DE SALUD QUERORACRA","ANCASH","HUARI","CAJAY","021003","2","05","01","ANCASH","CONCHUCOS SUR","HUARI","I-1"]
[null,{"$f":"VALUE(renipress[[#This Row],[Código Único]])","v":1819},"GOBIERNO REGIONAL","00001819","CENTRO DE SALUD SAN MARCOS","ANCASH","HUARI","SAN MARCOS","021014","2","05","06","ANCASH","CONCHUCOS SUR","SAN MARCOS","I-3"]
[null,{"$f":"VALUE(renipress[[#This Row],[Código Único]])","v":1820},"GOBIERNO REGIONAL","00001820","PUESTO DE SALUD CARHUAYACO","ANCASH","HUARI","SAN MARCOS","021014","2","05","06","ANCASH","CONCHUCOS SUR","SAN MARCOS","I-1"]
[null,{"$f":"VALUE(renipress[[#This Row],[Código Único]])","v":1821},"GOBIERNO REGIONAL","00001821","PUESTO DE SALUD SAN PEDRO DE PICHIU","ANCASH","HUARI","SAN MARCOS","021014","2","05","05","ANCASH","CONCHUCOS SUR","CHAVIN","I-1"]
[null,{"$f":"VALUE(renipress[[#This Row],[Código Único]])","v":1822},"GOBIERNO REGIONAL","00001822","PUESTO DE SALUD CHALHUAYACO","ANCASH","HUARI","SAN MARCOS","021014","2","05","05","ANCASH","CONCHUCOS SUR","CHAVIN","I-1"]
[null,{"$f":"VALUE(renipress[[#This Row],[Código Único]])","v":1823},"GOBIERNO REGIONAL","00001823","PUESTO DE SALUD HUANTAR","ANCASH","HUARI","HUANTAR","021008","2","05","06","ANCASH","CONCHUCOS SUR","SAN MARCOS","I-2"]
[null,{"$f":"VALUE(renipress[[#This Row],[Código Único]])","v":1824},"GOBIERNO REGIONAL","00001824","CENTRO DE SALUD CHAVIN","ANCASH","HUARI","CHAVIN DE HUANTAR","021004","2","05","05","ANCASH","CONCHUCOS SUR","CHAVIN","I-3"]
[null,{"$f":"VALUE(renipress[[#This Row],[Código Único]])","v":1825},"GOBIERNO REGIONAL","00001825","PUESTO DE  SALUD MACHAC","ANCASH","HUARI","CHAVIN DE HUANTAR","021004","2","05","05","ANCASH","CONCHUCOS SUR","CHAVIN","I-1"]
[null,{"$f":"VALUE(renipress[[#This Row],[Código Único]])","v":1826},"GOBIERNO REGIONAL","00001826","PUESTO DE SALUD CHICHUCANCHA","ANCASH","HUARI","CHAVIN DE HUANTAR","021004","2","05","05","ANCASH","CONCHUCOS SUR","CHAVIN","I-1"]
[null,{"$f":"VALUE(renipress[[#This Row],[Código Único]])","v":1827},"GOBIERNO REGIONAL","00001827","PUESTO DE SALUD SANTA CRUZ DE PICHIU","ANCASH","HUARI","SAN PEDRO DE CHANA","021015","2","05","06","ANCASH","CONCHUCOS SUR","SAN MARCOS","I-1"]
[null,{"$f":"VALUE(renipress[[#This Row],[Código Único]])","v":1828},"GOBIERNO REGIONAL","00001828","PUESTO DE SALUD HUARIPAMPA","ANCASH","HUARI","SAN MARCOS","021014","2","05","06","ANCASH","CONCHUCOS SUR","SAN MARCOS","I-1"]
[null,{"$f":"VALUE(renipress[[#This Row],[Código Único]])","v":1829},"GOBIERNO REGIONAL","00001829","PUESTO DE SALUD CHACPAR","ANCASH","HUARI","CHAVIN DE HUANTAR","021004","2","05","05","ANCASH","CONCHUCOS SUR","CHAVIN","I-1"]
[null,{"$f":"VALUE(renipress[[#This Row],[Código Único]])","v":1830},"GOBIERNO REGIONAL","00001830","PUESTO DE SALUD HUACACHI","ANCASH","HUARI","HUACACHI","021005","2","05","02","ANCASH","CONCHUCOS SUR","C.R. PUCHKA","I-1"]
[null,{"$f":"VALUE(renipress[[#This Row],[Código Único]])","v":1831},"GOBIERNO REGIONAL","00001831","PUESTO DE SALUD  HUACHIS","ANCASH","HUARI","HUACHIS","021007","2","05","02","ANCASH","CONCHUCOS SUR","C.R. PUCHKA","I-2"]
[null,{"$f":"VALUE(renipress[[#This Row],[Código Único]])","v":1832},"GOBIERNO REGIONAL","00001832","PUESTO DE SALUD CHUPAN","ANCASH","HUARI","HUACHIS","021007","2","05","02","ANCASH","CONCHUCOS SUR","C.R. PUCHKA","I-1"]
[null,{"$f":"VALUE(renipress[[#This Row],[Código Único]])","v":1833},"GOBIERNO REGIONAL","00001833","PUESTO DE SALUD PONTO","ANCASH","HUARI","PONTO","021011","2","05","02","ANCASH","CONCHUCOS SUR","C.R. PUCHKA","I-1"]
[null,{"$f":"VALUE(renipress[[#This Row],[Código Único]])","v":1834},"GOBIERNO REGIONAL","00001834","PUESTO DE SALUD  SAN MIGUEL DE PONTO","ANCASH","HUARI","PONTO","021011","2","05","02","ANCASH","CONCHUCOS SUR","C.R. PUCHKA","I-1"]
[null,{"$f":"VALUE(renipress[[#This Row],[Código Único]])","v":1835},"GOBIERNO REGIONAL","00001835","PUESTO DE SALUD YUNGUILLA","ANCASH","HUARI","RAHUAPAMPA","021012","2","05","02","ANCASH","CONCHUCOS SUR","C.R. PUCHKA","I-1"]
[null,{"$f":"VALUE(renipress[[#This Row],[Código Único]])","v":1836},"GOBIERNO REGIONAL","00001836","CENTRO DE SALUD RAHUAPAMPA","ANCASH","HUARI","RAHUAPAMPA","021012","2","05","02","ANCASH","CONCHUCOS SUR","C.R. PUCHKA","I-3"]
[null,{"$f":"VALUE(renipress[[#This Row],[Código Único]])","v":1837},"GOBIERNO REGIONAL","00001837","PUESTO DE SALUD SAN PEDRO DE CHANA","ANCASH","HUARI","SAN PEDRO DE CHANA","021015","2","05","02","ANCASH","CONCHUCOS SUR","C.R. PUCHKA","I-1"]
[null,{"$f":"VALUE(renipress[[#This Row],[Código Único]])","v":1838},"GOBIERNO REGIONAL","00001838","PUESTO DE SALUD VICHON","ANCASH","HUARI","SAN PEDRO DE CHANA","021015","2","05","02","ANCASH","CONCHUCOS SUR","C.R. PUCHKA","I-1"]
[null,{"$f":"VALUE(renipress[[#This Row],[Código Único]])","v":1839},"GOBIERNO REGIONAL","00001839","PUESTO DE SALUD  UCHUPATA","ANCASH","ANTONIO RAIMONDI","ACZO","020302","2","05","02","ANCASH","CONCHUCOS SUR","C.R. PUCHKA","I-1"]
[null,{"$f":"VALUE(renipress[[#This Row],[Código Único]])","v":1840},"GOBIERNO REGIONAL","00001840","PUESTO DE SALUD MASIN","ANCASH","HUARI","MASIN","021009","2","05","02","ANCASH","CONCHUCOS SUR","C.R. PUCHKA","I-2"]
[null,{"$f":"VALUE(renipress[[#This Row],[Código Único]])","v":1841},"GOBIERNO REGIONAL","00001841","PUESTO DE SALUD HUACCHIS","ANCASH","HUARI","HUACCHIS","021006","2","05","04","ANCASH","CONCHUCOS SUR","C.R. UCO","I-1"]
[null,{"$f":"VALUE(renipress[[#This Row],[Código Único]])","v":1842},"GOBIERNO REGIONAL","00001842","PUESTO DE SALUD ANRA","ANCASH","HUARI","ANRA","021002","2","05","04","ANCASH","CONCHUCOS SUR","C.R. UCO","I-1"]
[null,{"$f":"VALUE(renipress[[#This Row],[Código Único]])","v":1843},"GOBIERNO REGIONAL","00001843","PUESTO DE SALUD PAUCAS","ANCASH","HUARI","PAUCAS","021010","2","05","04","ANCASH","CONCHUCOS SUR","C.R. UCO","I-2"]
[null,{"$f":"VALUE(renipress[[#This Row],[Código Único]])","v":1844},"GOBIERNO REGIONAL","00001844","PUESTO DE SALUD VISCAS","ANCASH","HUARI","PAUCAS","021010","2","05","04","ANCASH","CONCHUCOS SUR","C.R. UCO","I-2"]
[null,{"$f":"VALUE(renipress[[#This Row],[Código Único]])","v":1845},"GOBIERNO REGIONAL","00001845","PUESTO DE SALUD RAPAYAN","ANCASH","HUARI","RAPAYAN","021013","2","05","04","ANCASH","CONCHUCOS SUR","C.R. UCO","I-1"]
[null,{"$f":"VALUE(renipress[[#This Row],[Código Único]])","v":1846},"GOBIERNO REGIONAL","00001846","PUESTO DE SALUD UCO","ANCASH","HUARI","UCO","021016","2","05","04","ANCASH","CONCHUCOS SUR","C.R. UCO","I-2"]
[null,{"$f":"VALUE(renipress[[#This Row],[Código Único]])","v":1847},"GOBIERNO REGIONAL","00001847","CENTRO DE SALUD LLAMELLIN","ANCASH","ANTONIO RAIMONDI","LLAMELLIN","020301","2","05","03","ANCASH","CONCHUCOS SUR","C.R. LLAMELLIN","I-3"]
[null,{"$f":"VALUE(renipress[[#This Row],[Código Único]])","v":1848},"GOBIERNO REGIONAL","00001848","PUESTO DE SALUD ACZO","ANCASH","ANTONIO RAIMONDI","ACZO","020302","2","05","03","ANCASH","CONCHUCOS SUR","C.R. LLAMELLIN","I-1"]
[null,{"$f":"VALUE(renipress[[#This Row],[Código Único]])","v":1849},"GOBIERNO REGIONAL","00001849","PUESTO DE SALUD CHACAS","ANCASH","ANTONIO RAIMONDI","ACZO","020302","2","05","03","ANCASH","CONCHUCOS SUR","C.R. LLAMELLIN","I-1"]
[null,{"$f":"VALUE(renipress[[#This Row],[Código Único]])","v":1850},"GOBIERNO REGIONAL","00001850","PUESTO DE SALUD CHACCHO","ANCASH","ANTONIO RAIMONDI","CHACCHO","020303","2","05","03","ANCASH","CONCHUCOS SUR","C.R. LLAMELLIN","I-1"]
[null,{"$f":"VALUE(renipress[[#This Row],[Código Único]])","v":1851},"GOBIERNO REGIONAL","00001851","PUESTO DE SALUD CHINGAS","ANCASH","ANTONIO RAIMONDI","CHINGAS","020304","2","05","03","ANCASH","CONCHUCOS SUR","C.R. LLAMELLIN","I-2"]
[null,{"$f":"VALUE(renipress[[#This Row],[Código Único]])","v":1852},"GOBIERNO REGIONAL","00001852","PUESTO DE SALUD MIRGAS","ANCASH","ANTONIO RAIMONDI","MIRGAS","020305","2","05","03","ANCASH","CONCHUCOS SUR","C.R. LLAMELLIN","I-2"]
[null,{"$f":"VALUE(renipress[[#This Row],[Código Único]])","v":1853},"GOBIERNO REGIONAL","00001853","PUESTO DE SALUD SAN MARTIN DE PARAS","ANCASH","ANTONIO RAIMONDI","MIRGAS","020305","2","05","03","ANCASH","CONCHUCOS SUR","C.R. LLAMELLIN","I-1"]
[null,{"$f":"VALUE(renipress[[#This Row],[Código Único]])","v":1854},"GOBIERNO REGIONAL","00001854","PUESTO DE SALUD SAN JOSE DE ILLAURO","ANCASH","ANTONIO RAIMONDI","MIRGAS","020305","2","05","03","ANCASH","CONCHUCOS SUR","C.R. LLAMELLIN","I-1"]
[null,{"$f":"VALUE(renipress[[#This Row],[Código Único]])","v":1855},"GOBIERNO REGIONAL","00001855","PUESTO DE SALUD SAN JUAN DE RONTOY","ANCASH","ANTONIO RAIMONDI","SAN JUAN DE RONTOY","020306","2","05","03","ANCASH","CONCHUCOS SUR","C.R. LLAMELLIN","I-1"]
[null,{"$f":"VALUE(renipress[[#This Row],[Código Único]])","v":1856},"GOBIERNO REGIONAL","00001856","CENTRO DE SALUD SAN LUIS","ANCASH","CARLOS FERMIN FITZCARRALD","SAN LUIS","020701","2","05","07","ANCASH","CONCHUCOS SUR","C.R. SAN LUIS","I-3"]
[null,{"$f":"VALUE(renipress[[#This Row],[Código Único]])","v":1857},"GOBIERNO REGIONAL","00001857","PUESTO DE SALUD POMALLUCAY","ANCASH","CARLOS FERMIN FITZCARRALD","SAN LUIS","020701","2","05","07","ANCASH","CONCHUCOS SUR","C.R. SAN LUIS","I-1"]
[null,{"$f":"VALUE(renipress[[#This Row],[Código Único]])","v":1858},"GOBIERNO REGIONAL","00001858","PUESTO DE SALUD HUMANHUAUCO","ANCASH","CARLOS FERMIN FITZCARRALD","SAN LUIS","020701","2","05","07","ANCASH","CONCHUCOS SUR","C.R. SAN LUIS","I-1"]
[null,{"$f":"VALUE(renipress[[#This Row],[Código Único]])","v":1859},"GOBIERNO REGIONAL","00001859","PUESTO DE SALUD UCHUSQUILLO","ANCASH","CARLOS FERMIN FITZCARRALD","SAN LUIS","020701","2","05","07","ANCASH","CONCHUCOS SUR","C.R. SAN LUIS","I-1"]
[null,{"$f":"VALUE(renipress[[#This Row],[Código Único]])","v":1860},"GOBIERNO REGIONAL","00001860","PUESTO DE SALUD CANCHABAMBA","ANCASH","CARLOS FERMIN FITZCARRALD","SAN LUIS","020701","2","05","07","ANCASH","CONCHUCOS SUR","C.R. SAN LUIS","I-1"]
[null,{"$f":"VALUE(renipress[[#This Row],[Código Único]])","v":1861},"GOBIERNO REGIONAL","00001861","CENTRO DE SALUD YAUYA","ANCASH","CARLOS FERMIN FITZCARRALD","YAUYA","020703","2","05","07","ANCASH","CONCHUCOS SUR","C.R. SAN LUIS","I-3"]
[null,{"$f":"VALUE(renipress[[#This Row],[Código Único]])","v":1862},"GOBIERNO REGIONAL","00001862","PUESTO DE SALUD CHINCHO","ANCASH","CARLOS FERMIN FITZCARRALD","YAUYA","020703","2","05","07","ANCASH","CONCHUCOS SUR","C.R. SAN LUIS","I-1"]
[null,{"$f":"VALUE(renipress[[#This Row],[Código Único]])","v":1863},"GOBIERNO REGIONAL","00001863","CENTRO DE SALUD SAN NICOLAS","ANCASH","CARLOS FERMIN FITZCARRALD","SAN NICOLAS","020702","2","05","07","ANCASH","CONCHUCOS SUR","C.R. SAN LUIS","I-4"]
[null,{"$f":"VALUE(renipress[[#This Row],[Código Único]])","v":1864},"GOBIERNO REGIONAL","00001864","PUESTO DE SALUD RURISH","ANCASH","CARLOS FERMIN FITZCARRALD","SAN NICOLAS","020702","2","05","07","ANCASH","CONCHUCOS SUR","C.R. SAN LUIS","I-1"]
[null,{"$f":"VALUE(renipress[[#This Row],[Código Único]])","v":1865},"GOBIERNO REGIONAL","00001865","PUESTO DE SALUD LLAMACA","ANCASH","CARLOS FERMIN FITZCARRALD","SAN NICOLAS","020702","2","05","07","ANCASH","CONCHUCOS SUR","C.R. SAN LUIS","I-1"]
[null,{"$f":"VALUE(renipress[[#This Row],[Código Único]])","v":1866},"GOBIERNO REGIONAL","00001866","CLAS CORRALES","TUMBES","TUMBES","CORRALES","240102","33","01","03","TUMBES","TUMBES","CORRALES","I-4"]
[null,{"$f":"VALUE(renipress[[#This Row],[Código Único]])","v":1867},"GOBIERNO REGIONAL","00001867","SAN ISIDRO","TUMBES","TUMBES","CORRALES","240102","33","01","03","TUMBES","TUMBES","CORRALES","I-2"]
[null,{"$f":"VALUE(renipress[[#This Row],[Código Único]])","v":1868},"GOBIERNO REGIONAL","00001868","MALVAL","TUMBES","TUMBES","CORRALES","240102","33","01","03","TUMBES","TUMBES","CORRALES","I-2"]
[null,{"$f":"VALUE(renipress[[#This Row],[Código Único]])","v":1869},"GOBIERNO REGIONAL","00001869","CLAS LA CRUZ","TUMBES","TUMBES","LA CRUZ","240103","33","01","03","TUMBES","TUMBES","CORRALES","I-3"]
[null,{"$f":"VALUE(renipress[[#This Row],[Código Único]])","v":1870},"GOBIERNO REGIONAL","00001870","SAN JACINTO","TUMBES","TUMBES","SAN JACINTO","240105","33","01","03","TUMBES","TUMBES","CORRALES","I-3"]
[null,{"$f":"VALUE(renipress[[#This Row],[Código Único]])","v":1871},"GOBIERNO REGIONAL","00001871","RICA PLAYA","TUMBES","TUMBES","SAN JACINTO","240105","33","01","03","TUMBES","TUMBES","CORRALES","I-1"]
[null,{"$f":"VALUE(renipress[[#This Row],[Código Único]])","v":1872},"GOBIERNO REGIONAL","00001872","VAQUERIA","TUMBES","TUMBES","SAN JACINTO","240105","33","01","03","TUMBES","TUMBES","CORRALES","I-2"]
[null,{"$f":"VALUE(renipress[[#This Row],[Código Único]])","v":1873},"GOBIERNO REGIONAL","00001873","CASA BLANQUEADA","TUMBES","TUMBES","SAN JACINTO","240105","33","01","03","TUMBES","TUMBES","CORRALES","I-2"]
[null,{"$f":"VALUE(renipress[[#This Row],[Código Único]])","v":1874},"GOBIERNO REGIONAL","00001874","OIDOR.","TUMBES","TUMBES","SAN JACINTO","240105","33","01","03","TUMBES","TUMBES","CORRALES","I-1"]
[null,{"$f":"VALUE(renipress[[#This Row],[Código Único]])","v":1875},"GOBIERNO REGIONAL","00001875","PAMPAS DE HOSPITAL","TUMBES","TUMBES","PAMPAS DE HOSPITAL","240104","33","01","02","TUMBES","TUMBES","PAMPA GRANDE","I-3"]
[null,{"$f":"VALUE(renipress[[#This Row],[Código Único]])","v":1876},"GOBIERNO REGIONAL","00001876","CABUYAL","TUMBES","TUMBES","PAMPAS DE HOSPITAL","240104","33","01","02","TUMBES","TUMBES","PAMPA GRANDE","I-2"]
[null,{"$f":"VALUE(renipress[[#This Row],[Código Único]])","v":1877},"GOBIERNO REGIONAL","00001877","CRUZ BLANCA.","TUMBES","TUMBES","PAMPAS DE HOSPITAL","240104","33","01","02","TUMBES","TUMBES","PAMPA GRANDE","I-1"]
[null,{"$f":"VALUE(renipress[[#This Row],[Código Único]])","v":1878},"GOBIERNO REGIONAL","00001878","EL LIMON","TUMBES","TUMBES","PAMPAS DE HOSPITAL","240104","33","01","02","TUMBES","TUMBES","PAMPA GRANDE","I-1"]
[null,{"$f":"VALUE(renipress[[#This Row],[Código Único]])","v":1879},"GOBIERNO REGIONAL","00001879","CLAS SAN JUAN DE LA VIRGEN","TUMBES","TUMBES","SAN JUAN DE LA VIRGEN","240106","33","01","02","TUMBES","TUMBES","PAMPA GRANDE","I-3"]
[null,{"$f":"VALUE(renipress[[#This Row],[Código Único]])","v":1880},"GOBIERNO REGIONAL","00001880","CERRO BLANCO","TUMBES","TUMBES","SAN JUAN DE LA VIRGEN","240106","33","01","02","TUMBES","TUMBES","PAMPA GRANDE","I-1"]
[null,{"$f":"VALUE(renipress[[#This Row],[Código Único]])","v":1881},"GOBIERNO REGIONAL","00001881","GARBANZAL","TUMBES","TUMBES","SAN JUAN DE LA VIRGEN","240106","33","01","02","TUMBES","TUMBES","PAMPA GRANDE","I-1"]
[null,{"$f":"VALUE(renipress[[#This Row],[Código Único]])","v":1882},"GOBIERNO REGIONAL","00001882","PAMPA GRANDE","TUMBES","TUMBES","TUMBES","240101","33","01","02","TUMBES","TUMBES","PAMPA GRANDE","I-4"]
[null,{"$f":"VALUE(renipress[[#This Row],[Código Único]])","v":1883},"GOBIERNO REGIONAL","00001883","PUERTO PIZARRO","TUMBES","TUMBES","TUMBES","240101","33","01","02","TUMBES","TUMBES","PAMPA GRANDE","I-2"]
[null,{"$f":"VALUE(renipress[[#This Row],[Código Único]])","v":1884},"GOBIERNO REGIONAL","00001884","CLAS ANDRES ARAUJO MORAN","TUMBES","TUMBES","TUMBES","240101","33","01","02","TUMBES","TUMBES","PAMPA GRANDE","I-3"]
[null,{"$f":"VALUE(renipress[[#This Row],[Código Único]])","v":1885},"GOBIERNO REGIONAL","00001885","CLAS AGUAS VERDES","TUMBES","ZARUMILLA","AGUAS VERDES","240302","33","01","01","TUMBES","TUMBES","ZARUMILLA","I-3"]
[null,{"$f":"VALUE(renipress[[#This Row],[Código Único]])","v":1886},"GOBIERNO REGIONAL","00001886","CUCHARETA BAJA","TUMBES","ZARUMILLA","AGUAS VERDES","240302","33","01","01","TUMBES","TUMBES","ZARUMILLA","I-2"]
[null,{"$f":"VALUE(renipress[[#This Row],[Código Único]])","v":1887},"GOBIERNO REGIONAL","00001887","POCITOS","TUMBES","ZARUMILLA","AGUAS VERDES","240302","33","01","01","TUMBES","TUMBES","ZARUMILLA","I-1"]
[null,{"$f":"VALUE(renipress[[#This Row],[Código Único]])","v":1888},"GOBIERNO REGIONAL","00001888","LA CURVA","TUMBES","ZARUMILLA","AGUAS VERDES","240302","33","01","01","TUMBES","TUMBES","ZARUMILLA","I-2"]
[null,{"$f":"VALUE(renipress[[#This Row],[Código Único]])","v":1889},"GOBIERNO REGIONAL","00001889","LOMA SAAVEDRA","TUMBES","ZARUMILLA","AGUAS VERDES","240302","33","01","01","TUMBES","TUMBES","ZARUMILLA","I-1"]
[null,{"$f":"VALUE(renipress[[#This Row],[Código Único]])","v":1890},"GOBIERNO REGIONAL","00001890","C.S MATAPALO","TUMBES","ZARUMILLA","MATAPALO","240303","33","01","01","TUMBES","TUMBES","ZARUMILLA","I-3"]
[null,{"$f":"VALUE(renipress[[#This Row],[Código Único]])","v":1891},"GOBIERNO REGIONAL","00001891","C.S. PAPAYAL","TUMBES","ZARUMILLA","PAPAYAL","240304","33","01","01","TUMBES","TUMBES","ZARUMILLA","I-3"]
[null,{"$f":"VALUE(renipress[[#This Row],[Código Único]])","v":1892},"GOBIERNO REGIONAL","00001892","LA PALMA","TUMBES","ZARUMILLA","PAPAYAL","240304","33","01","01","TUMBES","TUMBES","ZARUMILLA","I-2"]
[null,{"$f":"VALUE(renipress[[#This Row],[Código Único]])","v":1893},"GOBIERNO REGIONAL","00001893","UÑA DE GATO","TUMBES","ZARUMILLA","PAPAYAL","240304","33","01","01","TUMBES","TUMBES","ZARUMILLA","I-2"]
[null,{"$f":"VALUE(renipress[[#This Row],[Código Único]])","v":1894},"GOBIERNO REGIONAL","00001894","EL PORVENIR.","TUMBES","ZARUMILLA","PAPAYAL","240304","33","01","01","TUMBES","TUMBES","ZARUMILLA","I-1"]
[null,{"$f":"VALUE(renipress[[#This Row],[Código Único]])","v":1895},"GOBIERNO REGIONAL","00001895","LECHUGAL","TUMBES","ZARUMILLA","PAPAYAL","240304","33","01","01","TUMBES","TUMBES","ZARUMILLA","I-1"]
[null,{"$f":"VALUE(renipress[[#This Row],[Código Único]])","v":1896},"GOBIERNO REGIONAL","00001896","CENTRO DE SALUD ZARUMILLA","TUMBES","ZARUMILLA","ZARUMILLA","240301","33","01","01","TUMBES","TUMBES","ZARUMILLA","I-4"]
[null,{"$f":"VALUE(renipress[[#This Row],[Código Único]])","v":1897},"GOBIERNO REGIONAL","00001897","CAÑAVERAL","TUMBES","CONTRALMIRANTE VILLAR","CASITAS","240202","33","01","04","TUMBES","TUMBES","ZORRITOS","I-3"]
[null,{"$f":"VALUE(renipress[[#This Row],[Código Único]])","v":1898},"GOBIERNO REGIONAL","00001898","TRIGAL","TUMBES","CONTRALMIRANTE VILLAR","CASITAS","240202","33","01","04","TUMBES","TUMBES","ZORRITOS","I-1"]
[null,{"$f":"VALUE(renipress[[#This Row],[Código Único]])","v":1899},"GOBIERNO REGIONAL","00001899","LA CHOZA","TUMBES","CONTRALMIRANTE VILLAR","CASITAS","240202","33","01","04","TUMBES","TUMBES","ZORRITOS","I-2"]
[null,{"$f":"VALUE(renipress[[#This Row],[Código Único]])","v":1900},"GOBIERNO REGIONAL","00001900","ZORRITOS","TUMBES","CONTRALMIRANTE VILLAR","ZORRITOS","240201","33","01","04","TUMBES","TUMBES","ZORRITOS","I-4"]
[null,{"$f":"VALUE(renipress[[#This Row],[Código Único]])","v":1901},"GOBIERNO REGIONAL","00001901","GRAU","TUMBES","CONTRALMIRANTE VILLAR","ZORRITOS","240201","33","01","04","TUMBES","TUMBES","ZORRITOS","I-1"]
[null,{"$f":"VALUE(renipress[[#This Row],[Código Único]])","v":1902},"GOBIERNO REGIONAL","00001902","CANCAS","TUMBES","CONTRALMIRANTE VILLAR","CANOAS DE PUNTA SAL","240203","33","01","04","TUMBES","TUMBES","ZORRITOS","I-3"]
[null,{"$f":"VALUE(renipress[[#This Row],[Código Único]])","v":1903},"GOBIERNO REGIONAL","00001903","ACAPULCO.","TUMBES","CONTRALMIRANTE VILLAR","ZORRITOS","240201","33","01","04","TUMBES","TUMBES","ZORRITOS","I-2"]
[null,{"$f":"VALUE(renipress[[#This Row],[Código Único]])","v":1904},"GOBIERNO REGIONAL","00001904","BOCAPAN.","TUMBES","CONTRALMIRANTE VILLAR","ZORRITOS","240201","33","01","04","TUMBES","TUMBES","ZORRITOS","I-1"]
[null,{"$f":"VALUE(renipress[[#This Row],[Código Único]])","v":1905},"GOBIERNO REGIONAL","00001905","BARRANCOS.","TUMBES","CONTRALMIRANTE VILLAR","CANOAS DE PUNTA SAL","240203","33","01","04","TUMBES","TUMBES","ZORRITOS","I-1"]
[null,{"$f":"VALUE(renipress[[#This Row],[Código Único]])","v":1906},"GOBIERNO REGIONAL","00001906","PAJARITOS","TUMBES","CONTRALMIRANTE VILLAR","CANOAS DE PUNTA SAL","240203","33","01","04","TUMBES","TUMBES","ZORRITOS","I-1"]
[null,{"$f":"VALUE(renipress[[#This Row],[Código Único]])","v":1907},"GOBIERNO REGIONAL","00001907","CAPITAN HOYLE  *","TUMBES","TUMBES","SAN JACINTO","240105","33","01","03","TUMBES","TUMBES","CORRALES","I-1"]
[null,{"$f":"VALUE(renipress[[#This Row],[Código Único]])","v":1908},"GOBIERNO REGIONAL","00001908","SAÚL GARRIDO ROSILLO","TUMBES","TUMBES","TUMBES","240101","33","01","00","TUMBES","TUMBES","NO PERTENECE A NINGUNA MICRORED","II-1"]
[null,{"$f":"VALUE(renipress[[#This Row],[Código Único]])","v":1909},"GOBIERNO REGIONAL","00001909","CENTRO OFTALMOLOGICO","TUMBES","TUMBES","TUMBES","240101","33","00","00","TUMBES","NO PERTENECE A NINGUNA RED","NO PERTENECE A NINGUNA MICRORED","Sin Categoría"]
[null,{"$f":"VALUE(renipress[[#This Row],[Código Único]])","v":1910},"GOBIERNO REGIONAL","00001910","HOSPITAL DE APOYO II - 2, SULLANA","PIURA","SULLANA","SULLANA","200601","28","00","00","PIURA","NO PERTENECE A NINGUNA RED","NO PERTENECE A NINGUNA MICRORED","II-2"]
[null,{"$f":"VALUE(renipress[[#This Row],[Código Único]])","v":1911},"GOBIERNO REGIONAL","00001911","CENTRO DE SALUD DE AYABACA","PIURA","AYABACA","AYABACA","200201","28","07","04","PIURA","AYABACA","AYABACA","I-4"]
[null,{"$f":"VALUE(renipress[[#This Row],[Código Único]])","v":1912},"GOBIERNO REGIONAL","00001912","TAPAL","PIURA","AYABACA","AYABACA","200201","28","07","04","PIURA","AYABACA","AYABACA","I-2"]
[null,{"$f":"VALUE(renipress[[#This Row],[Código Único]])","v":1913},"GOBIERNO REGIONAL","00001913","CHINCHIN","PIURA","AYABACA","AYABACA","200201","28","07","04","PIURA","AYABACA","AYABACA","I-1"]
[null,{"$f":"VALUE(renipress[[#This Row],[Código Único]])","v":1914},"GOBIERNO REGIONAL","00001914","OLLEROS","PIURA","AYABACA","AYABACA","200201","28","07","04","PIURA","AYABACA","AYABACA","I-2"]
[null,{"$f":"VALUE(renipress[[#This Row],[Código Único]])","v":1915},"GOBIERNO REGIONAL","00001915","ARAGOTO","PIURA","AYABACA","AYABACA","200201","28","07","04","PIURA","AYABACA","AYABACA","I-2"]
[null,{"$f":"VALUE(renipress[[#This Row],[Código Único]])","v":1916},"GOBIERNO REGIONAL","00001916","CHOCAN","PIURA","AYABACA","AYABACA","200201","28","07","04","PIURA","AYABACA","AYABACA","I-2"]
[null,{"$f":"VALUE(renipress[[#This Row],[Código Único]])","v":1917},"GOBIERNO REGIONAL","00001917","YANCHALA","PIURA","AYABACA","AYABACA","200201","28","07","04","PIURA","AYABACA","AYABACA","I-2"]
[null,{"$f":"VALUE(renipress[[#This Row],[Código Único]])","v":1918},"GOBIERNO REGIONAL","00001918","ARREYPITE - PINGOLA","PIURA","AYABACA","AYABACA","200201","28","07","04","PIURA","AYABACA","AYABACA","I-1"]
[null,{"$f":"VALUE(renipress[[#This Row],[Código Único]])","v":1919},"GOBIERNO REGIONAL","00001919","CALVAS DE SAMANGA","PIURA","AYABACA","AYABACA","200201","28","07","04","PIURA","AYABACA","AYABACA","I-1"]
[null,{"$f":"VALUE(renipress[[#This Row],[Código Único]])","v":1920},"GOBIERNO REGIONAL","00001920","ESPINDOLA","PIURA","AYABACA","AYABACA","200201","28","07","04","PIURA","AYABACA","AYABACA","I-2"]
[null,{"$f":"VALUE(renipress[[#This Row],[Código Único]])","v":1921},"GOBIERNO REGIONAL","00001921","REMOLINOS","PIURA","AYABACA","AYABACA","200201","28","07","04","PIURA","AYABACA","AYABACA","I-1"]
[null,{"$f":"VALUE(renipress[[#This Row],[Código Único]])","v":1922},"GOBIERNO REGIONAL","00001922","ANDURCO","PIURA","AYABACA","AYABACA","200201","28","07","04","PIURA","AYABACA","AYABACA","I-1"]
[null,{"$f":"VALUE(renipress[[#This Row],[Código Único]])","v":1923},"GOBIERNO REGIONAL","00001923","HUIRIQUINGUE","PIURA","AYABACA","AYABACA","200201","28","07","04","PIURA","AYABACA","AYABACA","I-1"]
[null,{"$f":"VALUE(renipress[[#This Row],[Código Único]])","v":1924},"GOBIERNO REGIONAL","00001924","HUACHUMA","PIURA","AYABACA","AYABACA","200201","28","07","04","PIURA","AYABACA","AYABACA","I-1"]
[null,{"$f":"VALUE(renipress[[#This Row],[Código Único]])","v":1925},"GOBIERNO REGIONAL","00001925","SAUSAL","PIURA","AYABACA","AYABACA","200201","28","07","04","PIURA","AYABACA","AYABACA","I-1"]
[null,{"$f":"VALUE(renipress[[#This Row],[Código Único]])","v":1926},"GOBIERNO REGIONAL","00001926","EL TOLDO","PIURA","AYABACA","AYABACA","200201","28","07","04","PIURA","AYABACA","AYABACA","I-1"]
[null,{"$f":"VALUE(renipress[[#This Row],[Código Único]])","v":1927},"GOBIERNO REGIONAL","00001927","SAMANGUILLA","PIURA","AYABACA","AYABACA","200201","28","07","04","PIURA","AYABACA","AYABACA","I-1"]
[null,{"$f":"VALUE(renipress[[#This Row],[Código Único]])","v":1928},"GOBIERNO REGIONAL","00001928","CHARAN","PIURA","AYABACA","AYABACA","200201","28","07","04","PIURA","AYABACA","AYABACA","I-1"]
[null,{"$f":"VALUE(renipress[[#This Row],[Código Único]])","v":1929},"GOBIERNO REGIONAL","00001929","LAGUNAS DE CANGLY","PIURA","AYABACA","AYABACA","200201","28","07","04","PIURA","AYABACA","AYABACA","I-1"]
[null,{"$f":"VALUE(renipress[[#This Row],[Código Único]])","v":1930},"GOBIERNO REGIONAL","00001930","PORTACHUELO DE YANTA","PIURA","AYABACA","AYABACA","200201","28","07","04","PIURA","AYABACA","AYABACA","I-2"]
[null,{"$f":"VALUE(renipress[[#This Row],[Código Único]])","v":1931},"GOBIERNO REGIONAL","00001931","GICLAS","PIURA","AYABACA","AYABACA","200201","28","07","04","PIURA","AYABACA","AYABACA","I-1"]
[null,{"$f":"VALUE(renipress[[#This Row],[Código Único]])","v":1932},"GOBIERNO REGIONAL","00001932","LAS LOMAS","PIURA","PIURA","LAS LOMAS","200111","28","07","02","PIURA","AYABACA","LAS LOMAS","I-3"]
[null,{"$f":"VALUE(renipress[[#This Row],[Código Único]])","v":1933},"GOBIERNO REGIONAL","00001933","POTRERILLO","PIURA","PIURA","LAS LOMAS","200111","28","07","02","PIURA","AYABACA","LAS LOMAS","I-2"]
[null,{"$f":"VALUE(renipress[[#This Row],[Código Único]])","v":1934},"GOBIERNO REGIONAL","00001934","CHIPILLICO","PIURA","PIURA","LAS LOMAS","200111","28","07","02","PIURA","AYABACA","LAS LOMAS","I-2"]
[null,{"$f":"VALUE(renipress[[#This Row],[Código Único]])","v":1935},"GOBIERNO REGIONAL","00001935","EL SAUCE-LAS LOMAS","PIURA","PIURA","LAS LOMAS","200111","28","07","02","PIURA","AYABACA","LAS LOMAS","I-1"]
[null,{"$f":"VALUE(renipress[[#This Row],[Código Único]])","v":1936},"GOBIERNO REGIONAL","00001936","PAMPA ELERA BAJA","PIURA","PIURA","LAS LOMAS","200111","28","07","02","PIURA","AYABACA","LAS LOMAS","I-1"]
[null,{"$f":"VALUE(renipress[[#This Row],[Código Único]])","v":1937},"GOBIERNO REGIONAL","00001937","PELINGARA","PIURA","PIURA","LAS LOMAS","200111","28","07","02","PIURA","AYABACA","LAS LOMAS","I-1"]
[null,{"$f":"VALUE(renipress[[#This Row],[Código Único]])","v":1938},"GOBIERNO REGIONAL","00001938","HUACHUMA ALTA","PIURA","PIURA","LAS LOMAS","200111","28","07","02","PIURA","AYABACA","LAS LOMAS","I-1"]
[null,{"$f":"VALUE(renipress[[#This Row],[Código Único]])","v":1939},"GOBIERNO REGIONAL","00001939","SAN FRANCISCO DE PAMPA ELERA","PIURA","PIURA","LAS LOMAS","200111","28","07","02","PIURA","AYABACA","LAS LOMAS","I-1"]
[null,{"$f":"VALUE(renipress[[#This Row],[Código Único]])","v":1940},"GOBIERNO REGIONAL","00001940","SANTA ELENA - LAS LOMAS","PIURA","PIURA","LAS LOMAS","200111","28","07","02","PIURA","AYABACA","LAS LOMAS","I-1"]
[null,{"$f":"VALUE(renipress[[#This Row],[Código Único]])","v":1941},"GOBIERNO REGIONAL","00001941","PUERTA PULACHE","PIURA","PIURA","LAS LOMAS","200111","28","07","02","PIURA","AYABACA","LAS LOMAS","I-1"]
[null,{"$f":"VALUE(renipress[[#This Row],[Código Único]])","v":1942},"GOBIERNO REGIONAL","00001942","GARABATOS","PIURA","PIURA","LAS LOMAS","200111","28","07","02","PIURA","AYABACA","LAS LOMAS","I-1"]
[null,{"$f":"VALUE(renipress[[#This Row],[Código Único]])","v":1943},"GOBIERNO REGIONAL","00001943","EL PARTIDOR","PIURA","PIURA","LAS LOMAS","200111","28","07","02","PIURA","AYABACA","LAS LOMAS","I-3"]
[null,{"$f":"VALUE(renipress[[#This Row],[Código Único]])","v":1944},"GOBIERNO REGIONAL","00001944","LA MENTA","PIURA","PIURA","LAS LOMAS","200111","28","07","02","PIURA","AYABACA","LAS LOMAS","I-1"]
[null,{"$f":"VALUE(renipress[[#This Row],[Código Único]])","v":1945},"GOBIERNO REGIONAL","00001945","SUYO","PIURA","AYABACA","SUYO","200210","28","07","02","PIURA","AYABACA","LAS LOMAS","I-3"]
[null,{"$f":"VALUE(renipress[[#This Row],[Código Único]])","v":1946},"GOBIERNO REGIONAL","00001946","CHIRINOS","PIURA","AYABACA","SUYO","200210","28","07","02","PIURA","AYABACA","LAS LOMAS","I-2"]
[null,{"$f":"VALUE(renipress[[#This Row],[Código Único]])","v":1947},"GOBIERNO REGIONAL","00001947","PAMPA  LARGA-GUITARRAS","PIURA","AYABACA","SUYO","200210","28","07","02","PIURA","AYABACA","LAS LOMAS","I-2"]
[null,{"$f":"VALUE(renipress[[#This Row],[Código Único]])","v":1948},"GOBIERNO REGIONAL","00001948","LA TINA","PIURA","AYABACA","SUYO","200210","28","07","02","PIURA","AYABACA","LAS LOMAS","I-1"]
[null,{"$f":"VALUE(renipress[[#This Row],[Código Único]])","v":1949},"GOBIERNO REGIONAL","00001949","LA TIENDA","PIURA","AYABACA","SUYO","200210","28","07","02","PIURA","AYABACA","LAS LOMAS","I-2"]
[null,{"$f":"VALUE(renipress[[#This Row],[Código Único]])","v":1950},"GOBIERNO REGIONAL","00001950","SURPAMPA","PIURA","AYABACA","SUYO","200210","28","07","02","PIURA","AYABACA","LAS LOMAS","I-2"]
[null,{"$f":"VALUE(renipress[[#This Row],[Código Único]])","v":1951},"GOBIERNO REGIONAL","00001951","SARAYUYO","PIURA","AYABACA","SUYO","200210","28","07","02","PIURA","AYABACA","LAS LOMAS","I-1"]
[null,{"$f":"VALUE(renipress[[#This Row],[Código Único]])","v":1952},"GOBIERNO REGIONAL","00001952","PUENTE INTERNACIONAL","PIURA","AYABACA","SUYO","200210","28","07","02","PIURA","AYABACA","LAS LOMAS","I-2"]
[null,{"$f":"VALUE(renipress[[#This Row],[Código Único]])","v":1953},"GOBIERNO REGIONAL","00001953","SANTA ANA DE QUIROZ","PIURA","AYABACA","SUYO","200210","28","07","02","PIURA","AYABACA","LAS LOMAS","I-2"]
[null,{"$f":"VALUE(renipress[[#This Row],[Código Único]])","v":1954},"GOBIERNO REGIONAL","00001954","LA LAGUNA","PIURA","AYABACA","SUYO","200210","28","07","02","PIURA","AYABACA","LAS LOMAS","I-1"]
[null,{"$f":"VALUE(renipress[[#This Row],[Código Único]])","v":1955},"GOBIERNO REGIONAL","00001955","SAPILLLICA","PIURA","AYABACA","SAPILLICA","200208","28","07","02","PIURA","AYABACA","LAS LOMAS","I-3"]
[null,{"$f":"VALUE(renipress[[#This Row],[Código Único]])","v":1956},"GOBIERNO REGIONAL","00001956","TASAJERAS","PIURA","AYABACA","SAPILLICA","200208","28","07","02","PIURA","AYABACA","LAS LOMAS","I-1"]
[null,{"$f":"VALUE(renipress[[#This Row],[Código Único]])","v":1957},"GOBIERNO REGIONAL","00001957","COLETAS-CHACHACOMAL","PIURA","AYABACA","SAPILLICA","200208","28","07","02","PIURA","AYABACA","LAS LOMAS","I-1"]
[null,{"$f":"VALUE(renipress[[#This Row],[Código Único]])","v":1958},"GOBIERNO REGIONAL","00001958","EL SAUCE-SAPILLICA","PIURA","AYABACA","SAPILLICA","200208","28","07","02","PIURA","AYABACA","LAS LOMAS","I-1"]
[null,{"$f":"VALUE(renipress[[#This Row],[Código Único]])","v":1959},"GOBIERNO REGIONAL","00001959","PAIMAS","PIURA","AYABACA","PAIMAS","200207","28","07","03","PIURA","AYABACA","PAIMAS","I-4"]
[null,{"$f":"VALUE(renipress[[#This Row],[Código Único]])","v":1960},"GOBIERNO REGIONAL","00001960","LA SAUCHA","PIURA","AYABACA","PAIMAS","200207","28","07","03","PIURA","AYABACA","PAIMAS","I-1"]
[null,{"$f":"VALUE(renipress[[#This Row],[Código Único]])","v":1961},"GOBIERNO REGIONAL","00001961","TONDOPA","PIURA","AYABACA","PAIMAS","200207","28","07","03","PIURA","AYABACA","PAIMAS","I-1"]
[null,{"$f":"VALUE(renipress[[#This Row],[Código Único]])","v":1962},"GOBIERNO REGIONAL","00001962","JILILI","PIURA","AYABACA","JILILI","200203","28","07","03","PIURA","AYABACA","PAIMAS","I-3"]
[null,{"$f":"VALUE(renipress[[#This Row],[Código Único]])","v":1963},"GOBIERNO REGIONAL","00001963","ANCHALAY","PIURA","AYABACA","JILILI","200203","28","07","03","PIURA","AYABACA","PAIMAS","I-1"]
[null,{"$f":"VALUE(renipress[[#This Row],[Código Único]])","v":1964},"GOBIERNO REGIONAL","00001964","CUCUYAS","PIURA","AYABACA","JILILI","200203","28","07","03","PIURA","AYABACA","PAIMAS","I-2"]
[null,{"$f":"VALUE(renipress[[#This Row],[Código Único]])","v":1965},"GOBIERNO REGIONAL","00001965","LAGUNAS","PIURA","AYABACA","LAGUNAS","200204","28","07","03","PIURA","AYABACA","PAIMAS","I-3"]
[null,{"$f":"VALUE(renipress[[#This Row],[Código Único]])","v":1966},"GOBIERNO REGIONAL","00001966","EL LUCUMO","PIURA","AYABACA","LAGUNAS","200204","28","07","03","PIURA","AYABACA","PAIMAS","I-1"]
[null,{"$f":"VALUE(renipress[[#This Row],[Código Único]])","v":1967},"GOBIERNO REGIONAL","00001967","SALVIA","PIURA","AYABACA","LAGUNAS","200204","28","07","03","PIURA","AYABACA","PAIMAS","I-1"]
[null,{"$f":"VALUE(renipress[[#This Row],[Código Único]])","v":1968},"GOBIERNO REGIONAL","00001968","SAN JUAN DE LAGUNAS","PIURA","AYABACA","LAGUNAS","200204","28","07","03","PIURA","AYABACA","PAIMAS","I-2"]
[null,{"$f":"VALUE(renipress[[#This Row],[Código Único]])","v":1969},"GOBIERNO REGIONAL","00001969","PILLO","PIURA","AYABACA","LAGUNAS","200204","28","07","03","PIURA","AYABACA","PAIMAS","I-1"]
[null,{"$f":"VALUE(renipress[[#This Row],[Código Único]])","v":1970},"GOBIERNO REGIONAL","00001970","MONTERO","PIURA","AYABACA","MONTERO","200205","28","07","03","PIURA","AYABACA","PAIMAS","I-3"]
[null,{"$f":"VALUE(renipress[[#This Row],[Código Único]])","v":1971},"GOBIERNO REGIONAL","00001971","SICACATE","PIURA","AYABACA","MONTERO","200205","28","07","03","PIURA","AYABACA","PAIMAS","I-1"]
[null,{"$f":"VALUE(renipress[[#This Row],[Código Único]])","v":1972},"GOBIERNO REGIONAL","00001972","MARMAS ALTO","PIURA","AYABACA","MONTERO","200205","28","07","03","PIURA","AYABACA","PAIMAS","I-1"]
[null,{"$f":"VALUE(renipress[[#This Row],[Código Único]])","v":1973},"GOBIERNO REGIONAL","00001973","QUEBRADA DE AGUA","PIURA","AYABACA","MONTERO","200205","28","07","03","PIURA","AYABACA","PAIMAS","I-1"]
[null,{"$f":"VALUE(renipress[[#This Row],[Código Único]])","v":1974},"GOBIERNO REGIONAL","00001974","SICCHEZ","PIURA","AYABACA","SICCHEZ","200209","28","07","03","PIURA","AYABACA","PAIMAS","I-3"]
[null,{"$f":"VALUE(renipress[[#This Row],[Código Único]])","v":1975},"GOBIERNO REGIONAL","00001975","OXAHUAY","PIURA","AYABACA","SICCHEZ","200209","28","07","03","PIURA","AYABACA","PAIMAS","I-2"]
[null,{"$f":"VALUE(renipress[[#This Row],[Código Único]])","v":1976},"GOBIERNO REGIONAL","00001976","AMBASAL","PIURA","AYABACA","SICCHEZ","200209","28","07","03","PIURA","AYABACA","PAIMAS","I-2"]
[null,{"$f":"VALUE(renipress[[#This Row],[Código Único]])","v":1977},"GOBIERNO REGIONAL","00001977","TAMBOGRANDE","PIURA","PIURA","TAMBO GRANDE","200114","28","07","01","PIURA","AYABACA","TAMBOGRANDE","I-4"]
[null,{"$f":"VALUE(renipress[[#This Row],[Código Único]])","v":1978},"GOBIERNO REGIONAL","00001978","SAN ISIDRO","PIURA","PIURA","TAMBO GRANDE","200114","28","07","01","PIURA","AYABACA","TAMBOGRANDE","I-3"]
[null,{"$f":"VALUE(renipress[[#This Row],[Código Único]])","v":1979},"GOBIERNO REGIONAL","00001979","CRUCETA","PIURA","PIURA","TAMBO GRANDE","200114","28","07","01","PIURA","AYABACA","TAMBOGRANDE","I-2"]
[null,{"$f":"VALUE(renipress[[#This Row],[Código Único]])","v":1980},"GOBIERNO REGIONAL","00001980","TEJEDORES","PIURA","PIURA","TAMBO GRANDE","200114","28","07","01","PIURA","AYABACA","TAMBOGRANDE","I-1"]
[null,{"$f":"VALUE(renipress[[#This Row],[Código Único]])","v":1981},"GOBIERNO REGIONAL","00001981","MALINGAS","PIURA","PIURA","TAMBO GRANDE","200114","28","07","01","PIURA","AYABACA","TAMBOGRANDE","I-3"]
[null,{"$f":"VALUE(renipress[[#This Row],[Código Único]])","v":1982},"GOBIERNO REGIONAL","00001982","MALINGUITAS","PIURA","PIURA","TAMBO GRANDE","200114","28","07","01","PIURA","AYABACA","TAMBOGRANDE","I-1"]
[null,{"$f":"VALUE(renipress[[#This Row],[Código Único]])","v":1983},"GOBIERNO REGIONAL","00001983","PAPAYO - ALGARROBO","PIURA","PIURA","TAMBO GRANDE","200114","28","07","01","PIURA","AYABACA","TAMBOGRANDE","I-2"]
[null,{"$f":"VALUE(renipress[[#This Row],[Código Único]])","v":1984},"GOBIERNO REGIONAL","00001984","SANTA ANA","PIURA","PIURA","TAMBO GRANDE","200114","28","07","01","PIURA","AYABACA","TAMBOGRANDE","I-1"]
[null,{"$f":"VALUE(renipress[[#This Row],[Código Único]])","v":1985},"GOBIERNO REGIONAL","00001985","LA PEÑITA","PIURA","PIURA","TAMBO GRANDE","200114","28","07","01","PIURA","AYABACA","TAMBOGRANDE","I-2"]
[null,{"$f":"VALUE(renipress[[#This Row],[Código Único]])","v":1986},"GOBIERNO REGIONAL","00001986","CHICA ALTA","PIURA","PIURA","TAMBO GRANDE","200114","28","07","01","PIURA","AYABACA","TAMBOGRANDE","I-1"]
[null,{"$f":"VALUE(renipress[[#This Row],[Código Único]])","v":1987},"GOBIERNO REGIONAL","00001987","SINCHI ROCA","PIURA","PIURA","TAMBO GRANDE","200114","28","07","01","PIURA","AYABACA","TAMBOGRANDE","I-2"]
[null,{"$f":"VALUE(renipress[[#This Row],[Código Único]])","v":1988},"GOBIERNO REGIONAL","00001988","LAS MONICAS","PIURA","PIURA","TAMBO GRANDE","200114","28","07","01","PIURA","AYABACA","TAMBOGRANDE","I-1"]
[null,{"$f":"VALUE(renipress[[#This Row],[Código Único]])","v":1989},"GOBIERNO REGIONAL","00001989","PEDREGAL","PIURA","PIURA","TAMBO GRANDE","200114","28","07","01","PIURA","AYABACA","TAMBOGRANDE","I-2"]
[null,{"$f":"VALUE(renipress[[#This Row],[Código Único]])","v":1990},"GOBIERNO REGIONAL","00001990","PALOMINOS","PIURA","PIURA","TAMBO GRANDE","200114","28","07","01","PIURA","AYABACA","TAMBOGRANDE","I-2"]
[null,{"$f":"VALUE(renipress[[#This Row],[Código Único]])","v":1991},"GOBIERNO REGIONAL","00001991","LLOQUE YUPANQUI","PIURA","PIURA","TAMBO GRANDE","200114","28","07","01","PIURA","AYABACA","TAMBOGRANDE","I-1"]
[null,{"$f":"VALUE(renipress[[#This Row],[Código Único]])","v":1992},"GOBIERNO REGIONAL","00001992","EL PORVENIR","PIURA","PIURA","TAMBO GRANDE","200114","28","07","01","PIURA","AYABACA","TAMBOGRANDE","I-1"]
[null,{"$f":"VALUE(renipress[[#This Row],[Código Único]])","v":1993},"GOBIERNO REGIONAL","00001993","YAHUAR HUACA","PIURA","PIURA","TAMBO GRANDE","200114","28","07","01","PIURA","AYABACA","TAMBOGRANDE","I-1"]
[null,{"$f":"VALUE(renipress[[#This Row],[Código Único]])","v":1994},"GOBIERNO REGIONAL","00001994","OCOTO ALTO","PIURA","PIURA","TAMBO GRANDE","200114","28","07","01","PIURA","AYABACA","TAMBOGRANDE","I-1"]
[null,{"$f":"VALUE(renipress[[#This Row],[Código Único]])","v":1995},"GOBIERNO REGIONAL","00001995","PROGRESO BAJO","PIURA","PIURA","TAMBO GRANDE","200114","28","07","01","PIURA","AYABACA","TAMBOGRANDE","I-2"]
[null,{"$f":"VALUE(renipress[[#This Row],[Código Único]])","v":1996},"GOBIERNO REGIONAL","00001996","CP3-SAN MARTIN","PIURA","PIURA","TAMBO GRANDE","200114","28","07","01","PIURA","AYABACA","TAMBOGRANDE","I-1"]
[null,{"$f":"VALUE(renipress[[#This Row],[Código Único]])","v":1997},"GOBIERNO REGIONAL","00001997","CP4","PIURA","PIURA","TAMBO GRANDE","200114","28","07","01","PIURA","AYABACA","TAMBOGRANDE","I-1"]
[null,{"$f":"VALUE(renipress[[#This Row],[Código Único]])","v":1998},"GOBIERNO REGIONAL","00001998","GUARAGUAOS","PIURA","PIURA","TAMBO GRANDE","200114","28","07","01","PIURA","AYABACA","TAMBOGRANDE","I-1"]
[null,{"$f":"VALUE(renipress[[#This Row],[Código Único]])","v":2002},"GOBIERNO REGIONAL","00002002","SOMATE CENTRO DE SERVICIOS","PIURA","SULLANA","SULLANA","200601","28","06","01","PIURA","SULLANA","BELLAVISTA","I-1"]
[null,{"$f":"VALUE(renipress[[#This Row],[Código Único]])","v":2020},"GOBIERNO REGIONAL","00002020","JIBITO","PIURA","SULLANA","MIGUEL CHECA","200606","28","06","01","PIURA","SULLANA","BELLAVISTA","I-2"]
[null,{"$f":"VALUE(renipress[[#This Row],[Código Único]])","v":2030},"GOBIERNO REGIONAL","00002030","MACACARA","PIURA","PAITA","LA HUACA","200505","28","06","04","PIURA","SULLANA","PAITA","I-2"]
[null,{"$f":"VALUE(renipress[[#This Row],[Código Único]])","v":2041},"GOBIERNO REGIONAL","00002041","LA QUINTA","PIURA","SULLANA","MARCAVELICA","200605","28","06","03","PIURA","SULLANA","MARCAVELICA","I-1"]
[null,{"$f":"VALUE(renipress[[#This Row],[Código Único]])","v":2047},"GOBIERNO REGIONAL","00002047","AMOTAPE","PIURA","PAITA","AMOTAPE","200502","28","06","03","PIURA","SULLANA","MARCAVELICA","I-2"]
[null,{"$f":"VALUE(renipress[[#This Row],[Código Único]])","v":2058},"GOBIERNO REGIONAL","00002058","SALITRAL","PIURA","SULLANA","SALITRAL","200608","28","06","02","PIURA","SULLANA","QUERECOTILLO","I-3"]
[null,{"$f":"VALUE(renipress[[#This Row],[Código Único]])","v":2075},"GOBIERNO REGIONAL","00002075","NEGRITOS","PIURA","TALARA","LA BREA","200703","28","06","06","PIURA","SULLANA","TALARA","I-3"]
[null,{"$f":"VALUE(renipress[[#This Row],[Código Único]])","v":2079},"GOBIERNO REGIONAL","00002079","MIRAMAR","PIURA","PAITA","VICHAYAL","200507","28","06","06","PIURA","SULLANA","TALARA","I-2"]
[null,{"$f":"VALUE(renipress[[#This Row],[Código Único]])","v":2092},"GOBIERNO REGIONAL","00002092","C.S SAN PEDRO","PIURA","PIURA","PIURA","200101","28","01","01","PIURA","PIURA CASTILLA","PIURA","I-4"]
[null,{"$f":"VALUE(renipress[[#This Row],[Código Único]])","v":2113},"GOBIERNO REGIONAL","00002113","E.S.  PEDREGAL GRANDE","PIURA","PIURA","CATACAOS","200105","28","02","01","PIURA","BAJO PIURA","CATACAOS","I-2"]
[null,{"$f":"VALUE(renipress[[#This Row],[Código Único]])","v":2117},"GOBIERNO REGIONAL","00002117","E.S. LA LEGUA","PIURA","PIURA","CATACAOS","200105","28","02","01","PIURA","BAJO PIURA","CATACAOS","I-3"]
[null,{"$f":"VALUE(renipress[[#This Row],[Código Único]])","v":2134},"GOBIERNO REGIONAL","00002134","P.S MONTE REDONDO","PIURA","PIURA","LA UNION","200110","28","02","01","PIURA","BAJO PIURA","CATACAOS","I-1"]
[null,{"$f":"VALUE(renipress[[#This Row],[Código Único]])","v":2145},"GOBIERNO REGIONAL","00002145","P.S PARACHIQUE","PIURA","SECHURA","SECHURA","200801","28","02","02","PIURA","BAJO PIURA","SECHURA ","I-2"]
[null,{"$f":"VALUE(renipress[[#This Row],[Código Único]])","v":2151},"GOBIERNO REGIONAL","00002151","E.S.  VICE","PIURA","SECHURA","VICE","200805","28","02","02","PIURA","BAJO PIURA","SECHURA ","I-3"]
[null,{"$f":"VALUE(renipress[[#This Row],[Código Único]])","v":2162},"GOBIERNO REGIONAL","00002162","P.S BATANES","PIURA","MORROPON","CHULUCANAS","200401","28","03","01","PIURA","MORROPON CHULUCANAS","CHULUCANAS","I-2"]
[null,{"$f":"VALUE(renipress[[#This Row],[Código Único]])","v":2172},"GOBIERNO REGIONAL","00002172","PUESTO DE SALUD SAN JORGE","PIURA","AYABACA","FRIAS","200202","28","03","01","PIURA","MORROPON CHULUCANAS","CHULUCANAS","I-2"]
[null,{"$f":"VALUE(renipress[[#This Row],[Código Único]])","v":2190},"GOBIERNO REGIONAL","00002190","P.S. EL INGENIO","PIURA","MORROPON","BUENOS AIRES","200402","28","03","02","PIURA","MORROPON CHULUCANAS","MORROPON","I-1"]
[null,{"$f":"VALUE(renipress[[#This Row],[Código Único]])","v":2205},"GOBIERNO REGIONAL","00002205","PUESTO DE SALUD ARENALES","PIURA","AYABACA","FRIAS","200202","28","03","01","PIURA","MORROPON CHULUCANAS","CHULUCANAS","I-2"]
[null,{"$f":"VALUE(renipress[[#This Row],[Código Único]])","v":2214},"GOBIERNO REGIONAL","00002214","P.S EL TULMAN","PIURA","AYABACA","PACAIPAMPA","200206","28","03","04","PIURA","MORROPON CHULUCANAS","CHALACO","I-1"]
[null,{"$f":"VALUE(renipress[[#This Row],[Código Único]])","v":2226},"GOBIERNO REGIONAL","00002226","P.S CHIGNIA BAJA","PIURA","HUANCABAMBA","HUARMACA","200304","28","05","01","PIURA","HUARMACA","HUARMACA","I-2"]
[null,{"$f":"VALUE(renipress[[#This Row],[Código Único]])","v":2231},"GOBIERNO REGIONAL","00002231","E.S.  CILIA","PIURA","HUANCABAMBA","CANCHAQUE","200302","28","03","03","PIURA","MORROPON CHULUCANAS","SALITRAL","I-1"]
[null,{"$f":"VALUE(renipress[[#This Row],[Código Único]])","v":2247},"GOBIERNO REGIONAL","00002247","E.S.  EL HIGUERON","PIURA","HUANCABAMBA","SAN MIGUEL DE EL FAIQUE","200306","28","03","05","PIURA","MORROPON CHULUCANAS","CANCHAQUE","I-1"]
[null,{"$f":"VALUE(renipress[[#This Row],[Código Único]])","v":2259},"GOBIERNO REGIONAL","00002259","P.S SALALA","PIURA","HUANCABAMBA","EL CARMEN DE LA FRONTERA","200303","28","04","01","PIURA","HUANCABAMBA","HUANCABAMBA","I-2"]
[null,{"$f":"VALUE(renipress[[#This Row],[Código Único]])","v":2264},"GOBIERNO REGIONAL","00002264","E.S I.2 MANCUCUR","PIURA","HUANCABAMBA","SONDOR","200307","28","04","01","PIURA","HUANCABAMBA","HUANCABAMBA","I-2"]
[null,{"$f":"VALUE(renipress[[#This Row],[Código Único]])","v":2276},"GOBIERNO REGIONAL","00002276","P.S RODEOPAMPA","PIURA","HUANCABAMBA","HUARMACA","200304","28","05","01","PIURA","HUARMACA","HUARMACA","I-2"]
[null,{"$f":"VALUE(renipress[[#This Row],[Código Único]])","v":2297},"GOBIERNO REGIONAL","00002297","CCORCCA","CUSCO","CUSCO","CCORCA","080102","11","02","01","CUSCO","CUSCO NORTE","BELEMPAMPA","I-2"]
[null,{"$f":"VALUE(renipress[[#This Row],[Código Único]])","v":2300},"GOBIERNO REGIONAL","00002300","SAN JERONIMO","CUSCO","CUSCO","SAN JERONIMO","080104","11","01","16","CUSCO","CUSCO SUR","CUSCO","I-4"]
[null,{"$f":"VALUE(renipress[[#This Row],[Código Único]])","v":2318},"GOBIERNO REGIONAL","00002318","ACOPIA","CUSCO","ACOMAYO","ACOPIA","080202","11","01","13","CUSCO","CUSCO SUR","ACOMAYO","I-1"]
[null,{"$f":"VALUE(renipress[[#This Row],[Código Único]])","v":2328},"GOBIERNO REGIONAL","00002328","COMPONE","CUSCO","ANTA","ANTA","080301","11","02","03","CUSCO","CUSCO NORTE","ANTA","I-2"]
[null,{"$f":"VALUE(renipress[[#This Row],[Código Único]])","v":2339},"GOBIERNO REGIONAL","00002339","PUCYURA ANTA","CUSCO","ANTA","PUCYURA","080308","11","02","03","CUSCO","CUSCO NORTE","ANTA","I-3"]
[null,{"$f":"VALUE(renipress[[#This Row],[Código Único]])","v":2345},"GOBIERNO REGIONAL","00002345","CCACHIN","CUSCO","CALCA","LARES","080404","11","02","06","CUSCO","CUSCO NORTE","CALCA","I-1"]
[null,{"$f":"VALUE(renipress[[#This Row],[Código Único]])","v":2356},"GOBIERNO REGIONAL","00002356","CCORIMAYO","CUSCO","CALCA","YANATILE","080408","11","02","08","CUSCO","CUSCO NORTE","YANATILE","I-1"]
[null,{"$f":"VALUE(renipress[[#This Row],[Código Único]])","v":2373},"GOBIERNO REGIONAL","00002373","QUEHUE","CUSCO","CANAS","QUEHUE","080507","11","04","01","CUSCO","CANAS-CANCHIS-ESPINAR","YANAOCA","I-2"]
[null,{"$f":"VALUE(renipress[[#This Row],[Código Único]])","v":2389},"GOBIERNO REGIONAL","00002389","CHECTUYOC","CUSCO","CANCHIS","MARANGANI","080604","11","04","04","CUSCO","CANAS-CANCHIS-ESPINAR","TECHO OBRERO","I-1"]
[null,{"$f":"VALUE(renipress[[#This Row],[Código Único]])","v":2397},"GOBIERNO REGIONAL","00002397","TINTA","CUSCO","CANCHIS","TINTA","080608","11","04","03","CUSCO","CANAS-CANCHIS-ESPINAR","COMBAPATA","I-3"]
[null,{"$f":"VALUE(renipress[[#This Row],[Código Único]])","v":2410},"GOBIERNO REGIONAL","00002410","YAURI","CUSCO","ESPINAR","ESPINAR","080801","11","04","06","CUSCO","CANAS-CANCHIS-ESPINAR","YAURI","I-4"]
[null,{"$f":"VALUE(renipress[[#This Row],[Código Único]])","v":2414},"GOBIERNO REGIONAL","00002414","HUAYHUAHUASI","CUSCO","ESPINAR","COPORAQUE","080803","11","04","06","CUSCO","CANAS-CANCHIS-ESPINAR","YAURI","I-2"]
[null,{"$f":"VALUE(renipress[[#This Row],[Código Único]])","v":2431},"GOBIERNO REGIONAL","00002431","IVOCHOTE","CUSCO","LA CONVENCION","ECHARATE","080902","11","03","04","CUSCO","LA CONVENCION","KITENI","I-2"]
[null,{"$f":"VALUE(renipress[[#This Row],[Código Único]])","v":2442},"GOBIERNO REGIONAL","00002442","PUERTO RICO","CUSCO","LA CONVENCION","MEGANTONI","080914","11","03","05","CUSCO","LA CONVENCION","KAMISEA","I-1"]
[null,{"$f":"VALUE(renipress[[#This Row],[Código Único]])","v":2448},"GOBIERNO REGIONAL","00002448","KAMISEA","CUSCO","LA CONVENCION","MEGANTONI","080914","11","03","05","CUSCO","LA CONVENCION","KAMISEA","I-4"]
[null,{"$f":"VALUE(renipress[[#This Row],[Código Único]])","v":2470},"GOBIERNO REGIONAL","00002470","CHIRUMPIARI","CUSCO","LA CONVENCION","KIMBIRI","080907","11","05","01","CUSCO","KIMBIRI PICHARI","KIMBIRI","I-2"]
[null,{"$f":"VALUE(renipress[[#This Row],[Código Único]])","v":2481},"GOBIERNO REGIONAL","00002481","CCARCCO","CUSCO","LA CONVENCION","INKAWASI","080911","11","03","06","CUSCO","LA CONVENCION","PUCYURA","I-1"]
[null,{"$f":"VALUE(renipress[[#This Row],[Código Único]])","v":2487},"GOBIERNO REGIONAL","00002487","CHOQUETIRA","CUSCO","LA CONVENCION","INKAWASI","080911","11","03","06","CUSCO","LA CONVENCION","PUCYURA","I-1"]
[null,{"$f":"VALUE(renipress[[#This Row],[Código Único]])","v":2502},"GOBIERNO REGIONAL","00002502","CCOYABAMBA","CUSCO","PARURO","CCAPI","081003","11","01","03","CUSCO","CUSCO SUR","PARURO","I-2"]
[null,{"$f":"VALUE(renipress[[#This Row],[Código Único]])","v":2511},"GOBIERNO REGIONAL","00002511","MOLLOMARCA","CUSCO","PAUCARTAMBO","PAUCARTAMBO","081101","11","01","06","CUSCO","CUSCO SUR","PAUCARTAMBO","I-2"]
[null,{"$f":"VALUE(renipress[[#This Row],[Código Único]])","v":2523},"GOBIERNO REGIONAL","00002523","URCOS","CUSCO","QUISPICANCHI","URCOS","081201","11","01","12","CUSCO","CUSCO SUR","URCOS","I-4"]
[null,{"$f":"VALUE(renipress[[#This Row],[Código Único]])","v":2539},"GOBIERNO REGIONAL","00002539","CCOLCA","CUSCO","QUISPICANCHI","QUIQUIJANA","081212","11","01","12","CUSCO","CUSCO SUR","URCOS","I-1"]
[null,{"$f":"VALUE(renipress[[#This Row],[Código Único]])","v":2540},"GOBIERNO REGIONAL","00002540","URUBAMBA","CUSCO","URUBAMBA","URUBAMBA","081301","11","02","07","CUSCO","CUSCO NORTE","URUBAMBA","I-4"]
[null,{"$f":"VALUE(renipress[[#This Row],[Código Único]])","v":2557},"GOBIERNO REGIONAL","00002557","MATARA","APURIMAC","ANTABAMBA","HUAQUIRCA","030303","3","06","01","APURIMAC","ANTABAMBA","ANTABAMBA","I-1"]
[null,{"$f":"VALUE(renipress[[#This Row],[Código Único]])","v":2574},"GOBIERNO REGIONAL","00002574","COLCABAMBA","APURIMAC","AYMARAES","COLCABAMBA","030405","3","07","02","APURIMAC","AYMARAES","SANTA ROSA","I-2"]
[null,{"$f":"VALUE(renipress[[#This Row],[Código Único]])","v":2585},"GOBIERNO REGIONAL","00002585","SAÑAYCA","APURIMAC","AYMARAES","SAÑAYCA","030412","3","07","01","APURIMAC","AYMARAES","CHALHUANCA","I-2"]
[null,{"$f":"VALUE(renipress[[#This Row],[Código Único]])","v":2595},"GOBIERNO REGIONAL","00002595","SAN CAMILO DE LELIS (CHUQUIBAMBILLA)","APURIMAC","GRAU","CHUQUIBAMBILLA","030701","3","02","02","APURIMAC","GRAU","CHUQUIBAMBILLA","I-4"]
[null,{"$f":"VALUE(renipress[[#This Row],[Código Único]])","v":2609},"GOBIERNO REGIONAL","00002609","VILCABAMBA","APURIMAC","GRAU","VILCABAMBA","030712","3","02","03","APURIMAC","GRAU","VILCABAMBA","I-4"]
[null,{"$f":"VALUE(renipress[[#This Row],[Código Único]])","v":2616},"GOBIERNO REGIONAL","00002616","VILCARO","APURIMAC","COTABAMBAS","COYLLURQUI","030503","3","08","03","APURIMAC","COTABAMBAS","COTABAMBA","I-2"]
[null,{"$f":"VALUE(renipress[[#This Row],[Código Único]])","v":2626},"GOBIERNO REGIONAL","00002626","CHACCARO","APURIMAC","COTABAMBAS","TAMBOBAMBA","030501","3","08","02","APURIMAC","COTABAMBAS","TAMBOBAMBA","I-2"]
[null,{"$f":"VALUE(renipress[[#This Row],[Código Único]])","v":2637},"GOBIERNO REGIONAL","00002637","PROGRESO LARATA","APURIMAC","ABANCAY","CURAHUASI","030104","3","01","02","APURIMAC","ABANCAY","CURAHUASI","I-1"]
[null,{"$f":"VALUE(renipress[[#This Row],[Código Único]])","v":2654},"GOBIERNO REGIONAL","00002654","PALPACACHI","APURIMAC","GRAU","MARISCAL GAMARRA","030703","3","01","08","APURIMAC","ABANCAY","LAMBRAMA","I-3"]
[null,{"$f":"VALUE(renipress[[#This Row],[Código Único]])","v":2666},"GOBIERNO REGIONAL","00002666","CHACOCHE","APURIMAC","ABANCAY","CHACOCHE","030102","3","01","01","APURIMAC","ABANCAY","CENTENARIO","I-1"]
[null,{"$f":"VALUE(renipress[[#This Row],[Código Único]])","v":2671},"GOBIERNO REGIONAL","00002671","KIUÑALLA","APURIMAC","ABANCAY","HUANIPACA","030105","3","01","04","APURIMAC","ABANCAY","MICAELA BASTIDAS","I-1"]
[null,{"$f":"VALUE(renipress[[#This Row],[Código Único]])","v":2687},"GOBIERNO REGIONAL","00002687","SAN JUAN DE CHACÑA","APURIMAC","AYMARAES","SAN JUAN DE CHACÑA","030411","3","07","02","APURIMAC","AYMARAES","SANTA ROSA","I-2"]
[null,{"$f":"VALUE(renipress[[#This Row],[Código Único]])","v":2695},"GOBIERNO REGIONAL","00002695","PICHIUPATA","APURIMAC","ANDAHUAYLAS","HUANCARAMA","030204","3","01","03","APURIMAC","ABANCAY","HUANCARAMA","I-2"]
[null,{"$f":"VALUE(renipress[[#This Row],[Código Único]])","v":2708},"GOBIERNO REGIONAL","00002708","JORGE CHAVEZ","MADRE DE DIOS","TAMBOPATA","TAMBOPATA","170101","25","01","01","MADRE DE DIOS","MADRE DE DIOS","JORGE CHAVEZ","I-3"]
[null,{"$f":"VALUE(renipress[[#This Row],[Código Único]])","v":2723},"GOBIERNO REGIONAL","00002723","MERCADO MODELO","MADRE DE DIOS","TAMBOPATA","TAMBOPATA","170101","25","01","02","MADRE DE DIOS","MADRE DE DIOS","NUEVO MILENIO","I-3"]
[null,{"$f":"VALUE(renipress[[#This Row],[Código Único]])","v":2729},"GOBIERNO REGIONAL","00002729","MAZUKO","MADRE DE DIOS","TAMBOPATA","INAMBARI","170102","25","01","07","MADRE DE DIOS","MADRE DE DIOS","MAZUKO","I-3"]
[null,{"$f":"VALUE(renipress[[#This Row],[Código Único]])","v":2740},"GOBIERNO REGIONAL","00002740","LAGO INAMBARILLO","MADRE DE DIOS","TAMBOPATA","INAMBARI","170102","25","01","03","MADRE DE DIOS","MADRE DE DIOS","LABERINTO","I-1"]
[null,{"$f":"VALUE(renipress[[#This Row],[Código Único]])","v":2758},"GOBIERNO REGIONAL","00002758","LABERINTO","MADRE DE DIOS","TAMBOPATA","LABERINTO","170104","25","01","03","MADRE DE DIOS","MADRE DE DIOS","LABERINTO","I-2"]
[null,{"$f":"VALUE(renipress[[#This Row],[Código Único]])","v":2768},"GOBIERNO REGIONAL","00002768","SAN JUAN GRANDE","MADRE DE DIOS","MANU","MADRE DE DIOS","170203","25","01","06","MADRE DE DIOS","MADRE DE DIOS","BOCA COLORADO","I-1"]
[null,{"$f":"VALUE(renipress[[#This Row],[Código Único]])","v":2779},"GOBIERNO REGIONAL","00002779","SAN JOSE DE KARENE","MADRE DE DIOS","MANU","MADRE DE DIOS","170203","25","01","06","MADRE DE DIOS","MADRE DE DIOS","BOCA COLORADO","I-1"]
[null,{"$f":"VALUE(renipress[[#This Row],[Código Único]])","v":2792},"GOBIERNO REGIONAL","00002792","NUEVA ESPERANZA","MADRE DE DIOS","TAHUAMANU","IÑAPARI","170301","25","01","09","MADRE DE DIOS","MADRE DE DIOS","IBERIA","I-1"]
[null,{"$f":"VALUE(renipress[[#This Row],[Código Único]])","v":2800},"GOBIERNO REGIONAL","00002800","FLOR DE ACRE","MADRE DE DIOS","TAHUAMANU","IBERIA","170302","25","01","09","MADRE DE DIOS","MADRE DE DIOS","IBERIA","I-2"]
[null,{"$f":"VALUE(renipress[[#This Row],[Código Único]])","v":2809},"GOBIERNO REGIONAL","00002809","CENTRO DE SALUD CARUMAS","MOQUEGUA","MARISCAL NIETO","CARUMAS","180102","26","01","02","MOQUEGUA","MOQUEGUA","CARUMAS","I-3"]
[null,{"$f":"VALUE(renipress[[#This Row],[Código Único]])","v":2821},"GOBIERNO REGIONAL","00002821","P.S. VARADERO","MOQUEGUA","ILO","ILO","180301","26","02","01","MOQUEGUA","ILO","ILO","I-2"]
[null,{"$f":"VALUE(renipress[[#This Row],[Código Único]])","v":2837},"GOBIERNO REGIONAL","00002837","P.S. COALAQUE","MOQUEGUA","GENERAL SANCHEZ CERRO","COALAQUE","180203","26","01","03","MOQUEGUA","MOQUEGUA","OMATE","I-2"]
[null,{"$f":"VALUE(renipress[[#This Row],[Código Único]])","v":2850},"GOBIERNO REGIONAL","00002850","P.S. UMALZO","MOQUEGUA","GENERAL SANCHEZ CERRO","ICHUÑA","180204","26","01","05","MOQUEGUA","MOQUEGUA","ICHUÑA","I-1"]
[null,{"$f":"VALUE(renipress[[#This Row],[Código Único]])","v":2854},"GOBIERNO REGIONAL","00002854","P.S. MATALAQUE","MOQUEGUA","GENERAL SANCHEZ CERRO","MATALAQUE","180207","26","01","04","MOQUEGUA","MOQUEGUA","UBINAS","I-2"]
[null,{"$f":"VALUE(renipress[[#This Row],[Código Único]])","v":2871},"GOBIERNO REGIONAL","00002871","CAIRANI","TACNA","CANDARAVE","CAIRANI","230202","32","01","08","TACNA","TACNA","CANDARAVE","I-2"]
[null,{"$f":"VALUE(renipress[[#This Row],[Código Único]])","v":2882},"GOBIERNO REGIONAL","00002882","ALTO ALIANZA","TACNA","TACNA","ALTO DE LA ALIANZA","230102","32","01","03","TACNA","TACNA","CONO NORTE","I-3"]
[null,{"$f":"VALUE(renipress[[#This Row],[Código Único]])","v":2892},"GOBIERNO REGIONAL","00002892","CALANA","TACNA","TACNA","CALANA","230103","32","01","06","TACNA","TACNA","FRONTERA","I-2"]
[null,{"$f":"VALUE(renipress[[#This Row],[Código Único]])","v":2906},"GOBIERNO REGIONAL","00002906","LOS OLIVOS","TACNA","TACNA","LA YARADA LOS PALOS","230111","32","01","04","TACNA","TACNA","LITORAL","I-1"]
[null,{"$f":"VALUE(renipress[[#This Row],[Código Único]])","v":2913},"GOBIERNO REGIONAL","00002913","LOCUMBA","TACNA","JORGE BASADRE","LOCUMBA","230301","32","01","05","TACNA","TACNA","JORGE BASADRE","I-3"]
[null,{"$f":"VALUE(renipress[[#This Row],[Código Único]])","v":2923},"GOBIERNO REGIONAL","00002923","JESUS MARIA","TACNA","TACNA","TACNA","230101","32","01","01","TACNA","TACNA","METROPOLITANA","I-2"]
[null,{"$f":"VALUE(renipress[[#This Row],[Código Único]])","v":2942},"GOBIERNO REGIONAL","00002942","PUESTO DE SALUD HANAJQUIA","PUNO","AZANGARO","AZANGARO","210201","29","02","01","PUNO","AZANGARO","ALIANZA","I-1"]
[null,{"$f":"VALUE(renipress[[#This Row],[Código Único]])","v":2951},"GOBIERNO REGIONAL","00002951","MORORCO","PUNO","AZANGARO","MUÑANI","210208","29","02","06","PUNO","AZANGARO","MUÑANI","I-2"]
[null,{"$f":"VALUE(renipress[[#This Row],[Código Único]])","v":2963},"GOBIERNO REGIONAL","00002963","LARIMAYO","PUNO","MELGAR","ANTAUTA","210802","29","10","01","PUNO","MELGAR","AYAVIRI","I-2"]
[null,{"$f":"VALUE(renipress[[#This Row],[Código Único]])","v":2968},"GOBIERNO REGIONAL","00002968","PUESTO DE SALUD CORANI","PUNO","CARABAYA","CORANI","210305","29","05","04","PUNO","MACUSANI","ISIVILLA","I-2"]
[null,{"$f":"VALUE(renipress[[#This Row],[Código Único]])","v":2984},"GOBIERNO REGIONAL","00002984","PUERTO MANOA","PUNO","CARABAYA","SAN GABAN","210309","29","05","03","PUNO","MACUSANI","SAN GABAN","I-2"]
[null,{"$f":"VALUE(renipress[[#This Row],[Código Único]])","v":2992},"GOBIERNO REGIONAL","00002992","CALLACAMI","PUNO","CHUCUITO","JULI","210401","29","06","01","PUNO","CHUCUITO","MOLINO","I-1"]
[null,{"$f":"VALUE(renipress[[#This Row],[Código Único]])","v":3005},"GOBIERNO REGIONAL","00003005","TOTOROMA","PUNO","CHUCUITO","KELLUYO","210404","29","06","04","PUNO","CHUCUITO","DESAGUADERO","I-1"]
[null,{"$f":"VALUE(renipress[[#This Row],[Código Único]])","v":3020},"GOBIERNO REGIONAL","00003020","BAJO PAVITA","PUNO","CHUCUITO","ZEPITA","210407","29","06","03","PUNO","CHUCUITO","ZEPITA","I-1"]
[null,{"$f":"VALUE(renipress[[#This Row],[Código Único]])","v":3034},"GOBIERNO REGIONAL","00003034","ANCOAMAYA","PUNO","EL COLLAO","ILAVE","210501","29","07","01","PUNO","COLLAO","MULLACONTIHUECO","I-2"]
[null,{"$f":"VALUE(renipress[[#This Row],[Código Único]])","v":3037},"GOBIERNO REGIONAL","00003037","CHIJICHAYA","PUNO","EL COLLAO","ILAVE","210501","29","07","03","PUNO","COLLAO","CHECCA","I-3"]
[null,{"$f":"VALUE(renipress[[#This Row],[Código Único]])","v":3055},"GOBIERNO REGIONAL","00003055","MAQUERCOTA","PUNO","EL COLLAO","PILCUYO","210503","29","07","04","PUNO","COLLAO","PILCUYO","I-2"]
[null,{"$f":"VALUE(renipress[[#This Row],[Código Único]])","v":3065},"GOBIERNO REGIONAL","00003065","SANTA ROSA DEL COLLAO","PUNO","EL COLLAO","SANTA ROSA","210504","29","07","05","PUNO","COLLAO","MAZOCRUZ","I-2"]
[null,{"$f":"VALUE(renipress[[#This Row],[Código Único]])","v":3076},"GOBIERNO REGIONAL","00003076","COHASIA","PUNO","HUANCANE","HUANCANE","210601","29","08","01","PUNO","HUANCANE","HUANCANE","I-1"]
[null,{"$f":"VALUE(renipress[[#This Row],[Código Único]])","v":3089},"GOBIERNO REGIONAL","00003089","SAN JUAN QUISHUARANI","PUNO","HUANCANE","VILQUE CHICO","210608","29","08","02","PUNO","HUANCANE","VILQUECHICO","I-2"]
[null,{"$f":"VALUE(renipress[[#This Row],[Código Único]])","v":3097},"GOBIERNO REGIONAL","00003097","ISLA SOTO","PUNO","MOHO","CONIMA","210902","29","08","05","PUNO","HUANCANE","CONIMA","Sin Categoría"]
[null,{"$f":"VALUE(renipress[[#This Row],[Código Único]])","v":3106},"GOBIERNO REGIONAL","00003106","SUCUNI JAPISI","PUNO","MOHO","CONIMA","210902","29","08","05","PUNO","HUANCANE","CONIMA","I-1"]
[null,{"$f":"VALUE(renipress[[#This Row],[Código Único]])","v":3118},"GOBIERNO REGIONAL","00003118","JANANSAYA","PUNO","SAN ANTONIO DE PUTINA","QUILCAPUNCU","211004","29","08","07","PUNO","HUANCANE","PUTINA","I-1"]
[null,{"$f":"VALUE(renipress[[#This Row],[Código Único]])","v":3134},"GOBIERNO REGIONAL","00003134","PALCA","PUNO","LAMPA","PALCA","210706","29","09","03","PUNO","LAMPA","PALCA","I-4"]
[null,{"$f":"VALUE(renipress[[#This Row],[Código Único]])","v":3147},"GOBIERNO REGIONAL","00003147","CRUCERO","PUNO","CARABAYA","CRUCERO","210306","29","10","03","PUNO","MELGAR","CRUCERO","I-4"]
[null,{"$f":"VALUE(renipress[[#This Row],[Código Único]])","v":3151},"GOBIERNO REGIONAL","00003151","OCUVIRI","PUNO","LAMPA","OCUVIRI","210705","29","10","04","PUNO","MELGAR","LLALLI","I-2"]
[null,{"$f":"VALUE(renipress[[#This Row],[Código Único]])","v":3168},"GOBIERNO REGIONAL","00003168","HUAMANRURO","PUNO","MELGAR","MACARI","210805","29","10","01","PUNO","MELGAR","AYAVIRI","I-1"]
[null,{"$f":"VALUE(renipress[[#This Row],[Código Único]])","v":3175},"GOBIERNO REGIONAL","00003175","PASANACOLLO","PUNO","MELGAR","NUÑOA","210806","29","10","02","PUNO","MELGAR","NUÑOA","I-2"]
[null,{"$f":"VALUE(renipress[[#This Row],[Código Único]])","v":3189},"GOBIERNO REGIONAL","00003189","UNION COLLANA","PUNO","MELGAR","UMACHIRI","210809","29","10","01","PUNO","MELGAR","AYAVIRI","I-1"]
[null,{"$f":"VALUE(renipress[[#This Row],[Código Único]])","v":3203},"GOBIERNO REGIONAL","00003203","CARITAMAYA","PUNO","PUNO","ACORA","210102","29","01","05","PUNO","PUNO","ACORA","I-2"]
[null,{"$f":"VALUE(renipress[[#This Row],[Código Único]])","v":3210},"GOBIERNO REGIONAL","00003210","SACUYO RIO GRANDE","PUNO","PUNO","ACORA","210102","29","01","05","PUNO","PUNO","ACORA","I-1"]
[null,{"$f":"VALUE(renipress[[#This Row],[Código Único]])","v":3220},"GOBIERNO REGIONAL","00003220","ATUNCOLLA","PUNO","PUNO","ATUNCOLLA","210104","29","01","07","PUNO","PUNO","JOSE ANTONIO ENCINAS","I-3"]
[null,{"$f":"VALUE(renipress[[#This Row],[Código Único]])","v":3239},"GOBIERNO REGIONAL","00003239","PAUCARCOLLA","PUNO","PUNO","PAUCARCOLLA","210110","29","01","07","PUNO","PUNO","JOSE ANTONIO ENCINAS","I-2"]
[null,{"$f":"VALUE(renipress[[#This Row],[Código Único]])","v":3248},"GOBIERNO REGIONAL","00003248","CAMATA","PUNO","PUNO","PLATERIA","210112","29","01","08","PUNO","PUNO","SIMON BOLIVAR","I-1"]
[null,{"$f":"VALUE(renipress[[#This Row],[Código Único]])","v":3260},"GOBIERNO REGIONAL","00003260","JALLIHUAYA","PUNO","PUNO","PUNO","210101","29","01","08","PUNO","PUNO","SIMON BOLIVAR","I-1"]
[null,{"$f":"VALUE(renipress[[#This Row],[Código Único]])","v":3276},"GOBIERNO REGIONAL","00003276","SAMAN","PUNO","AZANGARO","SAMAN","210210","29","11","05","PUNO","SAN ROMAN","SAMAN","I-3"]
[null,{"$f":"VALUE(renipress[[#This Row],[Código Único]])","v":3281},"GOBIERNO REGIONAL","00003281","TARACO","PUNO","HUANCANE","TARACO","210607","29","11","04","PUNO","SAN ROMAN","TARACO","I-4"]
[null,{"$f":"VALUE(renipress[[#This Row],[Código Único]])","v":3290},"GOBIERNO REGIONAL","00003290","AYACACHI","PUNO","SAN ROMAN","CABANA","211102","29","11","06","PUNO","SAN ROMAN","CABANILLAS","I-1"]
[null,{"$f":"VALUE(renipress[[#This Row],[Código Único]])","v":3311},"GOBIERNO REGIONAL","00003311","REVOLUCION","PUNO","SAN ROMAN","SAN MIGUEL","211105","29","11","01","PUNO","SAN ROMAN","JULIACA","I-3"]
[null,{"$f":"VALUE(renipress[[#This Row],[Código Único]])","v":3323},"GOBIERNO REGIONAL","00003323","CUYO CUYO","PUNO","SANDIA","CUYOCUYO","211202","29","03","02","PUNO","SANDIA","CUYO CUYO","I-4"]
[null,{"$f":"VALUE(renipress[[#This Row],[Código Único]])","v":3324},"GOBIERNO REGIONAL","00003324","CCUMANI HUANCASAYANI","PUNO","SANDIA","CUYOCUYO","211202","29","03","02","PUNO","SANDIA","CUYO CUYO","I-1"]
[null,{"$f":"VALUE(renipress[[#This Row],[Código Único]])","v":3344},"GOBIERNO REGIONAL","00003344","CUTURAPI","PUNO","YUNGUYO","CUTURAPI","211304","29","04","01","PUNO","YUNGUYO","YUNGUYO","I-3"]
[null,{"$f":"VALUE(renipress[[#This Row],[Código Único]])","v":3352},"GOBIERNO REGIONAL","00003352","PAJJANA SAN AGUSTIN","PUNO","YUNGUYO","YUNGUYO","211301","29","04","04","PUNO","YUNGUYO","AYCHUYO","I-1"]
[null,{"$f":"VALUE(renipress[[#This Row],[Código Único]])","v":3365},"GOBIERNO REGIONAL","00003365","LOS MOLINOS","ICA","ICA","SAN JOSE DE LOS MOLINOS","110109","15","01","03","ICA","ICA-PALPA-NAZCA","LA TINGUIÑA/PARCONA","I-3"]
[null,{"$f":"VALUE(renipress[[#This Row],[Código Único]])","v":3380},"GOBIERNO REGIONAL","00003380","YANQUIZA","ICA","ICA","SUBTANJALLA","110112","15","01","02","ICA","ICA-PALPA-NAZCA","SAN JOAQUIN","I-2"]
[null,{"$f":"VALUE(renipress[[#This Row],[Código Único]])","v":3382},"GOBIERNO REGIONAL","00003382","COLLAZOS","ICA","ICA","SALAS","110108","15","01","02","ICA","ICA-PALPA-NAZCA","SAN JOAQUIN","I-2"]
[null,{"$f":"VALUE(renipress[[#This Row],[Código Único]])","v":3397},"GOBIERNO REGIONAL","00003397","PAMPAHUASI","ICA","ICA","YAUCA DEL ROSARIO","110114","15","01","04","ICA","ICA-PALPA-NAZCA","LA PALMA","I-2"]
[null,{"$f":"VALUE(renipress[[#This Row],[Código Único]])","v":3415},"GOBIERNO REGIONAL","00003415","ALTO LARAN","ICA","CHINCHA","ALTO LARAN","110202","15","02","02","ICA","CHINCHA - PISCO","PUEBLO NUEVO","I-3"]
[null,{"$f":"VALUE(renipress[[#This Row],[Código Único]])","v":3421},"GOBIERNO REGIONAL","00003421","TAMBO DE MORA","ICA","CHINCHA","TAMBO DE MORA","110211","15","02","03","ICA","CHINCHA - PISCO","CHINCHA BAJA","I-3"]
[null,{"$f":"VALUE(renipress[[#This Row],[Código Único]])","v":3436},"GOBIERNO REGIONAL","00003436","SAN JUAN DE YANAC","ICA","CHINCHA","SAN JUAN DE YANAC","110208","15","02","02","ICA","CHINCHA - PISCO","PUEBLO NUEVO","I-2"]
[null,{"$f":"VALUE(renipress[[#This Row],[Código Único]])","v":3449},"GOBIERNO REGIONAL","00003449","CABILDO","ICA","NAZCA","CHANGUILLO","110302","15","01","08","ICA","ICA-PALPA-NAZCA","NASCA","I-2"]
[null,{"$f":"VALUE(renipress[[#This Row],[Código Único]])","v":3457},"GOBIERNO REGIONAL","00003457","BUENA FE","ICA","NAZCA","NAZCA","110301","15","01","08","ICA","ICA-PALPA-NAZCA","NASCA","I-2"]
[null,{"$f":"VALUE(renipress[[#This Row],[Código Único]])","v":3466},"GOBIERNO REGIONAL","00003466","PAMPA BLANCA","ICA","PALPA","RIO GRANDE","110403","15","01","07","ICA","ICA-PALPA-NAZCA","PALPA","I-1"]
[null,{"$f":"VALUE(renipress[[#This Row],[Código Único]])","v":3474},"GOBIERNO REGIONAL","00003474","INDEPENDENCIA","ICA","PISCO","INDEPENDENCIA","110504","15","02","04","ICA","CHINCHA - PISCO","SAN CLEMENTE","I-3"]
[null,{"$f":"VALUE(renipress[[#This Row],[Código Único]])","v":3494},"GOBIERNO REGIONAL","00003494","HOSPITAL DE APOYO CANGALLO","AYACUCHO","CANGALLO","CANGALLO","050201","5","05","00","AYACUCHO","AYACUCHO CENTRO","NO PERTENECE A NINGUNA MICRORED","II-1"]
[null,{"$f":"VALUE(renipress[[#This Row],[Código Único]])","v":3507},"GOBIERNO REGIONAL","00003507","PAMPA CANGALLO","AYACUCHO","CANGALLO","LOS MOROCHUCOS","050203","5","05","07","AYACUCHO","AYACUCHO CENTRO","PAMPA CANGALLO","I-4"]
[null,{"$f":"VALUE(renipress[[#This Row],[Código Único]])","v":3511},"GOBIERNO REGIONAL","00003511","AUQUILLA","AYACUCHO","VICTOR FAJARDO","SARHUA","051011","5","05","02","AYACUCHO","AYACUCHO CENTRO","POMABAMBA","I-1"]
[null,{"$f":"VALUE(renipress[[#This Row],[Código Único]])","v":3528},"GOBIERNO REGIONAL","00003528","YURACCHUASI","AYACUCHO","PARINACOCHAS","PUYUSCA","050706","5","06","04","AYACUCHO","CORACORA","INCUYO","I-1"]
[null,{"$f":"VALUE(renipress[[#This Row],[Código Único]])","v":3535},"GOBIERNO REGIONAL","00003535","PULLO","AYACUCHO","PARINACOCHAS","PULLO","050705","5","06","04","AYACUCHO","CORACORA","INCUYO","I-2"]
[null,{"$f":"VALUE(renipress[[#This Row],[Código Único]])","v":3549},"GOBIERNO REGIONAL","00003549","TAMBILLO","AYACUCHO","HUAMANGA","TAMBILLO","050113","5","01","06","AYACUCHO","HUAMANGA","SANTA ELENA","I-2"]
[null,{"$f":"VALUE(renipress[[#This Row],[Código Único]])","v":3563},"GOBIERNO REGIONAL","00003563","ALLPACHACA","AYACUCHO","HUAMANGA","CHIARA","050105","5","01","13","AYACUCHO","HUAMANGA","CHIARA","I-1"]
[null,{"$f":"VALUE(renipress[[#This Row],[Código Único]])","v":3566},"GOBIERNO REGIONAL","00003566","LLACHOCCMAYO","AYACUCHO","HUAMANGA","CHIARA","050105","5","01","13","AYACUCHO","HUAMANGA","CHIARA","I-1"]
[null,{"$f":"VALUE(renipress[[#This Row],[Código Único]])","v":3580},"GOBIERNO REGIONAL","00003580","MAYABAMBA","AYACUCHO","HUAMANGA","OCROS","050106","5","01","16","AYACUCHO","HUAMANGA","OCROS","I-1"]
[null,{"$f":"VALUE(renipress[[#This Row],[Código Único]])","v":3599},"GOBIERNO REGIONAL","00003599","ÑAHUINPUQUIO","AYACUCHO","HUAMANGA","SAN JUAN BAUTISTA","050110","5","01","03","AYACUCHO","HUAMANGA","SAN JUAN BAUTISTA","I-2"]
[null,{"$f":"VALUE(renipress[[#This Row],[Código Único]])","v":3608},"GOBIERNO REGIONAL","00003608","LA COMPAÑIA","AYACUCHO","HUAMANGA","PACAYCASA","050107","5","01","01","AYACUCHO","HUAMANGA","MUYURINA","I-1"]
[null,{"$f":"VALUE(renipress[[#This Row],[Código Único]])","v":3620},"GOBIERNO REGIONAL","00003620","SANTA ROSA DE COCHABAMBA","AYACUCHO","HUAMANGA","SOCOS","050112","5","01","15","AYACUCHO","HUAMANGA","SOCOS","I-1"]
[null,{"$f":"VALUE(renipress[[#This Row],[Código Único]])","v":3632},"GOBIERNO REGIONAL","00003632","PACCHA","AYACUCHO","HUAMANGA","VINCHOS","050114","5","01","09","AYACUCHO","HUAMANGA","VINCHOS","I-2"]
[null,{"$f":"VALUE(renipress[[#This Row],[Código Único]])","v":3641},"GOBIERNO REGIONAL","00003641","CARAPO","AYACUCHO","HUANCA SANCOS","CARAPO","050302","5","05","05","AYACUCHO","AYACUCHO CENTRO","HUANCASANCOS","I-2"]
[null,{"$f":"VALUE(renipress[[#This Row],[Código Único]])","v":3649},"GOBIERNO REGIONAL","00003649","SACHABAMBA HUANTA","AYACUCHO","HUANTA","PUCACOLPA","050411","5","02","03","AYACUCHO","HUANTA","HUALLHUA","I-1"]
[null,{"$f":"VALUE(renipress[[#This Row],[Código Único]])","v":3662},"GOBIERNO REGIONAL","00003662","CHIHUA","AYACUCHO","HUANTA","IGUAIN","050404","5","02","05","AYACUCHO","HUANTA","LURICOCHA","I-1"]
[null,{"$f":"VALUE(renipress[[#This Row],[Código Único]])","v":3677},"GOBIERNO REGIONAL","00003677","HUAC-HUAS","AYACUCHO","LUCANAS","HUAC-HUAS","050607","5","07","01","AYACUCHO","LUCANAS","LARAMATE","I-3"]
[null,{"$f":"VALUE(renipress[[#This Row],[Código Único]])","v":3691},"GOBIERNO REGIONAL","00003691","SAN ISIDRO DE TOTORA","AYACUCHO","LUCANAS","SAN PEDRO DE PALCO","050618","5","07","05","AYACUCHO","LUCANAS","OTOCA","I-1"]
[null,{"$f":"VALUE(renipress[[#This Row],[Código Único]])","v":3694},"GOBIERNO REGIONAL","00003694","SAN SEBASTIAN DE SACRACA","AYACUCHO","PAUCAR DEL SARA SARA","LAMPA","050804","5","06","03","AYACUCHO","CORACORA","PAUSA","I-2"]
[null,{"$f":"VALUE(renipress[[#This Row],[Código Único]])","v":3712},"GOBIERNO REGIONAL","00003712","MAYOBAMBA","AYACUCHO","LUCANAS","CHIPAO","050606","5","07","02","AYACUCHO","LUCANAS","ANDAMARCA","I-1"]
[null,{"$f":"VALUE(renipress[[#This Row],[Código Único]])","v":3718},"GOBIERNO REGIONAL","00003718","PAMPAMARCA","AYACUCHO","PARINACOCHAS","CORACORA","050701","5","07","07","AYACUCHO","LUCANAS","SAN PEDRO","I-1"]
[null,{"$f":"VALUE(renipress[[#This Row],[Código Único]])","v":3733},"GOBIERNO REGIONAL","00003733","CHILQUES","AYACUCHO","LUCANAS","PUQUIO","050601","5","07","07","AYACUCHO","LUCANAS","SAN PEDRO","I-1"]
[null,{"$f":"VALUE(renipress[[#This Row],[Código Único]])","v":3746},"GOBIERNO REGIONAL","00003746","CORAZONPATA","AYACUCHO","HUANTA","LLOCHEGUA","050408","5","04","04","AYACUCHO","SAN FRANCISCO","LLOCHEGUA","I-1"]
[null,{"$f":"VALUE(renipress[[#This Row],[Código Único]])","v":3754},"GOBIERNO REGIONAL","00003754","HOSPITAL DE APOYO SAN FRANCISCO","AYACUCHO","LA MAR","AYNA","050503","5","04","00","AYACUCHO","SAN FRANCISCO","NO PERTENECE A NINGUNA MICRORED","II-1"]
[null,{"$f":"VALUE(renipress[[#This Row],[Código Único]])","v":3763},"GOBIERNO REGIONAL","00003763","SAN JOSE DE VILLA VISTA","AYACUCHO","LA MAR","CHUNGUI","050505","5","04","05","AYACUCHO","SAN FRANCISCO","SAN MARTIN","I-1"]
[null,{"$f":"VALUE(renipress[[#This Row],[Código Único]])","v":3783},"GOBIERNO REGIONAL","00003783","CHUNGUI","AYACUCHO","LA MAR","CHUNGUI","050505","5","03","04","AYACUCHO","SAN MIGUEL","CHUNGUI","I-3"]
[null,{"$f":"VALUE(renipress[[#This Row],[Código Único]])","v":3791},"GOBIERNO REGIONAL","00003791","PACOBAMBA","AYACUCHO","LA MAR","ANCO","050502","5","03","03","AYACUCHO","SAN MIGUEL","SACHARACCAY","I-1"]
[null,{"$f":"VALUE(renipress[[#This Row],[Código Único]])","v":3804},"GOBIERNO REGIONAL","00003804","CHALCOS","AYACUCHO","SUCRE","CHALCOS","050903","5","05","06","AYACUCHO","AYACUCHO CENTRO","SUCRE","I-1"]
[null,{"$f":"VALUE(renipress[[#This Row],[Código Único]])","v":3815},"GOBIERNO REGIONAL","00003815","SAN PEDRO DE LARCAY","AYACUCHO","SUCRE","SAN PEDRO DE LARCAY","050908","5","05","06","AYACUCHO","AYACUCHO CENTRO","SUCRE","I-2"]
[null,{"$f":"VALUE(renipress[[#This Row],[Código Único]])","v":3825},"GOBIERNO REGIONAL","00003825","RACCAYA","AYACUCHO","VICTOR FAJARDO","CANARIA","051005","5","05","04","AYACUCHO","AYACUCHO CENTRO","VICTOR FAJARDO","I-1"]
[null,{"$f":"VALUE(renipress[[#This Row],[Código Único]])","v":3832},"GOBIERNO REGIONAL","00003832","PATARA","AYACUCHO","VICTOR FAJARDO","HUAMANQUIQUIA","051008","5","05","02","AYACUCHO","AYACUCHO CENTRO","POMABAMBA","I-1"]
[null,{"$f":"VALUE(renipress[[#This Row],[Código Único]])","v":3846},"GOBIERNO REGIONAL","00003846","SAURAMA","AYACUCHO","VILCAS HUAMAN","SAURAMA","051107","5","05","03","AYACUCHO","AYACUCHO CENTRO","VILCASHUAMAN","I-1"]
[null,{"$f":"VALUE(renipress[[#This Row],[Código Único]])","v":3860},"GOBIERNO REGIONAL","00003860","PUEBLO LIBRE","HUANCAVELICA","HUANCAVELICA","HUANCAVELICA","090101","13","01","11","HUANCAVELICA","HUANCAVELICA","SANTA ANA","I-1"]
[null,{"$f":"VALUE(renipress[[#This Row],[Código Único]])","v":3875},"GOBIERNO REGIONAL","00003875","LOS ANGELES DE CCARAHUASA","HUANCAVELICA","HUANCAVELICA","ACORIA","090103","13","01","03","HUANCAVELICA","HUANCAVELICA","AYACCOCHA","I-1"]
[null,{"$f":"VALUE(renipress[[#This Row],[Código Único]])","v":3877},"GOBIERNO REGIONAL","00003877","CCACCASIRI","HUANCAVELICA","HUANCAVELICA","ACORIA","090103","13","01","03","HUANCAVELICA","HUANCAVELICA","AYACCOCHA","I-1"]
[null,{"$f":"VALUE(renipress[[#This Row],[Código Único]])","v":3896},"GOBIERNO REGIONAL","00003896","CHUPACA","HUANCAVELICA","HUANCAVELICA","ACORIA","090103","13","01","05","HUANCAVELICA","HUANCAVELICA","IZCUCHACA","I-2"]
[null,{"$f":"VALUE(renipress[[#This Row],[Código Único]])","v":3905},"GOBIERNO REGIONAL","00003905","TOTORA JATUNPAMPA","HUANCAVELICA","HUANCAVELICA","CUENCA","090105","13","01","05","HUANCAVELICA","HUANCAVELICA","IZCUCHACA","I-1"]
[null,{"$f":"VALUE(renipress[[#This Row],[Código Único]])","v":3917},"GOBIERNO REGIONAL","00003917","HOSPITAL PROVINCIAL DE ACOBAMBA","HUANCAVELICA","ACOBAMBA","ACOBAMBA","090201","13","02","00","HUANCAVELICA","ACOBAMBA","NO PERTENECE A NINGUNA MICRORED","II-1"]
[null,{"$f":"VALUE(renipress[[#This Row],[Código Único]])","v":3929},"GOBIERNO REGIONAL","00003929","puesto de salud Cuñi","HUANCAVELICA","ACOBAMBA","MARCAS","090205","13","02","01","HUANCAVELICA","ACOBAMBA","ACOBAMBA","I-1"]
[null,{"$f":"VALUE(renipress[[#This Row],[Código Único]])","v":3938},"GOBIERNO REGIONAL","00003938","CENTRO DE SALUD PUCA CRUZ","HUANCAVELICA","ACOBAMBA","ROSARIO","090208","13","02","02","HUANCAVELICA","ACOBAMBA","PAUCARA                                                    ","I-3"]
[null,{"$f":"VALUE(renipress[[#This Row],[Código Único]])","v":3946},"GOBIERNO REGIONAL","00003946","PIRCAPAHUANA","HUANCAVELICA","ANGARAES","LIRCAY","090301","13","04","01","HUANCAVELICA","ANGARAES","LIRCAY","I-1"]
[null,{"$f":"VALUE(renipress[[#This Row],[Código Único]])","v":3967},"GOBIERNO REGIONAL","00003967","SANTO TOMAS DE PATA","HUANCAVELICA","ANGARAES","SANTO TOMAS DE PATA","090311","13","04","03","HUANCAVELICA","ANGARAES","SECCLLA","I-1"]
[null,{"$f":"VALUE(renipress[[#This Row],[Código Único]])","v":3974},"GOBIERNO REGIONAL","00003974","CARCOSI","HUANCAVELICA","ANGARAES","CONGALLA","090306","13","04","03","HUANCAVELICA","ANGARAES","SECCLLA","I-1"]
[null,{"$f":"VALUE(renipress[[#This Row],[Código Único]])","v":3988},"GOBIERNO REGIONAL","00003988","PALERMO","HUANCAVELICA","CHURCAMPA","EL CARMEN","090504","13","06","01","HUANCAVELICA","CHURCAMPA","CHURCAMPA","I-1"]
[null,{"$f":"VALUE(renipress[[#This Row],[Código Único]])","v":3991},"GOBIERNO REGIONAL","00003991","HUARIBAMBILLA","HUANCAVELICA","CHURCAMPA","PAUCARBAMBA","090507","13","06","02","HUANCAVELICA","CHURCAMPA","PAUCARBAMBA","I-2"]
[null,{"$f":"VALUE(renipress[[#This Row],[Código Único]])","v":4010},"GOBIERNO REGIONAL","00004010","SANTA ROSA","HUANCAVELICA","CASTROVIRREYNA","SANTA ANA","090411","13","05","01","HUANCAVELICA","CASTROVIRREYNA","CASTROVIRREYNA","I-1"]
[null,{"$f":"VALUE(renipress[[#This Row],[Código Único]])","v":4016},"GOBIERNO REGIONAL","00004016","CIUTAY","HUANCAVELICA","CASTROVIRREYNA","MOLLEPAMPA","090409","13","05","01","HUANCAVELICA","CASTROVIRREYNA","CASTROVIRREYNA","I-1"]
[null,{"$f":"VALUE(renipress[[#This Row],[Código Único]])","v":4031},"GOBIERNO REGIONAL","00004031","OCROCOCHA","HUANCAVELICA","CASTROVIRREYNA","TANTARA","090412","13","05","03","HUANCAVELICA","CASTROVIRREYNA","TANTARA","I-1"]
[null,{"$f":"VALUE(renipress[[#This Row],[Código Único]])","v":4044},"GOBIERNO REGIONAL","00004044","SAN FELIPE","HUANCAVELICA","HUAYTARA","PILPICHACA","090607","13","07","04","HUANCAVELICA","HUAYTARA","PILPICHACA","I-1"]
[null,{"$f":"VALUE(renipress[[#This Row],[Código Único]])","v":4060},"GOBIERNO REGIONAL","00004060","SANTA ROSA DE OTUTO","HUANCAVELICA","HUAYTARA","SANTIAGO DE CHOCORVOS","090613","13","07","02","HUANCAVELICA","HUAYTARA","SANTIAGO DE CHOCORVOS","I-1"]
[null,{"$f":"VALUE(renipress[[#This Row],[Código Único]])","v":4061},"GOBIERNO REGIONAL","00004061","PALMACANCHA","HUANCAVELICA","HUAYTARA","SANTIAGO DE CHOCORVOS","090613","13","07","02","HUANCAVELICA","HUAYTARA","SANTIAGO DE CHOCORVOS","I-1"]
[null,{"$f":"VALUE(renipress[[#This Row],[Código Único]])","v":4081},"GOBIERNO REGIONAL","00004081","PUESTO DE SALUD SAN MIGUEL DE HUALLHUA","HUANCAVELICA","TAYACAJA","AHUAYCHA","090704","13","03","07","HUANCAVELICA","TAYACAJA","ACRAQUIA","I-2"]
[null,{"$f":"VALUE(renipress[[#This Row],[Código Único]])","v":4089},"GOBIERNO REGIONAL","00004089","PUESTO DE SALUD QUISHUAR","HUANCAVELICA","TAYACAJA","QUISHUAR","090713","13","03","08","HUANCAVELICA","TAYACAJA","DANIEL HERNANDEZ","I-2"]
[null,{"$f":"VALUE(renipress[[#This Row],[Código Único]])","v":4102},"GOBIERNO REGIONAL","00004102","PUESTO DE SALUD ÑAHUIMPUQUIO","HUANCAVELICA","TAYACAJA","ÑAHUIMPUQUIO","090710","13","03","06","HUANCAVELICA","TAYACAJA","ACOSTAMBO","I-2"]
[null,{"$f":"VALUE(renipress[[#This Row],[Código Único]])","v":4113},"GOBIERNO REGIONAL","00004113","PUESTO DE SALUD TAPO","HUANCAVELICA","TAYACAJA","HUARIBAMBA","090709","13","03","02","HUANCAVELICA","TAYACAJA","PAZOS","I-1"]
[null,{"$f":"VALUE(renipress[[#This Row],[Código Único]])","v":4123},"GOBIERNO REGIONAL","00004123","PUESTO DE SALUD SAN MARCOS DE ROCCHACC","HUANCAVELICA","TAYACAJA","SAN MARCOS DE ROCCHAC","090716","13","03","04","HUANCAVELICA","TAYACAJA","SAN ISIDRO DE ACOBAMBA","I-1"]
[null,{"$f":"VALUE(renipress[[#This Row],[Código Único]])","v":4130},"GOBIERNO REGIONAL","00004130","PUESTO DE SALUD SANTA MARÍA","HUANCAVELICA","TAYACAJA","HUACHOCOLPA","090707","13","03","05","HUANCAVELICA","TAYACAJA","SURCUBAMBA","I-1"]
[null,{"$f":"VALUE(renipress[[#This Row],[Código Único]])","v":4144},"GOBIERNO REGIONAL","00004144","URANMARCA","APURIMAC","CHINCHEROS","URANMARCA","030607","3","04","01","APURIMAC","COCHARCAS","URIPA","I-2"]
[null,{"$f":"VALUE(renipress[[#This Row],[Código Único]])","v":4158},"GOBIERNO REGIONAL","00004158","HUANCARAY","APURIMAC","ANDAHUAYLAS","HUANCARAY","030205","3","05","01","APURIMAC","JOSE MARIA ARGUEDAS","HUANCARAY","I-4"]
[null,{"$f":"VALUE(renipress[[#This Row],[Código Único]])","v":4173},"GOBIERNO REGIONAL","00004173","HUINCHOS","APURIMAC","ANDAHUAYLAS","ANDAHUAYLAS","030201","3","05","02","APURIMAC","JOSE MARIA ARGUEDAS","HUANCABAMBA","I-2"]
[null,{"$f":"VALUE(renipress[[#This Row],[Código Único]])","v":4186},"GOBIERNO REGIONAL","00004186","Puesto de Salud Quillabamba","APURIMAC","ANDAHUAYLAS","KISHUARA","030207","3","03","03","APURIMAC","SONDOR","KISHUARA","I-2"]
[null,{"$f":"VALUE(renipress[[#This Row],[Código Único]])","v":4194},"GOBIERNO REGIONAL","00004194","CHOCCEPUQUIO","APURIMAC","ANDAHUAYLAS","ANDAHUAYLAS","030201","3","05","03","APURIMAC","JOSE MARIA ARGUEDAS","TALAVERA","I-2"]
[null,{"$f":"VALUE(renipress[[#This Row],[Código Único]])","v":4199},"GOBIERNO REGIONAL","00004199","LLANTUYHUANCA","APURIMAC","ANDAHUAYLAS","TALAVERA","030216","3","05","03","APURIMAC","JOSE MARIA ARGUEDAS","TALAVERA","I-1"]
[null,{"$f":"VALUE(renipress[[#This Row],[Código Único]])","v":4215},"GOBIERNO REGIONAL","00004215","CHAMAYA","CAJAMARCA","JAEN","JAEN","060801","7","15","01","CAJAMARCA","JAEN","MORRO SOLAR","I-1"]
[null,{"$f":"VALUE(renipress[[#This Row],[Código Único]])","v":4227},"GOBIERNO REGIONAL","00004227","VISTA ALEGRE DE CHINGAMA","CAJAMARCA","JAEN","BELLAVISTA","060802","7","15","04","CAJAMARCA","JAEN","AMBATO TAMBORAPA","I-2"]
[null,{"$f":"VALUE(renipress[[#This Row],[Código Único]])","v":4236},"GOBIERNO REGIONAL","00004236","COLASAY","CAJAMARCA","JAEN","COLASAY","060804","7","15","13","CAJAMARCA","JAEN","COLASAY","I-3"]
[null,{"$f":"VALUE(renipress[[#This Row],[Código Único]])","v":4255},"GOBIERNO REGIONAL","00004255","PIQUIJACA","CAJAMARCA","JAEN","SAN FELIPE","060810","7","15","16","CAJAMARCA","JAEN","SAN FELIPE","I-2"]
[null,{"$f":"VALUE(renipress[[#This Row],[Código Único]])","v":4265},"GOBIERNO REGIONAL","00004265","HUALLAPE","CAJAMARCA","JAEN","SANTA ROSA","060812","7","15","12","CAJAMARCA","JAEN","CRUCE SHUMBA","I-1"]
[null,{"$f":"VALUE(renipress[[#This Row],[Código Único]])","v":4272},"GOBIERNO REGIONAL","00004272","SAN MARTIN","CAJAMARCA","SAN IGNACIO","SAN IGNACIO","060901","7","16","01","CAJAMARCA","SAN IGNACIO","SAN IGNACIO","I-2"]
[null,{"$f":"VALUE(renipress[[#This Row],[Código Único]])","v":4286},"GOBIERNO REGIONAL","00004286","LA LIMA DE HUARANGO","CAJAMARCA","SAN IGNACIO","HUARANGO","060903","7","16","04","CAJAMARCA","SAN IGNACIO","HUARANGO","I-2"]
[null,{"$f":"VALUE(renipress[[#This Row],[Código Único]])","v":4300},"GOBIERNO REGIONAL","00004300","SAN JOSE DE LOURDES","CAJAMARCA","SAN IGNACIO","SAN JOSE DE LOURDES","060906","7","16","03","CAJAMARCA","SAN IGNACIO","SAN JOSE DE LOURDES","I-3"]
[null,{"$f":"VALUE(renipress[[#This Row],[Código Único]])","v":4307},"GOBIERNO REGIONAL","00004307","PUERTO CHINCHIPE","CAJAMARCA","SAN IGNACIO","SAN JOSE DE LOURDES","060906","7","16","03","CAJAMARCA","SAN IGNACIO","SAN JOSE DE LOURDES","I-2"]
[null,{"$f":"VALUE(renipress[[#This Row],[Código Único]])","v":4324},"GOBIERNO REGIONAL","00004324","CERROPON","LAMBAYEQUE","CHICLAYO","CHICLAYO","140101","19","01","01","LAMBAYEQUE","CHICLAYO","CHICLAYO","I-3"]
[null,{"$f":"VALUE(renipress[[#This Row],[Código Único]])","v":4328},"GOBIERNO REGIONAL","00004328","LA VICTORIA SECTOR II - MARIA JESUS","LAMBAYEQUE","CHICLAYO","LA VICTORIA","140106","19","01","05","LAMBAYEQUE","CHICLAYO","LA VICTORIA","I-3"]
[null,{"$f":"VALUE(renipress[[#This Row],[Código Único]])","v":4341},"GOBIERNO REGIONAL","00004341","SIPAN","LAMBAYEQUE","CHICLAYO","SAÑA","140115","19","01","08","LAMBAYEQUE","CHICLAYO","CAYALTI-ZAÑA","I-2"]
[null,{"$f":"VALUE(renipress[[#This Row],[Código Único]])","v":4357},"GOBIERNO REGIONAL","00004357","COLLIQUE","LAMBAYEQUE","CHICLAYO","SAÑA","140115","19","01","08","LAMBAYEQUE","CHICLAYO","CAYALTI-ZAÑA","I-2"]
[null,{"$f":"VALUE(renipress[[#This Row],[Código Único]])","v":4369},"GOBIERNO REGIONAL","00004369","VIRGEN DE LAS MERCEDES LA OTRA BANDA","LAMBAYEQUE","CHICLAYO","SAÑA","140115","19","01","08","LAMBAYEQUE","CHICLAYO","CAYALTI-ZAÑA","I-1"]
[null,{"$f":"VALUE(renipress[[#This Row],[Código Único]])","v":4378},"GOBIERNO REGIONAL","00004378","SAN PEDRO SASAPE","LAMBAYEQUE","LAMBAYEQUE","ILLIMO","140303","19","03","05","LAMBAYEQUE","LAMBAYEQUE","ILLIMO","I-2"]
[null,{"$f":"VALUE(renipress[[#This Row],[Código Único]])","v":4386},"GOBIERNO REGIONAL","00004386","SALAS","LAMBAYEQUE","LAMBAYEQUE","SALAS","140310","19","03","08","LAMBAYEQUE","LAMBAYEQUE","SALAS","I-3"]
[null,{"$f":"VALUE(renipress[[#This Row],[Código Único]])","v":4399},"GOBIERNO REGIONAL","00004399","HUACAPAMPA","LAMBAYEQUE","FERREÑAFE","CAÑARIS","140202","19","03","11","LAMBAYEQUE","LAMBAYEQUE","KAÑARIS","I-2"]
[null,{"$f":"VALUE(renipress[[#This Row],[Código Único]])","v":4410},"GOBIERNO REGIONAL","00004410","QUERPON","LAMBAYEQUE","LAMBAYEQUE","OLMOS","140308","19","03","10","LAMBAYEQUE","LAMBAYEQUE","OLMOS","I-1"]
[null,{"$f":"VALUE(renipress[[#This Row],[Código Único]])","v":4420},"GOBIERNO REGIONAL","00004420","MORROPE","LAMBAYEQUE","LAMBAYEQUE","MORROPE","140306","19","03","03","LAMBAYEQUE","LAMBAYEQUE","MORROPE","I-3"]
[null,{"$f":"VALUE(renipress[[#This Row],[Código Único]])","v":4438},"GOBIERNO REGIONAL","00004438","POSITOS","LAMBAYEQUE","LAMBAYEQUE","MORROPE","140306","19","03","03","LAMBAYEQUE","LAMBAYEQUE","MORROPE","I-2"]
[null,{"$f":"VALUE(renipress[[#This Row],[Código Único]])","v":4449},"GOBIERNO REGIONAL","00004449","PATIVILCA","LAMBAYEQUE","FERREÑAFE","PITIPO","140205","19","02","02","LAMBAYEQUE","FERREÐAFE","PITIPO","I-2"]
[null,{"$f":"VALUE(renipress[[#This Row],[Código Único]])","v":4455},"GOBIERNO REGIONAL","00004455","INKAWASI","LAMBAYEQUE","FERREÑAFE","INCAHUASI","140203","19","02","03","LAMBAYEQUE","FERREÐAFE","INKAWASI","I-3"]
[null,{"$f":"VALUE(renipress[[#This Row],[Código Único]])","v":4470},"GOBIERNO REGIONAL","00004470","SOROCHUCO","CAJAMARCA","CELENDIN","SOROCHUCO","060309","7","04","06","CAJAMARCA","CELENDIN","SOROCHUCO","I-2"]
[null,{"$f":"VALUE(renipress[[#This Row],[Código Único]])","v":4483},"GOBIERNO REGIONAL","00004483","PIOBAMBA","CAJAMARCA","CELENDIN","OXAMARCA","060308","7","04","02","CAJAMARCA","CELENDIN","SUCRE","I-2"]
[null,{"$f":"VALUE(renipress[[#This Row],[Código Único]])","v":4491},"GOBIERNO REGIONAL","00004491","CHANCAY","CAJAMARCA","SAN MARCOS","CHANCAY","061002","7","07","03","CAJAMARCA","SAN MARCOS","ICHOCAN","I-1"]
[null,{"$f":"VALUE(renipress[[#This Row],[Código Único]])","v":4507},"GOBIERNO REGIONAL","00004507","RIO SECO","CAJAMARCA","SAN MARCOS","GREGORIO PITA","061004","7","07","01","CAJAMARCA","SAN MARCOS","SAN MARCOS","I-2"]
[null,{"$f":"VALUE(renipress[[#This Row],[Código Único]])","v":4512},"GOBIERNO REGIONAL","00004512","HUACADAY","CAJAMARCA","CAJABAMBA","CACHACHI","060202","7","05","04","CAJAMARCA","CAJABAMBA","CHUQUIBAMBA","I-1"]
[null,{"$f":"VALUE(renipress[[#This Row],[Código Único]])","v":4524},"GOBIERNO REGIONAL","00004524","LLUCHUBAMBA","CAJAMARCA","CAJABAMBA","SITACOCHA","060204","7","05","02","CAJAMARCA","CAJABAMBA","LLUCHUBAMBA","I-3"]
[null,{"$f":"VALUE(renipress[[#This Row],[Código Único]])","v":4533},"GOBIERNO REGIONAL","00004533","CARAHUASI","CAJAMARCA","SAN MIGUEL","NANCHOC","061108","7","08","03","CAJAMARCA","SAN MIGUEL","NANCHOC","I-1"]
[null,{"$f":"VALUE(renipress[[#This Row],[Código Único]])","v":4552},"GOBIERNO REGIONAL","00004552","JAGUEY","CAJAMARCA","CONTUMAZA","SAN BENITO","060505","7","06","01","CAJAMARCA","CONTUMAZA","CONTUMAZA","I-2"]
[null,{"$f":"VALUE(renipress[[#This Row],[Código Único]])","v":4562},"GOBIERNO REGIONAL","00004562","LLAPA","CAJAMARCA","SAN MIGUEL","LLAPA","061107","7","08","02","CAJAMARCA","SAN MIGUEL","LLAPA","I-3"]
[null,{"$f":"VALUE(renipress[[#This Row],[Código Único]])","v":4575},"GOBIERNO REGIONAL","00004575","EL PRADO","CAJAMARCA","SAN MIGUEL","EL PRADO","061105","7","08","01","CAJAMARCA","SAN MIGUEL","SAN MIGUEL","I-2"]
[null,{"$f":"VALUE(renipress[[#This Row],[Código Único]])","v":4587},"GOBIERNO REGIONAL","00004587","TEMBLADERA","CAJAMARCA","CONTUMAZA","YONAN","060508","7","06","03","CAJAMARCA","CONTUMAZA","TEMBLADERA","I-4"]
[null,{"$f":"VALUE(renipress[[#This Row],[Código Único]])","v":4592},"GOBIERNO REGIONAL","00004592","PAY PAY","CAJAMARCA","CONTUMAZA","YONAN","060508","7","06","03","CAJAMARCA","CONTUMAZA","TEMBLADERA","I-1"]
[null,{"$f":"VALUE(renipress[[#This Row],[Código Único]])","v":4604},"GOBIERNO REGIONAL","00004604","LLACANORA","CAJAMARCA","CAJAMARCA","LLACANORA","060107","7","02","01","CAJAMARCA","CAJAMARCA","BAÑOS DEL INCA","I-2"]
[null,{"$f":"VALUE(renipress[[#This Row],[Código Único]])","v":4613},"GOBIERNO REGIONAL","00004613","GRANJA PORCON","CAJAMARCA","CAJAMARCA","CAJAMARCA","060101","7","02","05","CAJAMARCA","CAJAMARCA","HUAMBOCANCHA BAJA","I-1"]
[null,{"$f":"VALUE(renipress[[#This Row],[Código Único]])","v":4632},"GOBIERNO REGIONAL","00004632","CORRALES DE CHANTA","CAJAMARCA","CONTUMAZA","CONTUMAZA","060501","7","06","01","CAJAMARCA","CONTUMAZA","CONTUMAZA","I-1"]
[null,{"$f":"VALUE(renipress[[#This Row],[Código Único]])","v":4646},"GOBIERNO REGIONAL","00004646","JESUS","CAJAMARCA","CAJAMARCA","JESUS","060106","7","02","04","CAJAMARCA","CAJAMARCA","JESUS","I-3"]
[null,{"$f":"VALUE(renipress[[#This Row],[Código Único]])","v":4656},"GOBIERNO REGIONAL","00004656","ATAHUALPA","CAJAMARCA","CAJAMARCA","CAJAMARCA","060101","7","02","06","CAJAMARCA","CAJAMARCA","PACHACUTEC","I-1"]
[null,{"$f":"VALUE(renipress[[#This Row],[Código Único]])","v":4667},"GOBIERNO REGIONAL","00004667","CONDORPULLANA","CAJAMARCA","CHOTA","CHOTA","060401","7","10","02","CAJAMARCA","CHOTA","CHOTA","I-1"]
[null,{"$f":"VALUE(renipress[[#This Row],[Código Único]])","v":4673},"GOBIERNO REGIONAL","00004673","NUEVO ORIENTE","CAJAMARCA","CHOTA","CHOTA","060401","7","10","02","CAJAMARCA","CHOTA","CHOTA","I-1"]
[null,{"$f":"VALUE(renipress[[#This Row],[Código Único]])","v":4684},"GOBIERNO REGIONAL","00004684","CHINLANLAN","CAJAMARCA","CHOTA","LAJAS","060410","7","10","05","CAJAMARCA","CHOTA","LAJAS","I-1"]
[null,{"$f":"VALUE(renipress[[#This Row],[Código Único]])","v":4701},"GOBIERNO REGIONAL","00004701","CHIMBAN","CAJAMARCA","CHOTA","CHIMBAN","060405","7","10","12","CAJAMARCA","CHOTA","CHIMBAM","I-3"]
[null,{"$f":"VALUE(renipress[[#This Row],[Código Único]])","v":4705},"GOBIERNO REGIONAL","00004705","CHABARBAMBA","CAJAMARCA","CHOTA","HUAMBOS","060409","7","10","04","CAJAMARCA","CHOTA","HUAMBOS","I-2"]
[null,{"$f":"VALUE(renipress[[#This Row],[Código Único]])","v":4718},"GOBIERNO REGIONAL","00004718","CHALAMARCA","CAJAMARCA","CHOTA","CHALAMARCA","060419","7","10","01","CAJAMARCA","CHOTA","CHALAMARCA","I-3"]
[null,{"$f":"VALUE(renipress[[#This Row],[Código Único]])","v":4738},"GOBIERNO REGIONAL","00004738","SAN JUAN DE CHADIN","CAJAMARCA","CHOTA","CHADIN","060403","7","10","08","CAJAMARCA","CHOTA","PACCHA","I-1"]
[null,{"$f":"VALUE(renipress[[#This Row],[Código Único]])","v":4742},"GOBIERNO REGIONAL","00004742","TACABAMBA","CAJAMARCA","CHOTA","TACABAMBA","060417","7","10","09","CAJAMARCA","CHOTA","TACABAMBA","I-4"]
[null,{"$f":"VALUE(renipress[[#This Row],[Código Único]])","v":4759},"GOBIERNO REGIONAL","00004759","CONCHAN","CAJAMARCA","CHOTA","CONCHAN","060408","7","10","03","CAJAMARCA","CHOTA","CONCHAN","I-3"]
[null,{"$f":"VALUE(renipress[[#This Row],[Código Único]])","v":4770},"GOBIERNO REGIONAL","00004770","TIMON","CAJAMARCA","CHOTA","LLAMA","060411","7","10","07","CAJAMARCA","CHOTA","LLAMA","I-1"]
[null,{"$f":"VALUE(renipress[[#This Row],[Código Único]])","v":4780},"GOBIERNO REGIONAL","00004780","SAN JUAN DE LICUPIS","CAJAMARCA","CHOTA","SAN JUAN DE LICUPIS","060416","7","10","10","CAJAMARCA","CHOTA","TOCMOCHE","I-2"]
[null,{"$f":"VALUE(renipress[[#This Row],[Código Único]])","v":4787},"GOBIERNO REGIONAL","00004787","EL TUCO","CAJAMARCA","HUALGAYOC","BAMBAMARCA","060701","7","11","05","CAJAMARCA","BAMBAMARCA","VIRGEN DEL CARMEN","I-1"]
[null,{"$f":"VALUE(renipress[[#This Row],[Código Único]])","v":4797},"GOBIERNO REGIONAL","00004797","ATOSHAICO","CAJAMARCA","HUALGAYOC","BAMBAMARCA","060701","7","11","05","CAJAMARCA","BAMBAMARCA","VIRGEN DEL CARMEN","I-1"]
[null,{"$f":"VALUE(renipress[[#This Row],[Código Único]])","v":4815},"GOBIERNO REGIONAL","00004815","MAYOBAMBA","CAJAMARCA","SANTA CRUZ","SANTA CRUZ","061301","7","12","03","CAJAMARCA","SANTA CRUZ","SANTA CRUZ","I-1"]
[null,{"$f":"VALUE(renipress[[#This Row],[Código Único]])","v":4830},"GOBIERNO REGIONAL","00004830","PULAN","CAJAMARCA","SANTA CRUZ","PULAN","061307","7","12","03","CAJAMARCA","SANTA CRUZ","SANTA CRUZ","I-3"]
[null,{"$f":"VALUE(renipress[[#This Row],[Código Único]])","v":4839},"GOBIERNO REGIONAL","00004839","TAQUIA","AMAZONAS","CHACHAPOYAS","CHACHAPOYAS","010101","1","01","01","AMAZONAS","CHACHAPOYAS","CHACHAPOYAS","I-1"]
[null,{"$f":"VALUE(renipress[[#This Row],[Código Único]])","v":4851},"GOBIERNO REGIONAL","00004851","LUYA VIEJO","AMAZONAS","LUYA","LUYA VIEJO","010510","1","01","07","AMAZONAS","CHACHAPOYAS","LAMUD","I-1"]
[null,{"$f":"VALUE(renipress[[#This Row],[Código Único]])","v":4856},"GOBIERNO REGIONAL","00004856","BALZAS","AMAZONAS","CHACHAPOYAS","BALSAS","010103","1","01","10","AMAZONAS","CHACHAPOYAS","LEYMEBAMBA","I-3"]
[null,{"$f":"VALUE(renipress[[#This Row],[Código Único]])","v":4872},"GOBIERNO REGIONAL","00004872","QUINJALCA","AMAZONAS","CHACHAPOYAS","QUINJALCA","010117","1","01","16","AMAZONAS","CHACHAPOYAS","MOLINOPAMPA","I-2"]
[null,{"$f":"VALUE(renipress[[#This Row],[Código Único]])","v":4884},"GOBIERNO REGIONAL","00004884","SONCHE","AMAZONAS","CHACHAPOYAS","SONCHE","010121","1","01","11","AMAZONAS","CHACHAPOYAS","PIPUS","I-1"]
[null,{"$f":"VALUE(renipress[[#This Row],[Código Único]])","v":4889},"GOBIERNO REGIONAL","00004889","MARAYPATA","AMAZONAS","LUYA","SANTO TOMAS","010521","1","01","15","AMAZONAS","CHACHAPOYAS","SANTO TOMAS","I-1"]
[null,{"$f":"VALUE(renipress[[#This Row],[Código Único]])","v":4901},"GOBIERNO REGIONAL","00004901","TRIBULON","AMAZONAS","LUYA","PISUQUIA","010514","1","01","08","AMAZONAS","CHACHAPOYAS","TINGO","I-3"]
[null,{"$f":"VALUE(renipress[[#This Row],[Código Único]])","v":4922},"GOBIERNO REGIONAL","00004922","PEDRO RUIZ GALLO","AMAZONAS","BONGARA","JAZAN","010307","1","01","02","AMAZONAS","CHACHAPOYAS","PEDRO RUIZ","I-4"]
[null,{"$f":"VALUE(renipress[[#This Row],[Código Único]])","v":4929},"GOBIERNO REGIONAL","00004929","COCACHIMBA","AMAZONAS","BONGARA","VALERA","010311","1","01","02","AMAZONAS","CHACHAPOYAS","PEDRO RUIZ","I-1"]
[null,{"$f":"VALUE(renipress[[#This Row],[Código Único]])","v":4943},"GOBIERNO REGIONAL","00004943","HUAMBO","AMAZONAS","RODRIGUEZ DE MENDOZA","HUAMBO","010604","1","01","19","AMAZONAS","CHACHAPOYAS","HUAMBO","I-3"]
[null,{"$f":"VALUE(renipress[[#This Row],[Código Único]])","v":4953},"GOBIERNO REGIONAL","00004953","CHIRIMOTO","AMAZONAS","RODRIGUEZ DE MENDOZA","CHIRIMOTO","010602","1","01","14","AMAZONAS","CHACHAPOYAS","TOTORA","I-1"]
[null,{"$f":"VALUE(renipress[[#This Row],[Código Único]])","v":4964},"GOBIERNO REGIONAL","00004964","CHIPLE","CAJAMARCA","CUTERVO","CALLAYUC","060602","7","13","03","CAJAMARCA","CUTERVO","CHIPLE","I-3"]
[null,{"$f":"VALUE(renipress[[#This Row],[Código Único]])","v":4970},"GOBIERNO REGIONAL","00004970","SANTOS","CAJAMARCA","CUTERVO","QUEROCOTILLO","060607","7","13","03","CAJAMARCA","CUTERVO","CHIPLE","I-1"]
[null,{"$f":"VALUE(renipress[[#This Row],[Código Único]])","v":4981},"GOBIERNO REGIONAL","00004981","SANTA MARIA DE CUTERVO","CAJAMARCA","CUTERVO","CUTERVO","060601","7","13","00","CAJAMARCA","CUTERVO","NO PERTENECE A NINGUNA MICRORED","II-1"]
[null,{"$f":"VALUE(renipress[[#This Row],[Código Único]])","v":4998},"GOBIERNO REGIONAL","00004998","EL CARDON","CAJAMARCA","CUTERVO","CUTERVO","060601","7","13","08","CAJAMARCA","CUTERVO","SALOMON VILCHEZ MURGA","I-1"]
[null,{"$f":"VALUE(renipress[[#This Row],[Código Único]])","v":5014},"GOBIERNO REGIONAL","00005014","CONDORHUASI","CAJAMARCA","CUTERVO","PIMPINGOS","060606","7","14","04","CAJAMARCA","SOCOTA","SANTO TOMAS","I-1"]
[null,{"$f":"VALUE(renipress[[#This Row],[Código Único]])","v":5026},"GOBIERNO REGIONAL","00005026","EL PAGO","CAJAMARCA","CUTERVO","CUJILLO","060604","7","14","03","CAJAMARCA","SOCOTA","LA RAMADA","I-1"]
[null,{"$f":"VALUE(renipress[[#This Row],[Código Único]])","v":5035},"GOBIERNO REGIONAL","00005035","LA FLOR","CAJAMARCA","CUTERVO","SAN ANDRES DE CUTERVO","060608","7","14","02","CAJAMARCA","SOCOTA","SAN ANDRES DE CUTERVO","I-1"]
[null,{"$f":"VALUE(renipress[[#This Row],[Código Único]])","v":5039},"GOBIERNO REGIONAL","00005039","SANTO DOMINGO DE LA LUCMA","CAJAMARCA","CUTERVO","SAN LUIS DE LUCMA","060610","7","14","01","CAJAMARCA","SOCOTA","SOCOTA","I-1"]
[null,{"$f":"VALUE(renipress[[#This Row],[Código Único]])","v":5056},"GOBIERNO REGIONAL","00005056","EL MUYO","AMAZONAS","BAGUA","ARAMANGO","010202","1","02","09","AMAZONAS","BAGUA","EL MUYO","I-3"]
[null,{"$f":"VALUE(renipress[[#This Row],[Código Único]])","v":5067},"GOBIERNO REGIONAL","00005067","JOROBAMBA","AMAZONAS","UTCUBAMBA","EL MILAGRO","010704","1","03","06","AMAZONAS","UTCUBAMBA","EL MILAGRO","I-1"]
[null,{"$f":"VALUE(renipress[[#This Row],[Código Único]])","v":5073},"GOBIERNO REGIONAL","00005073","NUMPATKAIM","AMAZONAS","BAGUA","IMAZA","010205","1","02","11","AMAZONAS","BAGUA","CHIPE","I-1"]
[null,{"$f":"VALUE(renipress[[#This Row],[Código Único]])","v":5095},"GOBIERNO REGIONAL","00005095","SAN JUAN DE LA LIBERTAD","AMAZONAS","UTCUBAMBA","CAJARURO","010702","1","03","02","AMAZONAS","UTCUBAMBA","CAJARURO","I-3"]
[null,{"$f":"VALUE(renipress[[#This Row],[Código Único]])","v":5106},"GOBIERNO REGIONAL","00005106","SEDA FLOR","AMAZONAS","UTCUBAMBA","CAJARURO","010702","1","03","04","AMAZONAS","UTCUBAMBA","NARANJITOS","I-1"]
[null,{"$f":"VALUE(renipress[[#This Row],[Código Único]])","v":5112},"GOBIERNO REGIONAL","00005112","NUEVA ESPERANZA","AMAZONAS","UTCUBAMBA","CUMBA","010703","1","03","07","AMAZONAS","UTCUBAMBA","CUMBA","I-3"]
[null,{"$f":"VALUE(renipress[[#This Row],[Código Único]])","v":5127},"GOBIERNO REGIONAL","00005127","TOMOCHO","AMAZONAS","UTCUBAMBA","BAGUA GRANDE","010701","1","03","10","AMAZONAS","UTCUBAMBA","COLLICATE","I-1"]
[null,{"$f":"VALUE(renipress[[#This Row],[Código Único]])","v":5136},"GOBIERNO REGIONAL","00005136","LA VICTORIA","AMAZONAS","UTCUBAMBA","BAGUA GRANDE","010701","1","03","01","AMAZONAS","UTCUBAMBA","BAGUA GRANDE","I-3"]
[null,{"$f":"VALUE(renipress[[#This Row],[Código Único]])","v":5148},"GOBIERNO REGIONAL","00005148","PAKINTSA","AMAZONAS","CONDORCANQUI","NIEVA","010401","1","04","01","AMAZONAS","CONDORCANQUI","NIEVA","I-1"]
[null,{"$f":"VALUE(renipress[[#This Row],[Código Único]])","v":5164},"GOBIERNO REGIONAL","00005164","TEESH","AMAZONAS","CONDORCANQUI","EL CENEPA","010402","1","04","05","AMAZONAS","CONDORCANQUI","HUAMPAMI","I-1"]
[null,{"$f":"VALUE(renipress[[#This Row],[Código Único]])","v":5169},"GOBIERNO REGIONAL","00005169","KUSU NUMPATKAIM","AMAZONAS","CONDORCANQUI","EL CENEPA","010402","1","04","05","AMAZONAS","CONDORCANQUI","HUAMPAMI","I-1"]
[null,{"$f":"VALUE(renipress[[#This Row],[Código Único]])","v":5181},"GOBIERNO REGIONAL","00005181","CHINGANAZA","AMAZONAS","CONDORCANQUI","RIO SANTIAGO","010403","1","04","03","AMAZONAS","CONDORCANQUI","GALILEA","I-1"]
[null,{"$f":"VALUE(renipress[[#This Row],[Código Único]])","v":5198},"GOBIERNO REGIONAL","00005198","SAN MARTIN DE PORRES","LA LIBERTAD","TRUJILLO","TRUJILLO","130101","18","05","01","LA LIBERTAD","RED TRUJILLO","TRUJILLO - METROPOLITANO","I-3"]
[null,{"$f":"VALUE(renipress[[#This Row],[Código Único]])","v":5209},"GOBIERNO REGIONAL","00005209","HOSPITAL DISTRITAL DE EL PORVENIR SANTA ISABEL","LA LIBERTAD","TRUJILLO","EL PORVENIR","130102","18","05","07","LA LIBERTAD","RED TRUJILLO","PORVENIR","II-1"]
[null,{"$f":"VALUE(renipress[[#This Row],[Código Único]])","v":5219},"GOBIERNO REGIONAL","00005219","SANTO TORIBIO DE MOGROVEJO","LA LIBERTAD","TRUJILLO","FLORENCIA DE MORA","130103","18","05","02","LA LIBERTAD","RED TRUJILLO","FLORENCIA DE MORA","I-2"]
[null,{"$f":"VALUE(renipress[[#This Row],[Código Único]])","v":5233},"GOBIERNO REGIONAL","00005233","SANTO DOMINGO","LA LIBERTAD","TRUJILLO","LAREDO","130106","18","05","05","LA LIBERTAD","RED TRUJILLO","LAREDO","I-2"]
[null,{"$f":"VALUE(renipress[[#This Row],[Código Único]])","v":5240},"GOBIERNO REGIONAL","00005240","AURORA DIAZ","LA LIBERTAD","TRUJILLO","SALAVERRY","130109","18","05","08","LA LIBERTAD","RED TRUJILLO","SALAVERRY","I-2"]
[null,{"$f":"VALUE(renipress[[#This Row],[Código Único]])","v":5250},"GOBIERNO REGIONAL","00005250","SAN IGNACIO DE LOYOLA","LA LIBERTAD","OTUZCO","SINSICAP","130613","18","03","00","LA LIBERTAD","RED OTUZCO","NO PERTENECE A NINGUNA MICRORED","I-2"]
[null,{"$f":"VALUE(renipress[[#This Row],[Código Único]])","v":5261},"GOBIERNO REGIONAL","00005261","CHOROBAL","LA LIBERTAD","VIRU","CHAO","131202","18","06","02","LA LIBERTAD","RED VIRU","CHAO","I-1"]
[null,{"$f":"VALUE(renipress[[#This Row],[Código Único]])","v":5278},"GOBIERNO REGIONAL","00005278","SAN FELIPE","LA LIBERTAD","GRAN CHIMU","CASCAS","131101","18","07","02","LA LIBERTAD","RED GRAN CHIMU","EL MOLINO","I-2"]
[null,{"$f":"VALUE(renipress[[#This Row],[Código Único]])","v":5290},"GOBIERNO REGIONAL","00005290","MAZANCA","LA LIBERTAD","PACASMAYO","SAN PEDRO DE LLOC","130701","18","04","02","LA LIBERTAD","RED PACASMAYO","SANTA CATALINA","I-2"]
[null,{"$f":"VALUE(renipress[[#This Row],[Código Único]])","v":5295},"GOBIERNO REGIONAL","00005295","JEQUETEPEQUE","LA LIBERTAD","PACASMAYO","JEQUETEPEQUE","130703","18","04","03","LA LIBERTAD","RED PACASMAYO","PACASMAYO","I-3"]
[null,{"$f":"VALUE(renipress[[#This Row],[Código Único]])","v":5311},"GOBIERNO REGIONAL","00005311","SAN JOSE DE SALO BAJO","LA LIBERTAD","JULCAN","CARABAMBA","130503","18","12","00","LA LIBERTAD","RED JULCAN","NO PERTENECE A NINGUNA MICRORED","I-1"]
[null,{"$f":"VALUE(renipress[[#This Row],[Código Único]])","v":5323},"GOBIERNO REGIONAL","00005323","HUARANCHAL","LA LIBERTAD","OTUZCO","HUARANCHAL","130605","18","03","03","LA LIBERTAD","RED OTUZCO","CALLANCAS","I-2"]
[null,{"$f":"VALUE(renipress[[#This Row],[Código Único]])","v":5332},"GOBIERNO REGIONAL","00005332","HOSPITAL DE APOYO CESAR VALLEJO MENDOZA","LA LIBERTAD","SANTIAGO DE CHUCO","SANTIAGO DE CHUCO","131001","18","11","00","LA LIBERTAD","RED SANTIAGO DE CHUCO","NO PERTENECE A NINGUNA MICRORED","II-1"]
[null,{"$f":"VALUE(renipress[[#This Row],[Código Único]])","v":5347},"GOBIERNO REGIONAL","00005347","PIJOBAMBA","LA LIBERTAD","SANTIAGO DE CHUCO","SITABAMBA","131008","18","11","05","LA LIBERTAD","RED SANTIAGO DE CHUCO","PIJOBAMBA","I-2"]
[null,{"$f":"VALUE(renipress[[#This Row],[Código Único]])","v":5353},"GOBIERNO REGIONAL","00005353","UCHUBAMBA","LA LIBERTAD","SANCHEZ CARRION","CHUGAY","130902","18","10","04","LA LIBERTAD","RED SANCHEZ CARRION","CHUGAY","I-2"]
[null,{"$f":"VALUE(renipress[[#This Row],[Código Único]])","v":5364},"GOBIERNO REGIONAL","00005364","SAN ALFONSO","LA LIBERTAD","SANCHEZ CARRION","SARTIMBAMBA","130908","18","10","07","LA LIBERTAD","RED SANCHEZ CARRION","ARICAPAMPA-SARTIMBABA","I-1"]
[null,{"$f":"VALUE(renipress[[#This Row],[Código Único]])","v":5382},"GOBIERNO REGIONAL","00005382","HUAYO","LA LIBERTAD","PATAZ","HUAYO","130806","18","09","01","LA LIBERTAD","RED PATAZ","PATAZ NORTE","I-2"]
[null,{"$f":"VALUE(renipress[[#This Row],[Código Único]])","v":5392},"GOBIERNO REGIONAL","00005392","TAURIJA","LA LIBERTAD","PATAZ","TAURIJA","130812","18","09","02","LA LIBERTAD","RED PATAZ","PATAZ SUR","I-2"]
[null,{"$f":"VALUE(renipress[[#This Row],[Código Único]])","v":5403},"GOBIERNO REGIONAL","00005403","MIGUEL GRAU SEMINARIO","UCAYALI","PADRE ABAD","PADRE ABAD","250301","34","04","01","UCAYALI","AGUAYTIA","AGUAYTIA","I-1"]
[null,{"$f":"VALUE(renipress[[#This Row],[Código Único]])","v":5409},"GOBIERNO REGIONAL","00005409","SAN PEDRO DE CHIO","UCAYALI","PADRE ABAD","IRAZOLA","250302","34","04","02","UCAYALI","AGUAYTIA","SAN ALEJANDRO","I-2"]
[null,{"$f":"VALUE(renipress[[#This Row],[Código Único]])","v":5424},"GOBIERNO REGIONAL","00005424","BELLO HORIZONTE","UCAYALI","PADRE ABAD","CURIMANA","250303","34","02","05","UCAYALI","FEDERICO BASADRE - YARINACOCHA","MONTE ALEGRE-CURIMANA","I-1"]
[null,{"$f":"VALUE(renipress[[#This Row],[Código Único]])","v":5433},"GOBIERNO REGIONAL","00005433","P.S  LAS MERCEDES KM. 42","UCAYALI","CORONEL PORTILLO","CAMPOVERDE","250102","34","02","03","UCAYALI","FEDERICO BASADRE - YARINACOCHA","CAMPO VERDE","I-1"]
[null,{"$f":"VALUE(renipress[[#This Row],[Código Único]])","v":5445},"GOBIERNO REGIONAL","00005445","JUVENTUD","UCAYALI","CORONEL PORTILLO","NUEVA REQUENA","250106","34","02","04","UCAYALI","FEDERICO BASADRE - YARINACOCHA","NUEVA REQUENA","I-1"]
[null,{"$f":"VALUE(renipress[[#This Row],[Código Único]])","v":5461},"GOBIERNO REGIONAL","00005461","TACSHITEA","UCAYALI","CORONEL PORTILLO","CALLERIA","250101","34","01","01","UCAYALI","CORONEL  PORTILLO","SAN FERNANDO","I-2"]
[null,{"$f":"VALUE(renipress[[#This Row],[Código Único]])","v":5474},"GOBIERNO REGIONAL","00005474","JUNIN PABLO","UCAYALI","CORONEL PORTILLO","MASISEA","250104","34","01","03","UCAYALI","CORONEL  PORTILLO","MASISEA","I-2"]
[null,{"$f":"VALUE(renipress[[#This Row],[Código Único]])","v":5478},"GOBIERNO REGIONAL","00005478","SAN PEDRO DE INAMAPUYA","UCAYALI","CORONEL PORTILLO","MASISEA","250104","34","01","03","UCAYALI","CORONEL  PORTILLO","MASISEA","I-1"]
[null,{"$f":"VALUE(renipress[[#This Row],[Código Único]])","v":5495},"GOBIERNO REGIONAL","00005495","PUEBLO NUEVO DEL CACO","UCAYALI","CORONEL PORTILLO","IPARIA","250103","34","01","04","UCAYALI","CORONEL  PORTILLO","IPARIA","I-1"]
[null,{"$f":"VALUE(renipress[[#This Row],[Código Único]])","v":5506},"GOBIERNO REGIONAL","00005506","RAMON CASTILLA","UCAYALI","ATALAYA","RAIMONDI","250201","34","03","01","UCAYALI","ATALAYA","ATALAYA","I-1"]
[null,{"$f":"VALUE(renipress[[#This Row],[Código Único]])","v":5516},"GOBIERNO REGIONAL","00005516","RIMA","UCAYALI","ATALAYA","RAIMONDI","250201","34","03","01","UCAYALI","ATALAYA","ATALAYA","I-1"]
[null,{"$f":"VALUE(renipress[[#This Row],[Código Único]])","v":5530},"GOBIERNO REGIONAL","00005530","PALESTINA","UCAYALI","PURUS","PURUS","250401","34","01","05","UCAYALI","CORONEL  PORTILLO","PURUS","I-1"]
[null,{"$f":"VALUE(renipress[[#This Row],[Código Único]])","v":5537},"GOBIERNO REGIONAL","00005537","CLAS   BELLAVISTA DE YARINACOCHA","UCAYALI","CORONEL PORTILLO","YARINACOCHA","250105","34","02","02","UCAYALI","FEDERICO BASADRE - YARINACOCHA","SAN JOSE DE YARINACOCHA","I-2"]
[null,{"$f":"VALUE(renipress[[#This Row],[Código Único]])","v":5547},"GOBIERNO REGIONAL","00005547","SANTA TERESITA","UCAYALI","CORONEL PORTILLO","YARINACOCHA","250105","34","02","01","UCAYALI","FEDERICO BASADRE - YARINACOCHA","NUEVO PARAISO","I-1"]
[null,{"$f":"VALUE(renipress[[#This Row],[Código Único]])","v":5558},"GOBIERNO REGIONAL","00005558","MICAELA BASTIDAS","UCAYALI","CORONEL PORTILLO","CALLERIA","250101","34","01","02","UCAYALI","CORONEL  PORTILLO","09 DE OCTUBRE","I-3"]
[null,{"$f":"VALUE(renipress[[#This Row],[Código Único]])","v":5575},"GOBIERNO REGIONAL","00005575","YANAMAYO","UCAYALI","CORONEL PORTILLO","CALLERIA","250101","34","01","01","UCAYALI","CORONEL  PORTILLO","SAN FERNANDO","I-1"]
[null,{"$f":"VALUE(renipress[[#This Row],[Código Único]])","v":5587},"GOBIERNO REGIONAL","00005587","PASAC","LIMA","HUARAL","ATAVILLOS ALTO","150602","22","03","06","LIMA","RED III HUARAL - CHANCAY","ACOS","I-1"]
[null,{"$f":"VALUE(renipress[[#This Row],[Código Único]])","v":5592},"GOBIERNO REGIONAL","00005592","SANTA CRUZ DE ANDAMARCA","LIMA","HUARAL","SANTA CRUZ DE ANDAMARCA","150610","22","03","07","LIMA","RED III HUARAL - CHANCAY","SANTA CRUZ","I-2"]
[null,{"$f":"VALUE(renipress[[#This Row],[Código Único]])","v":5608},"GOBIERNO REGIONAL","00005608","SAN BUENAVENTURA","LIMA","CANTA","SAN BUENAVENTURA","150406","22","10","02","LIMA","CANTA","CANTA","I-1"]
[null,{"$f":"VALUE(renipress[[#This Row],[Código Único]])","v":5616},"MINSA","00005616","10 DE OCTUBRE","LIMA","LIMA","SAN JUAN DE LURIGANCHO","150132","36","00","00","LIMA CENTRO","NO PERTENECE A NINGUNA RED","NO PERTENECE A NINGUNA MICRORED","I-3"]
[null,{"$f":"VALUE(renipress[[#This Row],[Código Único]])","v":5629},"MINSA","00005629","ENRIQUE MONTENEGRO","LIMA","LIMA","SAN JUAN DE LURIGANCHO","150132","36","00","00","LIMA CENTRO","NO PERTENECE A NINGUNA RED","NO PERTENECE A NINGUNA MICRORED","I-3"]
[null,{"$f":"VALUE(renipress[[#This Row],[Código Único]])","v":5644},"MINSA","00005644","CENTRO MATERNO INFANTIL RIMAC","LIMA","LIMA","RIMAC","150128","35","00","00","LIMA NORTE","NO PERTENECE A NINGUNA RED","NO PERTENECE A NINGUNA MICRORED","I-4"]
[null,{"$f":"VALUE(renipress[[#This Row],[Código Único]])","v":5650},"GOBIERNO REGIONAL","00005650","PACCHO","LIMA","HUAURA","PACCHO","150808","22","02","05","LIMA","RED II HUAURA - OYON","CHURIN-OYON","I-2"]
[null,{"$f":"VALUE(renipress[[#This Row],[Código Único]])","v":5661},"GOBIERNO REGIONAL","00005661","NAVA","LIMA","OYON","OYON","150901","22","02","05","LIMA","RED II HUAURA - OYON","CHURIN-OYON","I-1"]
[null,{"$f":"VALUE(renipress[[#This Row],[Código Único]])","v":5679},"GOBIERNO REGIONAL","00005679","MANZANARES","LIMA","HUAURA","HUACHO","150801","22","02","01","LIMA","RED II HUAURA - OYON","HUALMAY","I-3"]
[null,{"$f":"VALUE(renipress[[#This Row],[Código Único]])","v":5689},"GOBIERNO REGIONAL","00005689","ARAYA GRANDE","LIMA","BARRANCA","BARRANCA","150201","22","01","01","LIMA","RED I BARRANCA - CAJATAMBO","LAURIAMA","I-2"]
[null,{"$f":"VALUE(renipress[[#This Row],[Código Único]])","v":5700},"GOBIERNO REGIONAL","00005700","GORGOR","LIMA","CAJATAMBO","GORGOR","150303","22","01","06","LIMA","RED I BARRANCA - CAJATAMBO","MANAS","I-2"]
[null,{"$f":"VALUE(renipress[[#This Row],[Código Único]])","v":5713},"GOBIERNO REGIONAL","00005713","BUENOS AIRES","LIMA","BARRANCA","PATIVILCA","150203","22","01","03","LIMA","RED I BARRANCA - CAJATAMBO","PATIVILCA","I-2"]
[null,{"$f":"VALUE(renipress[[#This Row],[Código Único]])","v":5721},"GOBIERNO REGIONAL","00005721","VIRGEN DE LAS MERCEDES","LIMA","BARRANCA","SUPE","150204","22","01","04","LIMA","RED I BARRANCA - CAJATAMBO","PUERTO SUPE","I-2"]
[null,{"$f":"VALUE(renipress[[#This Row],[Código Único]])","v":5730},"GOBIERNO REGIONAL","00005730","PAMPA LIBRE","LIMA","HUARAL","CHANCAY","150605","22","03","03","LIMA","RED III HUARAL - CHANCAY","PERALVILLO","I-2"]
[null,{"$f":"VALUE(renipress[[#This Row],[Código Único]])","v":5742},"MINSA","00005742","MEXICO","LIMA","LIMA","SAN MARTIN DE PORRES","150135","35","25","02","LIMA NORTE","V  RIMAC-SMP-LO","MICRO RED: SMP","I-3"]
[null,{"$f":"VALUE(renipress[[#This Row],[Código Único]])","v":5758},"MINSA","00005758","PRIMAVERA","LIMA","LIMA","COMAS","150110","35","24","03","LIMA NORTE","TUPAC AMARU","MICRO RED COLLIQUE 3ERA. ZONA","I-2"]
[null,{"$f":"VALUE(renipress[[#This Row],[Código Único]])","v":5771},"MINSA","00005771","PUESTO DE SALUD LA PASCANA","LIMA","LIMA","COMAS","150110","35","00","00","LIMA NORTE","NO PERTENECE A NINGUNA RED","NO PERTENECE A NINGUNA MICRORED","I-1"]
[null,{"$f":"VALUE(renipress[[#This Row],[Código Único]])","v":5775},"GOBIERNO REGIONAL","00005775","LA MERCED","LIMA","HUAURA","SAYAN","150811","22","02","04","LIMA","RED II HUAURA - OYON","SAYAN","I-2"]
[null,{"$f":"VALUE(renipress[[#This Row],[Código Único]])","v":5792},"MINSA","00005792","TAHUANTINSUYO ALTO","LIMA","LIMA","INDEPENDENCIA","150112","35","24","01","LIMA NORTE","TUPAC AMARU","MICRO RED TAHUANTINSUYO BAJO","I-3"]
[null,{"$f":"VALUE(renipress[[#This Row],[Código Único]])","v":5803},"MINSA","00005803","PRIMAVERA","LIMA","LIMA","LOS OLIVOS","150117","35","25","00","LIMA NORTE","V  RIMAC-SMP-LO","NO PERTENECE A NINGUNA MICRORED","I-3"]
[null,{"$f":"VALUE(renipress[[#This Row],[Código Único]])","v":5813},"MINSA","00005813","CENTRO DE SALUD RIO SANTA","LIMA","LIMA","LOS OLIVOS","150117","35","25","03","LIMA NORTE","V  RIMAC-SMP-LO","MICRO RED : LOS OLIVOS","I-3"]
[null,{"$f":"VALUE(renipress[[#This Row],[Código Único]])","v":5827},"GOBIERNO REGIONAL","00005827","TUPAC AMARU","LIMA","HUARAL","HUARAL","150601","22","03","04","LIMA","RED III HUARAL - CHANCAY","HUARAL","I-2"]
[null,{"$f":"VALUE(renipress[[#This Row],[Código Único]])","v":5834},"MINSA","00005834","LA LIBERTAD","LIMA","LIMA","SAN JUAN DE LURIGANCHO","150132","36","02","02","LIMA CENTRO","SAN JUAN DE LURIGANCHO","SAN FERNANDO","I-3"]
[null,{"$f":"VALUE(renipress[[#This Row],[Código Único]])","v":5855},"MINSA","00005855","METROPOLITANA","LIMA","LIMA","SANTA ANITA","150137","21","00","00","LIMA ESTE","NO PERTENECE A NINGUNA RED","NO PERTENECE A NINGUNA MICRORED","I-2"]
[null,{"$f":"VALUE(renipress[[#This Row],[Código Único]])","v":5862},"MINSA","00005862","CHOSICA","LIMA","LIMA","LURIGANCHO","150118","21","00","00","LIMA ESTE","NO PERTENECE A NINGUNA RED","NO PERTENECE A NINGUNA MICRORED","I-3"]
[null,{"$f":"VALUE(renipress[[#This Row],[Código Único]])","v":5876},"GOBIERNO REGIONAL","00005876","HUANCHAC","LIMA","HUAROCHIRI","SAN LORENZO DE QUINTI","150721","22","09","01","LIMA","RED IX HUAROCHIRI","HUAROCHIRI","I-1"]
[null,{"$f":"VALUE(renipress[[#This Row],[Código Único]])","v":5879},"GOBIERNO REGIONAL","00005879","HUANCATA","LIMA","HUAROCHIRI","SANGALLAYA","150726","22","09","01","LIMA","RED IX HUAROCHIRI","HUAROCHIRI","I-1"]
[null,{"$f":"VALUE(renipress[[#This Row],[Código Único]])","v":5897},"MINSA","00005897","JICAMARCA","LIMA","LIMA","LURIGANCHO","150118","21","00","00","LIMA ESTE","NO PERTENECE A NINGUNA RED","NO PERTENECE A NINGUNA MICRORED","I-3"]
[null,{"$f":"VALUE(renipress[[#This Row],[Código Único]])","v":5907},"MINSA","00005907","PORTADA DEL SOL","LIMA","LIMA","LA MOLINA","150114","21","00","00","LIMA ESTE","NO PERTENECE A NINGUNA RED","NO PERTENECE A NINGUNA MICRORED","I-2"]
[null,{"$f":"VALUE(renipress[[#This Row],[Código Único]])","v":5914},"GOBIERNO REGIONAL","00005914","MARIATANA","LIMA","HUAROCHIRI","MARIATANA","150713","22","09","02","LIMA","RED IX HUAROCHIRI","LANGA","I-1"]
[null,{"$f":"VALUE(renipress[[#This Row],[Código Único]])","v":5935},"MINSA","00005935","CESAR LOPEZ SILVA","LIMA","LIMA","CHACLACAYO","150107","21","00","00","LIMA ESTE","NO PERTENECE A NINGUNA RED","NO PERTENECE A NINGUNA MICRORED","I-3"]
[null,{"$f":"VALUE(renipress[[#This Row],[Código Único]])","v":5947},"MINSA","00005947","HOSPITAL DE MEDIANA COMPLEJIDAD JOSE AGURTO TELLO","LIMA","LIMA","LURIGANCHO","150118","21","00","00","LIMA ESTE","NO PERTENECE A NINGUNA RED","NO PERTENECE A NINGUNA MICRORED","II-2"]
[null,{"$f":"VALUE(renipress[[#This Row],[Código Único]])","v":5952},"GOBIERNO REGIONAL","00005952","SAN BARTOLOME","LIMA","HUAROCHIRI","SAN BARTOLOME","150717","22","09","03","LIMA","RED IX HUAROCHIRI","RICARDO PALMA","I-2"]
[null,{"$f":"VALUE(renipress[[#This Row],[Código Único]])","v":5968},"GOBIERNO REGIONAL","00005968","CHICLA","LIMA","HUAROCHIRI","CHICLA","150705","22","09","04","LIMA","RED IX HUAROCHIRI","MATUCANA","I-2"]
[null,{"$f":"VALUE(renipress[[#This Row],[Código Único]])","v":5976},"GOBIERNO REGIONAL","00005976","ANTIOQUIA","LIMA","HUAROCHIRI","ANTIOQUIA","150702","22","09","02","LIMA","RED IX HUAROCHIRI","LANGA","I-2"]
[null,{"$f":"VALUE(renipress[[#This Row],[Código Único]])","v":5989},"MINSA","00005989","CENTRO DE SALUD GAUDENCIO BERNASCONI","LIMA","LIMA","BARRANCO","150104","23","00","00","LIMA SUR","NO PERTENECE A NINGUNA RED","NO PERTENECE A NINGUNA MICRORED","I-3"]
[null,{"$f":"VALUE(renipress[[#This Row],[Código Único]])","v":6004},"MINSA","00006004","SAN JUAN DE LA LIBERTAD","LIMA","LIMA","CHORRILLOS","150108","23","00","00","LIMA SUR","NO PERTENECE A NINGUNA RED","NO PERTENECE A NINGUNA MICRORED","I-2"]
[null,{"$f":"VALUE(renipress[[#This Row],[Código Único]])","v":6006},"MINSA","00006006","PUESTO DE SALUD SANTA TERESA DE CHORRILLOS","LIMA","LIMA","CHORRILLOS","150108","23","00","00","LIMA SUR","NO PERTENECE A NINGUNA RED","NO PERTENECE A NINGUNA MICRORED","I-2"]
[null,{"$f":"VALUE(renipress[[#This Row],[Código Único]])","v":6021},"GOBIERNO REGIONAL","00006021","CACRA","LIMA","YAUYOS","CACRA","151006","22","07","07","LIMA","RED VII CA¥ETE - YAUYOS","CATAHUASI","I-1"]
[null,{"$f":"VALUE(renipress[[#This Row],[Código Único]])","v":6039},"GOBIERNO REGIONAL","00006039","LA QUEBRADA","LIMA","CAÑETE","SAN LUIS","150514","22","07","01","LIMA","RED VII CA¥ETE - YAUYOS","SAN VICENTE","I-2"]
[null,{"$f":"VALUE(renipress[[#This Row],[Código Único]])","v":6049},"GOBIERNO REGIONAL","00006049","PUTINZA","LIMA","YAUYOS","PUTINZA","151023","22","07","04","LIMA","RED VII CA¥ETE - YAUYOS","YAUYOS","I-1"]
[null,{"$f":"VALUE(renipress[[#This Row],[Código Único]])","v":6060},"GOBIERNO REGIONAL","00006060","HUAÑEC","LIMA","YAUYOS","HUAÑEC","151017","22","08","05","LIMA","RED VIII CHILCA - MALA","QUINCHES","I-2"]
[null,{"$f":"VALUE(renipress[[#This Row],[Código Único]])","v":6073},"GOBIERNO REGIONAL","00006073","BUJAMA","LIMA","CAÑETE","MALA","150509","22","08","03","LIMA","RED VIII CHILCA - MALA","MALA","I-2"]
[null,{"$f":"VALUE(renipress[[#This Row],[Código Único]])","v":6081},"MINSA","00006081","CENTRO DE SALUD NUEVO LURIN - KM. 40","LIMA","LIMA","LURIN","150119","23","00","00","LIMA SUR","NO PERTENECE A NINGUNA RED","NO PERTENECE A NINGUNA MICRORED","I-3"]
[null,{"$f":"VALUE(renipress[[#This Row],[Código Único]])","v":6090},"MINSA","00006090","CENTRO DE SALUD PACHACAMAC","LIMA","LIMA","PACHACAMAC","150123","23","00","00","LIMA SUR","NO PERTENECE A NINGUNA RED","NO PERTENECE A NINGUNA MICRORED","I-3"]
[null,{"$f":"VALUE(renipress[[#This Row],[Código Único]])","v":6098},"MINSA","00006098","PUESTO DE SALUD TAMBO INGA","LIMA","LIMA","PACHACAMAC","150123","23","00","00","LIMA SUR","NO PERTENECE A NINGUNA RED","NO PERTENECE A NINGUNA MICRORED","I-1"]
[null,{"$f":"VALUE(renipress[[#This Row],[Código Único]])","v":6118},"MINSA","00006118","PUESTO DE SALUD VILLA SOLIDARIDAD","LIMA","LIMA","SAN JUAN DE MIRAFLORES","150133","23","00","00","LIMA SUR","NO PERTENECE A NINGUNA RED","NO PERTENECE A NINGUNA MICRORED","I-2"]
[null,{"$f":"VALUE(renipress[[#This Row],[Código Único]])","v":6131},"MINSA","00006131","PUESTO DE SALUD SAGRADA FAMILIA","LIMA","LIMA","VILLA EL SALVADOR","150142","23","00","00","LIMA SUR","NO PERTENECE A NINGUNA RED","NO PERTENECE A NINGUNA MICRORED","I-2"]
[null,{"$f":"VALUE(renipress[[#This Row],[Código Único]])","v":6135},"MINSA","00006135","PUESTO DE SALUD LLANAVILLA","LIMA","LIMA","VILLA EL SALVADOR","150142","23","00","00","LIMA SUR","NO PERTENECE A NINGUNA RED","NO PERTENECE A NINGUNA MICRORED","I-2"]
[null,{"$f":"VALUE(renipress[[#This Row],[Código Único]])","v":6152},"MINSA","00006152","JOSE CARLOS MARIATEGUI","LIMA","LIMA","VILLA MARIA DEL TRIUNFO","150143","23","02","05","LIMA SUR","SAN JUAN DE MIRAFLORES - VILLA MARIA DEL TRIUNFO","VILLA MARIA - JOSE CARLOS MARIATEGUI","I-4"]
[null,{"$f":"VALUE(renipress[[#This Row],[Código Único]])","v":6159},"MINSA","00006159","PUESTO DE SALUD VALLE ALTO","LIMA","LIMA","VILLA MARIA DEL TRIUNFO","150143","23","00","00","LIMA SUR","NO PERTENECE A NINGUNA RED","NO PERTENECE A NINGUNA MICRORED","I-2"]
[null,{"$f":"VALUE(renipress[[#This Row],[Código Único]])","v":6173},"MINSA","00006173","EL PINO","LIMA","LIMA","LA VICTORIA","150115","36","21","03","LIMA CENTRO","LIMA CIUDAD","C.S. MAX ARIAS SCHEREIBER","I-3"]
[null,{"$f":"VALUE(renipress[[#This Row],[Código Único]])","v":6187},"MINSA","00006187","CENTRO DE SALUD MIRONES BAJO","LIMA","LIMA","LIMA","150101","36","00","00","LIMA CENTRO","NO PERTENECE A NINGUNA RED","NO PERTENECE A NINGUNA MICRORED","I-3"]
[null,{"$f":"VALUE(renipress[[#This Row],[Código Único]])","v":6194},"MINSA","00006194","CENTRO DE SALUD VILLA MARIA PERPETUO SOCORRO","LIMA","LIMA","LIMA","150101","36","21","01","LIMA CENTRO","LIMA CIUDAD","C.S. SAN SEBASTIAN","I-3"]
[null,{"$f":"VALUE(renipress[[#This Row],[Código Único]])","v":6204},"MINSA","00006204","LABORATORIO DE REFERENCIA","LIMA","LIMA","MAGDALENA DEL MAR","150120","36","00","00","LIMA CENTRO","NO PERTENECE A NINGUNA RED","NO PERTENECE A NINGUNA MICRORED","Sin Categoría"]
[null,{"$f":"VALUE(renipress[[#This Row],[Código Único]])","v":6223},"GOBIERNO REGIONAL","00006223","P.S. SANTA FE","CALLAO","CALLAO","CALLAO","070101","8","01","02","CALLAO","BONILLA - LA PUNTA","SANTA FE","I-2"]
[null,{"$f":"VALUE(renipress[[#This Row],[Código Único]])","v":6232},"GOBIERNO REGIONAL","00006232","GAMBETTA BAJA","CALLAO","CALLAO","CALLAO","070101","8","01","04","CALLAO","BONILLA - LA PUNTA","GAMBETTA ALTA","I-2"]
[null,{"$f":"VALUE(renipress[[#This Row],[Código Único]])","v":6244},"GOBIERNO REGIONAL","00006244","P.S. 200 MILLAS","CALLAO","CALLAO","CALLAO","070101","8","02","01","CALLAO","BEPECA","FAUCETT","I-2"]
[null,{"$f":"VALUE(renipress[[#This Row],[Código Único]])","v":6256},"GOBIERNO REGIONAL","00006256","CENTRO DE SALUD VILLA LOS REYES","CALLAO","CALLAO","VENTANILLA","070106","8","03","07","CALLAO","VENTANILLA","VILLA DE LOS REYES","I-4"]
[null,{"$f":"VALUE(renipress[[#This Row],[Código Único]])","v":6265},"GOBIERNO REGIONAL","00006265","LOS CEDROS","CALLAO","CALLAO","VENTANILLA","070106","8","03","01","CALLAO","VENTANILLA","3 DE FEBRERO","I-2"]
[null,{"$f":"VALUE(renipress[[#This Row],[Código Único]])","v":6274},"GOBIERNO REGIONAL","00006274","POSIC","SAN MARTIN","RIOJA","POSIC","220806","30","06","01","SAN MARTIN","RIOJA","NUEVO RIOJA","I-1"]
[null,{"$f":"VALUE(renipress[[#This Row],[Código Único]])","v":6287},"GOBIERNO REGIONAL","00006287","TAHUANTINSUYO","SAN MARTIN","RIOJA","NUEVA CAJAMARCA","220804","30","06","02","SAN MARTIN","RIOJA","NUEVA CAJAMARCA                                             ","I-1"]
[null,{"$f":"VALUE(renipress[[#This Row],[Código Único]])","v":6302},"GOBIERNO REGIONAL","00006302","TUPAC AMARU","SAN MARTIN","RIOJA","NUEVA CAJAMARCA","220804","30","06","09","SAN MARTIN","RIOJA","BAJO NARANJILLO","I-1"]
[null,{"$f":"VALUE(renipress[[#This Row],[Código Único]])","v":6317},"GOBIERNO REGIONAL","00006317","SAN MATEO","SAN MARTIN","MOYOBAMBA","JEPELACIO","220104","30","05","01","SAN MARTIN","MOYOBAMBA","LLUILLUCUCHA","I-1"]
[null,{"$f":"VALUE(renipress[[#This Row],[Código Único]])","v":6320},"GOBIERNO REGIONAL","00006320","CAÑABRAVA","SAN MARTIN","MOYOBAMBA","MOYOBAMBA","220101","30","05","03","SAN MARTIN","MOYOBAMBA","YANTALO","I-1"]
[null,{"$f":"VALUE(renipress[[#This Row],[Código Único]])","v":6338},"GOBIERNO REGIONAL","00006338","CARRIZAL","SAN MARTIN","MOYOBAMBA","JEPELACIO","220104","30","05","05","SAN MARTIN","MOYOBAMBA","JEPELACIO                                                   ","I-1"]
[null,{"$f":"VALUE(renipress[[#This Row],[Código Único]])","v":6348},"GOBIERNO REGIONAL","00006348","ROQUE","SAN MARTIN","LAMAS","ALONSO DE ALVARADO","220502","30","05","07","SAN MARTIN","MOYOBAMBA","ALONSO DE ALVARADO ROQUE","I-3"]
[null,{"$f":"VALUE(renipress[[#This Row],[Código Único]])","v":6359},"GOBIERNO REGIONAL","00006359","BANDA SHILCAYO","SAN MARTIN","SAN MARTIN","LA BANDA DE SHILCAYO","220909","30","01","12","SAN MARTIN","SAN MARTIN","BANDA DE SHILCAYO","II-E"]
[null,{"$f":"VALUE(renipress[[#This Row],[Código Único]])","v":6372},"GOBIERNO REGIONAL","00006372","SAN FRANCISCO DEL RIO MAYO","SAN MARTIN","LAMAS","CUÑUMBUQUI","220505","30","02","09","SAN MARTIN","LAMAS","CUÑUMBUQUI","I-1"]
[null,{"$f":"VALUE(renipress[[#This Row],[Código Único]])","v":6380},"GOBIERNO REGIONAL","00006380","SAUCE","SAN MARTIN","SAN MARTIN","SAUCE","220913","30","01","10","SAN MARTIN","SAN MARTIN","SAUCE","I-3"]
[null,{"$f":"VALUE(renipress[[#This Row],[Código Único]])","v":6389},"GOBIERNO REGIONAL","00006389","CHURUZAPA","SAN MARTIN","LAMAS","RUMISAPA","220507","30","02","01","SAN MARTIN","LAMAS","HOSPITAL LAMAS","I-1"]
[null,{"$f":"VALUE(renipress[[#This Row],[Código Único]])","v":6409},"GOBIERNO REGIONAL","00006409","PINTO RECODO","SAN MARTIN","LAMAS","PINTO RECODO","220506","30","02","08","SAN MARTIN","LAMAS","TABALOSOS","I-1"]
[null,{"$f":"VALUE(renipress[[#This Row],[Código Único]])","v":6417},"GOBIERNO REGIONAL","00006417","SAN MIGUEL DE ACHINAMIZA","SAN MARTIN","LAMAS","CAYNARACHI","220504","30","02","07","SAN MARTIN","LAMAS","CAYNARACHI","I-1"]
[null,{"$f":"VALUE(renipress[[#This Row],[Código Único]])","v":6430},"GOBIERNO REGIONAL","00006430","SANTA ROSA DE CHIPAOTA","SAN MARTIN","SAN MARTIN","CHAZUTA","220904","30","01","04","SAN MARTIN","SAN MARTIN","CHAZUTA","I-1"]
[null,{"$f":"VALUE(renipress[[#This Row],[Código Único]])","v":6434},"GOBIERNO REGIONAL","00006434","SANTIAGO DE BORJA","SAN MARTIN","LAMAS","BARRANQUITA","220503","30","02","06","SAN MARTIN","LAMAS","BARRANQUITA","I-1"]
[null,{"$f":"VALUE(renipress[[#This Row],[Código Único]])","v":6451},"GOBIERNO REGIONAL","00006451","PELEJO","SAN MARTIN","SAN MARTIN","EL PORVENIR","220906","30","01","11","SAN MARTIN","SAN MARTIN","PAPAPLAYA","I-1"]
[null,{"$f":"VALUE(renipress[[#This Row],[Código Único]])","v":6458},"GOBIERNO REGIONAL","00006458","ALMIRANTE GRAU BOMBONAJILLO","SAN MARTIN","BELLAVISTA","BAJO BIAVO","220203","30","04","01","SAN MARTIN","PICOTA","PICOTA","I-1"]
[null,{"$f":"VALUE(renipress[[#This Row],[Código Único]])","v":6472},"GOBIERNO REGIONAL","00006472","NUEVO EGIPTO","SAN MARTIN","PICOTA","SAN HILARION","220707","30","04","01","SAN MARTIN","PICOTA","PICOTA","I-1"]
[null,{"$f":"VALUE(renipress[[#This Row],[Código Único]])","v":6486},"GOBIERNO REGIONAL","00006486","NAUTA","SAN MARTIN","EL DORADO","SAN JOSE DE SISA","220301","30","03","01","SAN MARTIN","EL DORADO","SAN JOSE DE SISA","I-1"]
[null,{"$f":"VALUE(renipress[[#This Row],[Código Único]])","v":6501},"GOBIERNO REGIONAL","00006501","SANTA ELENA","SAN MARTIN","EL DORADO","SANTA ROSA","220304","30","03","02","SAN MARTIN","EL DORADO","AGUA BLANCA","I-1"]
[null,{"$f":"VALUE(renipress[[#This Row],[Código Único]])","v":6503},"GOBIERNO REGIONAL","00006503","BUENOS AIRES","SAN MARTIN","BELLAVISTA","BELLAVISTA","220201","30","09","01","SAN MARTIN","BELLAVISTA","BELLAVISTA","I-1"]
[null,{"$f":"VALUE(renipress[[#This Row],[Código Único]])","v":6522},"GOBIERNO REGIONAL","00006522","LA UNION","SAN MARTIN","BELLAVISTA","BAJO BIAVO","220203","30","09","02","SAN MARTIN","BELLAVISTA","BAJO BIAVO","I-1"]
[null,{"$f":"VALUE(renipress[[#This Row],[Código Único]])","v":6531},"GOBIERNO REGIONAL","00006531","ALMENDRAS","SAN MARTIN","HUALLAGA","SAPOSOA","220401","30","08","01","SAN MARTIN","HUALLAGA","SAPOSOA","I-1"]
[null,{"$f":"VALUE(renipress[[#This Row],[Código Único]])","v":6543},"GOBIERNO REGIONAL","00006543","SACANCHE","SAN MARTIN","HUALLAGA","SACANCHE","220405","30","08","02","SAN MARTIN","HUALLAGA","SACANCHE","I-3"]
[null,{"$f":"VALUE(renipress[[#This Row],[Código Único]])","v":6556},"GOBIERNO REGIONAL","00006556","MIRAFLORES","SAN MARTIN","MARISCAL CACERES","HUICUNGO","220603","30","07","01","SAN MARTIN","MARISCAL CACERES","JUANJUI","I-1"]
[null,{"$f":"VALUE(renipress[[#This Row],[Código Único]])","v":6565},"GOBIERNO REGIONAL","00006565","AUCARARCA","SAN MARTIN","BELLAVISTA","HUALLAGA","220204","30","07","02","SAN MARTIN","MARISCAL CACERES","COSTA RICA","I-1"]
[null,{"$f":"VALUE(renipress[[#This Row],[Código Único]])","v":6573},"GOBIERNO REGIONAL","00006573","ALTO EL SOL","SAN MARTIN","MARISCAL CACERES","PACHIZA","220604","30","07","04","SAN MARTIN","MARISCAL CACERES","HUICUNGO","I-1"]
[null,{"$f":"VALUE(renipress[[#This Row],[Código Único]])","v":6586},"GOBIERNO REGIONAL","00006586","SHUNTE","SAN MARTIN","TOCACHE","SHUNTE","221004","30","10","01","SAN MARTIN","TOCACHE","TOCACHE","I-2"]
[null,{"$f":"VALUE(renipress[[#This Row],[Código Único]])","v":6601},"GOBIERNO REGIONAL","00006601","HUICTE","SAN MARTIN","TOCACHE","UCHIZA","221005","30","10","04","SAN MARTIN","TOCACHE","UCHIZA","I-1"]
[null,{"$f":"VALUE(renipress[[#This Row],[Código Único]])","v":6615},"GOBIERNO REGIONAL","00006615","REGIONAL DOCENTE MATERNO INFANTIL EL CARMEN","JUNIN","HUANCAYO","HUANCAYO","120101","17","00","00","JUNIN","NO PERTENECE A NINGUNA RED","NO PERTENECE A NINGUNA MICRORED","III-E"]
[null,{"$f":"VALUE(renipress[[#This Row],[Código Único]])","v":6618},"GOBIERNO REGIONAL","00006618","CENTRO DE ALIMENTACION Y CONTROL NUTRICIONAL","CALLAO","CALLAO","CALLAO","070101","8","01","01","CALLAO","BONILLA - LA PUNTA","BONILLA","I-1"]
[null,{"$f":"VALUE(renipress[[#This Row],[Código Único]])","v":6636},"GOBIERNO REGIONAL","00006636","COPA GRANDE","ANCASH","CARHUAZ","MARCARA","020606","2","01","17","ANCASH","HUAYLAS SUR","MARCARA","I-1"]
[null,{"$f":"VALUE(renipress[[#This Row],[Código Único]])","v":6642},"GOBIERNO REGIONAL","00006642","PUESTO DE SALUD ACCHAS","ANCASH","HUARI","MASIN","021009","2","05","02","ANCASH","CONCHUCOS SUR","C.R. PUCHKA","I-1"]
[null,{"$f":"VALUE(renipress[[#This Row],[Código Único]])","v":6659},"GOBIERNO REGIONAL","00006659","ALTO AMAZONAS","AMAZONAS","UTCUBAMBA","CAJARURO","010702","1","03","03","AMAZONAS","UTCUBAMBA","ALTO AMAZONAS","I-3"]
[null,{"$f":"VALUE(renipress[[#This Row],[Código Único]])","v":6676},"GOBIERNO REGIONAL","00006676","HUANCHAY","HUANUCO","MARAÑON","HUACRACHUCO","100701","14","02","05","HUANUCO","MARAÑON","HUACRACHUCO","I-1"]
[null,{"$f":"VALUE(renipress[[#This Row],[Código Único]])","v":6685},"GOBIERNO REGIONAL","00006685","MARAY","LIMA","HUAURA","CHECRAS","150804","22","02","05","LIMA","RED II HUAURA - OYON","CHURIN-OYON","Sin Categoría"]
[null,{"$f":"VALUE(renipress[[#This Row],[Código Único]])","v":6694},"GOBIERNO REGIONAL","00006694","P.S. I-2 CAHUIDE","LORETO","MAYNAS","SAN JUAN BAUTISTA","160113","24","05","02","LORETO","MAYNAS CIUDAD","IQUITOS SUR","I-1"]
[null,{"$f":"VALUE(renipress[[#This Row],[Código Único]])","v":6715},"GOBIERNO REGIONAL","00006715","PERLAMAYO","SAN MARTIN","MARISCAL CACERES","CAMPANILLA","220602","30","07","03","SAN MARTIN","MARISCAL CACERES","CAMPANILLA","I-1"]
[null,{"$f":"VALUE(renipress[[#This Row],[Código Único]])","v":6723},"GOBIERNO REGIONAL","00006723","TUMAN","LAMBAYEQUE","CHICLAYO","TUMAN","140120","19","01","04","LAMBAYEQUE","CHICLAYO","POSOPE ALTO","I-2"]
[null,{"$f":"VALUE(renipress[[#This Row],[Código Único]])","v":6736},"GOBIERNO REGIONAL","00006736","SAN RAFAEL","AYACUCHO","HUAMANGA","SOCOS","050112","5","01","15","AYACUCHO","HUAMANGA","SOCOS","I-1"]
[null,{"$f":"VALUE(renipress[[#This Row],[Código Único]])","v":6750},"MINSA","00006750","SANTA ANITA","LIMA","LIMA","SANTA ANITA","150137","21","01","02","LIMA ESTE","LIMA ESTE METROPOLITANA","SANTA ANITA","I-4"]
[null,{"$f":"VALUE(renipress[[#This Row],[Código Único]])","v":6760},"GOBIERNO REGIONAL","00006760","A.R. HUALLCALLANCA","ANCASH","CORONGO","CUSCA","020904","2","00","00","ANCASH","NO PERTENECE A NINGUNA RED","NO PERTENECE A NINGUNA MICRORED","Sin Categoría"]
[null,{"$f":"VALUE(renipress[[#This Row],[Código Único]])","v":6770},"GOBIERNO REGIONAL","00006770","CHINCHINVARA","LA LIBERTAD","JULCAN","HUASO","130504","18","12","02","LA LIBERTAD","RED JULCAN","HUASO","I-2"]
[null,{"$f":"VALUE(renipress[[#This Row],[Código Único]])","v":6784},"GOBIERNO REGIONAL","00006784","ALTO ANDINO","SAN MARTIN","LAMAS","CUÑUMBUQUI","220505","30","02","09","SAN MARTIN","LAMAS","CUÑUMBUQUI","I-1"]
[null,{"$f":"VALUE(renipress[[#This Row],[Código Único]])","v":6801},"GOBIERNO REGIONAL","00006801","VIRGEN DEL CARMEN","PASCO","PASCO","YANACANCHA","190113","27","01","01","PASCO","PASCO","CENTRO","I-2"]
[null,{"$f":"VALUE(renipress[[#This Row],[Código Único]])","v":6816},"GOBIERNO REGIONAL","00006816","SEXE","CAJAMARCA","HUALGAYOC","BAMBAMARCA","060701","7","11","05","CAJAMARCA","BAMBAMARCA","VIRGEN DEL CARMEN","I-1"]
[null,{"$f":"VALUE(renipress[[#This Row],[Código Único]])","v":6829},"GOBIERNO REGIONAL","00006829","PUQUIO","CAJAMARCA","CUTERVO","CALLAYUC","060602","7","13","06","CAJAMARCA","CUTERVO","CALLAYUC","I-1"]
[null,{"$f":"VALUE(renipress[[#This Row],[Código Único]])","v":6837},"GOBIERNO REGIONAL","00006837","SAN CRISTOBAL DE NUDILLO","CAJAMARCA","CUTERVO","CUTERVO","060601","7","13","07","CAJAMARCA","CUTERVO","NUEVO ORIENTE","I-1"]
[null,{"$f":"VALUE(renipress[[#This Row],[Código Único]])","v":6846},"GOBIERNO REGIONAL","00006846","VILLA BUEN PASTOR","LORETO","MAYNAS","SAN JUAN BAUTISTA","160113","24","05","02","LORETO","MAYNAS CIUDAD","IQUITOS SUR","I-1"]
[null,{"$f":"VALUE(renipress[[#This Row],[Código Único]])","v":6858},"GOBIERNO REGIONAL","00006858","SALOMON VILCHEZ MURGA","CAJAMARCA","CUTERVO","CUTERVO","060601","7","13","08","CAJAMARCA","CUTERVO","SALOMON VILCHEZ MURGA","I-2"]
[null,{"$f":"VALUE(renipress[[#This Row],[Código Único]])","v":6870},"GOBIERNO REGIONAL","00006870","SANTA ROSA DEL TINGO","CAJAMARCA","CUTERVO","SAN LUIS DE LUCMA","060610","7","14","01","CAJAMARCA","SOCOTA","SOCOTA","I-1"]
[null,{"$f":"VALUE(renipress[[#This Row],[Código Único]])","v":6880},"GOBIERNO REGIONAL","00006880","CIUDAD DE DIOS","JUNIN","SATIPO","PANGOA","120606","17","08","02","JUNIN","SAN MARTIN DE PANGOA","SAN ANTONIO DE SONOMORO","I-2"]
[null,{"$f":"VALUE(renipress[[#This Row],[Código Único]])","v":6899},"GOBIERNO REGIONAL","00006899","TOTORABAMBA","AYACUCHO","HUAMANGA","VINCHOS","050114","5","01","09","AYACUCHO","HUAMANGA","VINCHOS","Sin Categoría"]
[null,{"$f":"VALUE(renipress[[#This Row],[Código Único]])","v":6909},"GOBIERNO REGIONAL","00006909","PALCAYÑO","APURIMAC","ANTABAMBA","PACHACONAS","030306","3","06","01","APURIMAC","ANTABAMBA","ANTABAMBA","I-1"]
[null,{"$f":"VALUE(renipress[[#This Row],[Código Único]])","v":6917},"GOBIERNO REGIONAL","00006917","TAYPICHA","APURIMAC","ANDAHUAYLAS","TURPO","030218","3","05","06","APURIMAC","JOSE MARIA ARGUEDAS","TURPO","I-1"]
[null,{"$f":"VALUE(renipress[[#This Row],[Código Único]])","v":6931},"GOBIERNO REGIONAL","00006931","SAN ISIDRO","LA LIBERTAD","OTUZCO","OTUZCO","130601","18","03","01","LA LIBERTAD","RED OTUZCO","RAMON CASTILLA","I-2"]
[null,{"$f":"VALUE(renipress[[#This Row],[Código Único]])","v":6945},"GOBIERNO REGIONAL","00006945","NUEVO LIBERTAD","LORETO","MAYNAS","IQUITOS","160101","24","05","01","LORETO","MAYNAS CIUDAD","IQUITOS NORTE","I-1"]
[null,{"$f":"VALUE(renipress[[#This Row],[Código Único]])","v":6952},"MINSA","00006952","LAS DUNAS","LIMA","LIMA","SANTIAGO DE SURCO","150140","23","00","00","LIMA SUR","NO PERTENECE A NINGUNA RED","NO PERTENECE A NINGUNA MICRORED","I-2"]
[null,{"$f":"VALUE(renipress[[#This Row],[Código Único]])","v":6969},"GOBIERNO REGIONAL","00006969","SETAPO","MADRE DE DIOS","MANU","HUEPETUHE","170204","25","01","08","MADRE DE DIOS","MADRE DE DIOS","HUEPETUHE","I-1"]
[null,{"$f":"VALUE(renipress[[#This Row],[Código Único]])","v":6973},"GOBIERNO REGIONAL","00006973","BELLAVISTA","CUSCO","CALCA","YANATILE","080408","11","02","08","CUSCO","CUSCO NORTE","YANATILE","I-1"]
[null,{"$f":"VALUE(renipress[[#This Row],[Código Único]])","v":6986},"GOBIERNO REGIONAL","00006986","WAWICO","AMAZONAS","BAGUA","IMAZA","010205","1","02","08","AMAZONAS","BAGUA","TUPAC AMARU","I-1"]
[null,{"$f":"VALUE(renipress[[#This Row],[Código Único]])","v":6994},"GOBIERNO REGIONAL","00006994","LOMA SANTA","CAJAMARCA","JAEN","JAEN","060801","7","15","02","CAJAMARCA","JAEN","MAGLLANAL","I-1"]
[null,{"$f":"VALUE(renipress[[#This Row],[Código Único]])","v":7014},"GOBIERNO REGIONAL","00007014","YANKUNTICH","LORETO","DATEM DEL MARAÑON","MORONA","160704","24","12","04","LORETO","DATEM DEL MARAÑON","MORONA","I-1"]
[null,{"$f":"VALUE(renipress[[#This Row],[Código Único]])","v":7023},"GOBIERNO REGIONAL","00007023","LAS COLMENAS","LAMBAYEQUE","CHICLAYO","CHONGOYAPE","140102","19","01","03","LAMBAYEQUE","CHICLAYO","CHONGOYAPE","I-1"]
[null,{"$f":"VALUE(renipress[[#This Row],[Código Único]])","v":7031},"GOBIERNO REGIONAL","00007031","MACHAYPUNGO ALTO","CAJAMARCA","HUALGAYOC","BAMBAMARCA","060701","7","11","04","CAJAMARCA","BAMBAMARCA","SAN ANTONIO","I-1"]
[null,{"$f":"VALUE(renipress[[#This Row],[Código Único]])","v":7044},"GOBIERNO REGIONAL","00007044","LLACSA","HUANUCO","HUANUCO","SANTA MARIA DEL VALLE","100109","14","01","16","HUANUCO","HUANUCO","SANTA MARIA DEL VALLE","I-1"]
[null,{"$f":"VALUE(renipress[[#This Row],[Código Único]])","v":7055},"GOBIERNO REGIONAL","00007055","LA FLORIDA","AMAZONAS","BONGARA","YAMBRASBAMBA","010312","1","01","03","AMAZONAS","CHACHAPOYAS","POMACOCHAS","I-1"]
[null,{"$f":"VALUE(renipress[[#This Row],[Código Único]])","v":7065},"GOBIERNO REGIONAL","00007065","SAN RAMON","AMAZONAS","LUYA","PISUQUIA","010514","1","01","08","AMAZONAS","CHACHAPOYAS","TINGO","I-1"]
[null,{"$f":"VALUE(renipress[[#This Row],[Código Único]])","v":7083},"GOBIERNO REGIONAL","00007083","PABELLON CHICO","CAJAMARCA","SAN MIGUEL","LLAPA","061107","7","08","02","CAJAMARCA","SAN MIGUEL","LLAPA","I-1"]
[null,{"$f":"VALUE(renipress[[#This Row],[Código Único]])","v":7086},"GOBIERNO REGIONAL","00007086","CORAZON DE MARIA","CAJAMARCA","CHOTA","LAJAS","060410","7","10","05","CAJAMARCA","CHOTA","LAJAS","I-1"]
[null,{"$f":"VALUE(renipress[[#This Row],[Código Único]])","v":7100},"GOBIERNO REGIONAL","00007100","SAN JUAN DE CHORILLOS","CAJAMARCA","CUTERVO","CALLAYUC","060602","7","13","06","CAJAMARCA","CUTERVO","CALLAYUC","I-1"]
[null,{"$f":"VALUE(renipress[[#This Row],[Código Único]])","v":7116},"GOBIERNO REGIONAL","00007116","VILLA DEL CAMPO","UCAYALI","PADRE ABAD","NESHUYA","250304","34","02","05","UCAYALI","FEDERICO BASADRE - YARINACOCHA","MONTE ALEGRE-CURIMANA","I-1"]
[null,{"$f":"VALUE(renipress[[#This Row],[Código Único]])","v":7129},"GOBIERNO REGIONAL","00007129","HUARQUIZA","APURIMAC","AYMARAES","SAÑAYCA","030412","3","07","01","APURIMAC","AYMARAES","CHALHUANCA","I-1"]
[null,{"$f":"VALUE(renipress[[#This Row],[Código Único]])","v":7137},"GOBIERNO REGIONAL","00007137","LA PAUCA","CAJAMARCA","CHOTA","HUAMBOS","060409","7","10","04","CAJAMARCA","CHOTA","HUAMBOS","I-1"]
[null,{"$f":"VALUE(renipress[[#This Row],[Código Único]])","v":7147},"GOBIERNO REGIONAL","00007147","PUESTO DE SALUD DE HUASQUILLAY","CUSCO","PARURO","OMACHA","081006","11","01","03","CUSCO","CUSCO SUR","PARURO","I-2"]
[null,{"$f":"VALUE(renipress[[#This Row],[Código Único]])","v":7165},"GOBIERNO REGIONAL","00007165","SANTIAGO DE YAURECC","APURIMAC","ANDAHUAYLAS","CHIARA","030203","3","05","01","APURIMAC","JOSE MARIA ARGUEDAS","HUANCARAY","I-1"]
[null,{"$f":"VALUE(renipress[[#This Row],[Código Único]])","v":7168},"GOBIERNO REGIONAL","00007168","MONTEGRANDE","CAJAMARCA","JAEN","JAEN","060801","7","15","01","CAJAMARCA","JAEN","MORRO SOLAR","I-2"]
[null,{"$f":"VALUE(renipress[[#This Row],[Código Único]])","v":7184},"GOBIERNO REGIONAL","00007184","SAN FELIPE","AMAZONAS","UTCUBAMBA","LONYA GRANDE","010706","1","03","08","AMAZONAS","UTCUBAMBA","LONYA GRANDE","I-1"]
[null,{"$f":"VALUE(renipress[[#This Row],[Código Único]])","v":7203},"GOBIERNO REGIONAL","00007203","NAUTA","AMAZONAS","CONDORCANQUI","RIO SANTIAGO","010403","1","04","03","AMAZONAS","CONDORCANQUI","GALILEA","I-1"]
[null,{"$f":"VALUE(renipress[[#This Row],[Código Único]])","v":7208},"GOBIERNO REGIONAL","00007208","PALLAC","LIMA","HUARAL","ATAVILLOS BAJO","150603","22","03","08","LIMA","RED III HUARAL - CHANCAY","AÑASMAYO","I-1"]
[null,{"$f":"VALUE(renipress[[#This Row],[Código Único]])","v":7224},"GOBIERNO REGIONAL","00007224","NUEVA ALIANZA","UCAYALI","CORONEL PORTILLO","CALLERIA","250101","34","01","01","UCAYALI","CORONEL  PORTILLO","SAN FERNANDO","I-1"]
[null,{"$f":"VALUE(renipress[[#This Row],[Código Único]])","v":7236},"GOBIERNO REGIONAL","00007236","IGLESIA PATA","APURIMAC","ANDAHUAYLAS","SAN MIGUEL DE CHACCRAMPA","030214","3","05","01","APURIMAC","JOSE MARIA ARGUEDAS","HUANCARAY","I-1"]
[null,{"$f":"VALUE(renipress[[#This Row],[Código Único]])","v":7245},"GOBIERNO REGIONAL","00007245","PAMPA SAN JOSE","APURIMAC","COTABAMBAS","HAQUIRA","030504","3","08","01","APURIMAC","COTABAMBAS","HAQUIRA","I-1"]
[null,{"$f":"VALUE(renipress[[#This Row],[Código Único]])","v":7258},"GOBIERNO REGIONAL","00007258","SANTA ISABEL","AMAZONAS","UTCUBAMBA","CAJARURO","010702","1","03","03","AMAZONAS","UTCUBAMBA","ALTO AMAZONAS","I-1"]
[null,{"$f":"VALUE(renipress[[#This Row],[Código Único]])","v":7267},"GOBIERNO REGIONAL","00007267","PUESTO DE SALUD HUALCAN","ANCASH","CARHUAZ","CARHUAZ","020601","2","01","16","ANCASH","HUAYLAS SUR","CARHUAZ","I-2"]
[null,{"$f":"VALUE(renipress[[#This Row],[Código Único]])","v":7286},"GOBIERNO REGIONAL","00007286","ALTO SAN JOSE","AMAZONAS","UTCUBAMBA","CAJARURO","010702","1","03","04","AMAZONAS","UTCUBAMBA","NARANJITOS","I-1"]
[null,{"$f":"VALUE(renipress[[#This Row],[Código Único]])","v":7301},"GOBIERNO REGIONAL","00007301","SANTA ROSA DE MANTA","HUANCAVELICA","HUANCAVELICA","MANTA","090110","13","01","06","HUANCAVELICA","HUANCAVELICA","MOYA","I-1"]
[null,{"$f":"VALUE(renipress[[#This Row],[Código Único]])","v":7311},"GOBIERNO REGIONAL","00007311","HUAMBOYA","AMAZONAS","UTCUBAMBA","LONYA GRANDE","010706","1","03","08","AMAZONAS","UTCUBAMBA","LONYA GRANDE","I-1"]
[null,{"$f":"VALUE(renipress[[#This Row],[Código Único]])","v":7322},"PRIVADO","00007322","HOSPITAL PRIVADO REFERENCIAL DOCENTE TUMÁN","LAMBAYEQUE","CHICLAYO","TUMAN","140120","19","00","00","LAMBAYEQUE"," ","NO PERTENECE A NINGUNA MICRORED","II-1"]
[null,{"$f":"VALUE(renipress[[#This Row],[Código Único]])","v":7328},"GOBIERNO REGIONAL","00007328","CUZUMATAK","AMAZONAS","CONDORCANQUI","NIEVA","010401","1","04","06","AMAZONAS","CONDORCANQUI","PUTUYAKAT","I-1"]
[null,{"$f":"VALUE(renipress[[#This Row],[Código Único]])","v":7343},"GOBIERNO REGIONAL","00007343","ATALLA","HUANCAVELICA","HUANCAVELICA","YAULI","090117","13","01","02","HUANCAVELICA","HUANCAVELICA","YAULI","I-2"]
[null,{"$f":"VALUE(renipress[[#This Row],[Código Único]])","v":7356},"GOBIERNO REGIONAL","00007356","CHACAMACHAY","APURIMAC","COTABAMBAS","MARA","030505","3","08","01","APURIMAC","COTABAMBAS","HAQUIRA","I-1"]
[null,{"$f":"VALUE(renipress[[#This Row],[Código Único]])","v":7360},"GOBIERNO REGIONAL","00007360","FABIOLA SALAZAR LEGUIA","AMAZONAS","CHACHAPOYAS","CHACHAPOYAS","010101","1","00","00","AMAZONAS","NO PERTENECE A NINGUNA RED","NO PERTENECE A NINGUNA MICRORED","I-2"]
[null,{"$f":"VALUE(renipress[[#This Row],[Código Único]])","v":7373},"GOBIERNO REGIONAL","00007373","SOCCLLABAMBA","HUANCAVELICA","ANGARAES","LIRCAY","090301","13","04","01","HUANCAVELICA","ANGARAES","LIRCAY","I-1"]
[null,{"$f":"VALUE(renipress[[#This Row],[Código Único]])","v":7393},"GOBIERNO REGIONAL","00007393","PUESTO DE SALUD PARIAC","HUANCAVELICA","TAYACAJA","PICHOS","090722","13","03","02","HUANCAVELICA","TAYACAJA","PAZOS","I-1"]
[null,{"$f":"VALUE(renipress[[#This Row],[Código Único]])","v":7397},"GOBIERNO REGIONAL","00007397","INSTITUTO REGIONAL DE ENFERMEDADES NEOPLASICAS","AREQUIPA","AREQUIPA","AREQUIPA","040101","4","00","00","AREQUIPA","NO PERTENECE A NINGUNA RED","NO PERTENECE A NINGUNA MICRORED","III-2"]
[null,{"$f":"VALUE(renipress[[#This Row],[Código Único]])","v":7415},"GOBIERNO REGIONAL","00007415","JUTA","APURIMAC","AYMARAES","LUCRE","030409","3","07","02","APURIMAC","AYMARAES","SANTA ROSA","I-1"]
[null,{"$f":"VALUE(renipress[[#This Row],[Código Único]])","v":7426},"GOBIERNO REGIONAL","00007426","HUAYO","APURIMAC","GRAU","CURPAHUASI","030702","3","02","03","APURIMAC","GRAU","VILCABAMBA","I-1"]
[null,{"$f":"VALUE(renipress[[#This Row],[Código Único]])","v":7436},"GOBIERNO REGIONAL","00007436","QUISCABAMBA","APURIMAC","GRAU","SANTA ROSA","030710","3","02","03","APURIMAC","GRAU","VILCABAMBA","I-1"]
[null,{"$f":"VALUE(renipress[[#This Row],[Código Único]])","v":7443},"GOBIERNO REGIONAL","00007443","LAHUALAHUA","APURIMAC","AYMARAES","COTARUSE","030406","3","07","01","APURIMAC","AYMARAES","CHALHUANCA","I-1"]
[null,{"$f":"VALUE(renipress[[#This Row],[Código Único]])","v":7453},"GOBIERNO REGIONAL","00007453","LUZ Y PAZ","UCAYALI","CORONEL PORTILLO","MANANTAY","250107","34","01","01","UCAYALI","CORONEL  PORTILLO","SAN FERNANDO","I-1"]
[null,{"$f":"VALUE(renipress[[#This Row],[Código Único]])","v":7631},"GOBIERNO REGIONAL","00007631","CS. CASA GRANDE","LA LIBERTAD","ASCOPE","CASA GRANDE","130208","18","02","01","LA LIBERTAD","RED ASCOPE","ASCOPE","I-3"]
[null,{"$f":"VALUE(renipress[[#This Row],[Código Único]])","v":7646},"GOBIERNO REGIONAL","00007646","LINCHA","LIMA","YAUYOS","LINCHA","151019","22","07","03","LIMA","RED VII CA¥ETE - YAUYOS","LUNAHUANA","I-1"]
[null,{"$f":"VALUE(renipress[[#This Row],[Código Único]])","v":7648},"GOBIERNO REGIONAL","00007648","HONGOS","LIMA","YAUYOS","HONGOS","151012","22","07","07","LIMA","RED VII CA¥ETE - YAUYOS","CATAHUASI","I-1"]
[null,{"$f":"VALUE(renipress[[#This Row],[Código Único]])","v":7700},"GOBIERNO REGIONAL","00007700","EL DESCANSO","CUSCO","CANAS","KUNTURKANKI","080503","11","04","02","CUSCO","CANAS-CANCHIS-ESPINAR","EL DESCANSO","I-4"]
[null,{"$f":"VALUE(renipress[[#This Row],[Código Único]])","v":7705},"GOBIERNO REGIONAL","00007705","HUANCAPITE","HUANCAVELICA","ACOBAMBA","ANDABAMBA","090202","13","02","02","HUANCAVELICA","ACOBAMBA","PAUCARA                                                    ","I-1"]
[null,{"$f":"VALUE(renipress[[#This Row],[Código Único]])","v":7722},"GOBIERNO REGIONAL","00007722","EL MIRADOR","AREQUIPA","AREQUIPA","MARIANO MELGAR","040109","4","03","15","AREQUIPA","AREQUIPA CAYLLOMA","GRLMO. SAN MARTIN","I-2"]
[null,{"$f":"VALUE(renipress[[#This Row],[Código Único]])","v":7734},"MINSA","00007734","INSTITUTO NACIONAL DE REHABILITACION DRA. ADRIANA REBAZA FLORES AMISTAD PERU - JAPON","LIMA","LIMA","CHORRILLOS","150108","23","00","00","LIMA SUR","NO PERTENECE A NINGUNA RED","NO PERTENECE A NINGUNA MICRORED","III-E"]
[null,{"$f":"VALUE(renipress[[#This Row],[Código Único]])","v":7739},"GOBIERNO REGIONAL","00007739","WARIWAYIN","HUANUCO","LAURICOCHA","RONDOS","101005","14","08","03","HUANUCO","LAURICOCHA (RED FUNCIONAL)","RONDOS","I-1"]
[null,{"$f":"VALUE(renipress[[#This Row],[Código Único]])","v":7751},"GOBIERNO REGIONAL","00007751","CHANGAY","CAJAMARCA","CUTERVO","SOCOTA","060614","7","14","03","CAJAMARCA","SOCOTA","LA RAMADA","I-1"]
[null,{"$f":"VALUE(renipress[[#This Row],[Código Único]])","v":7774},"PRIVADO","00007774","CONSULTORIO","LA LIBERTAD","TRUJILLO","TRUJILLO","130101","18","00","00","LA LIBERTAD"," ","NO PERTENECE A NINGUNA MICRORED","I-2"]
[null,{"$f":"VALUE(renipress[[#This Row],[Código Único]])","v":7782},"PRIVADO","00007782","CENTRO DE DIALISIS VENTANILLA S.A.C.","CALLAO","CALLAO","VENTANILLA","070106","8","00","00","CALLAO","NO PERTENECE A NINGUNA RED","NO PERTENECE A NINGUNA MICRORED","Sin Categoría"]
[null,{"$f":"VALUE(renipress[[#This Row],[Código Único]])","v":7800},"PRIVADO","00007800","CONSULTORIO MEDICO","LA LIBERTAD","TRUJILLO","TRUJILLO","130101","18","00","00","LA LIBERTAD"," ","NO PERTENECE A NINGUNA MICRORED","I-2"]
[null,{"$f":"VALUE(renipress[[#This Row],[Código Único]])","v":7810},"PRIVADO","00007810","JORGE HUGO BORJAS HERRERA","CALLAO","CALLAO","CALLAO","070101","8","00","00","CALLAO"," ","NO PERTENECE A NINGUNA MICRORED","I-1"]
[null,{"$f":"VALUE(renipress[[#This Row],[Código Único]])","v":7821},"PRIVADO","00007821","POLICLINICO SAN JUDAS TADEO","CALLAO","CALLAO","CALLAO","070101","8","00","00","CALLAO"," ","NO PERTENECE A NINGUNA MICRORED","Sin Categoría"]
[null,{"$f":"VALUE(renipress[[#This Row],[Código Único]])","v":7827},"PRIVADO","00007827","PRODENTAL SERVICIOS ODONTOLOGICOS EIRL","LA LIBERTAD","TRUJILLO","TRUJILLO","130101","18","00","00","LA LIBERTAD"," ","NO PERTENECE A NINGUNA MICRORED","Sin Categoría"]
[null,{"$f":"VALUE(renipress[[#This Row],[Código Único]])","v":7842},"PRIVADO","00007842","JUAN CARLOS RAMOS URA","CALLAO","CALLAO","CALLAO","070101","8","00","00","CALLAO"," ","NO PERTENECE A NINGUNA MICRORED","I-1"]
[null,{"$f":"VALUE(renipress[[#This Row],[Código Único]])","v":7855},"PRIVADO","00007855","GLORIA MARIA ÑINGLE MANSILLA","CALLAO","CALLAO","LA PERLA","070104","8","00","00","CALLAO"," ","NO PERTENECE A NINGUNA MICRORED","Sin Categoría"]
[null,{"$f":"VALUE(renipress[[#This Row],[Código Único]])","v":7872},"PRIVADO","00007872","DANIEL ALBERTO VELASQUEZ VALENZUELA","CALLAO","CALLAO","BELLAVISTA","070102","8","00","00","CALLAO"," ","NO PERTENECE A NINGUNA MICRORED","Sin Categoría"]
[null,{"$f":"VALUE(renipress[[#This Row],[Código Único]])","v":7884},"PRIVADO","00007884","VICTOR AMADO SANCHEZ ANTICONA","CALLAO","CALLAO","VENTANILLA","070106","8","00","00","CALLAO"," ","NO PERTENECE A NINGUNA MICRORED","Sin Categoría"]
[null,{"$f":"VALUE(renipress[[#This Row],[Código Único]])","v":7893},"PRIVADO","00007893","ELIZABETH QUISPE GUEVARA","CALLAO","CALLAO","CALLAO","070101","8","00","00","CALLAO"," ","NO PERTENECE A NINGUNA MICRORED","I-2"]
[null,{"$f":"VALUE(renipress[[#This Row],[Código Único]])","v":7897},"PRIVADO","00007897","LAB DIAGNOSTICO","CALLAO","CALLAO","CARMEN DE LA LEGUA-REYNOSO","070103","8","00","00","CALLAO","NO PERTENECE A NINGUNA RED","NO PERTENECE A NINGUNA MICRORED","Sin Categoría"]
[null,{"$f":"VALUE(renipress[[#This Row],[Código Único]])","v":7917},"PRIVADO","00007917","CENTRO MEDICO CD-LAB","CALLAO","CALLAO","CALLAO","070101","8","00","00","CALLAO"," ","NO PERTENECE A NINGUNA MICRORED","Sin Categoría"]
[null,{"$f":"VALUE(renipress[[#This Row],[Código Único]])","v":7928},"PRIVADO","00007928","CLINICA SAN GABRIEL EIRL.","TUMBES","TUMBES","TUMBES","240101","33","00","00","TUMBES"," ","NO PERTENECE A NINGUNA MICRORED","Sin Categoría"]
[null,{"$f":"VALUE(renipress[[#This Row],[Código Único]])","v":7938},"PRIVADO","00007938","CONSULTORIO MEDICO ODONOTOLOGICO CMO","CALLAO","CALLAO","CALLAO","070101","8","00","00","CALLAO","NO PERTENECE A NINGUNA RED","NO PERTENECE A NINGUNA MICRORED","I-2"]
[null,{"$f":"VALUE(renipress[[#This Row],[Código Único]])","v":7958},"PRIVADO","00007958","SALUD Y MUJER MEDICAL CENTER","JUNIN","HUANCAYO","HUANCAYO","120101","17","00","00","JUNIN","NO PERTENECE A NINGUNA RED","NO PERTENECE A NINGUNA MICRORED","Sin Categoría"]
[null,{"$f":"VALUE(renipress[[#This Row],[Código Único]])","v":7974},"PRIVADO","00007974","CONSULTORIO ODONTOLOGICO","CALLAO","CALLAO","LA PERLA","070104","8","00","00","CALLAO","NO PERTENECE A NINGUNA RED","NO PERTENECE A NINGUNA MICRORED","Sin Categoría"]
[null,{"$f":"VALUE(renipress[[#This Row],[Código Único]])","v":7980},"PRIVADO","00007980","POLICLINICO","CALLAO","CALLAO","VENTANILLA","070106","8","00","00","CALLAO"," ","NO PERTENECE A NINGUNA MICRORED","I-3"]
[null,{"$f":"VALUE(renipress[[#This Row],[Código Único]])","v":7997},"PRIVADO","00007997","POLICLINICO CALLAO","CALLAO","CALLAO","LA PERLA","070104","8","00","00","CALLAO"," ","NO PERTENECE A NINGUNA MICRORED","I-2"]
[null,{"$f":"VALUE(renipress[[#This Row],[Código Único]])","v":8006},"PRIVADO","00008006","CONSULTORIO DENTAL","CALLAO","CALLAO","BELLAVISTA","070102","8","00","00","CALLAO"," ","NO PERTENECE A NINGUNA MICRORED","I-1"]
[null,{"$f":"VALUE(renipress[[#This Row],[Código Único]])","v":8019},"PRIVADO","00008019","CONSULTORIO MEDICO","CALLAO","CALLAO","VENTANILLA","070106","8","00","00","CALLAO","NO PERTENECE A NINGUNA RED","NO PERTENECE A NINGUNA MICRORED","Sin Categoría"]
[null,{"$f":"VALUE(renipress[[#This Row],[Código Único]])","v":8045},"PRIVADO","00008045","CONSULTORIO ODONTOLOGICO PARTICULAR","LA LIBERTAD","TRUJILLO","TRUJILLO","130101","18","00","00","LA LIBERTAD"," ","NO PERTENECE A NINGUNA MICRORED","I-1"]
[null,{"$f":"VALUE(renipress[[#This Row],[Código Único]])","v":8052},"PRIVADO","00008052","CENTRO MEDICO SAN BORJA  EIRL","APURIMAC","ABANCAY","ABANCAY","030101","3","00","00","APURIMAC","NO PERTENECE A NINGUNA RED","NO PERTENECE A NINGUNA MICRORED","Sin Categoría"]
[null,{"$f":"VALUE(renipress[[#This Row],[Código Único]])","v":8068},"PRIVADO","00008068","CLÍNICA MEDICA PRIMAVERA SOCIEDAD ANONIMA CERRADA","LIMA","LIMA","LOS OLIVOS","150117","35","00","00","LIMA NORTE","NO PERTENECE A NINGUNA RED","NO PERTENECE A NINGUNA MICRORED","Sin Categoría"]
[null,{"$f":"VALUE(renipress[[#This Row],[Código Único]])","v":8087},"PRIVADO","00008087","CENTRO MEDICO PARTICULAR EL NAZARENO SRL","LA LIBERTAD","TRUJILLO","TRUJILLO","130101","18","00","00","LA LIBERTAD","NO PERTENECE A NINGUNA RED","NO PERTENECE A NINGUNA MICRORED","I-3"]
[null,{"$f":"VALUE(renipress[[#This Row],[Código Único]])","v":8098},"PRIVADO","00008098","CENTRO DE ATENCION PRIMARIA DE SALUD - EL TAMBO","JUNIN","HUANCAYO","EL TAMBO","120114","17","00","00","JUNIN","NO PERTENECE A NINGUNA RED","NO PERTENECE A NINGUNA MICRORED","Sin Categoría"]
[null,{"$f":"VALUE(renipress[[#This Row],[Código Único]])","v":8109},"PRIVADO","00008109","CENTRO OFTALMOLOGICO MONSEÑOR ENRIQUE PELACH -OBISPADO DE ABANCAY","APURIMAC","ABANCAY","ABANCAY","030101","3","00","00","APURIMAC"," ","NO PERTENECE A NINGUNA MICRORED","Sin Categoría"]
[null,{"$f":"VALUE(renipress[[#This Row],[Código Único]])","v":8122},"PRIVADO","00008122","CENTRO DE DIALISIS SANTO TOMAS DE AQUINO SAC","LIMA","LIMA","SAN MARTIN DE PORRES","150135","35","00","00","LIMA NORTE","NO PERTENECE A NINGUNA RED","NO PERTENECE A NINGUNA MICRORED","Sin Categoría"]
[null,{"$f":"VALUE(renipress[[#This Row],[Código Único]])","v":8142},"PRIVADO","00008142","CENTRO OPTICO","LIMA","LIMA","MAGDALENA DEL MAR","150120","36","00","00","LIMA CENTRO"," ","NO PERTENECE A NINGUNA MICRORED","Sin Categoría"]
[null,{"$f":"VALUE(renipress[[#This Row],[Código Único]])","v":8156},"PRIVADO","00008156","CENTRO MEDIC AYACUCHO S.R.L.","AYACUCHO","HUAMANGA","JESUS NAZARENO","050115","5","00","00","AYACUCHO"," ","NO PERTENECE A NINGUNA MICRORED","Sin Categoría"]
[null,{"$f":"VALUE(renipress[[#This Row],[Código Único]])","v":8168},"PRIVADO","00008168","CENTRO MEDICO DE LA CLINICA RICARDO PALMA","LIMA","LIMA","COMAS","150110","35","00","00","LIMA NORTE"," ","NO PERTENECE A NINGUNA MICRORED","I-3"]
[null,{"$f":"VALUE(renipress[[#This Row],[Código Único]])","v":8186},"PRIVADO","00008186","CONSULTORIO MEDICO SKINLUTION","LIMA","LIMA","SAN ISIDRO","150131","36","00","00","LIMA CENTRO"," ","NO PERTENECE A NINGUNA MICRORED","Sin Categoría"]
[null,{"$f":"VALUE(renipress[[#This Row],[Código Único]])","v":8199},"PRIVADO","00008199","LATINOMEDICAL","LIMA","LIMA","LINCE","150116","36","00","00","LIMA CENTRO"," ","NO PERTENECE A NINGUNA MICRORED","Sin Categoría"]
[null,{"$f":"VALUE(renipress[[#This Row],[Código Único]])","v":8205},"PRIVADO","00008205","CONSULTORIO MEDICO","LIMA","LIMA","LINCE","150116","36","00","00","LIMA CENTRO"," ","NO PERTENECE A NINGUNA MICRORED","I-2"]
[null,{"$f":"VALUE(renipress[[#This Row],[Código Único]])","v":8223},"PRIVADO","00008223","CENTRO RENAL SAN MARCELO S,A,","CALLAO","CALLAO","BELLAVISTA","070102","8","00","00","CALLAO"," ","NO PERTENECE A NINGUNA MICRORED","Sin Categoría"]
[null,{"$f":"VALUE(renipress[[#This Row],[Código Único]])","v":8235},"PRIVADO","00008235","SERVIMED PERU","LAMBAYEQUE","CHICLAYO","CHICLAYO","140101","19","00","00","LAMBAYEQUE"," ","NO PERTENECE A NINGUNA MICRORED","I-3"]
[null,{"$f":"VALUE(renipress[[#This Row],[Código Único]])","v":8244},"PRIVADO","00008244","SERVICIOS GENERALES DE SALUD S.A.","LIMA","LIMA","LINCE","150116","36","00","00","LIMA CENTRO"," ","NO PERTENECE A NINGUNA MICRORED","I-2"]
[null,{"$f":"VALUE(renipress[[#This Row],[Código Único]])","v":8259},"PRIVADO","00008259","CENTRO DE ATENCIÓN AMBULATORIA Y DE DÍA PARA  PERSONAS CONSUMIDORAS Y DEPENDIENTES DE SUSTANCIAS PSICOACTIVAS - CADES CALLAO","CALLAO","CALLAO","CALLAO","070101","8","00","00","CALLAO"," ","NO PERTENECE A NINGUNA MICRORED","I-1"]
[null,{"$f":"VALUE(renipress[[#This Row],[Código Único]])","v":8265},"ESSALUD","00008265","HOSPITAL NACIONAL ALBERTO SABOGAL SOLOGUREN DE LA RED ASISTENCIAL SABOGAL","CALLAO","CALLAO","BELLAVISTA","070102","8","00","00","CALLAO","NO PERTENECE A NINGUNA RED","NO PERTENECE A NINGUNA MICRORED","III-1"]
[null,{"$f":"VALUE(renipress[[#This Row],[Código Único]])","v":8276},"PRIVADO","00008276","MENDOZA BAEZ DANTE","LIMA","LIMA","SAN JUAN DE LURIGANCHO","150132","36","00","00","LIMA CENTRO"," ","NO PERTENECE A NINGUNA MICRORED","Sin Categoría"]
[null,{"$f":"VALUE(renipress[[#This Row],[Código Único]])","v":8286},"PRIVADO","00008286","CLINICA DENTAL SAN FELIPE SCRL","LIMA","LIMA","ATE","150103","21","00","00","LIMA ESTE"," ","NO PERTENECE A NINGUNA MICRORED","Sin Categoría"]
[null,{"$f":"VALUE(renipress[[#This Row],[Código Único]])","v":8305},"PRIVADO","00008305","LABORATORIOS ROE S.A.","LIMA","LIMA","SAN MIGUEL","150136","36","00","00","LIMA CENTRO"," ","NO PERTENECE A NINGUNA MICRORED","Sin Categoría"]
[null,{"$f":"VALUE(renipress[[#This Row],[Código Único]])","v":8316},"PRIVADO","00008316","ROSALES APOLINARIO MIGUELINA YOLANDA","LIMA","LIMA","ATE","150103","21","00","00","LIMA ESTE","NO PERTENECE A NINGUNA RED","NO PERTENECE A NINGUNA MICRORED","Sin Categoría"]
[null,{"$f":"VALUE(renipress[[#This Row],[Código Único]])","v":8322},"PRIVADO","00008322","SERVIDENTAL FG","LIMA","LIMA","SAN MARTIN DE PORRES","150135","35","00","00","LIMA NORTE"," ","NO PERTENECE A NINGUNA MICRORED","I-1"]
[null,{"$f":"VALUE(renipress[[#This Row],[Código Único]])","v":8337},"PRIVADO","00008337","MOLIDENT ODONTOLOGIA INTEGRAL SAC","LIMA","LIMA","LA MOLINA","150114","21","00","00","LIMA ESTE"," ","NO PERTENECE A NINGUNA MICRORED","I-1"]
[null,{"$f":"VALUE(renipress[[#This Row],[Código Único]])","v":8346},"PRIVADO","00008346","APOLAYA AYLLON MILUSKA VANESSA","LIMA","LIMA","SAN JUAN DE LURIGANCHO","150132","36","00","00","LIMA CENTRO"," ","NO PERTENECE A NINGUNA MICRORED","Sin Categoría"]
[null,{"$f":"VALUE(renipress[[#This Row],[Código Único]])","v":8358},"PRIVADO","00008358","OFTALMOLOGOS SIN FRONTERAS EIRL","LIMA","LIMA","ATE","150103","21","00","00","LIMA ESTE","NO PERTENECE A NINGUNA RED","NO PERTENECE A NINGUNA MICRORED","I-1"]
[null,{"$f":"VALUE(renipress[[#This Row],[Código Único]])","v":8376},"SANIDAD DEL EJERCITO DEL PERU","00008376","ESTABLECIMIENTO DE SALUD DE LA 1ª BRIGADA DE LAS FUERZAS ESPECIALES DEL EJERCITO","LIMA","LIMA","CHORRILLOS","150108","23","00","00","LIMA SUR","NO PERTENECE A NINGUNA RED","NO PERTENECE A NINGUNA MICRORED","I-2"]
[null,{"$f":"VALUE(renipress[[#This Row],[Código Único]])","v":8381},"PRIVADO","00008381","GAMMA MEDICA LABORATORIO CLINICO SAC","CALLAO","CALLAO","BELLAVISTA","070102","8","00","00","CALLAO","NO PERTENECE A NINGUNA RED","NO PERTENECE A NINGUNA MICRORED","I-3"]
[null,{"$f":"VALUE(renipress[[#This Row],[Código Único]])","v":8393},"PRIVADO","00008393","AGUERO AGUILAR LUIS ENRIQUE","LIMA","LIMA","SANTA ANITA","150137","21","00","00","LIMA ESTE","NO PERTENECE A NINGUNA RED","NO PERTENECE A NINGUNA MICRORED","Sin Categoría"]
[null,{"$f":"VALUE(renipress[[#This Row],[Código Único]])","v":8410},"PRIVADO","00008410","SANCHEZ UCHUYPOMA JORGE ISSAC","LIMA","LIMA","EL AGUSTINO","150111","21","00","00","LIMA ESTE","NO PERTENECE A NINGUNA RED","NO PERTENECE A NINGUNA MICRORED","Sin Categoría"]
[null,{"$f":"VALUE(renipress[[#This Row],[Código Único]])","v":8421},"PRIVADO","00008421","CISNEROS CHINCHAY GLORIA LIZ","LIMA","LIMA","SAN JUAN DE LURIGANCHO","150132","36","00","00","LIMA CENTRO"," ","NO PERTENECE A NINGUNA MICRORED","I-2"]
[null,{"$f":"VALUE(renipress[[#This Row],[Código Único]])","v":8431},"PRIVADO","00008431","ZEGOVIA ROJAS CARMEN ROSA","LIMA","LIMA","SAN JUAN DE LURIGANCHO","150132","36","00","00","LIMA CENTRO"," ","NO PERTENECE A NINGUNA MICRORED","I-1"]
[null,{"$f":"VALUE(renipress[[#This Row],[Código Único]])","v":8445},"MUNICIPALIDAD PROVINCIAL","00008445","SISTEMA METROPOLITANO DE LA SOLIDARIDAD / SOLIDARIDAD SALUD CAMANA","LIMA","LIMA","LIMA","150101","36","00","00","LIMA CENTRO","NO PERTENECE A NINGUNA RED","NO PERTENECE A NINGUNA MICRORED","I-3"]
[null,{"$f":"VALUE(renipress[[#This Row],[Código Único]])","v":8452},"PRIVADO","00008452","ACOSTA ORBEGOZO MARVIN LINO","LIMA","LIMA","SAN LUIS","150134","36","00","00","LIMA CENTRO"," ","NO PERTENECE A NINGUNA MICRORED","I-1"]
[null,{"$f":"VALUE(renipress[[#This Row],[Código Único]])","v":8462},"PRIVADO","00008462","CENTRO MEDICO SALUD Y VIDA","CALLAO","CALLAO","CARMEN DE LA LEGUA-REYNOSO","070103","8","00","00","CALLAO"," ","NO PERTENECE A NINGUNA MICRORED","Sin Categoría"]
[null,{"$f":"VALUE(renipress[[#This Row],[Código Único]])","v":8473},"PRIVADO","00008473","LOPEZ GAMARRA JOSE LUIS","LIMA","LIMA","SAN JUAN DE LURIGANCHO","150132","36","00","00","LIMA CENTRO"," ","NO PERTENECE A NINGUNA MICRORED","I-1"]
[null,{"$f":"VALUE(renipress[[#This Row],[Código Único]])","v":8490},"PRIVADO","00008490","ZENTENO RICCE CARLOS JUSTINO","LIMA","LIMA","SAN JUAN DE LURIGANCHO","150132","36","00","00","LIMA CENTRO"," ","NO PERTENECE A NINGUNA MICRORED","I-1"]
[null,{"$f":"VALUE(renipress[[#This Row],[Código Único]])","v":8502},"ESSALUD","00008502","HOSPITAL III EMERGENCIAS GRAU","LIMA","LIMA","LIMA","150101","36","00","00","LIMA CENTRO","NO PERTENECE A NINGUNA RED","NO PERTENECE A NINGUNA MICRORED","II-2"]
[null,{"$f":"VALUE(renipress[[#This Row],[Código Único]])","v":8507},"PRIVADO","00008507","BRYCER LABORATORIOS S.R.L.","LIMA","LIMA","SAN BORJA","150130","36","00","00","LIMA CENTRO","NO PERTENECE A NINGUNA RED","NO PERTENECE A NINGUNA MICRORED","Sin Categoría"]
[null,{"$f":"VALUE(renipress[[#This Row],[Código Único]])","v":8523},"PRIVADO","00008523","CONSULTORIO MEDICO DRA. SELENE","LIMA","LIMA","SAN JUAN DE LURIGANCHO","150132","36","00","00","LIMA CENTRO"," ","NO PERTENECE A NINGUNA MICRORED","I-1"]
[null,{"$f":"VALUE(renipress[[#This Row],[Código Único]])","v":8535},"PRIVADO","00008535","HUARCA SOLIS GABRIELA KATHERIN","LIMA","LIMA","SANTA ANITA","150137","21","00","00","LIMA ESTE"," ","NO PERTENECE A NINGUNA MICRORED","I-2"]
[null,{"$f":"VALUE(renipress[[#This Row],[Código Único]])","v":8544},"PRIVADO","00008544","BRUNO VASQUEZ ANA MARABELLY","LIMA","LIMA","SAN MARTIN DE PORRES","150135","35","00","00","LIMA NORTE"," ","NO PERTENECE A NINGUNA MICRORED","Sin Categoría"]
[null,{"$f":"VALUE(renipress[[#This Row],[Código Único]])","v":8560},"PRIVADO","00008560","PLUS DENT","LIMA","LIMA","ATE","150103","21","00","00","LIMA ESTE"," ","NO PERTENECE A NINGUNA MICRORED","I-1"]
[null,{"$f":"VALUE(renipress[[#This Row],[Código Único]])","v":8566},"PRIVADO","00008566","RAMIREZ CORDOVAJORGE LUIS","LIMA","LIMA","SAN JUAN DE LURIGANCHO","150132","36","00","00","LIMA CENTRO","NO PERTENECE A NINGUNA RED","NO PERTENECE A NINGUNA MICRORED","I-1"]
[null,{"$f":"VALUE(renipress[[#This Row],[Código Único]])","v":8577},"ESSALUD","00008577","HOSPITAL NACIONAL ALMANZOR AGUINAGA ASENJO","LAMBAYEQUE","CHICLAYO","CHICLAYO","140101","19","00","00","LAMBAYEQUE","NO PERTENECE A NINGUNA RED","NO PERTENECE A NINGUNA MICRORED","III-1"]
[null,{"$f":"VALUE(renipress[[#This Row],[Código Único]])","v":8595},"PRIVADO","00008595","CENTO PSICOLÓGICO","AREQUIPA","AREQUIPA","AREQUIPA","040101","4","00","00","AREQUIPA"," ","NO PERTENECE A NINGUNA MICRORED","Sin Categoría"]
[null,{"$f":"VALUE(renipress[[#This Row],[Código Único]])","v":8605},"PRIVADO","00008605","CONSULTORIO DENTAL SAN MARCOS","LIMA","LIMA","SAN LUIS","150134","36","00","00","LIMA CENTRO"," ","NO PERTENECE A NINGUNA MICRORED","I-1"]
[null,{"$f":"VALUE(renipress[[#This Row],[Código Único]])","v":8616},"PRIVADO","00008616","CHUI GALVAN SERGIO ALBERTO","LIMA","LIMA","LA MOLINA","150114","21","00","00","LIMA ESTE"," ","NO PERTENECE A NINGUNA MICRORED","I-1"]
[null,{"$f":"VALUE(renipress[[#This Row],[Código Único]])","v":8622},"PRIVADO","00008622","CONSULTORIO","AREQUIPA","AREQUIPA","YANAHUARA","040126","4","00","00","AREQUIPA"," ","NO PERTENECE A NINGUNA MICRORED","Sin Categoría"]
[null,{"$f":"VALUE(renipress[[#This Row],[Código Único]])","v":8637},"PRIVADO","00008637","MONTESINOS CANCHO RICHARD HUGO","LIMA","LIMA","SAN JUAN DE LURIGANCHO","150132","36","00","00","LIMA CENTRO","NO PERTENECE A NINGUNA RED","NO PERTENECE A NINGUNA MICRORED","I-2"]
[null,{"$f":"VALUE(renipress[[#This Row],[Código Único]])","v":8646},"PRIVADO","00008646","CONSULTORIO","AREQUIPA","AREQUIPA","AREQUIPA","040101","4","00","00","AREQUIPA"," ","NO PERTENECE A NINGUNA MICRORED","Sin Categoría"]
[null,{"$f":"VALUE(renipress[[#This Row],[Código Único]])","v":8658},"ESSALUD","00008658","HOSPITAL I RIO NEGRO - SATIPO","JUNIN","SATIPO","RIO NEGRO","120607","17","06","00","JUNIN","JUNIN"," ","I-4"]
[null,{"$f":"VALUE(renipress[[#This Row],[Código Único]])","v":8674},"ESSALUD","00008674","POSTA MEDICA MOROCOCHA","JUNIN","YAULI","MOROCOCHA","120805","17","00","00","JUNIN","NO PERTENECE A NINGUNA RED","NO PERTENECE A NINGUNA MICRORED","I-3"]
[null,{"$f":"VALUE(renipress[[#This Row],[Código Único]])","v":8687},"PRIVADO","00008687","SALAS OJEDA MARIA ISABEL","LIMA","LIMA","SAN JUAN DE LURIGANCHO","150132","36","00","00","LIMA CENTRO"," ","NO PERTENECE A NINGUNA MICRORED","I-1"]
[null,{"$f":"VALUE(renipress[[#This Row],[Código Único]])","v":8700},"PRIVADO","00008700","CORILLA TORRES LUCY","LIMA","LIMA","SAN JUAN DE LURIGANCHO","150132","36","00","00","LIMA CENTRO"," ","NO PERTENECE A NINGUNA MICRORED","I-1"]
[null,{"$f":"VALUE(renipress[[#This Row],[Código Único]])","v":8709},"SANIDAD DE LA FUERZA AEREA DEL PERU","00008709","CENTRO DE SALUD FAP LAS PALMAS","LIMA","LIMA","SANTIAGO DE SURCO","150140","23","00","00","LIMA SUR","NO PERTENECE A NINGUNA RED","NO PERTENECE A NINGUNA MICRORED","I-4"]
[null,{"$f":"VALUE(renipress[[#This Row],[Código Único]])","v":8721},"PRIVADO","00008721","CONSULTORIO","AREQUIPA","AREQUIPA","AREQUIPA","040101","4","00","00","AREQUIPA"," ","NO PERTENECE A NINGUNA MICRORED","Sin Categoría"]
[null,{"$f":"VALUE(renipress[[#This Row],[Código Único]])","v":8726},"PRIVADO","00008726","CONSULTORIO","AREQUIPA","AREQUIPA","AREQUIPA","040101","4","00","00","AREQUIPA"," ","NO PERTENECE A NINGUNA MICRORED","Sin Categoría"]
[null,{"$f":"VALUE(renipress[[#This Row],[Código Único]])","v":8738},"PRIVADO","00008738","SANCHEZ INGA TELMO","LIMA","LIMA","EL AGUSTINO","150111","21","00","00","LIMA ESTE"," ","NO PERTENECE A NINGUNA MICRORED","I-2"]
[null,{"$f":"VALUE(renipress[[#This Row],[Código Único]])","v":8754},"PRIVADO","00008754","CENTRO MEDICO SOLIDARIO ESPERANZA SAC","LIMA","LIMA","LA MOLINA","150114","21","00","00","LIMA ESTE","NO PERTENECE A NINGUNA RED","NO PERTENECE A NINGUNA MICRORED","I-2"]
[null,{"$f":"VALUE(renipress[[#This Row],[Código Único]])","v":8771},"PRIVADO","00008771","CONSULTORIO","AREQUIPA","AREQUIPA","AREQUIPA","040101","4","00","00","AREQUIPA"," ","NO PERTENECE A NINGUNA MICRORED","Sin Categoría"]
[null,{"$f":"VALUE(renipress[[#This Row],[Código Único]])","v":8782},"PRIVADO","00008782","CONSULTORIO","AREQUIPA","AREQUIPA","AREQUIPA","040101","4","00","00","AREQUIPA"," ","NO PERTENECE A NINGUNA MICRORED","Sin Categoría"]
[null,{"$f":"VALUE(renipress[[#This Row],[Código Único]])","v":8792},"PRIVADO","00008792","CLINICA DE EMERGENCIAS WIESSE SOCIEDAD ANONIMA CERRADA","LIMA","LIMA","SAN JUAN DE LURIGANCHO","150132","36","00","00","LIMA CENTRO"," ","NO PERTENECE A NINGUNA MICRORED","I-2"]
[null,{"$f":"VALUE(renipress[[#This Row],[Código Único]])","v":8795},"PRIVADO","00008795","MEDIC VISUAL","LIMA","LIMA","EL AGUSTINO","150111","21","00","00","LIMA ESTE"," ","NO PERTENECE A NINGUNA MICRORED","Sin Categoría"]
[null,{"$f":"VALUE(renipress[[#This Row],[Código Único]])","v":8813},"PRIVADO","00008813","CONSULTORIO DE GASTROENTEROLOGÍA","AREQUIPA","AREQUIPA","YANAHUARA","040126","4","00","00","AREQUIPA"," ","NO PERTENECE A NINGUNA MICRORED","Sin Categoría"]
[null,{"$f":"VALUE(renipress[[#This Row],[Código Único]])","v":8823},"GOBIERNO REGIONAL","00008823","ANCHICHA","APURIMAC","ABANCAY","CHACOCHE","030102","3","01","01","APURIMAC","ABANCAY","CENTENARIO","I-1"]
[null,{"$f":"VALUE(renipress[[#This Row],[Código Único]])","v":8830},"ESSALUD","00008830","POSTA MEDICA DE OLMOS","LAMBAYEQUE","LAMBAYEQUE","OLMOS","140308","19","00","00","LAMBAYEQUE","NO PERTENECE A NINGUNA RED","NO PERTENECE A NINGUNA MICRORED","I-2"]
[null,{"$f":"VALUE(renipress[[#This Row],[Código Único]])","v":8851},"PRIVADO","00008851","CONSULTORIO DENTAL VIRGEN DEL ROSARIO","LIMA","LIMA","SANTA ANITA","150137","21","00","00","LIMA ESTE"," ","NO PERTENECE A NINGUNA MICRORED","I-1"]
[null,{"$f":"VALUE(renipress[[#This Row],[Código Único]])","v":8863},"PRIVADO","00008863","CONSULTORIO DE ENDOCRINOLOGIA","AREQUIPA","AREQUIPA","AREQUIPA","040101","4","00","00","AREQUIPA"," ","NO PERTENECE A NINGUNA MICRORED","I-2"]
[null,{"$f":"VALUE(renipress[[#This Row],[Código Único]])","v":8868},"PRIVADO","00008868","CENTRO OPTICO","AREQUIPA","AREQUIPA","AREQUIPA","040101","4","00","00","AREQUIPA"," ","NO PERTENECE A NINGUNA MICRORED","Sin Categoría"]
[null,{"$f":"VALUE(renipress[[#This Row],[Código Único]])","v":8884},"PRIVADO","00008884","CENTRO RADIOLOGICO DE DIAGNOSTICO POR IMAGEN DIGITAL H & M E.I.R.L.","ANCASH","HUARAZ","HUARAZ","020101","2","00","00","ANCASH"," ","NO PERTENECE A NINGUNA MICRORED","Sin Categoría"]
[null,{"$f":"VALUE(renipress[[#This Row],[Código Único]])","v":8892},"ESSALUD","00008892","POSTA MEDICA DE DE OYOTUN - ESSALUD","LAMBAYEQUE","CHICLAYO","OYOTUN","140110","19","00","00","LAMBAYEQUE","NO PERTENECE A NINGUNA RED","NO PERTENECE A NINGUNA MICRORED","I-2"]
[null,{"$f":"VALUE(renipress[[#This Row],[Código Único]])","v":8905},"PRIVADO","00008905","LOPEZ LA ROSA TANIA","LIMA","LIMA","SANTA ANITA","150137","21","00","00","LIMA ESTE"," ","NO PERTENECE A NINGUNA MICRORED","Sin Categoría"]
[null,{"$f":"VALUE(renipress[[#This Row],[Código Único]])","v":8920},"PRIVADO","00008920","HEREDIA GARRIDO ELENA ZORAIDA","LIMA","LIMA","CHACLACAYO","150107","21","00","00","LIMA ESTE","NO PERTENECE A NINGUNA RED","NO PERTENECE A NINGUNA MICRORED","Sin Categoría"]
[null,{"$f":"VALUE(renipress[[#This Row],[Código Único]])","v":8926},"PRIVADO","00008926","CONSULTORIO DERMATOLOGO","AREQUIPA","AREQUIPA","AREQUIPA","040101","4","00","00","AREQUIPA"," ","NO PERTENECE A NINGUNA MICRORED","Sin Categoría"]
[null,{"$f":"VALUE(renipress[[#This Row],[Código Único]])","v":8937},"PRIVADO","00008937","CONSULTORIO MEDICO SAN JUAN BOSCO","UCAYALI","CORONEL PORTILLO","CALLERIA","250101","34","00","00","UCAYALI","NO PERTENECE A NINGUNA RED","NO PERTENECE A NINGUNA MICRORED","Sin Categoría"]
[null,{"$f":"VALUE(renipress[[#This Row],[Código Único]])","v":8955},"PRIVADO","00008955","MURGUIA VENTURA GUSTAVO MARTIN","LIMA","LIMA","SAN JUAN DE LURIGANCHO","150132","36","00","00","LIMA CENTRO"," ","NO PERTENECE A NINGUNA MICRORED","I-1"]
[null,{"$f":"VALUE(renipress[[#This Row],[Código Único]])","v":8966},"PRIVADO","00008966","CONSULTORIO MÉDICO","AREQUIPA","AREQUIPA","AREQUIPA","040101","4","00","00","AREQUIPA"," ","NO PERTENECE A NINGUNA MICRORED","Sin Categoría"]
[null,{"$f":"VALUE(renipress[[#This Row],[Código Único]])","v":8977},"PRIVADO","00008977","CONSULTORIO MEDICO OBSTETRICO Y LABORATORIO CLINICO EL MILAGRO DE NACER","MADRE DE DIOS","TAMBOPATA","TAMBOPATA","170101","25","00","00","MADRE DE DIOS"," ","NO PERTENECE A NINGUNA MICRORED","Sin Categoría"]
[null,{"$f":"VALUE(renipress[[#This Row],[Código Único]])","v":8990},"PRIVADO","00008990","SERVICIO TRASLADO DE PACIENTE","AREQUIPA","AREQUIPA","UCHUMAYO","040124","4","00","00","AREQUIPA"," ","NO PERTENECE A NINGUNA MICRORED","Sin Categoría"]
[null,{"$f":"VALUE(renipress[[#This Row],[Código Único]])","v":8998},"PRIVADO","00008998","PACHECO GALLEGOS WILLY SILVESTRE","LIMA","LIMA","SAN JUAN DE LURIGANCHO","150132","36","00","00","LIMA CENTRO"," ","NO PERTENECE A NINGUNA MICRORED","I-1"]
[null,{"$f":"VALUE(renipress[[#This Row],[Código Único]])","v":9007},"PRIVADO","00009007","SERVICIO DE APOYO DIAGNOSTICO Y TERAPÉUTICO QUE BRINDA TOMA DE MUESTRAS","AREQUIPA","AREQUIPA","CAYMA","040103","4","00","00","AREQUIPA","NO PERTENECE A NINGUNA RED","NO PERTENECE A NINGUNA MICRORED","Sin Categoría"]
[null,{"$f":"VALUE(renipress[[#This Row],[Código Único]])","v":9019},"PRIVADO","00009019","INSTITUCION PARA EL DESARROLLO PSICOPEDAGOGICO DEL NIÑO Y EL ADOLESCENTE LA LUZ DE UN ANGEL SRL","LIMA","LIMA","SURQUILLO","150141","36","00","00","LIMA CENTRO","NO PERTENECE A NINGUNA RED","NO PERTENECE A NINGUNA MICRORED","I-2"]
[null,{"$f":"VALUE(renipress[[#This Row],[Código Único]])","v":9036},"PRIVADO","00009036","CACERES GUTIERREZ DE MATTOS NORMA DORIS","LIMA","LIMA","SAN JUAN DE LURIGANCHO","150132","36","00","00","LIMA CENTRO"," ","NO PERTENECE A NINGUNA MICRORED","I-1"]
[null,{"$f":"VALUE(renipress[[#This Row],[Código Único]])","v":9049},"GOBIERNO REGIONAL","00009049","LA QUINUA","CAJAMARCA","CELENDIN","OXAMARCA","060308","7","04","02","CAJAMARCA","CELENDIN","SUCRE","I-1"]
[null,{"$f":"VALUE(renipress[[#This Row],[Código Único]])","v":9053},"ESSALUD","00009053","HOSPITAL II HUARAZ","ANCASH","HUARAZ","INDEPENDENCIA","020105","2","00","00","ANCASH","NO PERTENECE A NINGUNA RED","NO PERTENECE A NINGUNA MICRORED","Sin Categoría"]
[null,{"$f":"VALUE(renipress[[#This Row],[Código Único]])","v":9070},"ESSALUD","00009070","SANTA MARIA DE NIEVA","AMAZONAS","CONDORCANQUI","NIEVA","010401","1","00","00","AMAZONAS","NO PERTENECE A NINGUNA RED","NO PERTENECE A NINGUNA MICRORED","I-3"]
[null,{"$f":"VALUE(renipress[[#This Row],[Código Único]])","v":9077},"PRIVADO","00009077","POLICLINICO SAN JOSE","ICA","ICA","ICA","110101","15","00","00","ICA"," ","NO PERTENECE A NINGUNA MICRORED","I-3"]
[null,{"$f":"VALUE(renipress[[#This Row],[Código Único]])","v":9091},"PRIVADO","00009091","JORGE CENTENO HUAMAN & SERVICIOS MEDICOS E.I.R.L","LIMA","LIMA","SAN ISIDRO","150131","36","00","00","LIMA CENTRO"," ","NO PERTENECE A NINGUNA MICRORED","I-2"]
[null,{"$f":"VALUE(renipress[[#This Row],[Código Único]])","v":9105},"PRIVADO","00009105","ORAL  SALUD","LIMA","LIMA","LOS OLIVOS","150117","35","00","00","LIMA NORTE"," ","NO PERTENECE A NINGUNA MICRORED","I-1"]
[null,{"$f":"VALUE(renipress[[#This Row],[Código Único]])","v":9112},"PRIVADO","00009112","CLINICA DENTAL DENTIQUE","LIMA","LIMA","MIRAFLORES","150122","36","00","00","LIMA CENTRO"," ","NO PERTENECE A NINGUNA MICRORED","I-1"]
[null,{"$f":"VALUE(renipress[[#This Row],[Código Único]])","v":9122},"PRIVADO","00009122","CENTRO MEDICO SANTA ANA S.C.R.L.","HUANCAVELICA","HUANCAVELICA","HUANCAVELICA","090101","13","00","00","HUANCAVELICA"," ","NO PERTENECE A NINGUNA MICRORED","I-3"]
[null,{"$f":"VALUE(renipress[[#This Row],[Código Único]])","v":9141},"ESSALUD","00009141","CENTRO DE SALUD CON INTERNAMIENTO CASA GRANDE","LA LIBERTAD","ASCOPE","CASA GRANDE","130208","18","00","00","LA LIBERTAD","NO PERTENECE A NINGUNA RED","NO PERTENECE A NINGUNA MICRORED","I-4"]
[null,{"$f":"VALUE(renipress[[#This Row],[Código Único]])","v":9150},"PRIVADO","00009150","POLICLINICO","CALLAO","CALLAO","CALLAO","070101","8","00","00","CALLAO"," ","NO PERTENECE A NINGUNA MICRORED","I-3"]
[null,{"$f":"VALUE(renipress[[#This Row],[Código Único]])","v":9162},"PRIVADO","00009162","CONSULTORIO MEDICO","LIMA","LIMA","SAN MARTIN DE PORRES","150135","35","00","00","LIMA NORTE","NO PERTENECE A NINGUNA RED","NO PERTENECE A NINGUNA MICRORED","Sin Categoría"]
[null,{"$f":"VALUE(renipress[[#This Row],[Código Único]])","v":9167},"PRIVADO","00009167","CENTRO MEDICO SANTA ADELA SAC","LIMA","LIMA","SAN MIGUEL","150136","36","00","00","LIMA CENTRO"," "," ","I-3"]
[null,{"$f":"VALUE(renipress[[#This Row],[Código Único]])","v":9183},"PRIVADO","00009183","RESOMASA","LIMA","LIMA","SAN ISIDRO","150131","36","00","00","LIMA CENTRO"," "," ","Sin Categoría"]
[null,{"$f":"VALUE(renipress[[#This Row],[Código Único]])","v":9191},"GOBIERNO REGIONAL","00009191","PUESTO DE SALUD HABITH HUMANITY-PUNO","PUNO","PUNO","PUNO","210101","29","00","00","PUNO","NO PERTENECE A NINGUNA RED","NO PERTENECE A NINGUNA MICRORED","I-1"]
[null,{"$f":"VALUE(renipress[[#This Row],[Código Único]])","v":9204},"ESSALUD","00009204","CENTRO MEDICO HUARI","ANCASH","HUARI","HUARI","021001","2","00","00","ANCASH","NO PERTENECE A NINGUNA RED","NO PERTENECE A NINGUNA MICRORED","I-3"]
[null,{"$f":"VALUE(renipress[[#This Row],[Código Único]])","v":9219},"ESSALUD","00009219","YUNGUYO","PUNO","YUNGUYO","YUNGUYO","211301","29","00","00","PUNO","NO PERTENECE A NINGUNA RED","NO PERTENECE A NINGUNA MICRORED","I-3"]
[null,{"$f":"VALUE(renipress[[#This Row],[Código Único]])","v":9233},"PRIVADO","00009233","SERVICIOS ESPECIALIZADOS SAN CAMILO S.A.C.","LIMA","LIMA","MIRAFLORES","150122","36","00","00","LIMA CENTRO"," ","NO PERTENECE A NINGUNA MICRORED","Sin Categoría"]
[null,{"$f":"VALUE(renipress[[#This Row],[Código Único]])","v":9236},"PRIVADO","00009236","SALAZAR FUERTES JESUS ABEL","LIMA","LIMA","ATE","150103","21","00","00","LIMA ESTE"," ","NO PERTENECE A NINGUNA MICRORED","Sin Categoría"]
[null,{"$f":"VALUE(renipress[[#This Row],[Código Único]])","v":9254},"PRIVADO","00009254","GALLO RODRIGUEZ MARIA KAREN","LIMA","LIMA","ATE","150103","21","00","00","LIMA ESTE"," ","NO PERTENECE A NINGUNA MICRORED","I-2"]
[null,{"$f":"VALUE(renipress[[#This Row],[Código Único]])","v":9264},"PRIVADO","00009264","POLICLINICO","AREQUIPA","AREQUIPA","YURA","040128","4","00","00","AREQUIPA"," ","NO PERTENECE A NINGUNA MICRORED","Sin Categoría"]
[null,{"$f":"VALUE(renipress[[#This Row],[Código Único]])","v":9275},"PRIVADO","00009275","CENTRO MEDICO RIVERALAB","ANCASH","SANTA","NUEVO CHIMBOTE","021809","2","00","00","ANCASH","NO PERTENECE A NINGUNA RED","NO PERTENECE A NINGUNA MICRORED","I-3"]
[null,{"$f":"VALUE(renipress[[#This Row],[Código Único]])","v":9288},"PRIVADO","00009288","CENTRO DE INVESTIGACION Y ATENCION CARDIOVASCULAR SOCIEDAD ANONIMA CERRADA","LIMA","LIMA","SAN ISIDRO","150131","36","00","00","LIMA CENTRO"," ","NO PERTENECE A NINGUNA MICRORED","II-1"]
[null,{"$f":"VALUE(renipress[[#This Row],[Código Único]])","v":9296},"SANIDAD DE LA POLICIA NACIONAL DEL PERU","00009296","POLICLINICO PNP CAJAMARCA","CAJAMARCA","CAJAMARCA","CAJAMARCA","060101","7","00","00","CAJAMARCA","NO PERTENECE A NINGUNA RED","NO PERTENECE A NINGUNA MICRORED","I-4"]
[null,{"$f":"VALUE(renipress[[#This Row],[Código Único]])","v":9305},"PRIVADO","00009305","SYNLAB PERU S.A.C","LAMBAYEQUE","CHICLAYO","CHICLAYO","140101","19","00","00","LAMBAYEQUE","NO PERTENECE A NINGUNA RED","NO PERTENECE A NINGUNA MICRORED","Sin Categoría"]
[null,{"$f":"VALUE(renipress[[#This Row],[Código Único]])","v":9325},"PRIVADO","00009325","CENTRO DE DIALISIS JESUS MARIA","LIMA","LIMA","JESUS MARIA","150113","36","00","00","LIMA CENTRO"," ","NO PERTENECE A NINGUNA MICRORED","Sin Categoría"]
[null,{"$f":"VALUE(renipress[[#This Row],[Código Único]])","v":9333},"PRIVADO","00009333","INSTITUTO DE MEDICINA HOLISTICA Y DESARROLLO HUMANO","LIMA","LIMA","SAN ISIDRO","150131","36","00","00","LIMA CENTRO"," ","NO PERTENECE A NINGUNA MICRORED","Sin Categoría"]
[null,{"$f":"VALUE(renipress[[#This Row],[Código Único]])","v":9346},"PRIVADO","00009346","CORPORACION MISION SALUD SAC","LIMA","LIMA","ATE","150103","21","00","00","LIMA ESTE","NO PERTENECE A NINGUNA RED","NO PERTENECE A NINGUNA MICRORED","Sin Categoría"]
[null,{"$f":"VALUE(renipress[[#This Row],[Código Único]])","v":9350},"PRIVADO","00009350","CONSULTORIO DENTAL","MADRE DE DIOS","TAMBOPATA","TAMBOPATA","170101","25","00","00","MADRE DE DIOS"," ","NO PERTENECE A NINGUNA MICRORED","Sin Categoría"]
[null,{"$f":"VALUE(renipress[[#This Row],[Código Único]])","v":9367},"PRIVADO","00009367","CONSULTORIO ODONTOLOGICO VIRGEN DEL CARMEN","LIMA","LIMA","SANTA ANITA","150137","21","00","00","LIMA ESTE"," ","NO PERTENECE A NINGUNA MICRORED","I-1"]
[null,{"$f":"VALUE(renipress[[#This Row],[Código Único]])","v":9374},"PRIVADO","00009374","CENTRO MEDICO MONTECARMELO","AREQUIPA","AREQUIPA","AREQUIPA","040101","4","00","00","AREQUIPA","NO PERTENECE A NINGUNA RED","NO PERTENECE A NINGUNA MICRORED","II-1"]
[null,{"$f":"VALUE(renipress[[#This Row],[Código Único]])","v":9388},"PRIVADO","00009388","CLINICA ODONTOLOGICA AYBAR","HUANCAVELICA","HUANCAVELICA","HUANCAVELICA","090101","13","00","00","HUANCAVELICA"," ","NO PERTENECE A NINGUNA MICRORED","Sin Categoría"]
[null,{"$f":"VALUE(renipress[[#This Row],[Código Único]])","v":9402},"PRIVADO","00009402","ALFONSO ALEJANDRO MORON ORMEÑO","LIMA","LIMA","JESUS MARIA","150113","36","00","00","LIMA CENTRO"," ","NO PERTENECE A NINGUNA MICRORED","I-2"]
[null,{"$f":"VALUE(renipress[[#This Row],[Código Único]])","v":9409},"PRIVADO","00009409","CLINICA RICARDO PALMA","LIMA","LIMA","SAN ISIDRO","150131","36","00","00","LIMA CENTRO"," ","NO PERTENECE A NINGUNA MICRORED","III-1"]
[null,{"$f":"VALUE(renipress[[#This Row],[Código Único]])","v":9419},"PRIVADO","00009419","CONSULTORIO MEDICO SONOVIDA","LAMBAYEQUE","CHICLAYO","CHICLAYO","140101","19","00","00","LAMBAYEQUE"," ","NO PERTENECE A NINGUNA MICRORED","Sin Categoría"]
[null,{"$f":"VALUE(renipress[[#This Row],[Código Único]])","v":9438},"PRIVADO","00009438","CONSULTORIO MEDICO CESAR OLIVERA","LIMA","LIMA","SAN BORJA","150130","36","00","00","LIMA CENTRO"," ","NO PERTENECE A NINGUNA MICRORED","I-2"]
[null,{"$f":"VALUE(renipress[[#This Row],[Código Único]])","v":9447},"PRIVADO","00009447","MEDICENTRO ARCANGEL - HUANCAYO 2","JUNIN","HUANCAYO","HUANCAYO","120101","17","00","00","JUNIN"," ","NO PERTENECE A NINGUNA MICRORED","I-2"]
[null,{"$f":"VALUE(renipress[[#This Row],[Código Único]])","v":9459},"GOBIERNO REGIONAL","00009459","HUANCHAN","HUANUCO","HUANUCO","YACUS","100112","14","01","25","HUANUCO","HUANUCO","YACUS","I-1"]
[null,{"$f":"VALUE(renipress[[#This Row],[Código Único]])","v":9471},"PRIVADO","00009471","BOTICA MEDIFA I","HUANCAVELICA","HUANCAVELICA","HUANCAVELICA","090101","13","00","00","HUANCAVELICA","NO PERTENECE A NINGUNA RED","NO PERTENECE A NINGUNA MICRORED","Sin Categoría"]
[null,{"$f":"VALUE(renipress[[#This Row],[Código Único]])","v":9480},"PRIVADO","00009480","MEDLAB CANTELLA COLICHON S.A.C.","LIMA","LIMA","JESUS MARIA","150113","36","00","00","LIMA CENTRO"," ","NO PERTENECE A NINGUNA MICRORED","Sin Categoría"]
[null,{"$f":"VALUE(renipress[[#This Row],[Código Único]])","v":9488},"PRIVADO","00009488","INSTITUTO DEL RIÑÓN E.I.R.L","LAMBAYEQUE","CHICLAYO","CHICLAYO","140101","19","00","00","LAMBAYEQUE"," ","NO PERTENECE A NINGUNA MICRORED","Sin Categoría"]
[null,{"$f":"VALUE(renipress[[#This Row],[Código Único]])","v":9501},"GOBIERNO REGIONAL","00009501","PUESTO DE SALUD SAN PEDRO DE ÑAHUINCUCHO","HUANCAVELICA","ACOBAMBA","ANTA","090203","13","02","02","HUANCAVELICA","ACOBAMBA","PAUCARA                                                    ","I-1"]
[null,{"$f":"VALUE(renipress[[#This Row],[Código Único]])","v":9516},"GOBIERNO REGIONAL","00009516","PUESTO DE SALUD IGUARA","PUNO","SANDIA","SANDIA","211201","29","03","01","PUNO","SANDIA","SANDIA","I-1"]
[null,{"$f":"VALUE(renipress[[#This Row],[Código Único]])","v":9530},"PRIVADO","00009530","CONSULTORIO MEDICO VIRGEN DEL CARMEN","LIMA","LIMA","CHORRILLOS","150108","23","00","00","LIMA SUR"," ","NO PERTENECE A NINGUNA MICRORED","I-2"]
[null,{"$f":"VALUE(renipress[[#This Row],[Código Único]])","v":9533},"PRIVADO","00009533","CLINICA DENTAL SONRISAS","LIMA","LIMA","SAN JUAN DE MIRAFLORES","150133","23","00","00","LIMA SUR"," ","NO PERTENECE A NINGUNA MICRORED","I-1"]
[null,{"$f":"VALUE(renipress[[#This Row],[Código Único]])","v":9551},"PRIVADO","00009551","PILAR DEL ROSARIO UBILLUS TAMBINI","CALLAO","CALLAO","LA PERLA","070104","8","00","00","CALLAO"," ","NO PERTENECE A NINGUNA MICRORED","I-1"]
[null,{"$f":"VALUE(renipress[[#This Row],[Código Único]])","v":9561},"PRIVADO","00009561","HOLISTIKA S.A.C.","LIMA","LIMA","MIRAFLORES","150122","36","00","00","LIMA CENTRO"," ","NO PERTENECE A NINGUNA MICRORED","Sin Categoría"]
[null,{"$f":"VALUE(renipress[[#This Row],[Código Único]])","v":9572},"PRIVADO","00009572","SONRIE +","LIMA","LIMA","SANTIAGO DE SURCO","150140","23","00","00","LIMA SUR"," ","NO PERTENECE A NINGUNA MICRORED","I-1"]
[null,{"$f":"VALUE(renipress[[#This Row],[Código Único]])","v":9585},"PRIVADO","00009585","DENTAL HELTH","LIMA","LIMA","LURIN","150119","23","00","00","LIMA SUR"," ","NO PERTENECE A NINGUNA MICRORED","I-1"]
[null,{"$f":"VALUE(renipress[[#This Row],[Código Único]])","v":9593},"PRIVADO","00009593","CLINICA RESURRECCION S.A.","LIMA","LIMA","CHORRILLOS","150108","23","00","00","LIMA SUR"," ","NO PERTENECE A NINGUNA MICRORED","Sin Categoría"]
[null,{"$f":"VALUE(renipress[[#This Row],[Código Único]])","v":9602},"PRIVADO","00009602","MEDEX","LIMA","LIMA","SAN ISIDRO","150131","36","00","00","LIMA CENTRO","NO PERTENECE A NINGUNA RED","NO PERTENECE A NINGUNA MICRORED","I-3"]
[null,{"$f":"VALUE(renipress[[#This Row],[Código Único]])","v":9622},"PRIVADO","00009622","CONSULTORIO OBSTETRICO","LIMA","LIMA","VILLA MARIA DEL TRIUNFO","150143","23","00","00","LIMA SUR"," ","NO PERTENECE A NINGUNA MICRORED","I-1"]
[null,{"$f":"VALUE(renipress[[#This Row],[Código Único]])","v":9630},"PRIVADO","00009630","DIVINO NIÑO JESUS","ICA","PISCO","PISCO","110501","15","00","00","ICA","NO PERTENECE A NINGUNA RED","NO PERTENECE A NINGUNA MICRORED","I-3"]
[null,{"$f":"VALUE(renipress[[#This Row],[Código Único]])","v":9643},"PRIVADO","00009643","MARIA DEL ROSARIO RAMIREZ GALVEZ","LIMA","LIMA","SAN BORJA","150130","36","00","00","LIMA CENTRO"," ","NO PERTENECE A NINGUNA MICRORED","I-2"]
[null,{"$f":"VALUE(renipress[[#This Row],[Código Único]])","v":9658},"PRIVADO","00009658","CONSULTORIO INTEGRAL","LIMA","LIMA","SAN BORJA","150130","36","00","00","LIMA CENTRO"," ","NO PERTENECE A NINGUNA MICRORED","I-1"]
[null,{"$f":"VALUE(renipress[[#This Row],[Código Único]])","v":9664},"PRIVADO","00009664","DR. CASTILLO","ICA","ICA","ICA","110101","15","00","00","ICA"," ","NO PERTENECE A NINGUNA MICRORED","I-2"]
[null,{"$f":"VALUE(renipress[[#This Row],[Código Único]])","v":9671},"GOBIERNO REGIONAL","00009671","PUEBLO NUEVO","AMAZONAS","LUYA","PISUQUIA","010514","1","01","08","AMAZONAS","CHACHAPOYAS","TINGO","I-1"]
[null,{"$f":"VALUE(renipress[[#This Row],[Código Único]])","v":9685},"PRIVADO","00009685","CLINICA PUNO","PUNO","PUNO","PUNO","210101","29","00","00","PUNO","NO PERTENECE A NINGUNA RED","NO PERTENECE A NINGUNA MICRORED","II-1"]
[null,{"$f":"VALUE(renipress[[#This Row],[Código Único]])","v":9699},"GOBIERNO REGIONAL","00009699","NUEVO VERSALLES","LORETO","MAYNAS","PUNCHANA","160108","24","05","04","LORETO","MAYNAS CIUDAD","PUNCHANA","I-1"]
[null,{"$f":"VALUE(renipress[[#This Row],[Código Único]])","v":9714},"GOBIERNO REGIONAL","00009714","CCOLLPA","HUANCAVELICA","HUANCAVELICA","MANTA","090110","13","01","06","HUANCAVELICA","HUANCAVELICA","MOYA","I-1"]
[null,{"$f":"VALUE(renipress[[#This Row],[Código Único]])","v":9727},"GOBIERNO REGIONAL","00009727","PUCALPILLO","LORETO","ALTO AMAZONAS","BALSAPUERTO","160202","24","04","01","LORETO","ALTO AMAZONAS  (Inactivo)","HUALLAGA","I-1"]
[null,{"$f":"VALUE(renipress[[#This Row],[Código Único]])","v":9735},"PRIVADO","00009735","CONSULTORIO MEDICO","LIMA","LIMA","VILLA EL SALVADOR","150142","23","00","00","LIMA SUR"," ","NO PERTENECE A NINGUNA MICRORED","I-2"]
[null,{"$f":"VALUE(renipress[[#This Row],[Código Único]])","v":9744},"PRIVADO","00009744","SERVICIOS DE SALUD 25 HORAS S.R.L.","LIMA","LIMA","VILLA EL SALVADOR","150142","23","00","00","LIMA SUR","NO PERTENECE A NINGUNA RED","NO PERTENECE A NINGUNA MICRORED","I-2"]
[null,{"$f":"VALUE(renipress[[#This Row],[Código Único]])","v":9756},"ESSALUD","00009756","POSTA MEDICA DE HUARON","PASCO","PASCO","HUAYLLAY","190104","27","00","00","PASCO","NO PERTENECE A NINGUNA RED","NO PERTENECE A NINGUNA MICRORED","I-2"]
[null,{"$f":"VALUE(renipress[[#This Row],[Código Único]])","v":9768},"PRIVADO","00009768","CONSULTORIO DENTAL SONRYDENT","LIMA","LIMA","SANTA ANITA","150137","21","00","00","LIMA ESTE"," ","NO PERTENECE A NINGUNA MICRORED","I-1"]
[null,{"$f":"VALUE(renipress[[#This Row],[Código Único]])","v":9777},"PRIVADO","00009777","CLINICA DENTAL BONZANO","LIMA","LIMA","SAN MARTIN DE PORRES","150135","35","00","00","LIMA NORTE"," ","NO PERTENECE A NINGUNA MICRORED","I-1"]
[null,{"$f":"VALUE(renipress[[#This Row],[Código Único]])","v":9796},"PRIVADO","00009796","COZ TERRAZAS EDGAR OMAR","LIMA","LIMA","SAN JUAN DE MIRAFLORES","150133","23","00","00","LIMA SUR"," ","NO PERTENECE A NINGUNA MICRORED","I-1"]
[null,{"$f":"VALUE(renipress[[#This Row],[Código Único]])","v":9798},"PRIVADO","00009798","CABRERA LIÑAN JESUS","LIMA","LIMA","MIRAFLORES","150122","36","00","00","LIMA CENTRO"," ","NO PERTENECE A NINGUNA MICRORED","I-1"]
[null,{"$f":"VALUE(renipress[[#This Row],[Código Único]])","v":9813},"PRIVADO","00009813","ENTIDAD MEDICA FINANCIERA S.R.L","LIMA","LIMA","MAGDALENA DEL MAR","150120","36","00","00","LIMA CENTRO"," ","NO PERTENECE A NINGUNA MICRORED","I-3"]
[null,{"$f":"VALUE(renipress[[#This Row],[Código Único]])","v":9827},"PRIVADO","00009827","CENTRO MEDICO CLINICA RICARDO PALMA SEDE PLAZA LIMA SUR","LIMA","LIMA","CHORRILLOS","150108","23","00","00","LIMA SUR","NO PERTENECE A NINGUNA RED","NO PERTENECE A NINGUNA MICRORED","I-3"]
[null,{"$f":"VALUE(renipress[[#This Row],[Código Único]])","v":9841},"PRIVADO","00009841","POLICLINICO DIVINO NIÑO JESUS EIRL","LIMA","LIMA","LIMA","150101","36","00","00","LIMA CENTRO"," ","NO PERTENECE A NINGUNA MICRORED","I-3"]
[null,{"$f":"VALUE(renipress[[#This Row],[Código Único]])","v":9848},"PRIVADO","00009848","DERMAESTETIC","LIMA","LIMA","MIRAFLORES","150122","36","00","00","LIMA CENTRO"," ","NO PERTENECE A NINGUNA MICRORED","Sin Categoría"]
[null,{"$f":"VALUE(renipress[[#This Row],[Código Único]])","v":9865},"PRIVADO","00009865","MOLIDENTS","LIMA","LIMA","SAN JUAN DE MIRAFLORES","150133","23","00","00","LIMA SUR"," ","NO PERTENECE A NINGUNA MICRORED","I-1"]
[null,{"$f":"VALUE(renipress[[#This Row],[Código Único]])","v":9869},"PRIVADO","00009869","CONSULTORIO MEDICO DENTAL ESPECIALIZADO","LIMA","LIMA","SAN JUAN DE MIRAFLORES","150133","23","00","00","LIMA SUR"," ","NO PERTENECE A NINGUNA MICRORED","I-2"]
[null,{"$f":"VALUE(renipress[[#This Row],[Código Único]])","v":9882},"PRIVADO","00009882","NELLY ROXANA NAKAOKA BEJAR","LIMA","LIMA","PUEBLO LIBRE","150121","36","00","00","LIMA CENTRO"," ","NO PERTENECE A NINGUNA MICRORED","Sin Categoría"]
[null,{"$f":"VALUE(renipress[[#This Row],[Código Único]])","v":9890},"PRIVADO","00009890","CONSULTORIO DERMATOLOGICO DEL NORTE","LA LIBERTAD","TRUJILLO","TRUJILLO","130101","18","00","00","LA LIBERTAD"," ","NO PERTENECE A NINGUNA MICRORED","I-2"]
[null,{"$f":"VALUE(renipress[[#This Row],[Código Único]])","v":9910},"PRIVADO","00009910","INSTITUTO INTEGRAL VIDA PLENA","LIMA","LIMA","PUEBLO LIBRE","150121","36","00","00","LIMA CENTRO"," ","NO PERTENECE A NINGUNA MICRORED","Sin Categoría"]
[null,{"$f":"VALUE(renipress[[#This Row],[Código Único]])","v":9919},"MUNICIPALIDAD PROVINCIAL","00009919","HOSPITAL CHALACO I","CALLAO","CALLAO","CALLAO","070101","8","00","00","CALLAO","NO PERTENECE A NINGUNA RED","NO PERTENECE A NINGUNA MICRORED","I-3"]
[null,{"$f":"VALUE(renipress[[#This Row],[Código Único]])","v":9927},"PRIVADO","00009927","CONSULTORIOS TU SALUD","LIMA","LIMA","SAN JUAN DE LURIGANCHO","150132","36","00","00","LIMA CENTRO"," ","NO PERTENECE A NINGUNA MICRORED","I-2"]
[null,{"$f":"VALUE(renipress[[#This Row],[Código Único]])","v":9940},"PRIVADO","00009940","CENTRO MEDICO MEDICA SUR","PUNO","SAN ROMAN","JULIACA","211101","29","00","00","PUNO"," ","NO PERTENECE A NINGUNA MICRORED","I-4"]
[null,{"$f":"VALUE(renipress[[#This Row],[Código Único]])","v":9955},"PRIVADO","00009955","PAES DENT","LIMA","LIMA","SAN MARTIN DE PORRES","150135","35","00","00","LIMA NORTE"," ","NO PERTENECE A NINGUNA MICRORED","I-1"]
[null,{"$f":"VALUE(renipress[[#This Row],[Código Único]])","v":9961},"SANIDAD DE LA POLICIA NACIONAL DEL PERU","00009961","POLICLINICO PNP-HUARAZ","ANCASH","HUARAZ","HUARAZ","020101","2","00","00","ANCASH","NO PERTENECE A NINGUNA RED","NO PERTENECE A NINGUNA MICRORED","I-4"]
[null,{"$f":"VALUE(renipress[[#This Row],[Código Único]])","v":9970},"PRIVADO","00009970","CLINICA RICARDO PALMA","CAJAMARCA","JAEN","JAEN","060801","7","00","00","CAJAMARCA","NO PERTENECE A NINGUNA RED","NO PERTENECE A NINGUNA MICRORED","Sin Categoría"]
[null,{"$f":"VALUE(renipress[[#This Row],[Código Único]])","v":9990},"PRIVADO","00009990","CLÍNICA EMPRESARIAL PILARES SAC","LIMA","LIMA","SAN JUAN DE MIRAFLORES","150133","23","00","00","LIMA SUR"," ","NO PERTENECE A NINGUNA MICRORED","I-2"]
[null,{"$f":"VALUE(renipress[[#This Row],[Código Único]])","v":10003},"PRIVADO","00010003","MEDTRAUMA EIRL","LAMBAYEQUE","CHICLAYO","CHICLAYO","140101","19","00","00","LAMBAYEQUE","NO PERTENECE A NINGUNA RED","NO PERTENECE A NINGUNA MICRORED","I-2"]
[null,{"$f":"VALUE(renipress[[#This Row],[Código Único]])","v":10014},"PRIVADO","00010014","DR. VICTOR PAREDES","CUSCO","CUSCO","CUSCO","080101","11","00","00","CUSCO"," ","NO PERTENECE A NINGUNA MICRORED","II-E"]
[null,{"$f":"VALUE(renipress[[#This Row],[Código Único]])","v":10024},"PRIVADO","00010024","CIRUCORR SAC","LIMA","LIMA","MIRAFLORES","150122","36","00","00","LIMA CENTRO"," ","NO PERTENECE A NINGUNA MICRORED","I-2"]
[null,{"$f":"VALUE(renipress[[#This Row],[Código Único]])","v":10031},"PRIVADO","00010031","CONSULTORIO  DE OTORRINOLARINGOLOGIA (ORL)","JUNIN","HUANCAYO","EL TAMBO","120114","17","00","00","JUNIN","NO PERTENECE A NINGUNA RED","NO PERTENECE A NINGUNA MICRORED","I-2"]
[null,{"$f":"VALUE(renipress[[#This Row],[Código Único]])","v":10045},"PRIVADO","00010045","CONSULTORIOS UNIDENTAL","LIMA","LIMA","PUEBLO LIBRE","150121","36","00","00","LIMA CENTRO","NO PERTENECE A NINGUNA RED","NO PERTENECE A NINGUNA MICRORED","I-1"]
[null,{"$f":"VALUE(renipress[[#This Row],[Código Único]])","v":10059},"PRIVADO","00010059","IMPLANTODONT","LIMA","LIMA","MIRAFLORES","150122","36","00","00","LIMA CENTRO"," ","NO PERTENECE A NINGUNA MICRORED","I-1"]
[null,{"$f":"VALUE(renipress[[#This Row],[Código Único]])","v":10062},"ESSALUD","00010062","QUILLABAMBA - ESSALUD","CUSCO","LA CONVENCION","SANTA ANA","080901","11","00","00","CUSCO","NO PERTENECE A NINGUNA RED","NO PERTENECE A NINGUNA MICRORED","I-4"]
[null,{"$f":"VALUE(renipress[[#This Row],[Código Único]])","v":10076},"ESSALUD","00010076","ACOMAYO - ESSALUD","CUSCO","ACOMAYO","ACOMAYO","080201","11","00","00","CUSCO","NO PERTENECE A NINGUNA RED","NO PERTENECE A NINGUNA MICRORED","I-2"]
[null,{"$f":"VALUE(renipress[[#This Row],[Código Único]])","v":10095},"GOBIERNO REGIONAL","00010095","ANCOL CHICO","LAMBAYEQUE","LAMBAYEQUE","OLMOS","140308","19","03","10","LAMBAYEQUE","LAMBAYEQUE","OLMOS","I-1"]
[null,{"$f":"VALUE(renipress[[#This Row],[Código Único]])","v":10100},"PRIVADO","00010100","ASEPSIS PERU S.R.L.","LIMA","LIMA","JESUS MARIA","150113","36","00","00","LIMA CENTRO"," ","NO PERTENECE A NINGUNA MICRORED","Sin Categoría"]
[null,{"$f":"VALUE(renipress[[#This Row],[Código Único]])","v":10116},"PRIVADO","00010116","CASA DE LA JUVENTUD","CAJAMARCA","CAJAMARCA","CAJAMARCA","060101","7","00","00","CAJAMARCA"," ","NO PERTENECE A NINGUNA MICRORED","Sin Categoría"]
[null,{"$f":"VALUE(renipress[[#This Row],[Código Único]])","v":10129},"PRIVADO","00010129","CLINICA DEL TRABAJADOR S.A.C.","LIMA","LIMA","SAN ISIDRO","150131","36","00","00","LIMA CENTRO"," ","NO PERTENECE A NINGUNA MICRORED","I-3"]
[null,{"$f":"VALUE(renipress[[#This Row],[Código Único]])","v":10138},"PRIVADO","00010138","ORTHODENT","CALLAO","CALLAO","VENTANILLA","070106","8","00","00","CALLAO"," ","NO PERTENECE A NINGUNA MICRORED","Sin Categoría"]
[null,{"$f":"VALUE(renipress[[#This Row],[Código Único]])","v":10146},"PRIVADO","00010146","ESTHETICDENT SOCIEDAD ANONIMA CERRADA","LIMA","LIMA","MIRAFLORES","150122","36","00","00","LIMA CENTRO"," ","NO PERTENECE A NINGUNA MICRORED","I-1"]
[null,{"$f":"VALUE(renipress[[#This Row],[Código Único]])","v":10155},"PRIVADO","00010155","ALBIS S.A.","LIMA","LIMA","LIMA","150101","36","00","00","LIMA CENTRO","NO PERTENECE A NINGUNA RED","NO PERTENECE A NINGUNA MICRORED","I-3"]
[null,{"$f":"VALUE(renipress[[#This Row],[Código Único]])","v":10174},"PRIVADO","00010174","CENTRO ODONTOLÓGICO SANTA APOLINARIA","LIMA","LIMA","SAN LUIS","150134","36","00","00","LIMA CENTRO"," ","NO PERTENECE A NINGUNA MICRORED","I-1"]
[null,{"$f":"VALUE(renipress[[#This Row],[Código Único]])","v":10190},"ESSALUD","00010190","CENTRO  DE    ATENCION PRIMARIA  III  METROPOLITANO DE TACNA","TACNA","TACNA","TACNA","230101","32","01","00","TACNA","TACNA"," ","I-3"]
[null,{"$f":"VALUE(renipress[[#This Row],[Código Único]])","v":10193},"PRIVADO","00010193","DR. ROALD DERMATOLOGIA - ESTÉTICA","JUNIN","HUANCAYO","HUANCAYO","120101","17","00","00","JUNIN"," ","NO PERTENECE A NINGUNA MICRORED","I-2"]
[null,{"$f":"VALUE(renipress[[#This Row],[Código Único]])","v":10211},"PRIVADO","00010211","TOPSA PRODUCTOS OPTICOS S.A.","LIMA","LIMA","MIRAFLORES","150122","36","00","00","LIMA CENTRO"," ","NO PERTENECE A NINGUNA MICRORED","Sin Categoría"]
[null,{"$f":"VALUE(renipress[[#This Row],[Código Único]])","v":10217},"PRIVADO","00010217","DEISY EVELIN MENDOZA VARGAS","CUSCO","CUSCO","CUSCO","080101","11","00","00","CUSCO"," ","NO PERTENECE A NINGUNA MICRORED","Sin Categoría"]
[null,{"$f":"VALUE(renipress[[#This Row],[Código Único]])","v":10232},"PRIVADO","00010232","CONSULTORIO MEDICO","LIMA","LIMA","SANTIAGO DE SURCO","150140","23","00","00","LIMA SUR"," ","NO PERTENECE A NINGUNA MICRORED","I-2"]
[null,{"$f":"VALUE(renipress[[#This Row],[Código Único]])","v":10245},"PRIVADO","00010245","CENTRO ODONTOLOGICO CALIDADENT","PUNO","PUNO","PUNO","210101","29","00","00","PUNO"," ","NO PERTENECE A NINGUNA MICRORED","Sin Categoría"]
[null,{"$f":"VALUE(renipress[[#This Row],[Código Único]])","v":10249},"GOBIERNO REGIONAL","00010249","LABORATORIO REFERENCIAL","LA LIBERTAD","TRUJILLO","TRUJILLO","130101","18","00","00","LA LIBERTAD","NO PERTENECE A NINGUNA RED","NO PERTENECE A NINGUNA MICRORED","Sin Categoría"]
[null,{"$f":"VALUE(renipress[[#This Row],[Código Único]])","v":10262},"PRIVADO","00010262","LABORATORIO ROE S.A.","LIMA","LIMA","MIRAFLORES","150122","36","00","00","LIMA CENTRO"," ","NO PERTENECE A NINGUNA MICRORED","Sin Categoría"]
[null,{"$f":"VALUE(renipress[[#This Row],[Código Único]])","v":10282},"PRIVADO","00010282","LAZON MANSILLA DAVID","LIMA","LIMA","SAN JUAN DE LURIGANCHO","150132","36","00","00","LIMA CENTRO"," ","NO PERTENECE A NINGUNA MICRORED","Sin Categoría"]
[null,{"$f":"VALUE(renipress[[#This Row],[Código Único]])","v":10290},"PRIVADO","00010290","BENDEZU BENDEZU CARLOS GUSTAVO","LIMA","LIMA","SAN JUAN DE LURIGANCHO","150132","36","00","00","LIMA CENTRO"," ","NO PERTENECE A NINGUNA MICRORED","Sin Categoría"]
[null,{"$f":"VALUE(renipress[[#This Row],[Código Único]])","v":10303},"PRIVADO","00010303","CENTRO ESPECIALIZADO EN FISIOTERAPIA Y REHABILITACION INTEGRAL EIRL","LIMA","LIMA","SAN JUAN DE LURIGANCHO","150132","36","00","00","LIMA CENTRO"," ","NO PERTENECE A NINGUNA MICRORED","Sin Categoría"]
[null,{"$f":"VALUE(renipress[[#This Row],[Código Único]])","v":10314},"PRIVADO","00010314","CLINICA SAN MIGUEL ARCANGEL SAC","LIMA","LIMA","SAN JUAN DE LURIGANCHO","150132","36","00","00","LIMA CENTRO"," ","NO PERTENECE A NINGUNA MICRORED","I-1"]
[null,{"$f":"VALUE(renipress[[#This Row],[Código Único]])","v":10324},"PRIVADO","00010324","OSORES GOZAR RICHARD CHARLIE","LIMA","LIMA","ATE","150103","21","00","00","LIMA ESTE","NO PERTENECE A NINGUNA RED","NO PERTENECE A NINGUNA MICRORED","Sin Categoría"]
[null,{"$f":"VALUE(renipress[[#This Row],[Código Único]])","v":10331},"PRIVADO","00010331","MOLK DENT","LIMA","LIMA","SAN LUIS","150134","36","00","00","LIMA CENTRO"," ","NO PERTENECE A NINGUNA MICRORED","I-1"]
[null,{"$f":"VALUE(renipress[[#This Row],[Código Único]])","v":10341},"PRIVADO","00010341","CHOQUEHUANCA FLORES SANTIAGO BERNARDINO","LIMA","LIMA","SAN JUAN DE LURIGANCHO","150132","36","00","00","LIMA CENTRO"," ","NO PERTENECE A NINGUNA MICRORED","I-1"]
[null,{"$f":"VALUE(renipress[[#This Row],[Código Único]])","v":10359},"PRIVADO","00010359","CENTRO ODONTOLOGICO INTEGRAL SAC","ANCASH","HUARI","SAN MARCOS","021014","2","00","00","ANCASH"," ","NO PERTENECE A NINGUNA MICRORED","I-1"]
[null,{"$f":"VALUE(renipress[[#This Row],[Código Único]])","v":10374},"ESSALUD","00010374","CENTRO DE ATENCION PRIMARIA II CHANCAY","LIMA","HUARAL","CHANCAY","150605","22","00","00","LIMA","NO PERTENECE A NINGUNA RED","NO PERTENECE A NINGUNA MICRORED","I-3"]
[null,{"$f":"VALUE(renipress[[#This Row],[Código Único]])","v":10377},"PRIVADO","00010377","PEDRO ANTONIO LENGUA YONZ","ICA","ICA","ICA","110101","15","00","00","ICA","NO PERTENECE A NINGUNA RED","NO PERTENECE A NINGUNA MICRORED","I-2"]
[null,{"$f":"VALUE(renipress[[#This Row],[Código Único]])","v":10396},"PRIVADO","00010396","POLICLINICO SALAMANCA","LIMA","LIMA","ATE","150103","21","00","00","LIMA ESTE"," ","NO PERTENECE A NINGUNA MICRORED","I-3"]
[null,{"$f":"VALUE(renipress[[#This Row],[Código Único]])","v":10401},"PRIVADO","00010401","CESAR MORILLAS","LIMA","LIMA","SANTIAGO DE SURCO","150140","23","00","00","LIMA SUR"," ","NO PERTENECE A NINGUNA MICRORED","I-2"]
[null,{"$f":"VALUE(renipress[[#This Row],[Código Único]])","v":10417},"PRIVADO","00010417","VOLVER A LA VIDA (ASOCIACION)","LIMA","LIMA","LURIGANCHO","150118","21","00","00","LIMA ESTE"," ","NO PERTENECE A NINGUNA MICRORED","Sin Categoría"]
[null,{"$f":"VALUE(renipress[[#This Row],[Código Único]])","v":10429},"ESSALUD","00010429","NASCA","ICA","NAZCA","VISTA ALEGRE","110305","15","00","00","ICA","NO PERTENECE A NINGUNA RED","NO PERTENECE A NINGUNA MICRORED","I-3"]
[null,{"$f":"VALUE(renipress[[#This Row],[Código Único]])","v":10438},"PRIVADO","00010438","POLICLINICO PARROQUIAL SAN BENITO","LIMA","LIMA","SAN JUAN DE LURIGANCHO","150132","36","00","00","LIMA CENTRO"," ","NO PERTENECE A NINGUNA MICRORED","I-3"]
[null,{"$f":"VALUE(renipress[[#This Row],[Código Único]])","v":10446},"PRIVADO","00010446","SUIZA LAB SAC","LIMA","LIMA","BREÑA","150105","36","00","00","LIMA CENTRO"," ","NO PERTENECE A NINGUNA MICRORED","Sin Categoría"]
[null,{"$f":"VALUE(renipress[[#This Row],[Código Único]])","v":10467},"PRIVADO","00010467","CLINICA FLEMING","LIMA","LIMA","SAN BORJA","150130","36","00","00","LIMA CENTRO","NO PERTENECE A NINGUNA RED","NO PERTENECE A NINGUNA MICRORED","II-E"]
[null,{"$f":"VALUE(renipress[[#This Row],[Código Único]])","v":10474},"PRIVADO","00010474","SERVICIOS DE PROTESIS DENTAL","ANCASH","SANTA","CHIMBOTE","021801","2","00","00","ANCASH"," ","NO PERTENECE A NINGUNA MICRORED","Sin Categoría"]
[null,{"$f":"VALUE(renipress[[#This Row],[Código Único]])","v":10488},"GOBIERNO REGIONAL","00010488","SAN JOSE DE COCHIQUINAS","LORETO","MARISCAL RAMON CASTILLA","PEBAS","160402","24","07","03","LORETO","RAMON CASTILLA","PEVAS","I-1"]
[null,{"$f":"VALUE(renipress[[#This Row],[Código Único]])","v":10498},"PRIVADO","00010498","ILA","LIMA","LIMA","SANTIAGO DE SURCO","150140","23","00","00","LIMA SUR"," ","NO PERTENECE A NINGUNA MICRORED","Sin Categoría"]
[null,{"$f":"VALUE(renipress[[#This Row],[Código Único]])","v":10509},"PRIVADO","00010509","MEDNUCLEAR PERU SAC","LIMA","LIMA","SANTIAGO DE SURCO","150140","23","00","00","LIMA SUR"," ","NO PERTENECE A NINGUNA MICRORED","Sin Categoría"]
[null,{"$f":"VALUE(renipress[[#This Row],[Código Único]])","v":10515},"PRIVADO","00010515","CLINICA SANTA LUCIA S.A.C.","LIMA","LIMA","SAN BORJA","150130","36","00","00","LIMA CENTRO"," ","NO PERTENECE A NINGUNA MICRORED","II-1"]
[null,{"$f":"VALUE(renipress[[#This Row],[Código Único]])","v":10530},"PRIVADO","00010530","CONSULTORIO ODONTOLÓGICO SAN SEBASTIAN","LIMA","LIMA","SAN JUAN DE MIRAFLORES","150133","23","00","00","LIMA SUR"," ","NO PERTENECE A NINGUNA MICRORED","I-1"]
[null,{"$f":"VALUE(renipress[[#This Row],[Código Único]])","v":10543},"PRIVADO","00010543","ASOCIACION TERAPEUTICA PROFESIONAL AMANECER","LIMA","LIMA","PUNTA NEGRA","150127","23","00","00","LIMA SUR"," ","NO PERTENECE A NINGUNA MICRORED","Sin Categoría"]
[null,{"$f":"VALUE(renipress[[#This Row],[Código Único]])","v":10559},"PRIVADO","00010559","CLINICA DANIEL A. CARRION S.A.C.","ICA","CHINCHA","CHINCHA ALTA","110201","15","00","00","ICA"," "," ","II-1"]
[null,{"$f":"VALUE(renipress[[#This Row],[Código Único]])","v":10571},"ESSALUD","00010571","HOSPITAL II HUANUCO","HUANUCO","HUANUCO","AMARILIS","100102","14","00","00","HUANUCO","NO PERTENECE A NINGUNA RED","NO PERTENECE A NINGUNA MICRORED","II-2"]
[null,{"$f":"VALUE(renipress[[#This Row],[Código Único]])","v":10580},"PRIVADO","00010580","CLINICA MOQUEGUA","MOQUEGUA","MARISCAL NIETO","MOQUEGUA","180101","26","00","00","MOQUEGUA"," ","NO PERTENECE A NINGUNA MICRORED","I-2"]
[null,{"$f":"VALUE(renipress[[#This Row],[Código Único]])","v":10588},"PRIVADO","00010588","CONSULTORIO PARTICULAR LAT","HUANCAVELICA","ACOBAMBA","ACOBAMBA","090201","13","00","00","HUANCAVELICA"," ","NO PERTENECE A NINGUNA MICRORED","Sin Categoría"]
[null,{"$f":"VALUE(renipress[[#This Row],[Código Único]])","v":10601},"PRIVADO","00010601","CONSULTORIO ODONTOLOGICO ODONTOCHONG","PIURA","SULLANA","SULLANA","200601","28","00","00","PIURA"," ","NO PERTENECE A NINGUNA MICRORED","Sin Categoría"]
[null,{"$f":"VALUE(renipress[[#This Row],[Código Único]])","v":10612},"PRIVADO","00010612","SERVIMEDIC","LIMA","LIMA","JESUS MARIA","150113","36","00","00","LIMA CENTRO"," ","NO PERTENECE A NINGUNA MICRORED","Sin Categoría"]
[null,{"$f":"VALUE(renipress[[#This Row],[Código Único]])","v":10622},"PRIVADO","00010622","MEDI-DENTIS","LIMA","LIMA","SAN BORJA","150130","36","00","00","LIMA CENTRO"," ","NO PERTENECE A NINGUNA MICRORED","I-2"]
[null,{"$f":"VALUE(renipress[[#This Row],[Código Único]])","v":10640},"PRIVADO","00010640","CENTRO MEDICO OFTALMOLOGICO LASER SRL","LA LIBERTAD","TRUJILLO","TRUJILLO","130101","18","00","00","LA LIBERTAD"," ","NO PERTENECE A NINGUNA MICRORED","Sin Categoría"]
[null,{"$f":"VALUE(renipress[[#This Row],[Código Único]])","v":10651},"PRIVADO","00010651","LABORATORIO CLINICO ESPECIALIZADO DRA.GEOVANA  YARASCA ROJAS E.I.R.L","PIURA","SULLANA","SULLANA","200601","28","00","00","PIURA"," ","NO PERTENECE A NINGUNA MICRORED","Sin Categoría"]
[null,{"$f":"VALUE(renipress[[#This Row],[Código Único]])","v":10657},"PRIVADO","00010657","DIAGNOLAB EIRL","LIMA","LIMA","SAN ISIDRO","150131","36","00","00","LIMA CENTRO"," ","NO PERTENECE A NINGUNA MICRORED","I-3"]
[null,{"$f":"VALUE(renipress[[#This Row],[Código Único]])","v":10672},"PRIVADO","00010672","MEDICENTRO BIOCIENCIAS","LIMA","LIMA","PUEBLO LIBRE","150121","36","00","00","LIMA CENTRO"," ","NO PERTENECE A NINGUNA MICRORED","I-3"]
[null,{"$f":"VALUE(renipress[[#This Row],[Código Único]])","v":10685},"SANIDAD DE LA MARINA DE GUERRA DEL PERU","00010685","DPTO. DE SANIDAD DE LA COMANDANCIA DE LA ESTACION NAVAL LA PERLA","CALLAO","CALLAO","LA PERLA","070104","8","00","00","CALLAO","NO PERTENECE A NINGUNA RED","NO PERTENECE A NINGUNA MICRORED","I-2"]
[null,{"$f":"VALUE(renipress[[#This Row],[Código Único]])","v":10693},"SANIDAD DE LA POLICIA NACIONAL DEL PERU","00010693","PUESTO SANITARIO PNP LANCONES","PIURA","SULLANA","LANCONES","200604","28","00","00","PIURA","NO PERTENECE A NINGUNA RED","NO PERTENECE A NINGUNA MICRORED","I-1"]
[null,{"$f":"VALUE(renipress[[#This Row],[Código Único]])","v":10709},"PRIVADO","00010709","CONSULTORIO DENTAL","LIMA","LIMA","MIRAFLORES","150122","36","00","00","LIMA CENTRO"," ","NO PERTENECE A NINGUNA MICRORED","I-1"]
[null,{"$f":"VALUE(renipress[[#This Row],[Código Único]])","v":10714},"PRIVADO","00010714","CENTRO NEFROLOGICO VILLA SUR S.A.C.","LIMA","LIMA","VILLA MARIA DEL TRIUNFO","150143","23","00","00","LIMA SUR"," ","NO PERTENECE A NINGUNA MICRORED","Sin Categoría"]
[null,{"$f":"VALUE(renipress[[#This Row],[Código Único]])","v":10726},"GOBIERNO REGIONAL","00010726","PUESTO DE SALUD JORAS","PIURA","AYABACA","AYABACA","200201","28","07","04","PIURA","AYABACA","AYABACA","I-1"]
[null,{"$f":"VALUE(renipress[[#This Row],[Código Único]])","v":10743},"PRIVADO","00010743","ASOCIACION CIVIL NUESTRA SEÑORA DEL SAGRADO CORAZON","LIMA","LIMA","PUEBLO LIBRE","150121","36","00","00","LIMA CENTRO"," ","NO PERTENECE A NINGUNA MICRORED","II-2"]
[null,{"$f":"VALUE(renipress[[#This Row],[Código Único]])","v":10754},"PRIVADO","00010754","OFTALMOICA","ICA","ICA","ICA","110101","15","00","00","ICA","NO PERTENECE A NINGUNA RED","NO PERTENECE A NINGUNA MICRORED","I-2"]
[null,{"$f":"VALUE(renipress[[#This Row],[Código Único]])","v":10764},"GOBIERNO REGIONAL","00010764","NUEVO PARAISO","UCAYALI","CORONEL PORTILLO","MASISEA","250104","34","01","03","UCAYALI","CORONEL  PORTILLO","MASISEA","I-1"]
[null,{"$f":"VALUE(renipress[[#This Row],[Código Único]])","v":10771},"PRIVADO","00010771","ODONTOYW","LIMA","LIMA","SAN MARTIN DE PORRES","150135","35","00","00","LIMA NORTE"," ","NO PERTENECE A NINGUNA MICRORED","I-1"]
[null,{"$f":"VALUE(renipress[[#This Row],[Código Único]])","v":10785},"PRIVADO","00010785","RICARDO ESCALANTE ESTRADA","LIMA","LIMA","MIRAFLORES","150122","36","00","00","LIMA CENTRO"," ","NO PERTENECE A NINGUNA MICRORED","Sin Categoría"]
[null,{"$f":"VALUE(renipress[[#This Row],[Código Único]])","v":10795},"PRIVADO","00010795","SISDENT E.I.R.L","LIMA","LIMA","PUEBLO LIBRE","150121","36","00","00","LIMA CENTRO"," ","NO PERTENECE A NINGUNA MICRORED","I-1"]
[null,{"$f":"VALUE(renipress[[#This Row],[Código Único]])","v":10806},"PRIVADO","00010806","DAVITA S.A.","LIMA","LIMA","JESUS MARIA","150113","36","00","00","LIMA CENTRO"," ","NO PERTENECE A NINGUNA MICRORED","Sin Categoría"]
[null,{"$f":"VALUE(renipress[[#This Row],[Código Único]])","v":10823},"PRIVADO","00010823","CARDIOCENTRO S.R.L.","LIMA","LIMA","LINCE","150116","36","00","00","LIMA CENTRO"," ","NO PERTENECE A NINGUNA MICRORED","I-2"]
[null,{"$f":"VALUE(renipress[[#This Row],[Código Único]])","v":10827},"OTRO","00010827","HOGAR DE LA MADRE CLINICA-HOSPITAL","LIMA","LIMA","MIRAFLORES","150122","36","00","00","LIMA CENTRO","NO PERTENECE A NINGUNA RED","NO PERTENECE A NINGUNA MICRORED","II-2"]
[null,{"$f":"VALUE(renipress[[#This Row],[Código Único]])","v":10840},"PRIVADO","00010840","ONG NUEVA SONRISA","LIMA","LIMA","SAN JUAN DE MIRAFLORES","150133","23","00","00","LIMA SUR"," ","NO PERTENECE A NINGUNA MICRORED","I-1"]
[null,{"$f":"VALUE(renipress[[#This Row],[Código Único]])","v":10856},"PRIVADO","00010856","GOLDENT S.A.C.","LIMA","LIMA","MIRAFLORES","150122","36","00","00","LIMA CENTRO"," ","NO PERTENECE A NINGUNA MICRORED","I-1"]
[null,{"$f":"VALUE(renipress[[#This Row],[Código Único]])","v":10868},"PRIVADO","00010868","CONSULTORIO ODONTOLOGICO","CUSCO","CUSCO","CUSCO","080101","11","00","00","CUSCO"," ","NO PERTENECE A NINGUNA MICRORED","Sin Categoría"]
[null,{"$f":"VALUE(renipress[[#This Row],[Código Único]])","v":10877},"PRIVADO","00010877","CENTRO ODONTOLOGICO DE LA CLINICA VESALIO","LIMA","LIMA","SAN BORJA","150130","36","00","00","LIMA CENTRO"," ","NO PERTENECE A NINGUNA MICRORED","I-1"]
[null,{"$f":"VALUE(renipress[[#This Row],[Código Único]])","v":10892},"PRIVADO","00010892","CENTRO ODONTOLOGICO AMERICANO - SEDE SAN BORJA","LIMA","LIMA","SAN BORJA","150130","36","00","00","LIMA CENTRO"," ","NO PERTENECE A NINGUNA MICRORED","I-3"]
[null,{"$f":"VALUE(renipress[[#This Row],[Código Único]])","v":10898},"PRIVADO","00010898","RETAMOZO CORONADO JORGE ISAAC","LIMA","LIMA","ATE","150103","21","00","00","LIMA ESTE"," ","NO PERTENECE A NINGUNA MICRORED","I-1"]
[null,{"$f":"VALUE(renipress[[#This Row],[Código Único]])","v":10909},"PRIVADO","00010909","PANEZ BERAUN ALCIDES","LIMA","LIMA","SAN JUAN DE LURIGANCHO","150132","36","00","00","LIMA CENTRO","NO PERTENECE A NINGUNA RED","NO PERTENECE A NINGUNA MICRORED","I-1"]
[null,{"$f":"VALUE(renipress[[#This Row],[Código Único]])","v":10919},"PRIVADO","00010919","TOPSA PRODUCTOS OPTICOS S.A.","LIMA","LIMA","ATE","150103","21","00","00","LIMA ESTE"," ","NO PERTENECE A NINGUNA MICRORED","Sin Categoría"]
[null,{"$f":"VALUE(renipress[[#This Row],[Código Único]])","v":10937},"GOBIERNO REGIONAL","00010937","CONTIGO PERU","LIMA","HUARAL","HUARAL","150601","22","03","04","LIMA","RED III HUARAL - CHANCAY","HUARAL","I-2"]
[null,{"$f":"VALUE(renipress[[#This Row],[Código Único]])","v":10948},"SANIDAD DE LA POLICIA NACIONAL DEL PERU","00010948","PUESTO SANITARIO PNP BARRANCA","LIMA","BARRANCA","BARRANCA","150201","22","00","00","LIMA","NO PERTENECE A NINGUNA RED","NO PERTENECE A NINGUNA MICRORED","I-1"]
[null,{"$f":"VALUE(renipress[[#This Row],[Código Único]])","v":10954},"PRIVADO","00010954","INSTITUTO MEDICO QUIRÚRGICO GALENO EIRL","LAMBAYEQUE","CHICLAYO","CHICLAYO","140101","19","00","00","LAMBAYEQUE"," ","NO PERTENECE A NINGUNA MICRORED","Sin Categoría"]
[null,{"$f":"VALUE(renipress[[#This Row],[Código Único]])","v":10969},"PRIVADO","00010969","DEPARTAMENTO MEDICO BPZ EXPLORACION & PRODUCCION SRL","TUMBES","TUMBES","LA CRUZ","240103","33","00","00","TUMBES"," ","NO PERTENECE A NINGUNA MICRORED","I-2"]
[null,{"$f":"VALUE(renipress[[#This Row],[Código Único]])","v":10982},"PRIVADO","00010982","BIODONT","LIMA","LIMA","SURQUILLO","150141","36","00","00","LIMA CENTRO"," ","NO PERTENECE A NINGUNA MICRORED","I-1"]
[null,{"$f":"VALUE(renipress[[#This Row],[Código Único]])","v":10990},"GOBIERNO REGIONAL","00010990","CAQUI","LIMA","HUARAL","AUCALLAMA","150604","22","03","03","LIMA","RED III HUARAL - CHANCAY","PERALVILLO","I-2"]
[null,{"$f":"VALUE(renipress[[#This Row],[Código Único]])","v":11006},"PRIVADO","00011006","CLÍNICA MATERNIDAD RODAS","LAMBAYEQUE","CHICLAYO","CHICLAYO","140101","19","00","00","LAMBAYEQUE"," ","NO PERTENECE A NINGUNA MICRORED","Sin Categoría"]
[null,{"$f":"VALUE(renipress[[#This Row],[Código Único]])","v":11011},"PRIVADO","00011011","CME ARANCIBIA E.I.R.L","LIMA","LIMA","SAN ISIDRO","150131","36","00","00","LIMA CENTRO"," ","NO PERTENECE A NINGUNA MICRORED","Sin Categoría"]
[null,{"$f":"VALUE(renipress[[#This Row],[Código Único]])","v":11023},"GOBIERNO REGIONAL","00011023","PUESTO DE SALUD PERUARBO","AREQUIPA","AREQUIPA","CERRO COLORADO","040104","4","03","09","AREQUIPA","AREQUIPA CAYLLOMA","MARITZA CAMPOS DIAZ","I-2"]
[null,{"$f":"VALUE(renipress[[#This Row],[Código Único]])","v":11040},"PRIVADO","00011040","CONSULTORIO DENTAL","TACNA","TACNA","TACNA","230101","32","00","00","TACNA"," ","NO PERTENECE A NINGUNA MICRORED","Sin Categoría"]
[null,{"$f":"VALUE(renipress[[#This Row],[Código Único]])","v":11051},"PRIVADO","00011051","BUENA VISIÓN V&R","CAJAMARCA","CAJAMARCA","CAJAMARCA","060101","7","00","00","CAJAMARCA"," ","NO PERTENECE A NINGUNA MICRORED","I-2"]
[null,{"$f":"VALUE(renipress[[#This Row],[Código Único]])","v":11061},"GOBIERNO REGIONAL","00011061","NUEVO ORIENTE DE SOCOTA","CAJAMARCA","CUTERVO","SOCOTA","060614","7","14","01","CAJAMARCA","SOCOTA","SOCOTA","I-1"]
[null,{"$f":"VALUE(renipress[[#This Row],[Código Único]])","v":11068},"GOBIERNO REGIONAL","00011068","PUCALA","CAJAMARCA","CUTERVO","PIMPINGOS","060606","7","14","04","CAJAMARCA","SOCOTA","SANTO TOMAS","I-1"]
[null,{"$f":"VALUE(renipress[[#This Row],[Código Único]])","v":11082},"PRIVADO","00011082","NEFRO SALUD  CHICLAYO SAC","LAMBAYEQUE","CHICLAYO","CHICLAYO","140101","19","00","00","LAMBAYEQUE"," "," ","Sin Categoría"]
[null,{"$f":"VALUE(renipress[[#This Row],[Código Único]])","v":11092},"PRIVADO","00011092","ZOILA CARMELA PILCO GOMEZ","LIMA","LIMA","SAN MARTIN DE PORRES","150135","35","00","00","LIMA NORTE"," ","NO PERTENECE A NINGUNA MICRORED","I-1"]
[null,{"$f":"VALUE(renipress[[#This Row],[Código Único]])","v":11103},"PRIVADO","00011103","WHITE SYSTEM","LIMA","LIMA","LINCE","150116","36","00","00","LIMA CENTRO","NO PERTENECE A NINGUNA RED","NO PERTENECE A NINGUNA MICRORED","I-1"]
[null,{"$f":"VALUE(renipress[[#This Row],[Código Único]])","v":11120},"PRIVADO","00011120","CONSULTORIO DE MEDICINA REPRODUCTIVA DR. LUIS NORIEGA","LIMA","LIMA","SANTIAGO DE SURCO","150140","23","00","00","LIMA SUR"," ","NO PERTENECE A NINGUNA MICRORED","I-2"]
[null,{"$f":"VALUE(renipress[[#This Row],[Código Único]])","v":11132},"PRIVADO","00011132","CLINICA DEL RIÑON SANTA LUCIA SAC","LA LIBERTAD","TRUJILLO","TRUJILLO","130101","18","00","00","LA LIBERTAD"," ","NO PERTENECE A NINGUNA MICRORED","Sin Categoría"]
[null,{"$f":"VALUE(renipress[[#This Row],[Código Único]])","v":11137},"PRIVADO","00011137","CONSULTORIO MEDICO MIGUEL ANGEL ARANA CABALLERO","LAMBAYEQUE","CHICLAYO","CHICLAYO","140101","19","00","00","LAMBAYEQUE"," ","NO PERTENECE A NINGUNA MICRORED","Sin Categoría"]
[null,{"$f":"VALUE(renipress[[#This Row],[Código Único]])","v":11154},"SANIDAD DE LA POLICIA NACIONAL DEL PERU","00011154","SANIDAD DE LA PNP - TRUJILLO","LA LIBERTAD","TRUJILLO","TRUJILLO","130101","18","00","00","LA LIBERTAD","NO PERTENECE A NINGUNA RED","NO PERTENECE A NINGUNA MICRORED","I-3"]
[null,{"$f":"VALUE(renipress[[#This Row],[Código Único]])","v":11166},"GOBIERNO REGIONAL","00011166","PAMPA FLORIDA","HUANUCO","HUAMALIES","TANTAMAYO","100511","14","05","18","HUANUCO","HUAMALIES","TANTAMAYO","I-1"]
[null,{"$f":"VALUE(renipress[[#This Row],[Código Único]])","v":11175},"PRIVADO","00011175","REHABILITACION MEDICA","LIMA","LIMA","LA VICTORIA","150115","36","00","00","LIMA CENTRO"," ","NO PERTENECE A NINGUNA MICRORED","I-2"]
[null,{"$f":"VALUE(renipress[[#This Row],[Código Único]])","v":11190},"GOBIERNO REGIONAL","00011190","LOS ANDES DE SOTOPAMPA","HUANCAVELICA","HUANCAVELICA","YAULI","090117","13","01","02","HUANCAVELICA","HUANCAVELICA","YAULI","I-1"]
[null,{"$f":"VALUE(renipress[[#This Row],[Código Único]])","v":11196},"PRIVADO","00011196","CRUZ MEDINA SERGIO","LIMA","LIMA","SAN JUAN DE LURIGANCHO","150132","36","00","00","LIMA CENTRO"," ","NO PERTENECE A NINGUNA MICRORED","I-1"]
[null,{"$f":"VALUE(renipress[[#This Row],[Código Único]])","v":11207},"GOBIERNO REGIONAL","00011207","HUSNUPATA","HUANCAVELICA","HUANCAVELICA","YAULI","090117","13","01","02","HUANCAVELICA","HUANCAVELICA","YAULI","I-1"]
[null,{"$f":"VALUE(renipress[[#This Row],[Código Único]])","v":11217},"ESSALUD","00011217","CENTRO DE ATENCION PRIMARIA I ANTABAMBA","APURIMAC","ANTABAMBA","ANTABAMBA","030301","3","00","00","APURIMAC","NO PERTENECE A NINGUNA RED","NO PERTENECE A NINGUNA MICRORED","I-2"]
[null,{"$f":"VALUE(renipress[[#This Row],[Código Único]])","v":11235},"PRIVADO","00011235","POSTA DE SALUD U.P. RECUPERADA","HUANCAVELICA","HUANCAVELICA","HUACHOCOLPA","090106","13","00","00","HUANCAVELICA"," ","NO PERTENECE A NINGUNA MICRORED","I-2"]
[null,{"$f":"VALUE(renipress[[#This Row],[Código Único]])","v":11246},"PRIVADO","00011246","GARCIA MIRANDA CONSUELO LOURDES","LIMA","LIMA","SAN JUAN DE LURIGANCHO","150132","36","00","00","LIMA CENTRO"," ","NO PERTENECE A NINGUNA MICRORED","I-2"]
[null,{"$f":"VALUE(renipress[[#This Row],[Código Único]])","v":11260},"GOBIERNO REGIONAL","00011260","LA VIÑA","CAJAMARCA","CUTERVO","SANTA CRUZ","060611","7","13","03","CAJAMARCA","CUTERVO","CHIPLE","I-1"]
[null,{"$f":"VALUE(renipress[[#This Row],[Código Único]])","v":11271},"PRIVADO","00011271","CENTRO DE DIAGNOSTICO POR IMAGENES","ICA","ICA","ICA","110101","15","00","00","ICA"," ","NO PERTENECE A NINGUNA MICRORED","Sin Categoría"]
[null,{"$f":"VALUE(renipress[[#This Row],[Código Único]])","v":11277},"PRIVADO","00011277","MILAGRITOS EIRL","ICA","PISCO","PISCO","110501","15","00","00","ICA"," ","NO PERTENECE A NINGUNA MICRORED","Sin Categoría"]
[null,{"$f":"VALUE(renipress[[#This Row],[Código Único]])","v":11288},"PRIVADO","00011288","FRATERNIDAD DE LA DIVINA PROVIDENCIA - ASOCIACION","LIMA","LIMA","LURIGANCHO","150118","21","00","00","LIMA ESTE"," ","NO PERTENECE A NINGUNA MICRORED","Sin Categoría"]
[null,{"$f":"VALUE(renipress[[#This Row],[Código Único]])","v":11310},"PRIVADO","00011310","ALVAREZ HUARI ERIKA VERONICA","LIMA","LIMA","SAN JUAN DE LURIGANCHO","150132","36","00","00","LIMA CENTRO"," ","NO PERTENECE A NINGUNA MICRORED","Sin Categoría"]
[null,{"$f":"VALUE(renipress[[#This Row],[Código Único]])","v":11316},"PRIVADO","00011316","GUTIERREZ GOMEZ VERONICA EDITH","LIMA","LIMA","SAN JUAN DE LURIGANCHO","150132","36","00","00","LIMA CENTRO"," ","NO PERTENECE A NINGUNA MICRORED","Sin Categoría"]
[null,{"$f":"VALUE(renipress[[#This Row],[Código Único]])","v":11331},"PRIVADO","00011331","DENTAL SONRISAS","PIURA","PIURA","PIURA","200101","28","00","00","PIURA"," ","NO PERTENECE A NINGUNA MICRORED","I-1"]
[null,{"$f":"VALUE(renipress[[#This Row],[Código Único]])","v":11340},"MUNICIPALIDAD PROVINCIAL","00011340","SISOL ATE","LIMA","LIMA","ATE","150103","21","00","00","LIMA ESTE","NO PERTENECE A NINGUNA RED","NO PERTENECE A NINGUNA MICRORED","I-3"]
[null,{"$f":"VALUE(renipress[[#This Row],[Código Único]])","v":11352},"PRIVADO","00011352","CENTRO DENTAL SAN JOSE S.A.C","LA LIBERTAD","TRUJILLO","TRUJILLO","130101","18","00","00","LA LIBERTAD"," ","NO PERTENECE A NINGUNA MICRORED","I-2"]
[null,{"$f":"VALUE(renipress[[#This Row],[Código Único]])","v":11357},"PRIVADO","00011357","GRUPO QUITO  S.A.C","LIMA","LIMA","SAN JUAN DE LURIGANCHO","150132","36","00","00","LIMA CENTRO","NO PERTENECE A NINGUNA RED","NO PERTENECE A NINGUNA MICRORED","I-2"]
[null,{"$f":"VALUE(renipress[[#This Row],[Código Único]])","v":11369},"SANIDAD DE LA POLICIA NACIONAL DEL PERU","00011369","POLICLINICO P.N.P. IQUITOS","LORETO","MAYNAS","SAN JUAN BAUTISTA","160113","24","00","00","LORETO","NO PERTENECE A NINGUNA RED","NO PERTENECE A NINGUNA MICRORED","I-3"]
[null,{"$f":"VALUE(renipress[[#This Row],[Código Único]])","v":11385},"PRIVADO","00011385","SERVICIOS MULTIPLES AVC  S.A.C.","LIMA","LIMA","CARABAYLLO","150106","35","00","00","LIMA NORTE"," ","NO PERTENECE A NINGUNA MICRORED","I-3"]
[null,{"$f":"VALUE(renipress[[#This Row],[Código Único]])","v":11402},"PRIVADO","00011402","SIMEDIC DIAGNOSTICA SAC","PIURA","TALARA","PARIÑAS","200701","28","00","00","PIURA","NO PERTENECE A NINGUNA RED","NO PERTENECE A NINGUNA MICRORED","I-3"]
[null,{"$f":"VALUE(renipress[[#This Row],[Código Único]])","v":11413},"PRIVADO","00011413","POLICLINICO DEL NIÑO Y ADOLESCENTE SAC","LIMA","LIMA","SAN BORJA","150130","36","00","00","LIMA CENTRO"," ","NO PERTENECE A NINGUNA MICRORED","I-3"]
[null,{"$f":"VALUE(renipress[[#This Row],[Código Único]])","v":11423},"PRIVADO","00011423","CENTRO MEDICO DE ATENCION INTEGRAL DEL ADULTO MAYOR","LORETO","MAYNAS","IQUITOS","160101","24","00","00","LORETO"," ","NO PERTENECE A NINGUNA MICRORED","I-2"]
[null,{"$f":"VALUE(renipress[[#This Row],[Código Único]])","v":11426},"SANIDAD DE LA POLICIA NACIONAL DEL PERU","00011426","POLICLINICO PNP  LUIS LOBATO MEDINA","AYACUCHO","HUAMANGA","AYACUCHO","050101","5","00","00","AYACUCHO"," ","NO PERTENECE A NINGUNA MICRORED","I-3"]
[null,{"$f":"VALUE(renipress[[#This Row],[Código Único]])","v":11444},"ESSALUD","00011444","CANGALLO","AYACUCHO","CANGALLO","CANGALLO","050201","5","00","00","AYACUCHO","NO PERTENECE A NINGUNA RED","NO PERTENECE A NINGUNA MICRORED","I-2"]
[null,{"$f":"VALUE(renipress[[#This Row],[Código Único]])","v":11454},"GOBIERNO REGIONAL","00011454","ALTO MARAYNIYOCC","HUANCAVELICA","ANGARAES","ANCHONGA","090302","13","04","02","HUANCAVELICA","ANGARAES","CCOCHACCASA","I-1"]
[null,{"$f":"VALUE(renipress[[#This Row],[Código Único]])","v":11466},"PRIVADO","00011466","CLINICA ISABEL","TACNA","TACNA","TACNA","230101","32","00","00","TACNA"," ","NO PERTENECE A NINGUNA MICRORED","II-1"]
[null,{"$f":"VALUE(renipress[[#This Row],[Código Único]])","v":11483},"SANIDAD DEL EJERCITO DEL PERU","00011483","ENFERMERIA DEL CUARTEL TARAPACA TACNA","TACNA","TACNA","CORONEL GREGORIO ALBARRACIN L.","230110","32","00","00","TACNA","NO PERTENECE A NINGUNA RED","NO PERTENECE A NINGUNA MICRORED","I-1"]
[null,{"$f":"VALUE(renipress[[#This Row],[Código Único]])","v":11495},"PRIVADO","00011495","CENTRO OBSTETRICO MATERNO","PIURA","SULLANA","BELLAVISTA","200602","28","00","00","PIURA"," ","NO PERTENECE A NINGUNA MICRORED","I-1"]
[null,{"$f":"VALUE(renipress[[#This Row],[Código Único]])","v":11500},"PRIVADO","00011500","SERVICIOS MEDICOS DE APOYO AL DIAGNOSTICO DE CAUSAS DE MUERTE NUESTRO SEÑOR DEL MAR","CALLAO","CALLAO","BELLAVISTA","070102","8","00","00","CALLAO","NO PERTENECE A NINGUNA RED","NO PERTENECE A NINGUNA MICRORED","Sin Categoría"]
[null,{"$f":"VALUE(renipress[[#This Row],[Código Único]])","v":11516},"PRIVADO","00011516","CENTRO ODONTOLOGICO VARDENT","LIMA","LIMA","PUEBLO LIBRE","150121","36","00","00","LIMA CENTRO"," ","NO PERTENECE A NINGUNA MICRORED","I-1"]
[null,{"$f":"VALUE(renipress[[#This Row],[Código Único]])","v":11524},"GOBIERNO REGIONAL","00011524","SAPSI","APURIMAC","GRAU","MARISCAL GAMARRA","030703","3","01","08","APURIMAC","ABANCAY","LAMBRAMA","I-1"]
[null,{"$f":"VALUE(renipress[[#This Row],[Código Único]])","v":11537},"PRIVADO","00011537","ORGANIZACION PERUANA DE LUCHA CONTRA LA CEGUERA","LIMA","LIMA","LINCE","150116","36","00","00","LIMA CENTRO","NO PERTENECE A NINGUNA RED","NO PERTENECE A NINGUNA MICRORED","II-1"]
[null,{"$f":"VALUE(renipress[[#This Row],[Código Único]])","v":11552},"PRIVADO","00011552","GRECIA ANDREA SAC","LIMA","LIMA","MIRAFLORES","150122","36","00","00","LIMA CENTRO"," ","NO PERTENECE A NINGUNA MICRORED","I-2"]
[null,{"$f":"VALUE(renipress[[#This Row],[Código Único]])","v":11558},"PRIVADO","00011558","CONSULTORIO MEDICO GERIATRICO","CAJAMARCA","CAJAMARCA","CAJAMARCA","060101","7","00","00","CAJAMARCA"," ","NO PERTENECE A NINGUNA MICRORED","I-2"]
[null,{"$f":"VALUE(renipress[[#This Row],[Código Único]])","v":11571},"GOBIERNO REGIONAL","00011571","TINGO MAL PASO","PASCO","OXAPAMPA","POZUZO","190305","27","03","02","PASCO","OXAPAMPA","POZUZO","I-1"]
[null,{"$f":"VALUE(renipress[[#This Row],[Código Único]])","v":11589},"PRIVADO","00011589","TALENT CONSULTING EIRL","LIMA","LIMA","SAN BORJA","150130","36","00","00","LIMA CENTRO"," ","NO PERTENECE A NINGUNA MICRORED","I-1"]
[null,{"$f":"VALUE(renipress[[#This Row],[Código Único]])","v":11599},"PRIVADO","00011599","MILUSKA GIOVANNA DE LA CRUZ MOLINARI","CALLAO","CALLAO","CALLAO","070101","8","00","00","CALLAO"," ","NO PERTENECE A NINGUNA MICRORED","I-1"]
[null,{"$f":"VALUE(renipress[[#This Row],[Código Único]])","v":11610},"GOBIERNO REGIONAL","00011610","QQUEUÑAPAMPA","APURIMAC","COTABAMBAS","HAQUIRA","030504","3","08","01","APURIMAC","COTABAMBAS","HAQUIRA","I-1"]
[null,{"$f":"VALUE(renipress[[#This Row],[Código Único]])","v":11616},"PRIVADO","00011616","CONSULTORIO MEDICO EN DERMATOLOGIA","AREQUIPA","AREQUIPA","AREQUIPA","040101","4","00","00","AREQUIPA"," ","NO PERTENECE A NINGUNA MICRORED","I-2"]
[null,{"$f":"VALUE(renipress[[#This Row],[Código Único]])","v":11631},"PRIVADO","00011631","POLICLINICO SANTO TOMAS DE AQUINO  E.I.R.L","LIMA","LIMA","VILLA EL SALVADOR","150142","23","00","00","LIMA SUR"," ","NO PERTENECE A NINGUNA MICRORED","I-3"]
[null,{"$f":"VALUE(renipress[[#This Row],[Código Único]])","v":11640},"GOBIERNO REGIONAL","00011640","KILCATA","APURIMAC","ANTABAMBA","OROPESA","030305","3","02","02","APURIMAC","GRAU","CHUQUIBAMBILLA","I-1"]
[null,{"$f":"VALUE(renipress[[#This Row],[Código Único]])","v":11652},"PRIVADO","00011652","AMERICA DENT","LIMA","LIMA","LA VICTORIA","150115","36","00","00","LIMA CENTRO","NO PERTENECE A NINGUNA RED","NO PERTENECE A NINGUNA MICRORED","I-1"]
[null,{"$f":"VALUE(renipress[[#This Row],[Código Único]])","v":11669},"PRIVADO","00011669","CENTRO DENTAL SEÑOR DE LUREN","PIURA","TALARA","PARIÑAS","200701","28","00","00","PIURA"," ","NO PERTENECE A NINGUNA MICRORED","I-1"]
[null,{"$f":"VALUE(renipress[[#This Row],[Código Único]])","v":11682},"SANIDAD DE LA MARINA DE GUERRA DEL PERU","00011682","ENFERMERIA DE LA ESTACION NAVAL DE PAITA","PIURA","PAITA","PAITA","200501","28","00","00","PIURA","NO PERTENECE A NINGUNA RED","NO PERTENECE A NINGUNA MICRORED","I-2"]
[null,{"$f":"VALUE(renipress[[#This Row],[Código Único]])","v":11686},"PRIVADO","00011686","POLICLINICO - OPTICA MASHAL","LIMA","HUAURA","HUACHO","150801","22","00","00","LIMA","NO PERTENECE A NINGUNA RED","NO PERTENECE A NINGUNA MICRORED","I-2"]
[null,{"$f":"VALUE(renipress[[#This Row],[Código Único]])","v":11703},"PRIVADO","00011703","POLICLINICO LEO EIRL","LIMA","LIMA","SAN JUAN DE LURIGANCHO","150132","36","00","00","LIMA CENTRO"," ","NO PERTENECE A NINGUNA MICRORED","I-3"]
[null,{"$f":"VALUE(renipress[[#This Row],[Código Único]])","v":11714},"PRIVADO","00011714","SANCHEZ VIERA ZULY ROSSMELI","LIMA","LIMA","SAN JUAN DE LURIGANCHO","150132","36","00","00","LIMA CENTRO"," ","NO PERTENECE A NINGUNA MICRORED","Sin Categoría"]
[null,{"$f":"VALUE(renipress[[#This Row],[Código Único]])","v":11724},"GOBIERNO REGIONAL","00011724","JAVRULOT","AMAZONAS","RODRIGUEZ DE MENDOZA","OMIA","010609","1","01","12","AMAZONAS","CHACHAPOYAS","RODRIGUEZ DE MENDOZA","I-1"]
[null,{"$f":"VALUE(renipress[[#This Row],[Código Único]])","v":11738},"PRIVADO","00011738","CM CLINIMED","LIMA","LIMA","VILLA EL SALVADOR","150142","23","00","00","LIMA SUR","NO PERTENECE A NINGUNA RED","NO PERTENECE A NINGUNA MICRORED","I-3"]
[null,{"$f":"VALUE(renipress[[#This Row],[Código Único]])","v":11745},"SANIDAD DE LA POLICIA NACIONAL DEL PERU","00011745","POSTA MEDICA DE SALUD PNP CANCHIS-CUSCO","CUSCO","CANCHIS","SICUANI","080601","11","00","00","CUSCO","NO PERTENECE A NINGUNA RED","NO PERTENECE A NINGUNA MICRORED","I-1"]
[null,{"$f":"VALUE(renipress[[#This Row],[Código Único]])","v":11755},"PRIVADO","00011755","ALAN POMAJULCA DEMETRIO EDUARDO","LIMA","LIMA","SAN JUAN DE LURIGANCHO","150132","36","00","00","LIMA CENTRO"," ","NO PERTENECE A NINGUNA MICRORED","I-1"]
[null,{"$f":"VALUE(renipress[[#This Row],[Código Único]])","v":11774},"PRIVADO","00011774","BERNUY GOICOCHEA MIRIAM GIOVANNI","LIMA","LIMA","LA MOLINA","150114","21","00","00","LIMA ESTE"," ","NO PERTENECE A NINGUNA MICRORED","Sin Categoría"]
[null,{"$f":"VALUE(renipress[[#This Row],[Código Único]])","v":11783},"PRIVADO","00011783","CENTRO MEDICO PARTICULAR","AMAZONAS","RODRIGUEZ DE MENDOZA","SAN NICOLAS","010601","1","00","00","AMAZONAS","NO PERTENECE A NINGUNA RED","NO PERTENECE A NINGUNA MICRORED","Sin Categoría"]
[null,{"$f":"VALUE(renipress[[#This Row],[Código Único]])","v":11795},"PRIVADO","00011795","CENTRO MEDICO SAN FELIPE","LIMA","LIMA","LA MOLINA","150114","21","00","00","LIMA ESTE"," ","NO PERTENECE A NINGUNA MICRORED","I-3"]
[null,{"$f":"VALUE(renipress[[#This Row],[Código Único]])","v":11800},"PRIVADO","00011800","ASOCIACION CULTURAL JOHANNES GUTENBERG","LIMA","LIMA","EL AGUSTINO","150111","21","00","00","LIMA ESTE"," ","NO PERTENECE A NINGUNA MICRORED","I-1"]
[null,{"$f":"VALUE(renipress[[#This Row],[Código Único]])","v":11816},"PRIVADO","00011816","NAJERA RIVERA JHON GINO","LIMA","LIMA","SAN JUAN DE LURIGANCHO","150132","36","00","00","LIMA CENTRO"," ","NO PERTENECE A NINGUNA MICRORED","I-1"]
[null,{"$f":"VALUE(renipress[[#This Row],[Código Único]])","v":11824},"PRIVADO","00011824","KALIDENTS","CALLAO","CALLAO","CARMEN DE LA LEGUA-REYNOSO","070103","8","00","00","CALLAO"," ","NO PERTENECE A NINGUNA MICRORED","I-1"]
[null,{"$f":"VALUE(renipress[[#This Row],[Código Único]])","v":11837},"SANIDAD DE LA POLICIA NACIONAL DEL PERU","00011837","PUESTO SANITARIO PENAL PICCI","LAMBAYEQUE","FERREÑAFE","FERREÑAFE","140201","19","00","00","LAMBAYEQUE","NO PERTENECE A NINGUNA RED","NO PERTENECE A NINGUNA MICRORED","Sin Categoría"]
[null,{"$f":"VALUE(renipress[[#This Row],[Código Único]])","v":11852},"PRIVADO","00011852","OPTICA MEGA LENS EIRL","PIURA","SULLANA","SULLANA","200601","28","00","00","PIURA"," ","NO PERTENECE A NINGUNA MICRORED","Sin Categoría"]
[null,{"$f":"VALUE(renipress[[#This Row],[Código Único]])","v":11858},"PRIVADO","00011858","POLICLINICO SANTISIMA TRINIDAD EIRL","MADRE DE DIOS","TAMBOPATA","TAMBOPATA","170101","25","00","00","MADRE DE DIOS"," ","NO PERTENECE A NINGUNA MICRORED","Sin Categoría"]
[null,{"$f":"VALUE(renipress[[#This Row],[Código Único]])","v":11869},"PRIVADO","00011869","CONSULTORIO MEDICO","LIMA","LIMA","SURQUILLO","150141","36","00","00","LIMA CENTRO"," ","NO PERTENECE A NINGUNA MICRORED","I-2"]
[null,{"$f":"VALUE(renipress[[#This Row],[Código Único]])","v":11887},"PRIVADO","00011887","JR CIRUJANOS E.I.R.L","LIMA","LIMA","MIRAFLORES","150122","36","00","00","LIMA CENTRO"," ","NO PERTENECE A NINGUNA MICRORED","I-2"]
[null,{"$f":"VALUE(renipress[[#This Row],[Código Único]])","v":11897},"GOBIERNO REGIONAL","00011897","SAN CRISTOBAL","APURIMAC","CHINCHEROS","RANRACANCHA","030608","3","04","01","APURIMAC","COCHARCAS","URIPA","I-1"]
[null,{"$f":"VALUE(renipress[[#This Row],[Código Único]])","v":11908},"PRIVADO","00011908","POLICLINICO SERVISALUD S.R.L.","AREQUIPA","AREQUIPA","PAUCARPATA","040112","4","00","00","AREQUIPA"," ","NO PERTENECE A NINGUNA MICRORED","I-3"]
[null,{"$f":"VALUE(renipress[[#This Row],[Código Único]])","v":11921},"PRIVADO","00011921","LUIS ALBERTO MANRIQUE MEZA","AREQUIPA","AREQUIPA","AREQUIPA","040101","4","00","00","AREQUIPA"," ","NO PERTENECE A NINGUNA MICRORED","Sin Categoría"]
[null,{"$f":"VALUE(renipress[[#This Row],[Código Único]])","v":11929},"PRIVADO","00011929","DERMOLASER PERU SAC","LIMA","LIMA","JESUS MARIA","150113","36","00","00","LIMA CENTRO"," ","NO PERTENECE A NINGUNA MICRORED","I-2"]
[null,{"$f":"VALUE(renipress[[#This Row],[Código Único]])","v":11938},"GOBIERNO REGIONAL","00011938","CHISE","APURIMAC","GRAU","CHUQUIBAMBILLA","030701","3","02","02","APURIMAC","GRAU","CHUQUIBAMBILLA","I-1"]
[null,{"$f":"VALUE(renipress[[#This Row],[Código Único]])","v":11950},"PRIVADO","00011950","CLINICA CHORRILLOS","LIMA","LIMA","CHORRILLOS","150108","23","00","00","LIMA SUR"," ","NO PERTENECE A NINGUNA MICRORED","II-E"]
[null,{"$f":"VALUE(renipress[[#This Row],[Código Único]])","v":11966},"PRIVADO","00011966","CENTRO DE APOYO AL DIAGNOSTICO DR. BERLY MANRIQUE UGARTE S.A.C.","LA LIBERTAD","TRUJILLO","TRUJILLO","130101","18","00","00","LA LIBERTAD"," ","NO PERTENECE A NINGUNA MICRORED","Sin Categoría"]
[null,{"$f":"VALUE(renipress[[#This Row],[Código Único]])","v":11979},"PRIVADO","00011979","DENTIST ESPECIALIDADES","TACNA","TACNA","TACNA","230101","32","00","00","TACNA"," ","NO PERTENECE A NINGUNA MICRORED","Sin Categoría"]
[null,{"$f":"VALUE(renipress[[#This Row],[Código Único]])","v":11983},"PRIVADO","00011983","CONSULTORIO MEDICO","LIMA","LIMA","LURIN","150119","23","00","00","LIMA SUR"," ","NO PERTENECE A NINGUNA MICRORED","I-2"]
[null,{"$f":"VALUE(renipress[[#This Row],[Código Único]])","v":12001},"PRIVADO","00012001","RESIDENCIA GERIÁTRICA SAN LÁZARO","AREQUIPA","AREQUIPA","MARIANO MELGAR","040109","4","00","00","AREQUIPA"," ","NO PERTENECE A NINGUNA MICRORED","Sin Categoría"]
[null,{"$f":"VALUE(renipress[[#This Row],[Código Único]])","v":12008},"PRIVADO","00012008","CONSULTORIO DE ENFERMERIA STA. MARIA AUXILIADORA","TACNA","TACNA","TACNA","230101","32","00","00","TACNA","NO PERTENECE A NINGUNA RED","NO PERTENECE A NINGUNA MICRORED","I-1"]
[null,{"$f":"VALUE(renipress[[#This Row],[Código Único]])","v":12022},"ESSALUD","00012022","SAN CLEMENTE","ICA","PISCO","SAN CLEMENTE","110507","15","00","00","ICA","NO PERTENECE A NINGUNA RED","NO PERTENECE A NINGUNA MICRORED","I-4"]
[null,{"$f":"VALUE(renipress[[#This Row],[Código Único]])","v":12036},"PRIVADO","00012036","CENTRO DE ASESORIA PSICOLOGICA BARQUITO DE PAPEL","LIMA","LIMA","SURQUILLO","150141","36","00","00","LIMA CENTRO"," ","NO PERTENECE A NINGUNA MICRORED","Sin Categoría"]
[null,{"$f":"VALUE(renipress[[#This Row],[Código Único]])","v":12043},"PRIVADO","00012043","COTRINA ROJAS JENNER RONALD","LIMA","LIMA","SAN JUAN DE LURIGANCHO","150132","36","00","00","LIMA CENTRO"," ","NO PERTENECE A NINGUNA MICRORED","Sin Categoría"]
[null,{"$f":"VALUE(renipress[[#This Row],[Código Único]])","v":12053},"PRIVADO","00012053","LABORATORIO SUIZA PERUANA EIRL.","ANCASH","HUARAZ","HUARAZ","020101","2","00","00","ANCASH"," ","NO PERTENECE A NINGUNA MICRORED","Sin Categoría"]
[null,{"$f":"VALUE(renipress[[#This Row],[Código Único]])","v":12072},"PRIVADO","00012072","GRUPO ODONTOLOGICO MOL SAC","LIMA","LIMA","SAN JUAN DE LURIGANCHO","150132","36","00","00","LIMA CENTRO"," ","NO PERTENECE A NINGUNA MICRORED","Sin Categoría"]
[null,{"$f":"VALUE(renipress[[#This Row],[Código Único]])","v":12081},"PRIVADO","00012081","ASOCIACION EMMANUEL","CALLAO","CALLAO","VENTANILLA","070106","8","00","00","CALLAO"," ","NO PERTENECE A NINGUNA MICRORED","Sin Categoría"]
[null,{"$f":"VALUE(renipress[[#This Row],[Código Único]])","v":12093},"PRIVADO","00012093","RUMAIR-PERUSO SAC","LIMA","LIMA","ATE","150103","21","00","00","LIMA ESTE"," ","NO PERTENECE A NINGUNA MICRORED","I-2"]
[null,{"$f":"VALUE(renipress[[#This Row],[Código Único]])","v":12098},"PRIVADO","00012098","INSTITUTO DE INVESTIGACION NUTRICIONAL","LIMA","LIMA","SAN JUAN DE LURIGANCHO","150132","36","00","00","LIMA CENTRO"," ","NO PERTENECE A NINGUNA MICRORED","I-2"]
[null,{"$f":"VALUE(renipress[[#This Row],[Código Único]])","v":12114},"ESSALUD","00012114","POSTA DE SALUD SANTIAGO DE CAO","LA LIBERTAD","ASCOPE","SANTIAGO DE CAO","130207","18","00","00","LA LIBERTAD","NO PERTENECE A NINGUNA RED","NO PERTENECE A NINGUNA MICRORED","I-2"]
[null,{"$f":"VALUE(renipress[[#This Row],[Código Único]])","v":12122},"PRIVADO","00012122","AMAZONAS INTERNACIONAL OPTICA SERVAN SR","LIMA","LIMA","MIRAFLORES","150122","36","00","00","LIMA CENTRO"," ","NO PERTENECE A NINGUNA MICRORED","Sin Categoría"]
[null,{"$f":"VALUE(renipress[[#This Row],[Código Único]])","v":12135},"PRIVADO","00012135","BUSTILLOS MEDRANO PAUL IVAN","LIMA","LIMA","SAN JUAN DE LURIGANCHO","150132","36","00","00","LIMA CENTRO","NO PERTENECE A NINGUNA RED","NO PERTENECE A NINGUNA MICRORED","Sin Categoría"]
[null,{"$f":"VALUE(renipress[[#This Row],[Código Único]])","v":12150},"GOBIERNO REGIONAL","00012150","CUYACU","HUANUCO","HUAMALIES","MONZON","100507","14","03","04","HUANUCO","LEONCIO PRADO","MONZON","I-1"]
[null,{"$f":"VALUE(renipress[[#This Row],[Código Único]])","v":12164},"GOBIERNO REGIONAL","00012164","POLULO","CAJAMARCA","SANTA CRUZ","NINABAMBA","061306","7","12","04","CAJAMARCA","SANTA CRUZ","YAUYUCAN","I-1"]
[null,{"$f":"VALUE(renipress[[#This Row],[Código Único]])","v":12167},"PRIVADO","00012167","CLINICA DENTAL ALECEARI","HUANUCO","HUANUCO","HUANUCO","100101","14","00","00","HUANUCO"," ","NO PERTENECE A NINGUNA MICRORED","I-1"]
[null,{"$f":"VALUE(renipress[[#This Row],[Código Único]])","v":12185},"PRIVADO","00012185","POLICLINICO PILAR","TACNA","TACNA","TACNA","230101","32","00","00","TACNA","NO PERTENECE A NINGUNA RED","NO PERTENECE A NINGUNA MICRORED","Sin Categoría"]
[null,{"$f":"VALUE(renipress[[#This Row],[Código Único]])","v":12195},"ESSALUD","00012195","POSTA MEDICA ACARI","AREQUIPA","CARAVELI","ACARI","040302","4","00","00","AREQUIPA","NO PERTENECE A NINGUNA RED","NO PERTENECE A NINGUNA MICRORED","I-2"]
[null,{"$f":"VALUE(renipress[[#This Row],[Código Único]])","v":12206},"PRIVADO","00012206","DETECTA CLINICA","LIMA","LIMA","SURQUILLO","150141","36","00","00","LIMA CENTRO"," ","NO PERTENECE A NINGUNA MICRORED","II-E"]
[null,{"$f":"VALUE(renipress[[#This Row],[Código Único]])","v":12219},"PRIVADO","00012219","CLINICA MONTESUR","LIMA","LIMA","SANTIAGO DE SURCO","150140","23","00","00","LIMA SUR"," ","NO PERTENECE A NINGUNA MICRORED","II-E"]
[null,{"$f":"VALUE(renipress[[#This Row],[Código Único]])","v":12227},"PRIVADO","00012227","MULTISERVICIOS NAJESA EIRL.","LIMA","LIMA","LOS OLIVOS","150117","35","00","00","LIMA NORTE"," ","NO PERTENECE A NINGUNA MICRORED","I-1"]
[null,{"$f":"VALUE(renipress[[#This Row],[Código Único]])","v":12236},"PRIVADO","00012236","RODRIGUEZ TERRAZOS EVELYN EDELMIRA","LIMA","LIMA","ATE","150103","21","00","00","LIMA ESTE"," ","NO PERTENECE A NINGUNA MICRORED","I-1"]
[null,{"$f":"VALUE(renipress[[#This Row],[Código Único]])","v":12248},"PRIVADO","00012248","CENTRO RADIOLOGICO JESUS ES TU MEDICO","JUNIN","HUANCAYO","HUANCAYO","120101","17","00","00","JUNIN"," ","NO PERTENECE A NINGUNA MICRORED","Sin Categoría"]
[null,{"$f":"VALUE(renipress[[#This Row],[Código Único]])","v":12265},"PRIVADO","00012265","SANCHEZ VALDIVIA CARLOS ALBERTO","LIMA","LIMA","SANTIAGO DE SURCO","150140","23","00","00","LIMA SUR"," ","NO PERTENECE A NINGUNA MICRORED","I-2"]
[null,{"$f":"VALUE(renipress[[#This Row],[Código Único]])","v":12278},"PRIVADO","00012278","ORTHODONTICS SERVICIOS ODONTOLOGICOS E.I.R.L","LA LIBERTAD","TRUJILLO","TRUJILLO","130101","18","00","00","LA LIBERTAD"," ","NO PERTENECE A NINGUNA MICRORED","I-1"]
[null,{"$f":"VALUE(renipress[[#This Row],[Código Único]])","v":12293},"PRIVADO","00012293","CENTRO ODONTOLOGICO Y EUROPEO CUBANO SAC","LA LIBERTAD","TRUJILLO","TRUJILLO","130101","18","00","00","LA LIBERTAD"," ","NO PERTENECE A NINGUNA MICRORED","I-1"]
[null,{"$f":"VALUE(renipress[[#This Row],[Código Único]])","v":12299},"PRIVADO","00012299","ODONTOCOSMETIC","LA LIBERTAD","TRUJILLO","TRUJILLO","130101","18","00","00","LA LIBERTAD"," ","NO PERTENECE A NINGUNA MICRORED","I-1"]
[null,{"$f":"VALUE(renipress[[#This Row],[Código Único]])","v":12306},"PRIVADO","00012306","CENTRO DE ANALISIS E INVESTIGACION RENALAB E.I.R.L","LA LIBERTAD","PACASMAYO","PACASMAYO","130704","18","00","00","LA LIBERTAD"," ","NO PERTENECE A NINGUNA MICRORED","Sin Categoría"]
[null,{"$f":"VALUE(renipress[[#This Row],[Código Único]])","v":12321},"PRIVADO","00012321","CENTRO MEDICO PSICOSENSOMETRICO MILLENIUM S.A.C.","CAJAMARCA","CAJAMARCA","CAJAMARCA","060101","7","00","00","CAJAMARCA"," ","NO PERTENECE A NINGUNA MICRORED","I-3"]
[null,{"$f":"VALUE(renipress[[#This Row],[Código Único]])","v":12335},"PRIVADO","00012335","CONSULTORIO ESTETICO DENTAL GSN","JUNIN","HUANCAYO","HUANCAYO","120101","17","00","00","JUNIN"," ","NO PERTENECE A NINGUNA MICRORED","I-1"]
[null,{"$f":"VALUE(renipress[[#This Row],[Código Único]])","v":12342},"PRIVADO","00012342","PINO HUAMAN KATTY","LIMA","LIMA","SAN JUAN DE LURIGANCHO","150132","36","00","00","LIMA CENTRO","NO PERTENECE A NINGUNA RED","NO PERTENECE A NINGUNA MICRORED","Sin Categoría"]
[null,{"$f":"VALUE(renipress[[#This Row],[Código Único]])","v":12363},"PRIVADO","00012363","DENTAL VITAL","ICA","ICA","ICA","110101","15","00","00","ICA","NO PERTENECE A NINGUNA RED","NO PERTENECE A NINGUNA MICRORED","I-3"]
[null,{"$f":"VALUE(renipress[[#This Row],[Código Único]])","v":12371},"PRIVADO","00012371","CENTRO MEDICO BLV","MADRE DE DIOS","TAMBOPATA","TAMBOPATA","170101","25","00","00","MADRE DE DIOS"," ","NO PERTENECE A NINGUNA MICRORED","Sin Categoría"]
[null,{"$f":"VALUE(renipress[[#This Row],[Código Único]])","v":12380},"PRIVADO","00012380","BTR SALUD SOCIEDAD ANONIMA CERRADA - BTR SALUD S.A.C","LIMA","LIMA","LOS OLIVOS","150117","35","00","00","LIMA NORTE"," ","NO PERTENECE A NINGUNA MICRORED","I-2"]
[null,{"$f":"VALUE(renipress[[#This Row],[Código Único]])","v":12392},"PRIVADO","00012392","POLICLINICO INTERNACIONAL","LIMA","LIMA","ATE","150103","21","00","00","LIMA ESTE"," ","NO PERTENECE A NINGUNA MICRORED","I-3"]
[null,{"$f":"VALUE(renipress[[#This Row],[Código Único]])","v":12404},"PRIVADO","00012404","CONSULTORIO PAAD","AREQUIPA","AREQUIPA","JACOBO HUNTER","040107","4","00","00","AREQUIPA"," ","NO PERTENECE A NINGUNA MICRORED","Sin Categoría"]
[null,{"$f":"VALUE(renipress[[#This Row],[Código Único]])","v":12413},"PRIVADO","00012413","CASTILLA PONCE DE LEON MAGNOLIA AMANDA","LIMA","LIMA","SAN JUAN DE LURIGANCHO","150132","36","00","00","LIMA CENTRO"," ","NO PERTENECE A NINGUNA MICRORED","Sin Categoría"]
[null,{"$f":"VALUE(renipress[[#This Row],[Código Único]])","v":12432},"PRIVADO","00012432","CAVERO ARBILDO ROBERTO","LIMA","LIMA","SANTA ANITA","150137","21","00","00","LIMA ESTE","NO PERTENECE A NINGUNA RED","NO PERTENECE A NINGUNA MICRORED","I-1"]
[null,{"$f":"VALUE(renipress[[#This Row],[Código Único]])","v":12434},"PRIVADO","00012434","GRUPO OPTICO MEGA LENS SRL","PIURA","SULLANA","SULLANA","200601","28","00","00","PIURA"," ","NO PERTENECE A NINGUNA MICRORED","Sin Categoría"]
[null,{"$f":"VALUE(renipress[[#This Row],[Código Único]])","v":12449},"PRIVADO","00012449","CLINICA GONZALES","PASCO","PASCO","YANACANCHA","190113","27","00","00","PASCO"," ","NO PERTENECE A NINGUNA MICRORED","II-1"]
[null,{"$f":"VALUE(renipress[[#This Row],[Código Único]])","v":12463},"PRIVADO","00012463","TAMEKA S.A.C.","LIMA","LIMA","JESUS MARIA","150113","36","00","00","LIMA CENTRO"," ","NO PERTENECE A NINGUNA MICRORED","Sin Categoría"]
[null,{"$f":"VALUE(renipress[[#This Row],[Código Único]])","v":12478},"PRIVADO","00012478","DETECTOR IMAGEN CENTER","JUNIN","HUANCAYO","HUANCAYO","120101","17","00","00","JUNIN"," ","NO PERTENECE A NINGUNA MICRORED","Sin Categoría"]
[null,{"$f":"VALUE(renipress[[#This Row],[Código Único]])","v":12485},"PRIVADO","00012485","SHIRLEY FRIDA ZAPATA  ROSAS","PIURA","SULLANA","SULLANA","200601","28","00","00","PIURA"," ","NO PERTENECE A NINGUNA MICRORED","I-1"]
[null,{"$f":"VALUE(renipress[[#This Row],[Código Único]])","v":12495},"PRIVADO","00012495","CONSULTORIO MEDICO LOMBARDI","LIMA","LIMA","EL AGUSTINO","150111","21","00","00","LIMA ESTE"," ","NO PERTENECE A NINGUNA MICRORED","I-2"]
[null,{"$f":"VALUE(renipress[[#This Row],[Código Único]])","v":12506},"PRIVADO","00012506","AMERICAS DENT","AREQUIPA","AREQUIPA","CERRO COLORADO","040104","4","00","00","AREQUIPA"," ","NO PERTENECE A NINGUNA MICRORED","Sin Categoría"]
[null,{"$f":"VALUE(renipress[[#This Row],[Código Único]])","v":12519},"PRIVADO","00012519","ALBIS S.A.","LIMA","LIMA","SAN MIGUEL","150136","36","00","00","LIMA CENTRO"," ","NO PERTENECE A NINGUNA MICRORED","I-2"]
[null,{"$f":"VALUE(renipress[[#This Row],[Código Único]])","v":12527},"PRIVADO","00012527","CENTRO UROLOGICO - UROS","LAMBAYEQUE","CHICLAYO","CHICLAYO","140101","19","00","00","LAMBAYEQUE"," ","NO PERTENECE A NINGUNA MICRORED","I-2"]
[null,{"$f":"VALUE(renipress[[#This Row],[Código Único]])","v":12550},"PRIVADO","00012550","LABORATORIO DE ANALISIS CLINICOS","PIURA","SULLANA","SULLANA","200601","28","00","00","PIURA"," ","NO PERTENECE A NINGUNA MICRORED","Sin Categoría"]
[null,{"$f":"VALUE(renipress[[#This Row],[Código Único]])","v":12556},"PRIVADO","00012556","INPPARES","ICA","ICA","ICA","110101","15","00","00","ICA","NO PERTENECE A NINGUNA RED","NO PERTENECE A NINGUNA MICRORED","I-3"]
[null,{"$f":"VALUE(renipress[[#This Row],[Código Único]])","v":12571},"PRIVADO","00012571","POLICLINICO EL PALMAR S.A.","LIMA","LIMA","SANTIAGO DE SURCO","150140","23","00","00","LIMA SUR"," ","NO PERTENECE A NINGUNA MICRORED","I-3"]
[null,{"$f":"VALUE(renipress[[#This Row],[Código Único]])","v":12584},"PRIVADO","00012584","SERVICIOS MEDICOS MINEROS S.A.C-RAURA","HUANUCO","LAURICOCHA","SAN MIGUEL DE CAURI","101007","14","00","00","HUANUCO","NO PERTENECE A NINGUNA RED","NO PERTENECE A NINGUNA MICRORED","I-4"]
[null,{"$f":"VALUE(renipress[[#This Row],[Código Único]])","v":12592},"PRIVADO","00012592","VILLANUEVA CORONDADO LUZ GLORIA","LIMA","LIMA","SANTA ANITA","150137","21","00","00","LIMA ESTE","NO PERTENECE A NINGUNA RED","NO PERTENECE A NINGUNA MICRORED","I-1"]
[null,{"$f":"VALUE(renipress[[#This Row],[Código Único]])","v":12601},"PRIVADO","00012601","OPTICA HISPANA","AREQUIPA","AREQUIPA","AREQUIPA","040101","4","00","00","AREQUIPA"," ","NO PERTENECE A NINGUNA MICRORED","Sin Categoría"]
[null,{"$f":"VALUE(renipress[[#This Row],[Código Único]])","v":12610},"PRIVADO","00012610","SERVICIOS MEDICOS SAN JOSE SOCIEDAD ANONIMA CERRADA","LIMA","LIMA","SAN BORJA","150130","36","00","00","LIMA CENTRO","NO PERTENECE A NINGUNA RED","NO PERTENECE A NINGUNA MICRORED","II-E"]
[null,{"$f":"VALUE(renipress[[#This Row],[Código Único]])","v":12630},"PRIVADO","00012630","CONSULTORIO DENTAL MEDIDENT","MADRE DE DIOS","TAMBOPATA","TAMBOPATA","170101","25","00","00","MADRE DE DIOS","NO PERTENECE A NINGUNA RED","NO PERTENECE A NINGUNA MICRORED","I-1"]
[null,{"$f":"VALUE(renipress[[#This Row],[Código Único]])","v":12643},"PRIVADO","00012643","CENTRO MEDICO OLOS VITALIS","PIURA","PIURA","PIURA","200101","28","00","00","PIURA"," ","NO PERTENECE A NINGUNA MICRORED","Sin Categoría"]
[null,{"$f":"VALUE(renipress[[#This Row],[Código Único]])","v":12647},"PRIVADO","00012647","HILARIO VERGARA MARIA NIKE","LIMA","LIMA","SAN JUAN DE LURIGANCHO","150132","36","00","00","LIMA CENTRO","NO PERTENECE A NINGUNA RED","NO PERTENECE A NINGUNA MICRORED","Sin Categoría"]
[null,{"$f":"VALUE(renipress[[#This Row],[Código Único]])","v":12664},"SANIDAD DE LA POLICIA NACIONAL DEL PERU","00012664","POLICLINICO  PNP CARABAYLLO","LIMA","LIMA","CARABAYLLO","150106","35","00","00","LIMA NORTE","NO PERTENECE A NINGUNA RED","NO PERTENECE A NINGUNA MICRORED","I-3"]
[null,{"$f":"VALUE(renipress[[#This Row],[Código Único]])","v":12671},"PRIVADO","00012671","CLINICA SAN PABLO SEDE HUARAZ","ANCASH","HUARAZ","INDEPENDENCIA","020105","2","00","00","ANCASH"," ","NO PERTENECE A NINGUNA MICRORED","II-1"]
[null,{"$f":"VALUE(renipress[[#This Row],[Código Único]])","v":12685},"PRIVADO","00012685","CARDIOCLINIC","LIMA","LIMA","SAN BORJA","150130","36","00","00","LIMA CENTRO"," ","NO PERTENECE A NINGUNA MICRORED","I-3"]
[null,{"$f":"VALUE(renipress[[#This Row],[Código Único]])","v":12699},"PRIVADO","00012699","AMBULANCIAS CLAVE 5","LIMA","LIMA","CHORRILLOS","150108","23","00","00","LIMA SUR"," ","NO PERTENECE A NINGUNA MICRORED","Sin Categoría"]
[null,{"$f":"VALUE(renipress[[#This Row],[Código Único]])","v":12702},"PRIVADO","00012702","PLENIDENT IMP S.A.C","LIMA","LIMA","SANTIAGO DE SURCO","150140","23","00","00","LIMA SUR"," ","NO PERTENECE A NINGUNA MICRORED","I-3"]
[null,{"$f":"VALUE(renipress[[#This Row],[Código Único]])","v":12716},"PRIVADO","00012716","MEDISALUD GROUP SRL","CAJAMARCA","CAJAMARCA","CAJAMARCA","060101","7","00","00","CAJAMARCA"," ","NO PERTENECE A NINGUNA MICRORED","I-3"]
[null,{"$f":"VALUE(renipress[[#This Row],[Código Único]])","v":12736},"PRIVADO","00012736","CARRASCO CUZCANO LUIS ALEJANDRO","LIMA","LIMA","LINCE","150116","36","00","00","LIMA CENTRO"," ","NO PERTENECE A NINGUNA MICRORED","I-2"]
[null,{"$f":"VALUE(renipress[[#This Row],[Código Único]])","v":12745},"PRIVADO","00012745","MEDLAB MIEMBRO DEL GRUPO SYNLAB","LIMA","LIMA","LOS OLIVOS","150117","35","00","00","LIMA NORTE"," ","NO PERTENECE A NINGUNA MICRORED","I-2"]
[null,{"$f":"VALUE(renipress[[#This Row],[Código Único]])","v":12757},"PRIVADO","00012757","CONSULTORIO DE ATENCION MEDICA ESPECIALIDAD PEDIATRIA","LORETO","MAYNAS","IQUITOS","160101","24","00","00","LORETO"," ","NO PERTENECE A NINGUNA MICRORED","I-2"]
[null,{"$f":"VALUE(renipress[[#This Row],[Código Único]])","v":12769},"PRIVADO","00012769","INSTITUTO DE CIENCIAS MEDICAS Y AMBIENTALES S.A.C.","LIMA","LIMA","LIMA","150101","36","00","00","LIMA CENTRO"," ","NO PERTENECE A NINGUNA MICRORED","I-2"]
[null,{"$f":"VALUE(renipress[[#This Row],[Código Único]])","v":12778},"PRIVADO","00012778","OPTICAS 101 E.I.R.L","AREQUIPA","AREQUIPA","YANAHUARA","040126","4","00","00","AREQUIPA"," ","NO PERTENECE A NINGUNA MICRORED","Sin Categoría"]
[null,{"$f":"VALUE(renipress[[#This Row],[Código Único]])","v":12786},"PRIVADO","00012786","CONSULTORIO DENTAL FAMIDENT","LIMA","HUAURA","HUACHO","150801","22","00","00","LIMA"," ","NO PERTENECE A NINGUNA MICRORED","Sin Categoría"]
[null,{"$f":"VALUE(renipress[[#This Row],[Código Único]])","v":12796},"PRIVADO","00012796","LIZ MAGALI INOUE MENDOZA","CALLAO","CALLAO","CALLAO","070101","8","00","00","CALLAO"," ","NO PERTENECE A NINGUNA MICRORED","I-1"]
[null,{"$f":"VALUE(renipress[[#This Row],[Código Único]])","v":12817},"PRIVADO","00012817","CENTRO MEDICO NUEVA VIDA","LAMBAYEQUE","CHICLAYO","JOSE LEONARDO ORTIZ","140105","19","00","00","LAMBAYEQUE","NO PERTENECE A NINGUNA RED","NO PERTENECE A NINGUNA MICRORED","I-2"]
[null,{"$f":"VALUE(renipress[[#This Row],[Código Único]])","v":12831},"GOBIERNO REGIONAL","00012831","AYLAMBO","CAJAMARCA","CAJAMARCA","CAJAMARCA","060101","7","02","03","CAJAMARCA","CAJAMARCA","MAGNA VALLEJO","I-1"]
[null,{"$f":"VALUE(renipress[[#This Row],[Código Único]])","v":12834},"PRIVADO","00012834","CONSULTORIO ODONTOLOGICO","LIMA","LIMA","CHACLACAYO","150107","21","00","00","LIMA ESTE"," ","NO PERTENECE A NINGUNA MICRORED","Sin Categoría"]
[null,{"$f":"VALUE(renipress[[#This Row],[Código Único]])","v":12852},"PRIVADO","00012852","CENTRO MEDICO ARCANGEL SAN JUAN DE MIRAFLORES 1","LIMA","LIMA","SAN JUAN DE MIRAFLORES","150133","23","00","00","LIMA SUR"," ","NO PERTENECE A NINGUNA MICRORED","I-2"]
[null,{"$f":"VALUE(renipress[[#This Row],[Código Único]])","v":12858},"PRIVADO","00012858","VALVERDE CASTRO JAQUELINE RUTH","LIMA","LIMA","COMAS","150110","35","00","00","LIMA NORTE"," ","NO PERTENECE A NINGUNA MICRORED","I-1"]
[null,{"$f":"VALUE(renipress[[#This Row],[Código Único]])","v":12873},"PRIVADO","00012873","ORALDIAGNOSE S.A.C","LIMA","LIMA","JESUS MARIA","150113","36","00","00","LIMA CENTRO"," ","NO PERTENECE A NINGUNA MICRORED","Sin Categoría"]
[null,{"$f":"VALUE(renipress[[#This Row],[Código Único]])","v":12886},"PRIVADO","00012886","LILIANA ELIZABETH JAPAY IGNACIO","CALLAO","CALLAO","VENTANILLA","070106","8","00","00","CALLAO"," ","NO PERTENECE A NINGUNA MICRORED","Sin Categoría"]
[null,{"$f":"VALUE(renipress[[#This Row],[Código Único]])","v":12894},"PRIVADO","00012894","POLICLINICO SAN CARLOS S.R.L.","TACNA","TACNA","TACNA","230101","32","00","00","TACNA"," ","NO PERTENECE A NINGUNA MICRORED","Sin Categoría"]
[null,{"$f":"VALUE(renipress[[#This Row],[Código Único]])","v":12903},"PRIVADO","00012903","CONSULTORIO DENTAL","LIMA","LIMA","SAN JUAN DE LURIGANCHO","150132","36","00","00","LIMA CENTRO"," ","NO PERTENECE A NINGUNA MICRORED","I-1"]
[null,{"$f":"VALUE(renipress[[#This Row],[Código Único]])","v":12923},"SANIDAD DE LA POLICIA NACIONAL DEL PERU","00012923","POSTA MEDICA PNP PUENTE PIEDRA","LIMA","LIMA","PUENTE PIEDRA","150125","35","00","00","LIMA NORTE","NO PERTENECE A NINGUNA RED","NO PERTENECE A NINGUNA MICRORED","I-2"]
[null,{"$f":"VALUE(renipress[[#This Row],[Código Único]])","v":12931},"GOBIERNO REGIONAL","00012931","CHICHINA","CUSCO","QUISPICANCHI","CCATCA","081205","11","01","15","CUSCO","CUSCO SUR","OCONGATE","I-1"]
[null,{"$f":"VALUE(renipress[[#This Row],[Código Único]])","v":12944},"PRIVADO","00012944","MEDIKIDS","LIMA","LIMA","SANTIAGO DE SURCO","150140","23","00","00","LIMA SUR"," ","NO PERTENECE A NINGUNA MICRORED","I-2"]
[null,{"$f":"VALUE(renipress[[#This Row],[Código Único]])","v":12955},"PRIVADO","00012955","CONSULTORIO MEDICO BIOMEDIC","JUNIN","HUANCAYO","HUANCAYO","120101","17","00","00","JUNIN"," ","NO PERTENECE A NINGUNA MICRORED","I-2"]
[null,{"$f":"VALUE(renipress[[#This Row],[Código Único]])","v":12965},"PRIVADO","00012965","CONSULTORIO MEDICO -  ECOGRAFICO","JUNIN","HUANCAYO","HUANCAYO","120101","17","00","00","JUNIN"," ","NO PERTENECE A NINGUNA MICRORED","Sin Categoría"]
[null,{"$f":"VALUE(renipress[[#This Row],[Código Único]])","v":12972},"PRIVADO","00012972","LABORATORIO CLÍNICO PATOLÓGICO ONCOLAB","JUNIN","HUANCAYO","HUANCAYO","120101","17","00","00","JUNIN"," ","NO PERTENECE A NINGUNA MICRORED","Sin Categoría"]
[null,{"$f":"VALUE(renipress[[#This Row],[Código Único]])","v":12986},"PRIVADO","00012986","ESTRELLADENT EIRL","LIMA","LIMA","SANTA ANITA","150137","21","00","00","LIMA ESTE","NO PERTENECE A NINGUNA RED","NO PERTENECE A NINGUNA MICRORED","I-1"]
[null,{"$f":"VALUE(renipress[[#This Row],[Código Único]])","v":13000},"GOBIERNO REGIONAL","00013000","OSCCOLLOPAMPA","APURIMAC","ANDAHUAYLAS","TALAVERA","030216","3","05","03","APURIMAC","JOSE MARIA ARGUEDAS","TALAVERA","I-1"]
[null,{"$f":"VALUE(renipress[[#This Row],[Código Único]])","v":13015},"PRIVADO","00013015","CONSULTORIO DENTAL","AREQUIPA","AREQUIPA","AREQUIPA","040101","4","00","00","AREQUIPA"," ","NO PERTENECE A NINGUNA MICRORED","Sin Categoría"]
[null,{"$f":"VALUE(renipress[[#This Row],[Código Único]])","v":13017},"PRIVADO","00013017","PROMOTORA DE SALUD SAKURA","LIMA","HUARAL","HUARAL","150601","22","00","00","LIMA"," ","NO PERTENECE A NINGUNA MICRORED","I-3"]
[null,{"$f":"VALUE(renipress[[#This Row],[Código Único]])","v":13036},"PRIVADO","00013036","SERVICIOS MÉDICOS UNMSM","LIMA","LIMA","LIMA","150101","36","00","00","LIMA CENTRO"," ","NO PERTENECE A NINGUNA MICRORED","I-3"]
[null,{"$f":"VALUE(renipress[[#This Row],[Código Único]])","v":13041},"PRIVADO","00013041","CENTRO ESPECIALIZADO EN EL DIAGNOSTICO Y TRATAMIENTO DEL CANCER DE LA MUJER","JUNIN","HUANCAYO","HUANCAYO","120101","17","00","00","JUNIN"," ","NO PERTENECE A NINGUNA MICRORED","I-2"]
[null,{"$f":"VALUE(renipress[[#This Row],[Código Único]])","v":13058},"GOBIERNO REGIONAL","00013058","SAN PEDRO","CAJAMARCA","JAEN","SAN JOSE DEL ALTO","060811","7","15","06","CAJAMARCA","JAEN","COCHALAN","I-1"]
[null,{"$f":"VALUE(renipress[[#This Row],[Código Único]])","v":13070},"GOBIERNO REGIONAL","00013070","CHANCAVINE","CUSCO","LA CONVENCION","VILLA VIRGEN","080912","11","03","06","CUSCO","LA CONVENCION","PUCYURA","I-1"]
[null,{"$f":"VALUE(renipress[[#This Row],[Código Único]])","v":13079},"PRIVADO","00013079","CARRASCO FELICIANO DORIS MARGOT","LIMA","LIMA","SAN MARTIN DE PORRES","150135","35","00","00","LIMA NORTE"," ","NO PERTENECE A NINGUNA MICRORED","I-1"]
[null,{"$f":"VALUE(renipress[[#This Row],[Código Único]])","v":13087},"PRIVADO","00013087","ARCANGEALBIS S.A.L","LIMA","BARRANCA","BARRANCA","150201","22","00","00","LIMA"," ","NO PERTENECE A NINGUNA MICRORED","I-2"]
[null,{"$f":"VALUE(renipress[[#This Row],[Código Único]])","v":13108},"PRIVADO","00013108","CENTRO MEDICO ARCANGEL CHORRILLOS 1","LIMA","LIMA","CHORRILLOS","150108","23","00","00","LIMA SUR","NO PERTENECE A NINGUNA RED","NO PERTENECE A NINGUNA MICRORED","I-3"]
[null,{"$f":"VALUE(renipress[[#This Row],[Código Único]])","v":13115},"PRIVADO","00013115","CLINICA PERUANO BRASILERO EIRL","PUNO","SAN ROMAN","JULIACA","211101","29","00","00","PUNO"," ","NO PERTENECE A NINGUNA MICRORED","I-3"]
[null,{"$f":"VALUE(renipress[[#This Row],[Código Único]])","v":13129},"PRIVADO","00013129","JUAN EDMUNDO ANTONIO ORTEGA PARDO DE FIGUEROA","CALLAO","CALLAO","CALLAO","070101","8","00","00","CALLAO"," ","NO PERTENECE A NINGUNA MICRORED","Sin Categoría"]
[null,{"$f":"VALUE(renipress[[#This Row],[Código Único]])","v":13143},"PRIVADO","00013143","OPTICA ROMA","JUNIN","HUANCAYO","HUANCAYO","120101","17","00","00","JUNIN"," ","NO PERTENECE A NINGUNA MICRORED","Sin Categoría"]
[null,{"$f":"VALUE(renipress[[#This Row],[Código Único]])","v":13150},"PRIVADO","00013150","CONSULTORIO DENTAL DIMODENT","AREQUIPA","AREQUIPA","AREQUIPA","040101","4","00","00","AREQUIPA"," ","NO PERTENECE A NINGUNA MICRORED","Sin Categoría"]
[null,{"$f":"VALUE(renipress[[#This Row],[Código Único]])","v":13156},"PRIVADO","00013156","CLINICA DENTAL ATO DEL AVELLANAL","PIURA","PIURA","PIURA","200101","28","00","00","PIURA"," ","NO PERTENECE A NINGUNA MICRORED","Sin Categoría"]
[null,{"$f":"VALUE(renipress[[#This Row],[Código Único]])","v":13172},"PRIVADO","00013172","CONSULTORIO MEDICO SANTA PATRICIA","HUANUCO","HUANUCO","HUANUCO","100101","14","00","00","HUANUCO","NO PERTENECE A NINGUNA RED","NO PERTENECE A NINGUNA MICRORED","Sin Categoría"]
[null,{"$f":"VALUE(renipress[[#This Row],[Código Único]])","v":13185},"ESSALUD","00013185","CAP I SANTO TOMÁS  ESSALUD","CUSCO","CHUMBIVILCAS","SANTO TOMAS","080701","11","00","00","CUSCO","NO PERTENECE A NINGUNA RED","NO PERTENECE A NINGUNA MICRORED","I-2"]
[null,{"$f":"VALUE(renipress[[#This Row],[Código Único]])","v":13201},"SANIDAD DE LA POLICIA NACIONAL DEL PERU","00013201","PUESTO DE SALUD JUMBILLA","AMAZONAS","BONGARA","JUMBILLA","010301","1","00","00","AMAZONAS","NO PERTENECE A NINGUNA RED","NO PERTENECE A NINGUNA MICRORED","Sin Categoría"]
[null,{"$f":"VALUE(renipress[[#This Row],[Código Único]])","v":13213},"PRIVADO","00013213","CONSULTORIO DENTAL SAN CARLOS","LIMA","LIMA","SAN JUAN DE LURIGANCHO","150132","36","00","00","LIMA CENTRO"," ","NO PERTENECE A NINGUNA MICRORED","I-1"]
[null,{"$f":"VALUE(renipress[[#This Row],[Código Único]])","v":13222},"SANIDAD DE LA POLICIA NACIONAL DEL PERU","00013222","PUESTO DE SALUD PEDRO RUIZ","AMAZONAS","BONGARA","JAZAN","010307","1","00","00","AMAZONAS","NO PERTENECE A NINGUNA RED","NO PERTENECE A NINGUNA MICRORED","Sin Categoría"]
[null,{"$f":"VALUE(renipress[[#This Row],[Código Único]])","v":13230},"PRIVADO","00013230","ODONTOLOGICO AMERICANO - TRUJILLO","LA LIBERTAD","TRUJILLO","TRUJILLO","130101","18","00","00","LA LIBERTAD"," ","NO PERTENECE A NINGUNA MICRORED","I-3"]
[null,{"$f":"VALUE(renipress[[#This Row],[Código Único]])","v":13243},"PRIVADO","00013243","MULTIDENT","LIMA","LIMA","CHORRILLOS","150108","23","00","00","LIMA SUR"," ","NO PERTENECE A NINGUNA MICRORED","I-1"]
[null,{"$f":"VALUE(renipress[[#This Row],[Código Único]])","v":13254},"PRIVADO","00013254","SAN FERNANDO","ICA","CHINCHA","CHINCHA ALTA","110201","15","00","00","ICA"," "," ","I-2"]
[null,{"$f":"VALUE(renipress[[#This Row],[Código Único]])","v":13264},"GOBIERNO REGIONAL","00013264","SANIDAD AEREA","UCAYALI","CORONEL PORTILLO","YARINACOCHA","250105","34","02","01","UCAYALI","FEDERICO BASADRE - YARINACOCHA","NUEVO PARAISO","I-1"]
[null,{"$f":"VALUE(renipress[[#This Row],[Código Único]])","v":13282},"PRIVADO","00013282","HERRERA CASTELLANOS CORPORACION MEDICO ODONTOLOGICA S.A.C.","LIMA","LIMA","BREÑA","150105","36","00","00","LIMA CENTRO"," ","NO PERTENECE A NINGUNA MICRORED","I-1"]
[null,{"$f":"VALUE(renipress[[#This Row],[Código Único]])","v":13285},"PRIVADO","00013285","MARIA LUISA SALAZAR VILLA","ICA","CHINCHA","PUEBLO NUEVO","110207","15","00","00","ICA"," ","NO PERTENECE A NINGUNA MICRORED","I-2"]
[null,{"$f":"VALUE(renipress[[#This Row],[Código Único]])","v":13301},"ESSALUD","00013301","POSTA MEDICA COTAHUASI","AREQUIPA","LA UNION","COTAHUASI","040801","4","00","00","AREQUIPA","NO PERTENECE A NINGUNA RED","NO PERTENECE A NINGUNA MICRORED","I-2"]
[null,{"$f":"VALUE(renipress[[#This Row],[Código Único]])","v":13318},"PRIVADO","00013318","ROSA SALAZAR","JUNIN","HUANCAYO","HUANCAYO","120101","17","00","00","JUNIN"," ","NO PERTENECE A NINGUNA MICRORED","Sin Categoría"]
[null,{"$f":"VALUE(renipress[[#This Row],[Código Único]])","v":13331},"PRIVADO","00013331","CONSULTORIOS MEDICOS SAGRADA FAMILIA","PIURA","PIURA","LA UNION","200110","28","00","00","PIURA"," ","NO PERTENECE A NINGUNA MICRORED","Sin Categoría"]
[null,{"$f":"VALUE(renipress[[#This Row],[Código Único]])","v":13339},"PRIVADO","00013339","SERVICIOS QHALI UMA S.A.C","CALLAO","CALLAO","CALLAO","070101","8","00","00","CALLAO","NO PERTENECE A NINGUNA RED","NO PERTENECE A NINGUNA MICRORED","Sin Categoría"]
[null,{"$f":"VALUE(renipress[[#This Row],[Código Único]])","v":13355},"PRIVADO","00013355","HOSPITAL DE LA SOLIDARIDAD","PIURA","SULLANA","SULLANA","200601","28","00","00","PIURA"," ","NO PERTENECE A NINGUNA MICRORED","I-2"]
[null,{"$f":"VALUE(renipress[[#This Row],[Código Único]])","v":13360},"PRIVADO","00013360","CRUZ DIVINA E.I.R.L.","LIMA","LIMA","LIMA","150101","36","00","00","LIMA CENTRO"," ","NO PERTENECE A NINGUNA MICRORED","I-3"]
[null,{"$f":"VALUE(renipress[[#This Row],[Código Único]])","v":13373},"PRIVADO","00013373","CLINICA PERUANO AMERICANA S. A.","LA LIBERTAD","TRUJILLO","TRUJILLO","130101","18","00","00","LA LIBERTAD"," ","NO PERTENECE A NINGUNA MICRORED","II-1"]
[null,{"$f":"VALUE(renipress[[#This Row],[Código Único]])","v":13382},"PRIVADO","00013382","CASA HOGAR EL TALLER DEL ALFARERO","CALLAO","CALLAO","VENTANILLA","070106","8","00","00","CALLAO","NO PERTENECE A NINGUNA RED","NO PERTENECE A NINGUNA MICRORED","Sin Categoría"]
[null,{"$f":"VALUE(renipress[[#This Row],[Código Único]])","v":13401},"PRIVADO","00013401","CLINICA LA FEMME S.A.C.","LIMA","LIMA","SAN ISIDRO","150131","36","00","00","LIMA CENTRO","NO PERTENECE A NINGUNA RED","NO PERTENECE A NINGUNA MICRORED","I-2"]
[null,{"$f":"VALUE(renipress[[#This Row],[Código Único]])","v":13412},"PRIVADO","00013412","OPTICA NICOLEN´S","JUNIN","SATIPO","SATIPO","120601","17","00","00","JUNIN"," ","NO PERTENECE A NINGUNA MICRORED","Sin Categoría"]
[null,{"$f":"VALUE(renipress[[#This Row],[Código Único]])","v":13419},"PRIVADO","00013419","CENTRO MEDICO SAN ANTONIO","PIURA","PIURA","PIURA","200101","28","00","00","PIURA"," ","NO PERTENECE A NINGUNA MICRORED","Sin Categoría"]
[null,{"$f":"VALUE(renipress[[#This Row],[Código Único]])","v":13433},"PRIVADO","00013433","CONSULTORIO DENTAL IVAN","LIMA","LIMA","ATE","150103","21","00","00","LIMA ESTE"," ","NO PERTENECE A NINGUNA MICRORED","I-1"]
[null,{"$f":"VALUE(renipress[[#This Row],[Código Único]])","v":13443},"PRIVADO","00013443","PAREDES NOMBERTO FRANK MICHAEL","LIMA","LIMA","LOS OLIVOS","150117","35","00","00","LIMA NORTE"," ","NO PERTENECE A NINGUNA MICRORED","I-1"]
[null,{"$f":"VALUE(renipress[[#This Row],[Código Único]])","v":13454},"PRIVADO","00013454","MASSA SUCCAR ALFREDO ALBERTO","LIMA","LIMA","SAN ISIDRO","150131","36","00","00","LIMA CENTRO"," ","NO PERTENECE A NINGUNA MICRORED","I-2"]
[null,{"$f":"VALUE(renipress[[#This Row],[Código Único]])","v":13471},"PRIVADO","00013471","CONSULTORIO DENTAL JULCA","LIMA","LIMA","SANTA ANITA","150137","21","00","00","LIMA ESTE"," ","NO PERTENECE A NINGUNA MICRORED","I-1"]
[null,{"$f":"VALUE(renipress[[#This Row],[Código Único]])","v":13475},"PRIVADO","00013475","SERVICIOS MEDICOS GOLDEN","LIMA","LIMA","VILLA MARIA DEL TRIUNFO","150143","23","00","00","LIMA SUR"," ","NO PERTENECE A NINGUNA MICRORED","I-2"]
[null,{"$f":"VALUE(renipress[[#This Row],[Código Único]])","v":13488},"PRIVADO","00013488","CENTRO DIAGNOSTICO LOS ANGELES","APURIMAC","ABANCAY","ABANCAY","030101","3","00","00","APURIMAC"," ","NO PERTENECE A NINGUNA MICRORED","Sin Categoría"]
[null,{"$f":"VALUE(renipress[[#This Row],[Código Único]])","v":13505},"PRIVADO","00013505","PEDIATRIA VIZCARRA","LIMA","LIMA","VILLA MARIA DEL TRIUNFO","150143","23","00","00","LIMA SUR"," ","NO PERTENECE A NINGUNA MICRORED","I-2"]
[null,{"$f":"VALUE(renipress[[#This Row],[Código Único]])","v":13517},"PRIVADO","00013517","MEDICENTRO ARCANGEL IQUITOS - 2","LORETO","MAYNAS","IQUITOS","160101","24","00","00","LORETO"," ","NO PERTENECE A NINGUNA MICRORED","I-2"]
[null,{"$f":"VALUE(renipress[[#This Row],[Código Único]])","v":13526},"PRIVADO","00013526","CONSULTORIO OBSTETRICO ODONTOLOGICO SAN JUDAS TADEO","LIMA","LIMA","SAN JUAN DE LURIGANCHO","150132","36","00","00","LIMA CENTRO"," ","NO PERTENECE A NINGUNA MICRORED","Sin Categoría"]
[null,{"$f":"VALUE(renipress[[#This Row],[Código Único]])","v":13534},"PRIVADO","00013534","CONSULTORIO NUTRICIONAL JOSCH NUTRITION","LIMA","LIMA","LA MOLINA","150114","21","00","00","LIMA ESTE"," ","NO PERTENECE A NINGUNA MICRORED","I-1"]
[null,{"$f":"VALUE(renipress[[#This Row],[Código Único]])","v":13547},"PRIVADO","00013547","CENTRO MEDICO CORAZON DE MARIA","PIURA","PIURA","PIURA","200101","28","00","00","PIURA"," ","NO PERTENECE A NINGUNA MICRORED","Sin Categoría"]
[null,{"$f":"VALUE(renipress[[#This Row],[Código Único]])","v":13558},"PRIVADO","00013558","CENTRO MEDICO CORAZON DE JESUS","LIMA","LIMA","LURIN","150119","23","00","00","LIMA SUR"," ","NO PERTENECE A NINGUNA MICRORED","I-3"]
[null,{"$f":"VALUE(renipress[[#This Row],[Código Único]])","v":13568},"PRIVADO","00013568","LABORATORIO DE ANATOMIA PATOLOGICA PEDRO DELGADO R. E.I.R.L.","PIURA","PIURA","PIURA","200101","28","00","00","PIURA"," ","NO PERTENECE A NINGUNA MICRORED","Sin Categoría"]
[null,{"$f":"VALUE(renipress[[#This Row],[Código Único]])","v":13586},"PRIVADO","00013586","CLINICA ONCOLOGICA MIRAFLORES","LIMA","LIMA","MIRAFLORES","150122","36","00","00","LIMA CENTRO"," "," ","II-E"]
[null,{"$f":"VALUE(renipress[[#This Row],[Código Único]])","v":13597},"PRIVADO","00013597","SPRAVA E.I.R.L.","LIMA","LIMA","SAN ISIDRO","150131","36","00","00","LIMA CENTRO"," ","NO PERTENECE A NINGUNA MICRORED","I-2"]
[null,{"$f":"VALUE(renipress[[#This Row],[Código Único]])","v":13603},"PRIVADO","00013603","DENTAL CORNEJO SERVICIOS MEDICOS ODONTOLOGICOS E.I.R.L.","PIURA","PIURA","PIURA","200101","28","00","00","PIURA","NO PERTENECE A NINGUNA RED","NO PERTENECE A NINGUNA MICRORED","I-1"]
[null,{"$f":"VALUE(renipress[[#This Row],[Código Único]])","v":13618},"PRIVADO","00013618","LABORATORIO DE ANALISIS CLINICOS MARTINEZ","JUNIN","SATIPO","SATIPO","120601","17","00","00","JUNIN"," ","NO PERTENECE A NINGUNA MICRORED","Sin Categoría"]
[null,{"$f":"VALUE(renipress[[#This Row],[Código Único]])","v":13631},"PRIVADO","00013631","IMAGEN DENTAL ","CUSCO","CANCHIS","SICUANI","080601","11","00","00","CUSCO"," ","NO PERTENECE A NINGUNA MICRORED","Sin Categoría"]
[null,{"$f":"VALUE(renipress[[#This Row],[Código Único]])","v":13639},"PRIVADO","00013639","ENRIQUE LOPEZ","CUSCO","LA CONVENCION","SANTA ANA","080901","11","00","00","CUSCO"," ","NO PERTENECE A NINGUNA MICRORED","Sin Categoría"]
[null,{"$f":"VALUE(renipress[[#This Row],[Código Único]])","v":13655},"PRIVADO","00013655","OLMER MAMANI MOLINA","CUSCO","LA CONVENCION","SANTA ANA","080901","11","00","00","CUSCO"," ","NO PERTENECE A NINGUNA MICRORED","Sin Categoría"]
[null,{"$f":"VALUE(renipress[[#This Row],[Código Único]])","v":13660},"PRIVADO","00013660","JOSE DUILIO MONTOYA ZEGARRA","CUSCO","LA CONVENCION","SANTA ANA","080901","11","00","00","CUSCO"," ","NO PERTENECE A NINGUNA MICRORED","Sin Categoría"]
[null,{"$f":"VALUE(renipress[[#This Row],[Código Único]])","v":13672},"PRIVADO","00013672","AMAZON LIFE LABORATORIOS","LORETO","MAYNAS","IQUITOS","160101","24","00","00","LORETO"," ","NO PERTENECE A NINGUNA MICRORED","Sin Categoría"]
[null,{"$f":"VALUE(renipress[[#This Row],[Código Único]])","v":13681},"PRIVADO","00013681","DENTAL ORVEL","LAMBAYEQUE","CHICLAYO","CHICLAYO","140101","19","00","00","LAMBAYEQUE"," ","NO PERTENECE A NINGUNA MICRORED","Sin Categoría"]
[null,{"$f":"VALUE(renipress[[#This Row],[Código Único]])","v":13700},"PRIVADO","00013700","DENTAL MARIO LEON","LIMA","LIMA","PUENTE PIEDRA","150125","35","00","00","LIMA NORTE"," ","NO PERTENECE A NINGUNA MICRORED","I-1"]
[null,{"$f":"VALUE(renipress[[#This Row],[Código Único]])","v":13710},"PRIVADO","00013710","CENTRO DE SALUD VIRGEN DEL CARMEN HCO. SRLTDA","HUANUCO","HUANUCO","HUANUCO","100101","14","00","00","HUANUCO"," ","NO PERTENECE A NINGUNA MICRORED","I-3"]
[null,{"$f":"VALUE(renipress[[#This Row],[Código Único]])","v":13717},"PRIVADO","00013717","MMS & SALUD S.A.C.","LIMA","LIMA","CARABAYLLO","150106","35","00","00","LIMA NORTE"," ","NO PERTENECE A NINGUNA MICRORED","I-3"]
[null,{"$f":"VALUE(renipress[[#This Row],[Código Único]])","v":13731},"PRIVADO","00013731","ALEJANDRO VARGAS MAS","CALLAO","CALLAO","CALLAO","070101","8","00","00","CALLAO"," ","NO PERTENECE A NINGUNA MICRORED","I-1"]
[null,{"$f":"VALUE(renipress[[#This Row],[Código Único]])","v":13741},"PRIVADO","00013741","CONSULTORIO PSICOLOGICO KINDER EMANUEL","CALLAO","CALLAO","CALLAO","070101","8","00","00","CALLAO"," ","NO PERTENECE A NINGUNA MICRORED","Sin Categoría"]
[null,{"$f":"VALUE(renipress[[#This Row],[Código Único]])","v":13752},"PRIVADO","00013752","ESPEJO ESPE","CUSCO","CUSCO","WANCHAQ","080108","11","00","00","CUSCO"," ","NO PERTENECE A NINGUNA MICRORED","I-1"]
[null,{"$f":"VALUE(renipress[[#This Row],[Código Único]])","v":13769},"PRIVADO","00013769","CONSULTORIO MEDICO","LAMBAYEQUE","CHICLAYO","PIMENTEL","140112","19","00","00","LAMBAYEQUE"," ","NO PERTENECE A NINGUNA MICRORED","Sin Categoría"]
[null,{"$f":"VALUE(renipress[[#This Row],[Código Único]])","v":13773},"PRIVADO","00013773","SAN BORJA S. R. L.","CUSCO","CUSCO","CUSCO","080101","11","00","00","CUSCO"," ","NO PERTENECE A NINGUNA MICRORED","Sin Categoría"]
[null,{"$f":"VALUE(renipress[[#This Row],[Código Único]])","v":13786},"PRIVADO","00013786","GESTILAB SAC","CALLAO","CALLAO","CALLAO","070101","8","00","00","CALLAO"," ","NO PERTENECE A NINGUNA MICRORED","Sin Categoría"]
[null,{"$f":"VALUE(renipress[[#This Row],[Código Único]])","v":13802},"GOBIERNO REGIONAL","00013802","SUCCHAMARCA","LA LIBERTAD","SANCHEZ CARRION","COCHORCO","130903","18","10","07","LA LIBERTAD","RED SANCHEZ CARRION","ARICAPAMPA-SARTIMBABA","I-1"]
[null,{"$f":"VALUE(renipress[[#This Row],[Código Único]])","v":13814},"PRIVADO","00013814","EXACTA LAB","AREQUIPA","AREQUIPA","YANAHUARA","040126","4","00","00","AREQUIPA"," ","NO PERTENECE A NINGUNA MICRORED","Sin Categoría"]
[null,{"$f":"VALUE(renipress[[#This Row],[Código Único]])","v":13823},"MUNICIPALIDAD DISTRITAL","00013823","PUESTO DE SALUD PUERTO ANAPATI","JUNIN","SATIPO","MAZAMARI","120604","17","00","00","JUNIN","NO PERTENECE A NINGUNA RED","NO PERTENECE A NINGUNA MICRORED","I-1"]
[null,{"$f":"VALUE(renipress[[#This Row],[Código Único]])","v":13832},"PRIVADO","00013832","DRA. EDITH SAAVEDRA","ICA","ICA","ICA","110101","15","00","00","ICA"," ","NO PERTENECE A NINGUNA MICRORED","I-2"]
[null,{"$f":"VALUE(renipress[[#This Row],[Código Único]])","v":13849},"GOBIERNO REGIONAL","00013849","SANTA ROSA DE HUABAL","CAJAMARCA","JAEN","HUABAL","060805","7","15","10","CAJAMARCA","JAEN","HUABAL","I-1"]
[null,{"$f":"VALUE(renipress[[#This Row],[Código Único]])","v":13865},"PRIVADO","00013865","STEFANY PAMELA RIVAS GONZALES","CALLAO","CALLAO","CALLAO","070101","8","00","00","CALLAO"," ","NO PERTENECE A NINGUNA MICRORED","I-1"]
[null,{"$f":"VALUE(renipress[[#This Row],[Código Único]])","v":13866},"SANIDAD DE LA MARINA DE GUERRA DEL PERU","00013866","ENFERMERIA MOVIL BAP STIGLICH M.G.P.","LORETO","MAYNAS","PUNCHANA","160108","24","00","00","LORETO","NO PERTENECE A NINGUNA RED","NO PERTENECE A NINGUNA MICRORED","Sin Categoría"]
[null,{"$f":"VALUE(renipress[[#This Row],[Código Único]])","v":13886},"GOBIERNO REGIONAL","00013886","LABORATORIO DE REFERENCIA REGIONAL DE SALUD PUBLICA","TUMBES","TUMBES","TUMBES","240101","33","01","00","TUMBES","TUMBES","NO PERTENECE A NINGUNA MICRORED","Sin Categoría"]
[null,{"$f":"VALUE(renipress[[#This Row],[Código Único]])","v":13890},"PRIVADO","00013890","SG NATCLAR SAC","LIMA","LIMA","COMAS","150110","35","00","00","LIMA NORTE"," ","NO PERTENECE A NINGUNA MICRORED","I-3"]
[null,{"$f":"VALUE(renipress[[#This Row],[Código Único]])","v":13907},"PRIVADO","00013907","PROMUJER INC MOLLENDO","AREQUIPA","ISLAY","MOLLENDO","040701","4","00","00","AREQUIPA"," ","NO PERTENECE A NINGUNA MICRORED","Sin Categoría"]
[null,{"$f":"VALUE(renipress[[#This Row],[Código Único]])","v":13918},"PRIVADO","00013918","CONSULTORIO ODONTOLOGICO","AREQUIPA","AREQUIPA","AREQUIPA","040101","4","00","00","AREQUIPA"," ","NO PERTENECE A NINGUNA MICRORED","I-1"]
[null,{"$f":"VALUE(renipress[[#This Row],[Código Único]])","v":13928},"GOBIERNO REGIONAL","00013928","PAIHUAL","LA LIBERTAD","OTUZCO","AGALLPAMPA","130602","18","03","02","LA LIBERTAD","RED OTUZCO","AGALLPAMPA","I-1"]
[null,{"$f":"VALUE(renipress[[#This Row],[Código Único]])","v":13935},"PRIVADO","00013935","CHUK E KIDS E.I.R.L.","CALLAO","CALLAO","CALLAO","070101","8","00","00","CALLAO"," ","NO PERTENECE A NINGUNA MICRORED","Sin Categoría"]
[null,{"$f":"VALUE(renipress[[#This Row],[Código Único]])","v":13958},"PRIVADO","00013958","POLICLINICO PLUS MANTARO","JUNIN","HUANCAYO","CHILCA","120107","17","00","00","JUNIN"," ","NO PERTENECE A NINGUNA MICRORED","I-3"]
[null,{"$f":"VALUE(renipress[[#This Row],[Código Único]])","v":13964},"PRIVADO","00013964","ESTETICA DENTAL SONRIE","LIMA","LIMA","ATE","150103","21","00","00","LIMA ESTE"," ","NO PERTENECE A NINGUNA MICRORED","I-1"]
[null,{"$f":"VALUE(renipress[[#This Row],[Código Único]])","v":13979},"PRIVADO","00013979","MAURICIO ALVARADO LUZ LIDA","LIMA","LIMA","LOS OLIVOS","150117","35","00","00","LIMA NORTE"," ","NO PERTENECE A NINGUNA MICRORED","I-1"]
[null,{"$f":"VALUE(renipress[[#This Row],[Código Único]])","v":13989},"PRIVADO","00013989","CONSULTORIO MEDICO AXL","JUNIN","HUANCAYO","HUANCAYO","120101","17","00","00","JUNIN"," ","NO PERTENECE A NINGUNA MICRORED","Sin Categoría"]
[null,{"$f":"VALUE(renipress[[#This Row],[Código Único]])","v":14001},"PRIVADO","00014001","CONSULTORIO MEDICO","LAMBAYEQUE","CHICLAYO","PICSI","140111","19","00","00","LAMBAYEQUE"," ","NO PERTENECE A NINGUNA MICRORED","Sin Categoría"]
[null,{"$f":"VALUE(renipress[[#This Row],[Código Único]])","v":14006},"SANIDAD DE LA MARINA DE GUERRA DEL PERU","00014006","B.A.P. CORRIENTES","LORETO","MAYNAS","PUNCHANA","160108","24","00","00","LORETO","NO PERTENECE A NINGUNA RED","NO PERTENECE A NINGUNA MICRORED","Sin Categoría"]
[null,{"$f":"VALUE(renipress[[#This Row],[Código Único]])","v":14022},"GOBIERNO REGIONAL","00014022","LABORATORIO DE REFERENCIA REGIONAL ANCASH","ANCASH","HUARAZ","HUARAZ","020101","2","00","00","ANCASH","NO PERTENECE A NINGUNA RED","NO PERTENECE A NINGUNA MICRORED","Sin Categoría"]
[null,{"$f":"VALUE(renipress[[#This Row],[Código Único]])","v":14034},"SANIDAD DE LA MARINA DE GUERRA DEL PERU","00014034","JFMF-01 EL ESTRECHO","LORETO","PUTUMAYO","PUTUMAYO","160801","24","00","00","LORETO","NO PERTENECE A NINGUNA RED","NO PERTENECE A NINGUNA MICRORED","Sin Categoría"]
[null,{"$f":"VALUE(renipress[[#This Row],[Código Único]])","v":14051},"GOBIERNO REGIONAL","00014051","LABORATORIO REFERENCIAL REGIONAL","HUANUCO","HUANUCO","HUANUCO","100101","14","00","00","HUANUCO","NO PERTENECE A NINGUNA RED","NO PERTENECE A NINGUNA MICRORED","Sin Categoría"]
[null,{"$f":"VALUE(renipress[[#This Row],[Código Único]])","v":14062},"PRIVADO","00014062","CONSULTORIO ODONTOLOGICO","LAMBAYEQUE","CHICLAYO","CHICLAYO","140101","19","00","00","LAMBAYEQUE"," ","NO PERTENECE A NINGUNA MICRORED","Sin Categoría"]
[null,{"$f":"VALUE(renipress[[#This Row],[Código Único]])","v":14072},"PRIVADO","00014072","CONSULTORIOS MEDICOS KALMA Y SALUD EIRL","LIMA","LIMA","SAN JUAN DE LURIGANCHO","150132","36","00","00","LIMA CENTRO"," ","NO PERTENECE A NINGUNA MICRORED","Sin Categoría"]
[null,{"$f":"VALUE(renipress[[#This Row],[Código Único]])","v":14075},"PRIVADO","00014075","CLINICA DENTAL ESPECIALIZADA INNOVA VITAL S.A.C.","LAMBAYEQUE","CHICLAYO","CHICLAYO","140101","19","00","00","LAMBAYEQUE"," ","NO PERTENECE A NINGUNA MICRORED","Sin Categoría"]
[null,{"$f":"VALUE(renipress[[#This Row],[Código Único]])","v":14093},"PRIVADO","00014093","SERVICIOS MEDICOS FRAMED SOCIEDAD DE RESPONSABILIDAD LIMITADA","PIURA","TALARA","PARIÑAS","200701","28","00","00","PIURA"," ","NO PERTENECE A NINGUNA MICRORED","Sin Categoría"]
[null,{"$f":"VALUE(renipress[[#This Row],[Código Único]])","v":14103},"PRIVADO","00014103","CONSULTORIOS MEDICOS Y DE OTROS PROFESIONALES DE LA SALUD","PIURA","TALARA","PARIÑAS","200701","28","00","00","PIURA"," ","NO PERTENECE A NINGUNA MICRORED","I-2"]
[null,{"$f":"VALUE(renipress[[#This Row],[Código Único]])","v":14114},"PRIVADO","00014114","UNIVERSIDAD PERUANA CAYETANO HEREDIA","LIMA","LIMA","SAN MARTIN DE PORRES","150135","35","00","00","LIMA NORTE"," ","NO PERTENECE A NINGUNA MICRORED","Sin Categoría"]
[null,{"$f":"VALUE(renipress[[#This Row],[Código Único]])","v":14131},"PRIVADO","00014131","UNIDAD MEDICA TALLERES","CAJAMARCA","CAJAMARCA","CAJAMARCA","060101","7","00","00","CAJAMARCA"," ","NO PERTENECE A NINGUNA MICRORED","I-2"]
[null,{"$f":"VALUE(renipress[[#This Row],[Código Único]])","v":14143},"PRIVADO","00014143","VIVILAB S.A.C.","LAMBAYEQUE","CHICLAYO","CHICLAYO","140101","19","00","00","LAMBAYEQUE"," ","NO PERTENECE A NINGUNA MICRORED","Sin Categoría"]
[null,{"$f":"VALUE(renipress[[#This Row],[Código Único]])","v":14148},"PRIVADO","00014148","MET SALUD Rehabilitación Medica Integral","LIMA","LIMA","SAN JUAN DE LURIGANCHO","150132","36","00","00","LIMA CENTRO"," ","NO PERTENECE A NINGUNA MICRORED","I-2"]
[null,{"$f":"VALUE(renipress[[#This Row],[Código Único]])","v":14164},"PRIVADO","00014164","LABORATORIO CLINICO BIOMEDIC","LIMA","LIMA","SANTA ANITA","150137","21","00","00","LIMA ESTE"," ","NO PERTENECE A NINGUNA MICRORED","Sin Categoría"]
[null,{"$f":"VALUE(renipress[[#This Row],[Código Único]])","v":14176},"PRIVADO","00014176","FUZION MEDICA S.A.C.","LIMA","LIMA","SANTIAGO DE SURCO","150140","23","00","00","LIMA SUR"," ","NO PERTENECE A NINGUNA MICRORED","I-3"]
[null,{"$f":"VALUE(renipress[[#This Row],[Código Único]])","v":14185},"PRIVADO","00014185","IBAZETA LABORATORIOS S.A.C.","UCAYALI","CORONEL PORTILLO","CALLERIA","250101","34","00","00","UCAYALI","NO PERTENECE A NINGUNA RED","NO PERTENECE A NINGUNA MICRORED","Sin Categoría"]
[null,{"$f":"VALUE(renipress[[#This Row],[Código Único]])","v":14200},"PRIVADO","00014200","ONKO CSP E.I.R.L.","LIMA","LIMA","JESUS MARIA","150113","36","00","00","LIMA CENTRO"," ","NO PERTENECE A NINGUNA MICRORED","I-2"]
[null,{"$f":"VALUE(renipress[[#This Row],[Código Único]])","v":14207},"PRIVADO","00014207","CLINICA ESPECIALIZADA IMAGEN DENTAL S.R.L","LAMBAYEQUE","CHICLAYO","CHICLAYO","140101","19","00","00","LAMBAYEQUE","NO PERTENECE A NINGUNA RED","NO PERTENECE A NINGUNA MICRORED","Sin Categoría"]
[null,{"$f":"VALUE(renipress[[#This Row],[Código Único]])","v":14218},"PRIVADO","00014218","CONSULTORIO OBSTETRICO PREVENCION MUJER","LIMA","LIMA","SAN JUAN DE LURIGANCHO","150132","36","00","00","LIMA CENTRO"," ","NO PERTENECE A NINGUNA MICRORED","I-1"]
[null,{"$f":"VALUE(renipress[[#This Row],[Código Único]])","v":14236},"PRIVADO","00014236","VILLACHICA JIMENEZ AMADEO","LIMA","LIMA","LA VICTORIA","150115","36","00","00","LIMA CENTRO"," ","NO PERTENECE A NINGUNA MICRORED","I-1"]
[null,{"$f":"VALUE(renipress[[#This Row],[Código Único]])","v":14246},"PRIVADO","00014246","CONSULTORIO OBSTÉTRICO NACER CONSENTIDO","TACNA","TACNA","TACNA","230101","32","00","00","TACNA"," ","NO PERTENECE A NINGUNA MICRORED","Sin Categoría"]
[null,{"$f":"VALUE(renipress[[#This Row],[Código Único]])","v":14257},"GOBIERNO REGIONAL","00014257","LABORATORIO DE REFERENCIA REGIONAL DE SALUD PUBLICA","PUNO","PUNO","PUNO","210101","29","00","00","PUNO","NO PERTENECE A NINGUNA RED","NO PERTENECE A NINGUNA MICRORED","Sin Categoría"]
[null,{"$f":"VALUE(renipress[[#This Row],[Código Único]])","v":14263},"PRIVADO","00014263","OTO CUSCO POVEA","CUSCO","CUSCO","WANCHAQ","080108","11","00","00","CUSCO"," ","NO PERTENECE A NINGUNA MICRORED","Sin Categoría"]
[null,{"$f":"VALUE(renipress[[#This Row],[Código Único]])","v":14278},"PRIVADO","00014278","CONSULTORIO MÉDICO HEALTH FOR LIFE MEDICINA INTEGRATIVA Y NATURAL","TACNA","TACNA","TACNA","230101","32","00","00","TACNA"," ","NO PERTENECE A NINGUNA MICRORED","Sin Categoría"]
[null,{"$f":"VALUE(renipress[[#This Row],[Código Único]])","v":14287},"PRIVADO","00014287","CONSULTORIOS LABORATORIOS ORIXCHEL E.I.R.L.","PIURA","PIURA","CASTILLA","200104","28","00","00","PIURA"," ","NO PERTENECE A NINGUNA MICRORED","I-3"]
[null,{"$f":"VALUE(renipress[[#This Row],[Código Único]])","v":14299},"PRIVADO","00014299","CONSULTORIOS MÉDICOS ARCANGEL SULLANA 2","PIURA","SULLANA","SULLANA","200601","28","00","00","PIURA"," ","NO PERTENECE A NINGUNA MICRORED","I-2"]
[null,{"$f":"VALUE(renipress[[#This Row],[Código Único]])","v":14315},"PRIVADO","00014315","CLINICA DENTAL ORTODENTAL E.I.R.L.","LORETO","MAYNAS","IQUITOS","160101","24","00","00","LORETO"," ","NO PERTENECE A NINGUNA MICRORED","I-2"]
[null,{"$f":"VALUE(renipress[[#This Row],[Código Único]])","v":14320},"PRIVADO","00014320","CLINICA YANAMONO","LORETO","MAYNAS","PUNCHANA","160108","24","00","00","LORETO"," ","NO PERTENECE A NINGUNA MICRORED","I-2"]
[null,{"$f":"VALUE(renipress[[#This Row],[Código Único]])","v":14332},"PRIVADO","00014332","SALUD VISUAL","CUSCO","CUSCO","CUSCO","080101","11","00","00","CUSCO"," ","NO PERTENECE A NINGUNA MICRORED","Sin Categoría"]
[null,{"$f":"VALUE(renipress[[#This Row],[Código Único]])","v":14349},"INPE","00014349","PENITENCIARIO DE PUCALLPA","UCAYALI","CORONEL PORTILLO","CALLERIA","250101","34","00","00","UCAYALI","NO PERTENECE A NINGUNA RED","NO PERTENECE A NINGUNA MICRORED","I-2"]
[null,{"$f":"VALUE(renipress[[#This Row],[Código Único]])","v":14361},"PRIVADO","00014361","INSTITUTO DEL CEREBRO Y LA COLUMNA VERTEBRAL","LIMA","LIMA","MIRAFLORES","150122","36","00","00","LIMA CENTRO"," ","NO PERTENECE A NINGUNA MICRORED","II-E"]
[null,{"$f":"VALUE(renipress[[#This Row],[Código Único]])","v":14371},"PRIVADO","00014371","CONSULTORIO MEDICO PEDIATRICO","CAJAMARCA","JAEN","JAEN","060801","7","00","00","CAJAMARCA"," ","NO PERTENECE A NINGUNA MICRORED","I-2"]
[null,{"$f":"VALUE(renipress[[#This Row],[Código Único]])","v":14385},"GOBIERNO REGIONAL","00014385","MARISCAL CACERES","JUNIN","CHANCHAMAYO","PERENE","120302","17","04","03","JUNIN","CHANCHAMAYO","PERENE","I-2"]
[null,{"$f":"VALUE(renipress[[#This Row],[Código Único]])","v":14392},"PRIVADO","00014392","MONTES POMAJULCA LUIS FERNANDO","LIMA","LIMA","SAN MARTIN DE PORRES","150135","35","00","00","LIMA NORTE"," ","NO PERTENECE A NINGUNA MICRORED","I-1"]
[null,{"$f":"VALUE(renipress[[#This Row],[Código Único]])","v":14402},"PRIVADO","00014402","RESONANCIA MAGNETICA DE SOLIDARIDAD SOCIAL S.R.L.","ICA","ICA","ICA","110101","15","00","00","ICA"," ","NO PERTENECE A NINGUNA MICRORED","I-3"]
[null,{"$f":"VALUE(renipress[[#This Row],[Código Único]])","v":14413},"PRIVADO","00014413","CENTRO MEDICO ASISTENCIAL SANTIAGO APOSTOL","SAN MARTIN","MOYOBAMBA","MOYOBAMBA","220101","30","00","00","SAN MARTIN"," "," ","I-3"]
[null,{"$f":"VALUE(renipress[[#This Row],[Código Único]])","v":14430},"PRIVADO","00014430","HUERTAS TALAVERA","ICA","ICA","ICA","110101","15","00","00","ICA"," ","NO PERTENECE A NINGUNA MICRORED","Sin Categoría"]
[null,{"$f":"VALUE(renipress[[#This Row],[Código Único]])","v":14442},"PRIVADO","00014442","CONSULTORIO MÉDICO APOSTOL SANTIAGO","LAMBAYEQUE","CHICLAYO","CHICLAYO","140101","19","00","00","LAMBAYEQUE"," ","NO PERTENECE A NINGUNA MICRORED","Sin Categoría"]
[null,{"$f":"VALUE(renipress[[#This Row],[Código Único]])","v":14447},"PRIVADO","00014447","CONSULTORIO ODONTOLOGICO KIRU DENT","TACNA","TACNA","TACNA","230101","32","00","00","TACNA"," ","NO PERTENECE A NINGUNA MICRORED","Sin Categoría"]
[null,{"$f":"VALUE(renipress[[#This Row],[Código Único]])","v":14464},"PRIVADO","00014464","QUIROS RAMOS LUIS MARIANO","LIMA","LIMA","MIRAFLORES","150122","36","00","00","LIMA CENTRO"," ","NO PERTENECE A NINGUNA MICRORED","I-1"]
[null,{"$f":"VALUE(renipress[[#This Row],[Código Único]])","v":14472},"PRIVADO","00014472","DENTAL RIMARI","LIMA","LIMA","EL AGUSTINO","150111","21","00","00","LIMA ESTE"," ","NO PERTENECE A NINGUNA MICRORED","Sin Categoría"]
[null,{"$f":"VALUE(renipress[[#This Row],[Código Único]])","v":14486},"PRIVADO","00014486","CONSULTORIO MEDICO PSIQUIATRICO LAZOS","LIMA","LIMA","SAN ISIDRO","150131","36","00","00","LIMA CENTRO"," ","NO PERTENECE A NINGUNA MICRORED","I-2"]
[null,{"$f":"VALUE(renipress[[#This Row],[Código Único]])","v":14501},"PRIVADO","00014501","CLINICA SAN GABRIEL S.A.C.","LIMA","LIMA","SAN MIGUEL","150136","36","00","00","LIMA CENTRO","NO PERTENECE A NINGUNA RED","NO PERTENECE A NINGUNA MICRORED","II-2"]
[null,{"$f":"VALUE(renipress[[#This Row],[Código Único]])","v":14507},"PRIVADO","00014507","RICALDE CASAVERDE ANA MARIA","LIMA","LIMA","SAN MARTIN DE PORRES","150135","35","00","00","LIMA NORTE"," ","NO PERTENECE A NINGUNA MICRORED","I-2"]
[null,{"$f":"VALUE(renipress[[#This Row],[Código Único]])","v":14518},"PRIVADO","00014518","CENTRO  MARIA AUXILIADORA","JUNIN","CHANCHAMAYO","PICHANAQUI","120303","17","00","00","JUNIN"," ","NO PERTENECE A NINGUNA MICRORED","Sin Categoría"]
[null,{"$f":"VALUE(renipress[[#This Row],[Código Único]])","v":14537},"PRIVADO","00014537","CARBONELLI","CUSCO","CUSCO","CUSCO","080101","11","00","00","CUSCO"," ","NO PERTENECE A NINGUNA MICRORED","Sin Categoría"]
[null,{"$f":"VALUE(renipress[[#This Row],[Código Único]])","v":14548},"MUNICIPALIDAD PROVINCIAL","00014548","SISOL METRO UNI","LIMA","LIMA","RIMAC","150128","35","00","00","LIMA NORTE","NO PERTENECE A NINGUNA RED","NO PERTENECE A NINGUNA MICRORED","Sin Categoría"]
[null,{"$f":"VALUE(renipress[[#This Row],[Código Único]])","v":14559},"PRIVADO","00014559","DENTAL D&D","JUNIN","CHANCHAMAYO","CHANCHAMAYO","120301","17","00","00","JUNIN"," ","NO PERTENECE A NINGUNA MICRORED","Sin Categoría"]
[null,{"$f":"VALUE(renipress[[#This Row],[Código Único]])","v":14565},"PRIVADO","00014565","BUSTOS ORIHUELA WILDER LENIN","LIMA","LIMA","SAN MARTIN DE PORRES","150135","35","00","00","LIMA NORTE"," ","NO PERTENECE A NINGUNA MICRORED","I-1"]
[null,{"$f":"VALUE(renipress[[#This Row],[Código Único]])","v":14678},"PRIVADO","00014678","CLINICA DENTAL MASTER S.A.C.","LIMA","LIMA","MIRAFLORES","150122","36","00","00","LIMA CENTRO"," ","NO PERTENECE A NINGUNA MICRORED","I-1"]
[null,{"$f":"VALUE(renipress[[#This Row],[Código Único]])","v":14687},"PRIVADO","00014687","POLICLINICO BAZAN","LIMA","LIMA","SAN JUAN DE MIRAFLORES","150133","23","00","00","LIMA SUR"," ","NO PERTENECE A NINGUNA MICRORED","I-3"]
[null,{"$f":"VALUE(renipress[[#This Row],[Código Único]])","v":14699},"MUNICIPALIDAD DISTRITAL","00014699","SISOL CHICLAYO","LAMBAYEQUE","CHICLAYO","CHICLAYO","140101","19","00","00","LAMBAYEQUE","NO PERTENECE A NINGUNA RED","NO PERTENECE A NINGUNA MICRORED","I-3"]
[null,{"$f":"VALUE(renipress[[#This Row],[Código Único]])","v":14715},"PRIVADO","00014715","POLICLINICO SANTO TOMAS DE AQUINO","LIMA","LIMA","LIMA","150101","36","00","00","LIMA CENTRO"," ","NO PERTENECE A NINGUNA MICRORED","I-3"]
[null,{"$f":"VALUE(renipress[[#This Row],[Código Único]])","v":14728},"PRIVADO","00014728","CORDOVA SOLIS MARIA GRACIELA","LIMA","LIMA","RIMAC","150128","35","00","00","LIMA NORTE"," ","NO PERTENECE A NINGUNA MICRORED","I-2"]
[null,{"$f":"VALUE(renipress[[#This Row],[Código Único]])","v":14732},"PRIVADO","00014732","POLICLINICO PEDIATRICO DEL NORTE","CAJAMARCA","CAJAMARCA","CAJAMARCA","060101","7","00","00","CAJAMARCA"," ","NO PERTENECE A NINGUNA MICRORED","I-3"]
[null,{"$f":"VALUE(renipress[[#This Row],[Código Único]])","v":14750},"PRIVADO","00014750","MEDLAB S.A.C.","CUSCO","CUSCO","WANCHAQ","080108","11","00","00","CUSCO","NO PERTENECE A NINGUNA RED","NO PERTENECE A NINGUNA MICRORED","Sin Categoría"]
[null,{"$f":"VALUE(renipress[[#This Row],[Código Único]])","v":14761},"PRIVADO","00014761","SERVICIOS MEDICOS & DERMATOLOGOS ASOCIADOS S.A.C.","LIMA","LIMA","LOS OLIVOS","150117","35","00","00","LIMA NORTE"," ","NO PERTENECE A NINGUNA MICRORED","I-2"]
[null,{"$f":"VALUE(renipress[[#This Row],[Código Único]])","v":14771},"PRIVADO","00014771","SERVICIOS INTEGRALES DE SALUD SANTO DOMINGO EIRL","LIMA","LIMA","LIMA","150101","36","00","00","LIMA CENTRO"," ","NO PERTENECE A NINGUNA MICRORED","I-2"]
[null,{"$f":"VALUE(renipress[[#This Row],[Código Único]])","v":14785},"PRIVADO","00014785","POR TI, FAMILIA S.A.C.","LIMA","LIMA","COMAS","150110","35","00","00","LIMA NORTE","NO PERTENECE A NINGUNA RED","NO PERTENECE A NINGUNA MICRORED","I-2"]
[null,{"$f":"VALUE(renipress[[#This Row],[Código Único]])","v":14792},"PRIVADO","00014792","MARCOS PUERTAS CERON","LIMA","LIMA","ATE","150103","21","00","00","LIMA ESTE","NO PERTENECE A NINGUNA RED","NO PERTENECE A NINGUNA MICRORED","Sin Categoría"]
[null,{"$f":"VALUE(renipress[[#This Row],[Código Único]])","v":14802},"PRIVADO","00014802","NORIS ESMERALDA MAGUIÑA RIOS","LIMA","HUARAL","HUARAL","150601","22","00","00","LIMA"," ","NO PERTENECE A NINGUNA MICRORED","Sin Categoría"]
[null,{"$f":"VALUE(renipress[[#This Row],[Código Único]])","v":14822},"PRIVADO","00014822","GONZALES BARRA LIDA JOSEFINA","LIMA","LIMA","MAGDALENA DEL MAR","150120","36","00","00","LIMA CENTRO"," ","NO PERTENECE A NINGUNA MICRORED","I-1"]
[null,{"$f":"VALUE(renipress[[#This Row],[Código Único]])","v":14831},"PRIVADO","00014831","CONSULTORIO DENTAL CLARDENT","LIMA","LIMA","ATE","150103","21","00","00","LIMA ESTE"," ","NO PERTENECE A NINGUNA MICRORED","I-1"]
[null,{"$f":"VALUE(renipress[[#This Row],[Código Único]])","v":14843},"PRIVADO","00014843","CONSULTORIO DENTAL GAVIDIA","LIMA","LIMA","SAN JUAN DE LURIGANCHO","150132","36","00","00","LIMA CENTRO"," ","NO PERTENECE A NINGUNA MICRORED","I-1"]
[null,{"$f":"VALUE(renipress[[#This Row],[Código Único]])","v":14848},"PRIVADO","00014848","CONSULTORIO MEDICO SANTA CLARA","LAMBAYEQUE","CHICLAYO","CHICLAYO","140101","19","00","00","LAMBAYEQUE"," ","NO PERTENECE A NINGUNA MICRORED","Sin Categoría"]
[null,{"$f":"VALUE(renipress[[#This Row],[Código Único]])","v":14865},"PRIVADO","00014865","VANGUARDIA MEDICA","CUSCO","LA CONVENCION","SANTA ANA","080901","11","00","00","CUSCO"," ","NO PERTENECE A NINGUNA MICRORED","I-3"]
[null,{"$f":"VALUE(renipress[[#This Row],[Código Único]])","v":14873},"PRIVADO","00014873","CLINICA ODONTOLOGICA BIODENT E.I.R.L.","LIMA","LIMA","SAN LUIS","150134","36","00","00","LIMA CENTRO"," ","NO PERTENECE A NINGUNA MICRORED","I-1"]
[null,{"$f":"VALUE(renipress[[#This Row],[Código Único]])","v":14886},"PRIVADO","00014886","CONSULTORIO MEDICO JAMPI WASI DE TABLADA DE LURIN","LIMA","LIMA","VILLA MARIA DEL TRIUNFO","150143","23","00","00","LIMA SUR"," ","NO PERTENECE A NINGUNA MICRORED","I-2"]
[null,{"$f":"VALUE(renipress[[#This Row],[Código Único]])","v":14901},"PRIVADO","00014901","FAJARDO JERI JOSE ALFREDO","LIMA","LIMA","LIMA","150101","36","00","00","LIMA CENTRO"," ","NO PERTENECE A NINGUNA MICRORED","I-1"]
[null,{"$f":"VALUE(renipress[[#This Row],[Código Único]])","v":14907},"PRIVADO","00014907","CONSULTORIO DENTAL IVAN","LIMA","LIMA","ATE","150103","21","00","00","LIMA ESTE"," ","NO PERTENECE A NINGUNA MICRORED","I-1"]
[null,{"$f":"VALUE(renipress[[#This Row],[Código Único]])","v":14918},"PRIVADO","00014918","GUERRERO VALLEJOS FRANCISCO","LIMA","LIMA","MIRAFLORES","150122","36","00","00","LIMA CENTRO"," ","NO PERTENECE A NINGUNA MICRORED","I-1"]
[null,{"$f":"VALUE(renipress[[#This Row],[Código Único]])","v":14936},"PRIVADO","00014936","GARRO LESCANO CESAR AUGUSTO","LIMA","LIMA","LOS OLIVOS","150117","35","00","00","LIMA NORTE"," ","NO PERTENECE A NINGUNA MICRORED","I-1"]
[null,{"$f":"VALUE(renipress[[#This Row],[Código Único]])","v":14946},"PRIVADO","00014946","DENTIKIDS","LIMA","LIMA","SANTIAGO DE SURCO","150140","23","00","00","LIMA SUR"," ","NO PERTENECE A NINGUNA MICRORED","I-1"]
[null,{"$f":"VALUE(renipress[[#This Row],[Código Único]])","v":14958},"PRIVADO","00014958","VICTOR FERNANDO LEVANO FUENTES","CALLAO","CALLAO","VENTANILLA","070106","8","00","00","CALLAO","NO PERTENECE A NINGUNA RED","NO PERTENECE A NINGUNA MICRORED","Sin Categoría"]
[null,{"$f":"VALUE(renipress[[#This Row],[Código Único]])","v":14977},"PRIVADO","00014977","CORPORAL AGE S.A.C.","LIMA","LIMA","MIRAFLORES","150122","36","00","00","LIMA CENTRO","NO PERTENECE A NINGUNA RED","NO PERTENECE A NINGUNA MICRORED","Sin Categoría"]
[null,{"$f":"VALUE(renipress[[#This Row],[Código Único]])","v":14985},"PRIVADO","00014985","CORPORAL AGE S.A.C.","LIMA","LIMA","MIRAFLORES","150122","36","00","00","LIMA CENTRO","NO PERTENECE A NINGUNA RED","NO PERTENECE A NINGUNA MICRORED","Sin Categoría"]
[null,{"$f":"VALUE(renipress[[#This Row],[Código Único]])","v":14994},"PRIVADO","00014994","CORPORAL AGE S.A.C.","LIMA","LIMA","MIRAFLORES","150122","36","00","00","LIMA CENTRO","NO PERTENECE A NINGUNA RED","NO PERTENECE A NINGUNA MICRORED","Sin Categoría"]
[null,{"$f":"VALUE(renipress[[#This Row],[Código Único]])","v":15006},"PRIVADO","00015006","CORPORAL AGE S.A.C.","LIMA","LIMA","MIRAFLORES","150122","36","00","00","LIMA CENTRO","NO PERTENECE A NINGUNA RED","NO PERTENECE A NINGUNA MICRORED","Sin Categoría"]
[null,{"$f":"VALUE(renipress[[#This Row],[Código Único]])","v":15022},"PRIVADO","00015022","CORPORAL AGE S.A.C.","LIMA","LIMA","MIRAFLORES","150122","36","00","00","LIMA CENTRO","NO PERTENECE A NINGUNA RED","NO PERTENECE A NINGUNA MICRORED","Sin Categoría"]
[null,{"$f":"VALUE(renipress[[#This Row],[Código Único]])","v":15035},"PRIVADO","00015035","CORPORAL AGE S.A.C.","LIMA","LIMA","MIRAFLORES","150122","36","00","00","LIMA CENTRO","NO PERTENECE A NINGUNA RED","NO PERTENECE A NINGUNA MICRORED","Sin Categoría"]
[null,{"$f":"VALUE(renipress[[#This Row],[Código Único]])","v":15050},"PRIVADO","00015050","CORPORAL AGE S.A.C.","LIMA","LIMA","MIRAFLORES","150122","36","00","00","LIMA CENTRO","NO PERTENECE A NINGUNA RED","NO PERTENECE A NINGUNA MICRORED","Sin Categoría"]
[null,{"$f":"VALUE(renipress[[#This Row],[Código Único]])","v":15056},"PRIVADO","00015056","CORPORAL AGE S.A.C.","LIMA","LIMA","MIRAFLORES","150122","36","00","00","LIMA CENTRO","NO PERTENECE A NINGUNA RED","NO PERTENECE A NINGUNA MICRORED","Sin Categoría"]
[null,{"$f":"VALUE(renipress[[#This Row],[Código Único]])","v":15067},"PRIVADO","00015067","LABORATORIO DE ANALISIS CLINICOS Y MICROBIOLOGICOS SERVICLAB","LAMBAYEQUE","CHICLAYO","CHICLAYO","140101","19","00","00","LAMBAYEQUE"," ","NO PERTENECE A NINGUNA MICRORED","Sin Categoría"]
[null,{"$f":"VALUE(renipress[[#This Row],[Código Único]])","v":15077},"PRIVADO","00015077","LIGA CONTRA EL CÁNCER","LIMA","LIMA","PUEBLO LIBRE","150121","36","00","00","LIMA CENTRO"," ","NO PERTENECE A NINGUNA MICRORED","II-E"]
[null,{"$f":"VALUE(renipress[[#This Row],[Código Único]])","v":15091},"PRIVADO","00015091","CENTRO MEDICO INFANTIL NIÑOS FELICES E.I.R.L.","LORETO","MAYNAS","PUNCHANA","160108","24","00","00","LORETO"," ","NO PERTENECE A NINGUNA MICRORED","I-3"]
[null,{"$f":"VALUE(renipress[[#This Row],[Código Único]])","v":15098},"PRIVADO","00015098","CENTRO DE TERAPIA FISICA Y REHABILITACION QUIROFISIO S.R.L","LIMA","LIMA","SAN MARTIN DE PORRES","150135","35","00","00","LIMA NORTE"," ","NO PERTENECE A NINGUNA MICRORED","Sin Categoría"]
[null,{"$f":"VALUE(renipress[[#This Row],[Código Único]])","v":15120},"PRIVADO","00015120","OPTICAS FASHION CENTER EIRL","CALLAO","CALLAO","CALLAO","070101","8","00","00","CALLAO"," ","NO PERTENECE A NINGUNA MICRORED","Sin Categoría"]
[null,{"$f":"VALUE(renipress[[#This Row],[Código Único]])","v":15128},"PRIVADO","00015128","HILDA POLIDO GUIZADO","LIMA","LIMA","SAN JUAN DE LURIGANCHO","150132","36","00","00","LIMA CENTRO"," ","NO PERTENECE A NINGUNA MICRORED","Sin Categoría"]
[null,{"$f":"VALUE(renipress[[#This Row],[Código Único]])","v":15137},"PRIVADO","00015137","IZAGUIRRE LOPEZ TERENCIO POMPEYO","LIMA","LIMA","SAN MARTIN DE PORRES","150135","35","00","00","LIMA NORTE"," ","NO PERTENECE A NINGUNA MICRORED","I-2"]
[null,{"$f":"VALUE(renipress[[#This Row],[Código Único]])","v":15149},"PRIVADO","00015149","LATIN ESTHETIC","LIMA","LIMA","PUEBLO LIBRE","150121","36","00","00","LIMA CENTRO"," ","NO PERTENECE A NINGUNA MICRORED","I-2"]
[null,{"$f":"VALUE(renipress[[#This Row],[Código Único]])","v":15165},"PRIVADO","00015165","LIGA PERUANA DE LUCHA CONTRA EL CANCER","LAMBAYEQUE","CHICLAYO","CHICLAYO","140101","19","00","00","LAMBAYEQUE"," ","NO PERTENECE A NINGUNA MICRORED","Sin Categoría"]
[null,{"$f":"VALUE(renipress[[#This Row],[Código Único]])","v":15170},"GOBIERNO REGIONAL","00015170","PICHARI BAJA","CUSCO","LA CONVENCION","PICHARI","080910","11","05","02","CUSCO","KIMBIRI PICHARI","PICHARI","I-1"]
[null,{"$f":"VALUE(renipress[[#This Row],[Código Único]])","v":15189},"PRIVADO","00015189","CONSULTORIO ODONTOLOGICO","AREQUIPA","CAYLLOMA","MAJES","040520","4","00","00","AREQUIPA"," ","NO PERTENECE A NINGUNA MICRORED","I-1"]
[null,{"$f":"VALUE(renipress[[#This Row],[Código Único]])","v":15191},"PRIVADO","00015191","DR. LUIS QUITO","CALLAO","CALLAO","CALLAO","070101","8","00","00","CALLAO"," ","NO PERTENECE A NINGUNA MICRORED","I-2"]
[null,{"$f":"VALUE(renipress[[#This Row],[Código Único]])","v":15206},"PRIVADO","00015206","SERVICIOS MEDICO SAN MIGUEL DE ARCANGEL","LIMA","LIMA","LURIGANCHO","150118","21","00","00","LIMA ESTE","NO PERTENECE A NINGUNA RED","NO PERTENECE A NINGUNA MICRORED","Sin Categoría"]
[null,{"$f":"VALUE(renipress[[#This Row],[Código Único]])","v":15220},"PRIVADO","00015220","OPTICAS GMO PERU SAC","CALLAO","CALLAO","CALLAO","070101","8","00","00","CALLAO"," ","NO PERTENECE A NINGUNA MICRORED","Sin Categoría"]
[null,{"$f":"VALUE(renipress[[#This Row],[Código Único]])","v":15234},"PRIVADO","00015234","SERVICIOS MEDICOS GENERALES VIRGEN DE GUADALUPE","LORETO","MAYNAS","SAN JUAN BAUTISTA","160113","24","00","00","LORETO"," ","NO PERTENECE A NINGUNA MICRORED","I-3"]
[null,{"$f":"VALUE(renipress[[#This Row],[Código Único]])","v":15242},"PRIVADO","00015242","GYNE CENTER LA MOLINA SAC","LIMA","LIMA","LA MOLINA","150114","21","00","00","LIMA ESTE"," ","NO PERTENECE A NINGUNA MICRORED","Sin Categoría"]
[null,{"$f":"VALUE(renipress[[#This Row],[Código Único]])","v":15255},"PRIVADO","00015255","SALUDENTS.COM SAC","CUSCO","CUSCO","CUSCO","080101","11","00","00","CUSCO"," ","NO PERTENECE A NINGUNA MICRORED","Sin Categoría"]
[null,{"$f":"VALUE(renipress[[#This Row],[Código Único]])","v":15270},"PRIVADO","00015270","CENTRO DE REHABILITACION INTEGRAL JOSE MARIA IZUZQUIZA","CAJAMARCA","JAEN","JAEN","060801","7","00","00","CAJAMARCA","NO PERTENECE A NINGUNA RED","NO PERTENECE A NINGUNA MICRORED","Sin Categoría"]
[null,{"$f":"VALUE(renipress[[#This Row],[Código Único]])","v":15272},"PRIVADO","00015272","LABORATORIO CLINICO CADI EIRL","CAJAMARCA","JAEN","JAEN","060801","7","00","00","CAJAMARCA","NO PERTENECE A NINGUNA RED","NO PERTENECE A NINGUNA MICRORED","Sin Categoría"]
[null,{"$f":"VALUE(renipress[[#This Row],[Código Único]])","v":15287},"PRIVADO","00015287","INVERSIONES & SERVICIOS EN SALUD - MEDICOS ASOCIADOS S.A.C .","LIMA","HUAURA","HUAURA","150806","22","00","00","LIMA"," ","NO PERTENECE A NINGUNA MICRORED","Sin Categoría"]
[null,{"$f":"VALUE(renipress[[#This Row],[Código Único]])","v":15305},"PRIVADO","00015305","ALESA","CUSCO","CUSCO","WANCHAQ","080108","11","00","00","CUSCO"," ","NO PERTENECE A NINGUNA MICRORED","I-1"]
[null,{"$f":"VALUE(renipress[[#This Row],[Código Único]])","v":15315},"PRIVADO","00015315","CENTRO MEDICO DEL AHORRO II","LORETO","MAYNAS","BELEN","160112","24","00","00","LORETO"," ","NO PERTENECE A NINGUNA MICRORED","Sin Categoría"]
[null,{"$f":"VALUE(renipress[[#This Row],[Código Único]])","v":15326},"PRIVADO","00015326","CULLAMPE TORREJON MILAGROS","LIMA","LIMA","LOS OLIVOS","150117","35","00","00","LIMA NORTE"," ","NO PERTENECE A NINGUNA MICRORED","I-1"]
[null,{"$f":"VALUE(renipress[[#This Row],[Código Único]])","v":15339},"PRIVADO","00015339","DR ROBERTO RENE RAMIREZ BENGOA","CUSCO","CUSCO","WANCHAQ","080108","11","00","00","CUSCO"," ","NO PERTENECE A NINGUNA MICRORED","I-1"]
[null,{"$f":"VALUE(renipress[[#This Row],[Código Único]])","v":15347},"PRIVADO","00015347","ALDI DENT S.R.L","LIMA","LIMA","SAN BORJA","150130","36","00","00","LIMA CENTRO"," ","NO PERTENECE A NINGUNA MICRORED","I-1"]
[null,{"$f":"VALUE(renipress[[#This Row],[Código Único]])","v":15356},"PRIVADO","00015356","PUESTO DE SALUD NUEVA FUERABAMBA","APURIMAC","COTABAMBAS","CHALLHUAHUACHO","030506","3","00","00","APURIMAC"," ","NO PERTENECE A NINGUNA MICRORED","I-2"]
[null,{"$f":"VALUE(renipress[[#This Row],[Código Único]])","v":15364},"PRIVADO","00015364","CENTRO DE MEDICINA ALTERNATIVA E INTEGRATIVA LUZ DE LA NATURALEZA SRL","PIURA","PIURA","PIURA","200101","28","00","00","PIURA"," ","NO PERTENECE A NINGUNA MICRORED","I-2"]
[null,{"$f":"VALUE(renipress[[#This Row],[Código Único]])","v":15385},"PRIVADO","00015385","EFRAIN OSWALDO PACCORI GARCIA","LIMA","LIMA","SAN JUAN DE LURIGANCHO","150132","36","00","00","LIMA CENTRO"," ","NO PERTENECE A NINGUNA MICRORED","Sin Categoría"]
[null,{"$f":"VALUE(renipress[[#This Row],[Código Único]])","v":15398},"PRIVADO","00015398","ALTAGRACIA ODONTOLOGIA ESPECIALIZADA","LIMA","LIMA","SANTIAGO DE SURCO","150140","23","00","00","LIMA SUR"," ","NO PERTENECE A NINGUNA MICRORED","I-1"]
[null,{"$f":"VALUE(renipress[[#This Row],[Código Único]])","v":15402},"PRIVADO","00015402","CENTRO ODONTOLOGICO SAN ANTONIO","AREQUIPA","AREQUIPA","AREQUIPA","040101","4","00","00","AREQUIPA"," ","NO PERTENECE A NINGUNA MICRORED","Sin Categoría"]
[null,{"$f":"VALUE(renipress[[#This Row],[Código Único]])","v":15419},"PRIVADO","00015419","ALBIS S.A.","ICA","ICA","PARCONA","110106","15","00","00","ICA"," ","NO PERTENECE A NINGUNA MICRORED","I-2"]
[null,{"$f":"VALUE(renipress[[#This Row],[Código Único]])","v":15426},"PRIVADO","00015426","CENTRO MEDICO ESPECIALISTA MONSERRATE EIRL","UCAYALI","CORONEL PORTILLO","CALLERIA","250101","34","00","00","UCAYALI"," ","NO PERTENECE A NINGUNA MICRORED","I-2"]
[null,{"$f":"VALUE(renipress[[#This Row],[Código Único]])","v":15440},"PRIVADO","00015440","DOCTOR LUIS QUITO","AREQUIPA","AREQUIPA","AREQUIPA","040101","4","00","00","AREQUIPA"," ","NO PERTENECE A NINGUNA MICRORED","Sin Categoría"]
[null,{"$f":"VALUE(renipress[[#This Row],[Código Único]])","v":15454},"PRIVADO","00015454","CONSULTORIO OFTALMOLOGICO DRA. MARUJA VALENZUELA","LIMA","LIMA","SANTIAGO DE SURCO","150140","23","00","00","LIMA SUR"," ","NO PERTENECE A NINGUNA MICRORED","I-2"]
[null,{"$f":"VALUE(renipress[[#This Row],[Código Único]])","v":15461},"PRIVADO","00015461","VISTASALUD CENTRO OFTALMOLOGICO","LIMA","LIMA","SANTIAGO DE SURCO","150140","23","00","00","LIMA SUR"," ","NO PERTENECE A NINGUNA MICRORED","II-E"]
[null,{"$f":"VALUE(renipress[[#This Row],[Código Único]])","v":15471},"ESSALUD","00015471","CENTRO DE ATENCION PRIMARIA-CAP III SAN ISIDRO-ESSALUD","LIMA","LIMA","SAN ISIDRO","150131","36","00","00","LIMA CENTRO","NO PERTENECE A NINGUNA RED"," ","I-2"]
[null,{"$f":"VALUE(renipress[[#This Row],[Código Único]])","v":15490},"PRIVADO","00015490","PRO CERAMIC DE LA SONRISA E.I.R.L","CUSCO","CUSCO","WANCHAQ","080108","11","00","00","CUSCO"," ","NO PERTENECE A NINGUNA MICRORED","Sin Categoría"]
[null,{"$f":"VALUE(renipress[[#This Row],[Código Único]])","v":15499},"PRIVADO","00015499","CLINICA ODONTOLOGICA ESPECIALIZADA ODENT SAC","LIMA","LIMA","SAN JUAN DE LURIGANCHO","150132","36","00","00","LIMA CENTRO"," ","NO PERTENECE A NINGUNA MICRORED","Sin Categoría"]
[null,{"$f":"VALUE(renipress[[#This Row],[Código Único]])","v":15511},"PRIVADO","00015511","INNOMEDIC","LIMA","LIMA","LA VICTORIA","150115","36","00","00","LIMA CENTRO"," ","NO PERTENECE A NINGUNA MICRORED","I-3"]
[null,{"$f":"VALUE(renipress[[#This Row],[Código Único]])","v":15523},"PRIVADO","00015523","CLINICA ESPECILIAZADA SANTA LUCILA S.R.L.","HUANUCO","LEONCIO PRADO","RUPA-RUPA","100601","14","00","00","HUANUCO"," ","NO PERTENECE A NINGUNA MICRORED","Sin Categoría"]
[null,{"$f":"VALUE(renipress[[#This Row],[Código Único]])","v":15533},"PRIVADO","00015533","PRO MUJER INC SAN JERONIMO","CUSCO","CUSCO","SAN JERONIMO","080104","11","00","00","CUSCO"," ","NO PERTENECE A NINGUNA MICRORED","Sin Categoría"]
[null,{"$f":"VALUE(renipress[[#This Row],[Código Único]])","v":15541},"PRIVADO","00015541","KARMELL VIDA PLENA","LAMBAYEQUE","CHICLAYO","CHICLAYO","140101","19","00","00","LAMBAYEQUE","NO PERTENECE A NINGUNA RED","NO PERTENECE A NINGUNA MICRORED","Sin Categoría"]
[null,{"$f":"VALUE(renipress[[#This Row],[Código Único]])","v":15554},"PRIVADO","00015554","DEL PINO MENDOZA ERNESTO HUMBERTO","LIMA","LIMA","SAN MARTIN DE PORRES","150135","35","00","00","LIMA NORTE"," ","NO PERTENECE A NINGUNA MICRORED","Sin Categoría"]
[null,{"$f":"VALUE(renipress[[#This Row],[Código Único]])","v":15569},"PRIVADO","00015569","LABORATORIO CLINICO","CAJAMARCA","JAEN","JAEN","060801","7","00","00","CAJAMARCA"," ","NO PERTENECE A NINGUNA MICRORED","Sin Categoría"]
[null,{"$f":"VALUE(renipress[[#This Row],[Código Único]])","v":15583},"PRIVADO","00015583","RAMIREZ ROMAN GUILLERMO JOSE","LIMA","LIMA","SAN ISIDRO","150131","36","00","00","LIMA CENTRO"," ","NO PERTENECE A NINGUNA MICRORED","I-2"]
[null,{"$f":"VALUE(renipress[[#This Row],[Código Único]])","v":15587},"PRIVADO","00015587","DENTAL EL NAZARENO","LIMA","LIMA","ATE","150103","21","00","00","LIMA ESTE"," ","NO PERTENECE A NINGUNA MICRORED","I-1"]
[null,{"$f":"VALUE(renipress[[#This Row],[Código Único]])","v":15605},"PRIVADO","00015605","JOEL JOAQUIN SIMEON PULIDO","LIMA","HUAURA","HUACHO","150801","22","00","00","LIMA"," ","NO PERTENECE A NINGUNA MICRORED","Sin Categoría"]
[null,{"$f":"VALUE(renipress[[#This Row],[Código Único]])","v":15611},"PRIVADO","00015611","ARCE FIGUEROA MARY JULIA","LIMA","LIMA","PUENTE PIEDRA","150125","35","00","00","LIMA NORTE"," ","NO PERTENECE A NINGUNA MICRORED","I-1"]
[null,{"$f":"VALUE(renipress[[#This Row],[Código Único]])","v":15626},"PRIVADO","00015626","LUCILA PARIONA DIAZ","CALLAO","CALLAO","CARMEN DE LA LEGUA-REYNOSO","070103","8","00","00","CALLAO","NO PERTENECE A NINGUNA RED","NO PERTENECE A NINGUNA MICRORED","Sin Categoría"]
[null,{"$f":"VALUE(renipress[[#This Row],[Código Único]])","v":15639},"PRIVADO","00015639","OPTICA ANGELA","JUNIN","HUANCAYO","EL TAMBO","120114","17","00","00","JUNIN"," ","NO PERTENECE A NINGUNA MICRORED","Sin Categoría"]
[null,{"$f":"VALUE(renipress[[#This Row],[Código Único]])","v":15648},"PRIVADO","00015648","NUEVA VIDA - 2","CUSCO","CUSCO","SANTIAGO","080106","11","00","00","CUSCO"," ","NO PERTENECE A NINGUNA MICRORED","Sin Categoría"]
[null,{"$f":"VALUE(renipress[[#This Row],[Código Único]])","v":15657},"GOBIERNO REGIONAL","00015657","P.S. I-2 PROGRESO DE SANTA CRUZ","LORETO","ALTO AMAZONAS","SANTA CRUZ","160210","24","11","04","LORETO","ALTO AMAZONAS","SANTA CRUZ","I-2"]
[null,{"$f":"VALUE(renipress[[#This Row],[Código Único]])","v":15677},"PRIVADO","00015677","GYNE MAFER SOLUTION SAC","LIMA","LIMA","SAN JUAN DE LURIGANCHO","150132","36","00","00","LIMA CENTRO"," ","NO PERTENECE A NINGUNA MICRORED","Sin Categoría"]
[null,{"$f":"VALUE(renipress[[#This Row],[Código Único]])","v":15685},"PRIVADO","00015685","CASTILLO DELGADO GLADYS CECILIA","CALLAO","CALLAO","CARMEN DE LA LEGUA-REYNOSO","070103","8","00","00","CALLAO"," ","NO PERTENECE A NINGUNA MICRORED","I-1"]
[null,{"$f":"VALUE(renipress[[#This Row],[Código Único]])","v":15698},"PRIVADO","00015698","DENTAL SERVICE ASSOCIATTION","LIMA","LIMA","SAN MIGUEL","150136","36","00","00","LIMA CENTRO"," ","NO PERTENECE A NINGUNA MICRORED","I-1"]
[null,{"$f":"VALUE(renipress[[#This Row],[Código Único]])","v":15702},"PRIVADO","00015702","DR GARY COLLAZOS S.A.C.","ICA","ICA","ICA","110101","15","00","00","ICA","NO PERTENECE A NINGUNA RED","NO PERTENECE A NINGUNA MICRORED","Sin Categoría"]
[null,{"$f":"VALUE(renipress[[#This Row],[Código Único]])","v":15719},"PRIVADO","00015719","CELTIC DENTAL PRACTICE","CUSCO","CUSCO","CUSCO","080101","11","00","00","CUSCO"," ","NO PERTENECE A NINGUNA MICRORED","I-3"]
[null,{"$f":"VALUE(renipress[[#This Row],[Código Único]])","v":15726},"PRIVADO","00015726","INMACULADA CONCEPCION DE MARIA","LAMBAYEQUE","CHICLAYO","PUCALA","140119","19","00","00","LAMBAYEQUE"," ","NO PERTENECE A NINGUNA MICRORED","Sin Categoría"]
[null,{"$f":"VALUE(renipress[[#This Row],[Código Único]])","v":15740},"PRIVADO","00015740","ESPINOZA LOZANO LIZ VERONICA","LIMA","LIMA","LINCE","150116","36","00","00","LIMA CENTRO"," ","NO PERTENECE A NINGUNA MICRORED","I-1"]
[null,{"$f":"VALUE(renipress[[#This Row],[Código Único]])","v":15754},"PRIVADO","00015754","SYNLAB S.A.C.","LIMA","CAÑETE","ASIA","150502","22","00","00","LIMA"," ","NO PERTENECE A NINGUNA MICRORED","Sin Categoría"]
[null,{"$f":"VALUE(renipress[[#This Row],[Código Único]])","v":15769},"PRIVADO","00015769","CONSULTORIO  SAN MARCOS","JUNIN","HUANCAYO","HUANCAYO","120101","17","00","00","JUNIN"," ","NO PERTENECE A NINGUNA MICRORED","Sin Categoría"]
[null,{"$f":"VALUE(renipress[[#This Row],[Código Único]])","v":15771},"SANIDAD DE LA POLICIA NACIONAL DEL PERU","00015771","POSTA MEDICA PNP TINGO MARIA","HUANUCO","LEONCIO PRADO","RUPA-RUPA","100601","14","00","00","HUANUCO","NO PERTENECE A NINGUNA RED","NO PERTENECE A NINGUNA MICRORED","Sin Categoría"]
[null,{"$f":"VALUE(renipress[[#This Row],[Código Único]])","v":15792},"PRIVADO","00015792","CENTRO DE ATENCION INTEGRAL Y CAPACITACION EDUCATIVA SANTA ROSA DE LIMA Y DIVINO NIÑO SAC","LIMA","LIMA","SAN JUAN DE LURIGANCHO","150132","36","00","00","LIMA CENTRO"," ","NO PERTENECE A NINGUNA MICRORED","Sin Categoría"]
[null,{"$f":"VALUE(renipress[[#This Row],[Código Único]])","v":15801},"PRIVADO","00015801","ELIZABETH KARY MARTINEZ BELLIDO","CALLAO","CALLAO","VENTANILLA","070106","8","00","00","CALLAO"," ","NO PERTENECE A NINGUNA MICRORED","I-1"]
[null,{"$f":"VALUE(renipress[[#This Row],[Código Único]])","v":15813},"PRIVADO","00015813","CENTRO MEDICO SAN LUCAS","SAN MARTIN","RIOJA","NUEVA CAJAMARCA","220804","30","00","00","SAN MARTIN"," ","NO PERTENECE A NINGUNA MICRORED","I-3"]
[null,{"$f":"VALUE(renipress[[#This Row],[Código Único]])","v":15825},"PRIVADO","00015825","CONFI DENT","CUSCO","CUSCO","CUSCO","080101","11","00","00","CUSCO"," ","NO PERTENECE A NINGUNA MICRORED","Sin Categoría"]
[null,{"$f":"VALUE(renipress[[#This Row],[Código Único]])","v":15835},"PRIVADO","00015835","CLINICA OFTALMOLOGICA DE LA SELVA","SAN MARTIN","SAN MARTIN","LA BANDA DE SHILCAYO","220909","30","00","00","SAN MARTIN"," ","NO PERTENECE A NINGUNA MICRORED","II-E"]
[null,{"$f":"VALUE(renipress[[#This Row],[Código Único]])","v":15843},"GOBIERNO REGIONAL","00015843","CASHIRIARI","CUSCO","LA CONVENCION","MEGANTONI","080914","11","03","05","CUSCO","LA CONVENCION","KAMISEA","I-1"]
[null,{"$f":"VALUE(renipress[[#This Row],[Código Único]])","v":15864},"PRIVADO","00015864","LABORATORIO DENTAL FVC","JUNIN","YAULI","LA OROYA","120801","17","00","00","JUNIN"," ","NO PERTENECE A NINGUNA MICRORED","Sin Categoría"]
[null,{"$f":"VALUE(renipress[[#This Row],[Código Único]])","v":15872},"PRIVADO","00015872","CENTRO MEDICO ESPECIALIZADO","AREQUIPA","AREQUIPA","AREQUIPA","040101","4","00","00","AREQUIPA"," ","NO PERTENECE A NINGUNA MICRORED","I-3"]
[null,{"$f":"VALUE(renipress[[#This Row],[Código Único]])","v":15886},"PRIVADO","00015886","ROMAN VALLE JHIMY EDGARD","LIMA","LIMA","LINCE","150116","36","00","00","LIMA CENTRO"," ","NO PERTENECE A NINGUNA MICRORED","I-1"]
[null,{"$f":"VALUE(renipress[[#This Row],[Código Único]])","v":15901},"PRIVADO","00015901","TORRES VELASQUEZ HUMBERTO","LIMA","LIMA","COMAS","150110","35","00","00","LIMA NORTE"," ","NO PERTENECE A NINGUNA MICRORED","I-1"]
[null,{"$f":"VALUE(renipress[[#This Row],[Código Único]])","v":15908},"PRIVADO","00015908","KIRU SALUD","CUSCO","CUSCO","SANTIAGO","080106","11","00","00","CUSCO"," ","NO PERTENECE A NINGUNA MICRORED","Sin Categoría"]
[null,{"$f":"VALUE(renipress[[#This Row],[Código Único]])","v":15914},"GOBIERNO REGIONAL","00015914","SELVA DE ORO","JUNIN","SATIPO","RIO TAMBO","120608","17","05","06","JUNIN","SATIPO","VALLE ESMERALDA","I-1"]
[null,{"$f":"VALUE(renipress[[#This Row],[Código Único]])","v":15929},"PRIVADO","00015929","SERVICIOS MEDICOS BUEN CONDUCTOR","LIMA","LIMA","EL AGUSTINO","150111","21","00","00","LIMA ESTE"," ","NO PERTENECE A NINGUNA MICRORED","I-2"]
[null,{"$f":"VALUE(renipress[[#This Row],[Código Único]])","v":15942},"MUNICIPALIDAD PROVINCIAL","00015942","SISTEMA METROPOLITANO DE LA SOLIDARIDAD / SOLIDARIDAD SALUD - EL NAZARENO","LIMA","LIMA","SAN JUAN DE MIRAFLORES","150133","23","00","00","LIMA SUR","NO PERTENECE A NINGUNA RED","NO PERTENECE A NINGUNA MICRORED","I-3"]
[null,{"$f":"VALUE(renipress[[#This Row],[Código Único]])","v":15950},"PRIVADO","00015950","MARANATHA SERVICIOS GENERALES S.A.C.","LAMBAYEQUE","CHICLAYO","CHICLAYO","140101","19","00","00","LAMBAYEQUE"," ","NO PERTENECE A NINGUNA MICRORED","I-2"]
[null,{"$f":"VALUE(renipress[[#This Row],[Código Único]])","v":15970},"PRIVADO","00015970","GARCIA GASPAR ADELA ELVIRA","CALLAO","CALLAO","VENTANILLA","070106","8","00","00","CALLAO"," ","NO PERTENECE A NINGUNA MICRORED","I-1"]
[null,{"$f":"VALUE(renipress[[#This Row],[Código Único]])","v":15979},"PRIVADO","00015979","PROFESSIONAL DENT","LIMA","LIMA","MIRAFLORES","150122","36","00","00","LIMA CENTRO"," ","NO PERTENECE A NINGUNA MICRORED","I-1"]
[null,{"$f":"VALUE(renipress[[#This Row],[Código Único]])","v":15987},"PRIVADO","00015987","ADEMIR VALVERDE HARO","CALLAO","CALLAO","VENTANILLA","070106","8","00","00","CALLAO"," ","NO PERTENECE A NINGUNA MICRORED","I-1"]
[null,{"$f":"VALUE(renipress[[#This Row],[Código Único]])","v":16000},"PRIVADO","00016000","LABORATORIO BERNAL","AREQUIPA","CAYLLOMA","MAJES","040520","4","00","00","AREQUIPA"," ","NO PERTENECE A NINGUNA MICRORED","Sin Categoría"]
[null,{"$f":"VALUE(renipress[[#This Row],[Código Único]])","v":16011},"PRIVADO","00016011","BULLON DE LA TORRE FLOR MAYELA","LIMA","LIMA","LOS OLIVOS","150117","35","00","00","LIMA NORTE"," ","NO PERTENECE A NINGUNA MICRORED","I-1"]
[null,{"$f":"VALUE(renipress[[#This Row],[Código Único]])","v":16021},"PRIVADO","00016021","CENTRO DE DIAGNOSTICO POR IMAGENES","JUNIN","CHANCHAMAYO","CHANCHAMAYO","120301","17","00","00","JUNIN"," ","NO PERTENECE A NINGUNA MICRORED","Sin Categoría"]
[null,{"$f":"VALUE(renipress[[#This Row],[Código Único]])","v":16039},"PRIVADO","00016039","SAN FRANCISCO DE ASIS","ANCASH","HUARAZ","HUARAZ","020101","2","00","00","ANCASH","NO PERTENECE A NINGUNA RED","NO PERTENECE A NINGUNA MICRORED","II-1"]
[null,{"$f":"VALUE(renipress[[#This Row],[Código Único]])","v":16042},"PRIVADO","00016042","POLICLINICO SILVA","ANCASH","SANTA","CHIMBOTE","021801","2","00","00","ANCASH"," ","NO PERTENECE A NINGUNA MICRORED","Sin Categoría"]
[null,{"$f":"VALUE(renipress[[#This Row],[Código Único]])","v":16056},"PRIVADO","00016056","GARCIA HERRERA HILDA GRACIELA","LIMA","LIMA","COMAS","150110","35","00","00","LIMA NORTE"," ","NO PERTENECE A NINGUNA MICRORED","I-1"]
[null,{"$f":"VALUE(renipress[[#This Row],[Código Único]])","v":16071},"PRIVADO","00016071","POLAR CEPEDA JAVIER FELIPE","LIMA","LIMA","SURQUILLO","150141","36","00","00","LIMA CENTRO"," ","NO PERTENECE A NINGUNA MICRORED","Sin Categoría"]
[null,{"$f":"VALUE(renipress[[#This Row],[Código Único]])","v":16084},"PRIVADO","00016084","UERA CAMPANA JUDITH ISABEL","LIMA","LIMA","LINCE","150116","36","00","00","LIMA CENTRO"," ","NO PERTENECE A NINGUNA MICRORED","Sin Categoría"]
[null,{"$f":"VALUE(renipress[[#This Row],[Código Único]])","v":16092},"PRIVADO","00016092","INVERSIONES EN SALUD OCUPACIONAL SA","LIMA","LIMA","SAN MIGUEL","150136","36","00","00","LIMA CENTRO"," ","NO PERTENECE A NINGUNA MICRORED","I-3"]
[null,{"$f":"VALUE(renipress[[#This Row],[Código Único]])","v":16101},"PRIVADO","00016101","CONSULTORIO ODONTOLOGICO DENTIS DENT","LIMA","LIMA","SAN JUAN DE LURIGANCHO","150132","36","00","00","LIMA CENTRO"," ","NO PERTENECE A NINGUNA MICRORED","I-1"]
[null,{"$f":"VALUE(renipress[[#This Row],[Código Único]])","v":16113},"PRIVADO","00016113","CLINICA ZIEGLER CIRUGIA PLASTICA","LIMA","LIMA","SAN ISIDRO","150131","23","00","00","LIMA SUR","NO PERTENECE A NINGUNA RED","NO PERTENECE A NINGUNA MICRORED","II-E"]
[null,{"$f":"VALUE(renipress[[#This Row],[Código Único]])","v":16125},"PRIVADO","00016125","DIAGNOSTICO INTEGRAL DEL PERU S.A.C.","LIMA","LIMA","SAN MARTIN DE PORRES","150135","35","00","00","LIMA NORTE"," ","NO PERTENECE A NINGUNA MICRORED","Sin Categoría"]
[null,{"$f":"VALUE(renipress[[#This Row],[Código Único]])","v":16134},"GOBIERNO REGIONAL","00016134","COLAGUAY","CAJAMARCA","JAEN","POMAHUACA","060807","7","15","14","CAJAMARCA","JAEN","POMAHUACA","I-1"]
[null,{"$f":"VALUE(renipress[[#This Row],[Código Único]])","v":16153},"ESSALUD","00016153","HOSPITAL II ILO","MOQUEGUA","ILO","ILO","180301","26","00","00","MOQUEGUA","NO PERTENECE A NINGUNA RED","NO PERTENECE A NINGUNA MICRORED","II-1"]
[null,{"$f":"VALUE(renipress[[#This Row],[Código Único]])","v":16163},"PRIVADO","00016163","VIRGEN DEL CARMEN - CUSCO","CUSCO","CUSCO","CUSCO","080101","11","00","00","CUSCO"," ","NO PERTENECE A NINGUNA MICRORED","Sin Categoría"]
[null,{"$f":"VALUE(renipress[[#This Row],[Código Único]])","v":16170},"PRIVADO","00016170","ODONTOLOGIA ESPECIALIZADA DEL NORTE SAC","CAJAMARCA","JAEN","JAEN","060801","7","00","00","CAJAMARCA"," ","NO PERTENECE A NINGUNA MICRORED","Sin Categoría"]
[null,{"$f":"VALUE(renipress[[#This Row],[Código Único]])","v":16185},"PRIVADO","00016185","RED MEDICA FINANCIERA CARMAY S.A.C.- REMFICAR S.A.C.","LIMA","LIMA","SAN MARTIN DE PORRES","150135","35","00","00","LIMA NORTE"," ","NO PERTENECE A NINGUNA MICRORED","I-3"]
[null,{"$f":"VALUE(renipress[[#This Row],[Código Único]])","v":16199},"PRIVADO","00016199","AGRICOLA LAS LLAMOZAS S.A.","LIMA","LIMA","SAN BORJA","150130","36","00","00","LIMA CENTRO"," ","NO PERTENECE A NINGUNA MICRORED","Sin Categoría"]
[null,{"$f":"VALUE(renipress[[#This Row],[Código Único]])","v":16285},"PRIVADO","00016285","CENTRO DE REHABILITACION INTEGRAL JOSE MARIA IZUZQUIZA","CAJAMARCA","JAEN","JAEN","060801","7","00","00","CAJAMARCA"," ","NO PERTENECE A NINGUNA MICRORED","Sin Categoría"]
[null,{"$f":"VALUE(renipress[[#This Row],[Código Único]])","v":16302},"PRIVADO","00016302","DR. MARROQUIN","CUSCO","CUSCO","CUSCO","080101","11","00","00","CUSCO"," ","NO PERTENECE A NINGUNA MICRORED","Sin Categoría"]
[null,{"$f":"VALUE(renipress[[#This Row],[Código Único]])","v":16306},"PRIVADO","00016306","CONSULTORIO MEDICO ROLDAN","SAN MARTIN","SAN MARTIN","TARAPOTO","220901","30","00","00","SAN MARTIN"," ","NO PERTENECE A NINGUNA MICRORED","I-2"]
[null,{"$f":"VALUE(renipress[[#This Row],[Código Único]])","v":16319},"PRIVADO","00016319","CHRISDENT S.A.C.","LIMA","LIMA","PUEBLO LIBRE","150121","36","00","00","LIMA CENTRO"," ","NO PERTENECE A NINGUNA MICRORED","I-1"]
[null,{"$f":"VALUE(renipress[[#This Row],[Código Único]])","v":16336},"SANIDAD DE LA MARINA DE GUERRA DEL PERU","00016336","MARINA DE GUERRA DEL PERU","AREQUIPA","AREQUIPA","AREQUIPA","040101","4","00","00","AREQUIPA","NO PERTENECE A NINGUNA RED","NO PERTENECE A NINGUNA MICRORED","I-2"]
[null,{"$f":"VALUE(renipress[[#This Row],[Código Único]])","v":16348},"PRIVADO","00016348","CHIRINOS QUIROZ ANGEL RICARDO","LIMA","LIMA","SAN BORJA","150130","36","00","00","LIMA CENTRO"," ","NO PERTENECE A NINGUNA MICRORED","I-2"]
[null,{"$f":"VALUE(renipress[[#This Row],[Código Único]])","v":16357},"ESSALUD","00016357","CENTRO DE ATENCION PRIMARIA III INDEPENDENCIA - RAA - ESSALUD","LIMA","LIMA","INDEPENDENCIA","150112","35","00","00","LIMA NORTE","NO PERTENECE A NINGUNA RED","NO PERTENECE A NINGUNA MICRORED","I-3"]
[null,{"$f":"VALUE(renipress[[#This Row],[Código Único]])","v":16365},"PRIVADO","00016365","TERAPIA MÉDICA EIRL","LAMBAYEQUE","CHICLAYO","CHICLAYO","140101","19","00","00","LAMBAYEQUE"," ","NO PERTENECE A NINGUNA MICRORED","Sin Categoría"]
[null,{"$f":"VALUE(renipress[[#This Row],[Código Único]])","v":16378},"PRIVADO","00016378","ANGELITOS DE MARIA","CAJAMARCA","CAJAMARCA","CAJAMARCA","060101","7","00","00","CAJAMARCA"," ","NO PERTENECE A NINGUNA MICRORED","I-1"]
[null,{"$f":"VALUE(renipress[[#This Row],[Código Único]])","v":16389},"PRIVADO","00016389","BARBICAN S.A.C.","LIMA","LIMA","LOS OLIVOS","150117","35","00","00","LIMA NORTE","NO PERTENECE A NINGUNA RED","NO PERTENECE A NINGUNA MICRORED","Sin Categoría"]
[null,{"$f":"VALUE(renipress[[#This Row],[Código Único]])","v":16399},"PRIVADO","00016399","LABORATORIO DE ANALISIS  CLINICO","LIMA","LIMA","SANTA ANITA","150137","21","00","00","LIMA ESTE","NO PERTENECE A NINGUNA RED","NO PERTENECE A NINGUNA MICRORED","Sin Categoría"]
[null,{"$f":"VALUE(renipress[[#This Row],[Código Único]])","v":16417},"PRIVADO","00016417","CALIDA","JUNIN","HUANCAYO","EL TAMBO","120114","17","00","00","JUNIN"," ","NO PERTENECE A NINGUNA MICRORED","Sin Categoría"]
[null,{"$f":"VALUE(renipress[[#This Row],[Código Único]])","v":16420},"PRIVADO","00016420","CENTRO GINECOLOGICO DON BOSCO","PIURA","TALARA","LOS ORGANOS","200705","28","00","00","PIURA"," ","NO PERTENECE A NINGUNA MICRORED","I-2"]
[null,{"$f":"VALUE(renipress[[#This Row],[Código Único]])","v":16434},"PRIVADO","00016434","ALEXANDERS OPTICAL E.I.R.L.","LIMA","LIMA","LINCE","150116","36","00","00","LIMA CENTRO"," ","NO PERTENECE A NINGUNA MICRORED","Sin Categoría"]
[null,{"$f":"VALUE(renipress[[#This Row],[Código Único]])","v":16449},"PRIVADO","00016449","CONSULTORIO ODONTOLOGICO LA MARINA","CALLAO","CALLAO","LA PERLA","070104","8","00","00","CALLAO","NO PERTENECE A NINGUNA RED","NO PERTENECE A NINGUNA MICRORED","I-1"]
[null,{"$f":"VALUE(renipress[[#This Row],[Código Único]])","v":16462},"PRIVADO","00016462","MUÑOZ CABANA ROSARIO NATIVIDAD","LIMA","LIMA","SAN LUIS","150134","36","00","00","LIMA CENTRO"," ","NO PERTENECE A NINGUNA MICRORED","I-1"]
[null,{"$f":"VALUE(renipress[[#This Row],[Código Único]])","v":16470},"PRIVADO","00016470","VALENCIA PACHECO MARIA DEL ROSARIO","LIMA","LIMA","JESUS MARIA","150113","36","00","00","LIMA CENTRO"," ","NO PERTENECE A NINGUNA MICRORED","I-1"]
[null,{"$f":"VALUE(renipress[[#This Row],[Código Único]])","v":16486},"PRIVADO","00016486","CLÍNICA DE OJOS Y LA VISTA FUNDAR E.I.R.L.","AREQUIPA","AREQUIPA","AREQUIPA","040101","4","00","00","AREQUIPA"," ","NO PERTENECE A NINGUNA MICRORED","II-E"]
[null,{"$f":"VALUE(renipress[[#This Row],[Código Único]])","v":16491},"MUNICIPALIDAD DISTRITAL","00016491","CENTRO MEDICO MUNICIPAL","CALLAO","CALLAO","BELLAVISTA","070102","8","00","00","CALLAO","NO PERTENECE A NINGUNA RED","NO PERTENECE A NINGUNA MICRORED","I-2"]
[null,{"$f":"VALUE(renipress[[#This Row],[Código Único]])","v":16503},"PRIVADO","00016503","CONSULTORIO MEDICO Y LABORATORIO CLINICO MULTISERVICIOS TU SALUD","MADRE DE DIOS","TAMBOPATA","TAMBOPATA","170101","25","00","00","MADRE DE DIOS"," ","NO PERTENECE A NINGUNA MICRORED","Sin Categoría"]
[null,{"$f":"VALUE(renipress[[#This Row],[Código Único]])","v":16512},"PRIVADO","00016512","VIZARRETA CERVANTES MONICA GISELLA","LIMA","LIMA","LIMA","150101","36","00","00","LIMA CENTRO"," ","NO PERTENECE A NINGUNA MICRORED","Sin Categoría"]
[null,{"$f":"VALUE(renipress[[#This Row],[Código Único]])","v":16531},"PRIVADO","00016531","LIZARDO MANUEL OJEDA MERCADO","LAMBAYEQUE","CHICLAYO","CHICLAYO","140101","19","00","00","LAMBAYEQUE"," ","NO PERTENECE A NINGUNA MICRORED","Sin Categoría"]
[null,{"$f":"VALUE(renipress[[#This Row],[Código Único]])","v":16541},"PRIVADO","00016541","HOGAR CLINICA SAN JUAN DE DIOS-CUSCO","CUSCO","CUSCO","CUSCO","080101","11","00","00","CUSCO"," ","NO PERTENECE A NINGUNA MICRORED","II-E"]
[null,{"$f":"VALUE(renipress[[#This Row],[Código Único]])","v":16548},"PRIVADO","00016548","CENTRO DE DIAGNOSTICO GINECO OBSTETRICO MEDICO ODONTOLOGICO PILAR S.A.C.","LIMA","LIMA","LOS OLIVOS","150117","35","00","00","LIMA NORTE","NO PERTENECE A NINGUNA RED","NO PERTENECE A NINGUNA MICRORED","I-2"]
[null,{"$f":"VALUE(renipress[[#This Row],[Código Único]])","v":16562},"PRIVADO","00016562","POLICLINICO DR FLORES ESPECIALIDADES MEDICAS","ANCASH","HUARMEY","HUARMEY","021101","2","00","00","ANCASH"," ","NO PERTENECE A NINGUNA MICRORED","I-3"]
[null,{"$f":"VALUE(renipress[[#This Row],[Código Único]])","v":16572},"PRIVADO","00016572","DENTAL  BLIX","TACNA","TACNA","TACNA","230101","32","00","00","TACNA"," ","NO PERTENECE A NINGUNA MICRORED","Sin Categoría"]
[null,{"$f":"VALUE(renipress[[#This Row],[Código Único]])","v":16583},"PRIVADO","00016583","CER SALUD E.I.R.L.","LIMA","LIMA","SURQUILLO","150141","36","00","00","LIMA CENTRO"," ","NO PERTENECE A NINGUNA MICRORED","I-3"]
[null,{"$f":"VALUE(renipress[[#This Row],[Código Único]])","v":16604},"PRIVADO","00016604","FRESIA ERIKA GONZALES PRADO","CALLAO","CALLAO","VENTANILLA","070106","8","00","00","CALLAO"," ","NO PERTENECE A NINGUNA MICRORED","I-1"]
[null,{"$f":"VALUE(renipress[[#This Row],[Código Único]])","v":16611},"PRIVADO","00016611","DENTAL BOLIVIA MGD","LIMA","LIMA","ATE","150103","21","00","00","LIMA ESTE"," ","NO PERTENECE A NINGUNA MICRORED","Sin Categoría"]
[null,{"$f":"VALUE(renipress[[#This Row],[Código Único]])","v":16625},"PRIVADO","00016625","SAN GABRIEL II","PIURA","SULLANA","SULLANA","200601","28","00","00","PIURA"," ","NO PERTENECE A NINGUNA MICRORED","I-2"]
[null,{"$f":"VALUE(renipress[[#This Row],[Código Único]])","v":16635},"MUNICIPALIDAD PROVINCIAL","00016635","SISTEMA METROPOLITANO DE LA SOLIDARIDAD","LIMA","LIMA","SAN JUAN DE MIRAFLORES","150133","23","00","00","LIMA SUR","NO PERTENECE A NINGUNA RED","NO PERTENECE A NINGUNA MICRORED","I-3"]
[null,{"$f":"VALUE(renipress[[#This Row],[Código Único]])","v":16646},"GOBIERNO REGIONAL","00016646","UCRUMARCA","LA LIBERTAD","PATAZ","TAYABAMBA","130801","18","09","01","LA LIBERTAD","RED PATAZ","PATAZ NORTE","I-2"]
[null,{"$f":"VALUE(renipress[[#This Row],[Código Único]])","v":16652},"PRIVADO","00016652","CONSULTORIO GINECO-OBSTÉTRICO","AREQUIPA","AREQUIPA","AREQUIPA","040101","4","00","00","AREQUIPA"," ","NO PERTENECE A NINGUNA MICRORED","Sin Categoría"]
[null,{"$f":"VALUE(renipress[[#This Row],[Código Único]])","v":16668},"PRIVADO","00016668","G & E ODONTOLOGÍA INTEGRAL","SAN MARTIN","MOYOBAMBA","MOYOBAMBA","220101","30","00","00","SAN MARTIN"," "," ","I-1"]
[null,{"$f":"VALUE(renipress[[#This Row],[Código Único]])","v":16681},"PRIVADO","00016681","LAZOS CENTRO DE ATENCION Y TRATAMIENTO PSICOANALITICO S.A.C.","LIMA","LIMA","MAGDALENA DEL MAR","150120","36","00","00","LIMA CENTRO"," ","NO PERTENECE A NINGUNA MICRORED","I-1"]
[null,{"$f":"VALUE(renipress[[#This Row],[Código Único]])","v":16697},"PRIVADO","00016697","ALBIS S.A.","LIMA","LIMA","LOS OLIVOS","150117","35","00","00","LIMA NORTE","NO PERTENECE A NINGUNA RED","NO PERTENECE A NINGUNA MICRORED","I-3"]
[null,{"$f":"VALUE(renipress[[#This Row],[Código Único]])","v":16698},"PRIVADO","00016698","DONAIRE CALDERON HEIDY VANESSA","LIMA","LIMA","LINCE","150116","36","00","00","LIMA CENTRO"," ","NO PERTENECE A NINGUNA MICRORED","Sin Categoría"]
[null,{"$f":"VALUE(renipress[[#This Row],[Código Único]])","v":16718},"PRIVADO","00016718","VIRGENCITA DEL ROSARIO","TACNA","TACNA","CORONEL GREGORIO ALBARRACIN L.","230110","32","00","00","TACNA"," ","NO PERTENECE A NINGUNA MICRORED","Sin Categoría"]
[null,{"$f":"VALUE(renipress[[#This Row],[Código Único]])","v":16722},"PRIVADO","00016722","CENTRO MEDICO APOSTOL SANTIAGO PERU","JUNIN","HUANCAYO","CHILCA","120107","17","00","00","JUNIN"," ","NO PERTENECE A NINGUNA MICRORED","I-3"]
[null,{"$f":"VALUE(renipress[[#This Row],[Código Único]])","v":16739},"PRIVADO","00016739","CLINICA ZUTA S.A.C.","LA LIBERTAD","TRUJILLO","TRUJILLO","130101","18","00","00","LA LIBERTAD","NO PERTENECE A NINGUNA RED","NO PERTENECE A NINGUNA MICRORED","II-1"]
[null,{"$f":"VALUE(renipress[[#This Row],[Código Único]])","v":16750},"PRIVADO","00016750","BOSTON MEDICAL GROUP","LIMA","LIMA","MIRAFLORES","150122","36","00","00","LIMA CENTRO"," ","NO PERTENECE A NINGUNA MICRORED","I-2"]
[null,{"$f":"VALUE(renipress[[#This Row],[Código Único]])","v":16760},"PRIVADO","00016760","SG NATCLAR SAC","CALLAO","CALLAO","CALLAO","070101","8","00","00","CALLAO"," ","NO PERTENECE A NINGUNA MICRORED","I-2"]
[null,{"$f":"VALUE(renipress[[#This Row],[Código Único]])","v":16767},"PRIVADO","00016767","CONSULTORIO DENTAL TECSE","LIMA","LIMA","SANTA ANITA","150137","21","00","00","LIMA ESTE"," ","NO PERTENECE A NINGUNA MICRORED","I-1"]
[null,{"$f":"VALUE(renipress[[#This Row],[Código Único]])","v":16789},"PRIVADO","00016789","CENTRO DE SERVICIOS PSICOLOGICOS JUEGA & CREA S.R.L","LAMBAYEQUE","CHICLAYO","CHICLAYO","140101","19","00","00","LAMBAYEQUE"," ","NO PERTENECE A NINGUNA MICRORED","Sin Categoría"]
[null,{"$f":"VALUE(renipress[[#This Row],[Código Único]])","v":16795},"PRIVADO","00016795","CONSULTORIO CLINICO MODERN","LIMA","LIMA","SAN JUAN DE LURIGANCHO","150132","36","00","00","LIMA CENTRO"," ","NO PERTENECE A NINGUNA MICRORED","Sin Categoría"]
[null,{"$f":"VALUE(renipress[[#This Row],[Código Único]])","v":16811},"PRIVADO","00016811","TAPIA PAREDES MIGUEL ANGEL","LIMA","LIMA","SAN MARTIN DE PORRES","150135","35","00","00","LIMA NORTE"," ","NO PERTENECE A NINGUNA MICRORED","I-2"]
[null,{"$f":"VALUE(renipress[[#This Row],[Código Único]])","v":16824},"PRIVADO","00016824","BREVET MEDIC E.I.R.L.","LIMA","LIMA","RIMAC","150128","35","00","00","LIMA NORTE"," ","NO PERTENECE A NINGUNA MICRORED","I-2"]
[null,{"$f":"VALUE(renipress[[#This Row],[Código Único]])","v":16832},"PRIVADO","00016832","ALBIMAGEN S.A.C.","LIMA","LIMA","SANTIAGO DE SURCO","150140","23","00","00","LIMA SUR"," ","NO PERTENECE A NINGUNA MICRORED","Sin Categoría"]
[null,{"$f":"VALUE(renipress[[#This Row],[Código Único]])","v":16837},"PRIVADO","00016837","REGALADO REYES ROMMY FIORELLA","LIMA","LIMA","SAN MARTIN DE PORRES","150135","35","00","00","LIMA NORTE"," ","NO PERTENECE A NINGUNA MICRORED","I-2"]
[null,{"$f":"VALUE(renipress[[#This Row],[Código Único]])","v":16853},"PRIVADO","00016853","CENTRO MEDICO MORVELI","JUNIN","SATIPO","PANGOA","120606","17","00","00","JUNIN"," ","NO PERTENECE A NINGUNA MICRORED","Sin Categoría"]
[null,{"$f":"VALUE(renipress[[#This Row],[Código Único]])","v":16865},"PRIVADO","00016865","RODELAB","LIMA","LIMA","SAN JUAN DE MIRAFLORES","150133","23","00","00","LIMA SUR","NO PERTENECE A NINGUNA RED","NO PERTENECE A NINGUNA MICRORED","I-2"]
[null,{"$f":"VALUE(renipress[[#This Row],[Código Único]])","v":16882},"PRIVADO","00016882","FENIX FARMACEUTICA SAC","LIMA","LIMA","SAN JUAN DE LURIGANCHO","150132","36","00","00","LIMA CENTRO"," ","NO PERTENECE A NINGUNA MICRORED","Sin Categoría"]
[null,{"$f":"VALUE(renipress[[#This Row],[Código Único]])","v":16893},"PRIVADO","00016893","ZOILA JESSICA ROJAS TUCTO","LIMA","LIMA","SAN JUAN DE MIRAFLORES","150133","23","00","00","LIMA SUR"," ","NO PERTENECE A NINGUNA MICRORED","Sin Categoría"]
[null,{"$f":"VALUE(renipress[[#This Row],[Código Único]])","v":16903},"PRIVADO","00016903","SOCIAL DENT ODONTOLOGIA INTEGRAL Y ESTETICA E.I.R.L.","LIMA","LIMA","SURQUILLO","150141","36","00","00","LIMA CENTRO"," ","NO PERTENECE A NINGUNA MICRORED","I-2"]
[null,{"$f":"VALUE(renipress[[#This Row],[Código Único]])","v":16910},"PRIVADO","00016910","CLINICA INTERNACIONAL S.A","PIURA","TALARA","PARIÑAS","200701","28","00","00","PIURA","NO PERTENECE A NINGUNA RED","NO PERTENECE A NINGUNA MICRORED","I-3"]
[null,{"$f":"VALUE(renipress[[#This Row],[Código Único]])","v":16924},"PRIVADO","00016924","MEDICAL TAI","LIMA","LIMA","VILLA EL SALVADOR","150142","23","00","00","LIMA SUR"," ","NO PERTENECE A NINGUNA MICRORED","Sin Categoría"]
[null,{"$f":"VALUE(renipress[[#This Row],[Código Único]])","v":16937},"GOBIERNO REGIONAL","00016937","RECUAYCITO","LA LIBERTAD","GRAN CHIMU","LUCMA","131102","18","07","02","LA LIBERTAD","RED GRAN CHIMU","EL MOLINO","I-2"]
[null,{"$f":"VALUE(renipress[[#This Row],[Código Único]])","v":16949},"PRIVADO","00016949","PATRICIA ELENA VARGAS CARRION","CALLAO","CALLAO","CALLAO","070101","8","00","00","CALLAO"," ","NO PERTENECE A NINGUNA MICRORED","I-1"]
[null,{"$f":"VALUE(renipress[[#This Row],[Código Único]])","v":16966},"PRIVADO","00016966","MARIA ELENA BORJA ARTEAGA","CALLAO","CALLAO","LA PERLA","070104","8","00","00","CALLAO"," ","NO PERTENECE A NINGUNA MICRORED","Sin Categoría"]
[null,{"$f":"VALUE(renipress[[#This Row],[Código Único]])","v":16978},"PRIVADO","00016978","INVERSIONES MEDICAS ECO FEMINA E.I.R.L","LAMBAYEQUE","CHICLAYO","CHICLAYO","140101","19","00","00","LAMBAYEQUE","NO PERTENECE A NINGUNA RED","NO PERTENECE A NINGUNA MICRORED","Sin Categoría"]
[null,{"$f":"VALUE(renipress[[#This Row],[Código Único]])","v":16983},"PRIVADO","00016983","CONSULTORIO MEDICO SAN PABLO","LIMA","LIMA","LURIN","150119","23","00","00","LIMA SUR"," ","NO PERTENECE A NINGUNA MICRORED","I-2"]
[null,{"$f":"VALUE(renipress[[#This Row],[Código Único]])","v":16999},"PRIVADO","00016999","POLICLINICO DEMER","LIMA","LIMA","LURIGANCHO","150118","21","00","00","LIMA ESTE"," ","NO PERTENECE A NINGUNA MICRORED","I-3"]
[null,{"$f":"VALUE(renipress[[#This Row],[Código Único]])","v":17011},"PRIVADO","00017011","ENCINAS AGURTO JOSE ANGEL DAVID","LIMA","LIMA","BREÑA","150105","36","00","00","LIMA CENTRO"," ","NO PERTENECE A NINGUNA MICRORED","I-2"]
[null,{"$f":"VALUE(renipress[[#This Row],[Código Único]])","v":17023},"GOBIERNO REGIONAL","00017023","SAN JUAN DE DIOS","ICA","PISCO","PISCO","110501","15","02","06","ICA","CHINCHA - PISCO","PISCO","I-3"]
[null,{"$f":"VALUE(renipress[[#This Row],[Código Único]])","v":17038},"PRIVADO","00017038","C & D VIVAR SOCIEDAD ANONIMA CERRADA","LIMA","LIMA","LINCE","150116","36","00","00","LIMA CENTRO"," ","NO PERTENECE A NINGUNA MICRORED","I-1"]
[null,{"$f":"VALUE(renipress[[#This Row],[Código Único]])","v":17044},"PRIVADO","00017044","VENTURA ASENCIOS KAREN JULISSA","LIMA","LIMA","SAN MARTIN DE PORRES","150135","35","00","00","LIMA NORTE"," ","NO PERTENECE A NINGUNA MICRORED","I-1"]
[null,{"$f":"VALUE(renipress[[#This Row],[Código Único]])","v":17055},"PRIVADO","00017055","OPTICA DEL NORTE","PIURA","SULLANA","SULLANA","200601","28","00","00","PIURA"," ","NO PERTENECE A NINGUNA MICRORED","Sin Categoría"]
[null,{"$f":"VALUE(renipress[[#This Row],[Código Único]])","v":17065},"PRIVADO","00017065","SUSANA VELASCO VENTURA","TACNA","TACNA","TACNA","230101","32","00","00","TACNA"," ","NO PERTENECE A NINGUNA MICRORED","Sin Categoría"]
[null,{"$f":"VALUE(renipress[[#This Row],[Código Único]])","v":17083},"PRIVADO","00017083","LUIS HENRY VICENTE FERNANDEZ","CALLAO","CALLAO","CALLAO","070101","8","00","00","CALLAO"," ","NO PERTENECE A NINGUNA MICRORED","I-1"]
[null,{"$f":"VALUE(renipress[[#This Row],[Código Único]])","v":17094},"PRIVADO","00017094","OPTICAS GMO PERU S.AC.","LIMA","HUAURA","HUACHO","150801","22","00","00","LIMA"," ","NO PERTENECE A NINGUNA MICRORED","Sin Categoría"]
[null,{"$f":"VALUE(renipress[[#This Row],[Código Único]])","v":17100},"PRIVADO","00017100","PIZARRO MORALES YENY","LIMA","LIMA","MAGDALENA DEL MAR","150120","36","00","00","LIMA CENTRO"," ","NO PERTENECE A NINGUNA MICRORED","I-1"]
[null,{"$f":"VALUE(renipress[[#This Row],[Código Único]])","v":17115},"PRIVADO","00017115","CENTRO ODONTOLOGICO AMERICANO - TACNA","TACNA","TACNA","TACNA","230101","32","00","00","TACNA"," ","NO PERTENECE A NINGUNA MICRORED","I-1"]
[null,{"$f":"VALUE(renipress[[#This Row],[Código Único]])","v":17124},"PRIVADO","00017124","CONSULTORIO OFTALMOLOGICO ÑAHUI","LIMA","LIMA","COMAS","150110","35","00","00","LIMA NORTE"," ","NO PERTENECE A NINGUNA MICRORED","I-2"]
[null,{"$f":"VALUE(renipress[[#This Row],[Código Único]])","v":17136},"PRIVADO","00017136","CONSULTORIO OBSTÉTRICO  PILAR ISUIZA N.","LIMA","LIMA","VILLA MARIA DEL TRIUNFO","150143","23","00","00","LIMA SUR"," ","NO PERTENECE A NINGUNA MICRORED","I-1"]
[null,{"$f":"VALUE(renipress[[#This Row],[Código Único]])","v":17152},"PRIVADO","00017152","WENCESLAO QUISPE SORIA","CALLAO","CALLAO","CALLAO","070101","8","00","00","CALLAO"," ","NO PERTENECE A NINGUNA MICRORED","Sin Categoría"]
[null,{"$f":"VALUE(renipress[[#This Row],[Código Único]])","v":17157},"PRIVADO","00017157","GONZALEZ CASTAÑEDA OLGA MARIA","LIMA","LIMA","JESUS MARIA","150113","36","00","00","LIMA CENTRO"," ","NO PERTENECE A NINGUNA MICRORED","Sin Categoría"]
[null,{"$f":"VALUE(renipress[[#This Row],[Código Único]])","v":17171},"PRIVADO","00017171","CONSULTORIO NEUROLOGICO","LAMBAYEQUE","CHICLAYO","CHICLAYO","140101","19","00","00","LAMBAYEQUE","NO PERTENECE A NINGUNA RED","NO PERTENECE A NINGUNA MICRORED","Sin Categoría"]
[null,{"$f":"VALUE(renipress[[#This Row],[Código Único]])","v":17190},"PRIVADO","00017190","IMPORTACIONES DE PRODUCTOS OPTICOS SOCIEDAD ANONIMA","PIURA","PIURA","PIURA","200101","28","00","00","PIURA"," ","NO PERTENECE A NINGUNA MICRORED","Sin Categoría"]
[null,{"$f":"VALUE(renipress[[#This Row],[Código Único]])","v":17201},"PRIVADO","00017201","LAB-AFA","APURIMAC","ABANCAY","ABANCAY","030101","3","00","00","APURIMAC"," ","NO PERTENECE A NINGUNA MICRORED","Sin Categoría"]
[null,{"$f":"VALUE(renipress[[#This Row],[Código Único]])","v":17212},"PRIVADO","00017212","CONSULTORIO MEDICO OBSTETRICO SAYBI","LIMA","LIMA","VILLA MARIA DEL TRIUNFO","150143","23","00","00","LIMA SUR"," ","NO PERTENECE A NINGUNA MICRORED","I-2"]
[null,{"$f":"VALUE(renipress[[#This Row],[Código Único]])","v":17219},"PRIVADO","00017219","ALFREDO COVEÑAS CORNEJO","LIMA","HUARAL","CHANCAY","150605","22","00","00","LIMA"," ","NO PERTENECE A NINGUNA MICRORED","Sin Categoría"]
[null,{"$f":"VALUE(renipress[[#This Row],[Código Único]])","v":17233},"PRIVADO","00017233","ANALISIS CLINICOS ML S.A.C","PIURA","TALARA","PARIÑAS","200701","28","00","00","PIURA"," ","NO PERTENECE A NINGUNA MICRORED","Sin Categoría"]
[null,{"$f":"VALUE(renipress[[#This Row],[Código Único]])","v":17243},"PRIVADO","00017243","BIOGENETIC LAB SAC","LAMBAYEQUE","CHICLAYO","CHICLAYO","140101","19","00","00","LAMBAYEQUE"," ","NO PERTENECE A NINGUNA MICRORED","Sin Categoría"]
[null,{"$f":"VALUE(renipress[[#This Row],[Código Único]])","v":17255},"PRIVADO","00017255","CONSULTORIO DENTAL NAYLAMP","LAMBAYEQUE","CHICLAYO","CHICLAYO","140101","19","00","00","LAMBAYEQUE","NO PERTENECE A NINGUNA RED","NO PERTENECE A NINGUNA MICRORED","Sin Categoría"]
[null,{"$f":"VALUE(renipress[[#This Row],[Código Único]])","v":17274},"PRIVADO","00017274","PROGRAMAS MEDICOS S.A.C.","LIMA","LIMA","LOS OLIVOS","150117","35","00","00","LIMA NORTE"," ","NO PERTENECE A NINGUNA MICRORED","I-3"]
[null,{"$f":"VALUE(renipress[[#This Row],[Código Único]])","v":17286},"PRIVADO","00017286","ORALBET CENTRO ODONTOLOGICO SAC","CAJAMARCA","CAJAMARCA","CAJAMARCA","060101","7","00","00","CAJAMARCA"," ","NO PERTENECE A NINGUNA MICRORED","I-1"]
[null,{"$f":"VALUE(renipress[[#This Row],[Código Único]])","v":17291},"PRIVADO","00017291","CENTRO OBSTÉTRICO ABRAHAM Y DIEGO","LAMBAYEQUE","CHICLAYO","TUMAN","140120","19","00","00","LAMBAYEQUE"," ","NO PERTENECE A NINGUNA MICRORED","Sin Categoría"]
[null,{"$f":"VALUE(renipress[[#This Row],[Código Único]])","v":17307},"PRIVADO","00017307","CLINICA ALEMANA","ANCASH","HUARAZ","HUARAZ","020101","2","00","00","ANCASH"," ","NO PERTENECE A NINGUNA MICRORED","I-4"]
[null,{"$f":"VALUE(renipress[[#This Row],[Código Único]])","v":17319},"PRIVADO","00017319","ODAM","PUNO","SAN ROMAN","JULIACA","211101","29","00","00","PUNO"," ","NO PERTENECE A NINGUNA MICRORED","Sin Categoría"]
[null,{"$f":"VALUE(renipress[[#This Row],[Código Único]])","v":17328},"PRIVADO","00017328","YSUIZA BOCANEGRA JAQUELINE","LIMA","LIMA","CARABAYLLO","150106","35","00","00","LIMA NORTE"," ","NO PERTENECE A NINGUNA MICRORED","Sin Categoría"]
[null,{"$f":"VALUE(renipress[[#This Row],[Código Único]])","v":17343},"PRIVADO","00017343","CONSULTORIO ODONTOLOGICO DENTISALUD","LIMA","LIMA","SANTA ANITA","150137","21","00","00","LIMA ESTE"," ","NO PERTENECE A NINGUNA MICRORED","I-1"]
[null,{"$f":"VALUE(renipress[[#This Row],[Código Único]])","v":17349},"PRIVADO","00017349","CONSULTORIO MEDICO DE CIRUGIA PLASTICA Y REPARADORA VENTURA","LIMA","LIMA","SANTIAGO DE SURCO","150140","23","00","00","LIMA SUR"," ","NO PERTENECE A NINGUNA MICRORED","I-2"]
[null,{"$f":"VALUE(renipress[[#This Row],[Código Único]])","v":17360},"PRIVADO","00017360","CONSULTORIO MEDICO PARTICULAR CON ESPECIALIDAD EN UROLOGIA","TACNA","TACNA","TACNA","230101","32","00","00","TACNA"," ","NO PERTENECE A NINGUNA MICRORED","Sin Categoría"]
[null,{"$f":"VALUE(renipress[[#This Row],[Código Único]])","v":17379},"PRIVADO","00017379","ODONTOLOGIA INTEGRAL GUERRERO","PIURA","PIURA","PIURA","200101","28","00","00","PIURA"," ","NO PERTENECE A NINGUNA MICRORED","I-3"]
[null,{"$f":"VALUE(renipress[[#This Row],[Código Único]])","v":17389},"PRIVADO","00017389","POLICLINICO CIRCUITO RAPIDO BREVET","LIMA","LIMA","ATE","150103","21","00","00","LIMA ESTE"," ","NO PERTENECE A NINGUNA MICRORED","I-3"]
[null,{"$f":"VALUE(renipress[[#This Row],[Código Único]])","v":17400},"PRIVADO","00017400","INTEGRA SALUD SERVICIOS MEDICOS  S.A.C.","LIMA","LIMA","LOS OLIVOS","150117","35","00","00","LIMA NORTE"," ","NO PERTENECE A NINGUNA MICRORED","I-3"]
[null,{"$f":"VALUE(renipress[[#This Row],[Código Único]])","v":17406},"PRIVADO","00017406","OPTICAS GMO PERU SAC","PIURA","PIURA","PIURA","200101","28","00","00","PIURA"," ","NO PERTENECE A NINGUNA MICRORED","Sin Categoría"]
[null,{"$f":"VALUE(renipress[[#This Row],[Código Único]])","v":17421},"PRIVADO","00017421","LOPEZ SILVERIO GERMAN JENS","LIMA","LIMA","PUENTE PIEDRA","150125","35","00","00","LIMA NORTE"," ","NO PERTENECE A NINGUNA MICRORED","Sin Categoría"]
[null,{"$f":"VALUE(renipress[[#This Row],[Código Único]])","v":17430},"PRIVADO","00017430","CENTRO MEDICO SANTA URSULA E.I.R.L.","LIMA","LIMA","CHORRILLOS","150108","23","00","00","LIMA SUR"," ","NO PERTENECE A NINGUNA MICRORED","Sin Categoría"]
[null,{"$f":"VALUE(renipress[[#This Row],[Código Único]])","v":17442},"PRIVADO","00017442","ALEJANDRO REYNALDO SANCHEZ BARTUREN","ICA","ICA","ICA","110101","15","00","00","ICA","NO PERTENECE A NINGUNA RED","NO PERTENECE A NINGUNA MICRORED","Sin Categoría"]
[null,{"$f":"VALUE(renipress[[#This Row],[Código Único]])","v":17458},"PRIVADO","00017458","POBLACION EN GENERAL","PIURA","SULLANA","SULLANA","200601","28","00","00","PIURA"," ","NO PERTENECE A NINGUNA MICRORED","I-2"]
[null,{"$f":"VALUE(renipress[[#This Row],[Código Único]])","v":17463},"PRIVADO","00017463","CENTRO MEDICO GANIMED EIRL","LAMBAYEQUE","CHICLAYO","LA VICTORIA","140106","19","00","00","LAMBAYEQUE"," ","NO PERTENECE A NINGUNA MICRORED","I-3"]
[null,{"$f":"VALUE(renipress[[#This Row],[Código Único]])","v":17475},"PRIVADO","00017475","INVERSIONES DANIDENT SAC","LIMA","LIMA","MIRAFLORES","150122","36","00","00","LIMA CENTRO"," ","NO PERTENECE A NINGUNA MICRORED","Sin Categoría"]
[null,{"$f":"VALUE(renipress[[#This Row],[Código Único]])","v":17492},"PRIVADO","00017492","SERVICIOS A TU SALUD E.I.R.L.","LIMA","LIMA","COMAS","150110","35","00","00","LIMA NORTE"," ","NO PERTENECE A NINGUNA MICRORED","I-2"]
[null,{"$f":"VALUE(renipress[[#This Row],[Código Único]])","v":17503},"PRIVADO","00017503","PSICOLOGIA PARA TODOS KARIADEL","JUNIN","HUANCAYO","EL TAMBO","120114","17","00","00","JUNIN"," ","NO PERTENECE A NINGUNA MICRORED","Sin Categoría"]
[null,{"$f":"VALUE(renipress[[#This Row],[Código Único]])","v":17513},"PRIVADO","00017513","ODONTO INTEGRA","CUSCO","CUSCO","CUSCO","080101","11","00","00","CUSCO"," ","NO PERTENECE A NINGUNA MICRORED","Sin Categoría"]
[null,{"$f":"VALUE(renipress[[#This Row],[Código Único]])","v":17527},"PRIVADO","00017527","IDCO S.A.C.","LIMA","LIMA","SANTIAGO DE SURCO","150140","23","00","00","LIMA SUR"," ","NO PERTENECE A NINGUNA MICRORED","I-1"]
[null,{"$f":"VALUE(renipress[[#This Row],[Código Único]])","v":17537},"PRIVADO","00017537","CENTRO DE EVALUACION MEDICA, CAPACITACION Y CERTIFICACION SEÑOR CAUTIVO DE AYABACA S.A.C.","PIURA","SULLANA","SULLANA","200601","28","00","00","PIURA"," ","NO PERTENECE A NINGUNA MICRORED","I-2"]
[null,{"$f":"VALUE(renipress[[#This Row],[Código Único]])","v":17547},"PRIVADO","00017547","INTEGRAL PLUS MEDIC SAC","CALLAO","CALLAO","LA PERLA","070104","8","00","00","CALLAO"," ","NO PERTENECE A NINGUNA MICRORED","I-3"]
[null,{"$f":"VALUE(renipress[[#This Row],[Código Único]])","v":17558},"PRIVADO","00017558","CENTRO ORTODONCICO ESPECIALIZADO - MEGADENT","LORETO","MAYNAS","IQUITOS","160101","24","00","00","LORETO"," ","NO PERTENECE A NINGUNA MICRORED","Sin Categoría"]
[null,{"$f":"VALUE(renipress[[#This Row],[Código Único]])","v":17575},"PRIVADO","00017575","VENTURA EGOAVIL ELIZABETH MATILDE","LIMA","LIMA","JESUS MARIA","150113","36","00","00","LIMA CENTRO"," ","NO PERTENECE A NINGUNA MICRORED","I-2"]
[null,{"$f":"VALUE(renipress[[#This Row],[Código Único]])","v":17587},"GOBIERNO REGIONAL","00017587","OSAIGUE","LA LIBERTAD","SANTIAGO DE CHUCO","SANTIAGO DE CHUCO","131001","18","11","01","LA LIBERTAD","RED SANTIAGO DE CHUCO","CALIPUY","I-2"]
[null,{"$f":"VALUE(renipress[[#This Row],[Código Único]])","v":17592},"PRIVADO","00017592","CENTRODENT","AREQUIPA","AREQUIPA","AREQUIPA","040101","4","00","00","AREQUIPA"," ","NO PERTENECE A NINGUNA MICRORED","I-1"]
[null,{"$f":"VALUE(renipress[[#This Row],[Código Único]])","v":17608},"PRIVADO","00017608","CENTRO ODONTOLOGICO NEODENTIS S.R.L","LIMA","LIMA","MIRAFLORES","150122","36","00","00","LIMA CENTRO"," ","NO PERTENECE A NINGUNA MICRORED","I-1"]
[null,{"$f":"VALUE(renipress[[#This Row],[Código Único]])","v":17616},"PRIVADO","00017616","CHAVEZ NATIVIDAD CARMEN","LIMA","HUAURA","VEGUETA","150812","22","00","00","LIMA"," ","NO PERTENECE A NINGUNA MICRORED","Sin Categoría"]
[null,{"$f":"VALUE(renipress[[#This Row],[Código Único]])","v":17629},"PRIVADO","00017629","GUARDIA QUISPE ALLINSON YESSENIA","LIMA","HUAURA","HUACHO","150801","22","00","00","LIMA"," ","NO PERTENECE A NINGUNA MICRORED","Sin Categoría"]
[null,{"$f":"VALUE(renipress[[#This Row],[Código Único]])","v":17644},"PRIVADO","00017644","CENTRO MEDICO OCUPACIONAL SAN SEBASTIAN EIRL","PIURA","PIURA","PIURA","200101","28","00","00","PIURA"," ","NO PERTENECE A NINGUNA MICRORED","I-3"]
[null,{"$f":"VALUE(renipress[[#This Row],[Código Único]])","v":17650},"PRIVADO","00017650","CONSULTORIO ODONTOLOGICO DRA. TACILLA","LAMBAYEQUE","CHICLAYO","CHICLAYO","140101","19","00","00","LAMBAYEQUE"," ","NO PERTENECE A NINGUNA MICRORED","Sin Categoría"]
[null,{"$f":"VALUE(renipress[[#This Row],[Código Único]])","v":17661},"PRIVADO","00017661","CONSULTORIO MEDICO PEDIATRICO","JUNIN","CHANCHAMAYO","CHANCHAMAYO","120301","17","00","00","JUNIN"," ","NO PERTENECE A NINGUNA MICRORED","Sin Categoría"]
[null,{"$f":"VALUE(renipress[[#This Row],[Código Único]])","v":17679},"PRIVADO","00017679","INOUT CONSULTORES","CUSCO","CUSCO","SAN SEBASTIAN","080105","11","00","00","CUSCO"," ","NO PERTENECE A NINGUNA MICRORED","Sin Categoría"]
[null,{"$f":"VALUE(renipress[[#This Row],[Código Único]])","v":17689},"PRIVADO","00017689","TOMAS AQUINO OBREGON LOPEZ","CALLAO","CALLAO","CARMEN DE LA LEGUA-REYNOSO","070103","8","00","00","CALLAO"," ","NO PERTENECE A NINGUNA MICRORED","I-1"]
[null,{"$f":"VALUE(renipress[[#This Row],[Código Único]])","v":17700},"PRIVADO","00017700","NAVARRO CASAS FELIX ENRIQUE","LIMA","LIMA","LOS OLIVOS","150117","35","00","00","LIMA NORTE"," ","NO PERTENECE A NINGUNA MICRORED","I-2"]
[null,{"$f":"VALUE(renipress[[#This Row],[Código Único]])","v":17717},"PRIVADO","00017717","ODONTOLOGIA INTEGRAL O´DENT PLUS","LIMA","LIMA","SAN JUAN DE LURIGANCHO","150132","36","00","00","LIMA CENTRO"," ","NO PERTENECE A NINGUNA MICRORED","I-1"]
[null,{"$f":"VALUE(renipress[[#This Row],[Código Único]])","v":17721},"PRIVADO","00017721","VASCULAINE EIRL","LIMA","LIMA","SAN BORJA","150130","36","00","00","LIMA CENTRO"," ","NO PERTENECE A NINGUNA MICRORED","Sin Categoría"]
[null,{"$f":"VALUE(renipress[[#This Row],[Código Único]])","v":17730},"PRIVADO","00017730","IMAGENES MEDICAS","TACNA","TACNA","TACNA","230101","32","00","00","TACNA"," ","NO PERTENECE A NINGUNA MICRORED","Sin Categoría"]
[null,{"$f":"VALUE(renipress[[#This Row],[Código Único]])","v":17742},"PRIVADO","00017742","MEDIFEM","LIMA","LIMA","ATE","150103","21","00","00","LIMA ESTE"," ","NO PERTENECE A NINGUNA MICRORED","Sin Categoría"]
[null,{"$f":"VALUE(renipress[[#This Row],[Código Único]])","v":17759},"PRIVADO","00017759","DANIEL ALBERTO VELASQUEZ VALENZUELA","CALLAO","CALLAO","BELLAVISTA","070102","8","00","00","CALLAO"," ","NO PERTENECE A NINGUNA MICRORED","I-1"]
[null,{"$f":"VALUE(renipress[[#This Row],[Código Único]])","v":17778},"PRIVADO","00017778","CLINICA LUGO INTERNACIONAL SAC.","LIMA","LIMA","JESUS MARIA","150113","36","00","00","LIMA CENTRO"," ","NO PERTENECE A NINGUNA MICRORED","I-3"]
[null,{"$f":"VALUE(renipress[[#This Row],[Código Único]])","v":17794},"PRIVADO","00017794","MEDLAB S.A.C.","LIMA","LIMA","SANTIAGO DE SURCO","150140","23","00","00","LIMA SUR"," ","NO PERTENECE A NINGUNA MICRORED","Sin Categoría"]
[null,{"$f":"VALUE(renipress[[#This Row],[Código Único]])","v":17800},"GOBIERNO REGIONAL","00017800","P.S. VALLE NASARATEGUI","PASCO","OXAPAMPA","PUERTO BERMUDEZ","190306","27","03","05","PASCO","OXAPAMPA","PUERTO BERMUDEZ","I-1"]
[null,{"$f":"VALUE(renipress[[#This Row],[Código Único]])","v":17812},"SANIDAD DE LA MARINA DE GUERRA DEL PERU","00017812","LICEO NAVAL ALMIRANTE GUISE","LIMA","LIMA","SAN BORJA","150130","36","00","00","LIMA CENTRO","NO PERTENECE A NINGUNA RED","NO PERTENECE A NINGUNA MICRORED","I-1"]
[null,{"$f":"VALUE(renipress[[#This Row],[Código Único]])","v":17822},"PRIVADO","00017822","TERAPIA FÍSICA Y REHABILITACIÓN INTEGRAL THERAPY MED","LIMA","LIMA","LA MOLINA","150114","21","00","00","LIMA ESTE"," ","NO PERTENECE A NINGUNA MICRORED","Sin Categoría"]
[null,{"$f":"VALUE(renipress[[#This Row],[Código Único]])","v":17836},"PRIVADO","00017836","CENTRO ESPECIALIZADO DE AYUDA AL DIAGNOSTICO MEDICO S.R.L.","LORETO","MAYNAS","IQUITOS","160101","24","00","00","LORETO"," ","NO PERTENECE A NINGUNA MICRORED","Sin Categoría"]
[null,{"$f":"VALUE(renipress[[#This Row],[Código Único]])","v":17843},"PRIVADO","00017843","CONSULTORIOS SANTA CRUZ","LIMA","LIMA","SAN JUAN DE LURIGANCHO","150132","36","00","00","LIMA CENTRO"," ","NO PERTENECE A NINGUNA MICRORED","Sin Categoría"]
[null,{"$f":"VALUE(renipress[[#This Row],[Código Único]])","v":17864},"PRIVADO","00017864","POLICLINICO BIOSALUD ATALAYA E.I.R.L.","UCAYALI","ATALAYA","RAIMONDI","250201","34","00","00","UCAYALI"," ","NO PERTENECE A NINGUNA MICRORED","Sin Categoría"]
[null,{"$f":"VALUE(renipress[[#This Row],[Código Único]])","v":17876},"PRIVADO","00017876","ODONTOPLAN","LIMA","LIMA","MIRAFLORES","150122","36","00","00","LIMA CENTRO"," ","NO PERTENECE A NINGUNA MICRORED","Sin Categoría"]
[null,{"$f":"VALUE(renipress[[#This Row],[Código Único]])","v":17881},"MUNICIPALIDAD DISTRITAL","00017881","POLICLINICO PRO - LIMA UBAP LOS OLIVOS","LIMA","LIMA","LOS OLIVOS","150117","35","00","00","LIMA NORTE","NO PERTENECE A NINGUNA RED","NO PERTENECE A NINGUNA MICRORED","I-3"]
[null,{"$f":"VALUE(renipress[[#This Row],[Código Único]])","v":17893},"PRIVADO","00017893","UNITED LABORATORIES PERU S.A.C.","CALLAO","CALLAO","CALLAO","070101","8","00","00","CALLAO","NO PERTENECE A NINGUNA RED","NO PERTENECE A NINGUNA MICRORED","Sin Categoría"]
[null,{"$f":"VALUE(renipress[[#This Row],[Código Único]])","v":17906},"PRIVADO","00017906","BLUFSTEIN LABORATORIO CLINICO S.A.","LIMA","LIMA","SAN BORJA","150130","36","00","00","LIMA CENTRO"," ","NO PERTENECE A NINGUNA MICRORED","Sin Categoría"]
[null,{"$f":"VALUE(renipress[[#This Row],[Código Único]])","v":17916},"PRIVADO","00017916","CONSULTORIO MEDICO PEDIATRICO DR. LUJAN","ANCASH","SANTA","CHIMBOTE","021801","2","00","00","ANCASH"," ","NO PERTENECE A NINGUNA MICRORED","Sin Categoría"]
[null,{"$f":"VALUE(renipress[[#This Row],[Código Único]])","v":17923},"PRIVADO","00017923","ECHEVERRIA DE LA CRUZ EDILA","LIMA","BARRANCA","BARRANCA","150201","22","00","00","LIMA"," ","NO PERTENECE A NINGUNA MICRORED","Sin Categoría"]
[null,{"$f":"VALUE(renipress[[#This Row],[Código Único]])","v":17945},"PRIVADO","00017945","CORPORACION ALSEDA S.A.C.","LIMA","LIMA","LINCE","150116","36","00","00","LIMA CENTRO"," ","NO PERTENECE A NINGUNA MICRORED","Sin Categoría"]
[null,{"$f":"VALUE(renipress[[#This Row],[Código Único]])","v":17957},"PRIVADO","00017957","DENTAL AMERICA","LIMA","LIMA","ATE","150103","21","00","00","LIMA ESTE"," ","NO PERTENECE A NINGUNA MICRORED","Sin Categoría"]
[null,{"$f":"VALUE(renipress[[#This Row],[Código Único]])","v":17963},"PRIVADO","00017963","CONSULTORIO DENTAL NAZARETH SAC","LIMA","LIMA","MAGDALENA DEL MAR","150120","36","00","00","LIMA CENTRO"," ","NO PERTENECE A NINGUNA MICRORED","Sin Categoría"]
[null,{"$f":"VALUE(renipress[[#This Row],[Código Único]])","v":17979},"PRIVADO","00017979","ECOGRAFIAS DR. BECERRA","LORETO","MAYNAS","BELEN","160112","24","00","00","LORETO"," ","NO PERTENECE A NINGUNA MICRORED","Sin Categoría"]
[null,{"$f":"VALUE(renipress[[#This Row],[Código Único]])","v":17987},"GOBIERNO REGIONAL","00017987","MODULO MEDICO DE FAMILIA SECTOR 7","JUNIN","HUANCAYO","EL TAMBO","120114","17","01","05","JUNIN","VALLE DEL MANTARO","EL TAMBO","I-2"]
[null,{"$f":"VALUE(renipress[[#This Row],[Código Único]])","v":18000},"PRIVADO","00018000","ORTOCHRIS DENT","LIMA","LIMA","VILLA MARIA DEL TRIUNFO","150143","23","00","00","LIMA SUR"," ","NO PERTENECE A NINGUNA MICRORED","I-1"]
[null,{"$f":"VALUE(renipress[[#This Row],[Código Único]])","v":18015},"PRIVADO","00018015","ERNESTO CAZORLA","CUSCO","CUSCO","WANCHAQ","080108","11","00","00","CUSCO"," ","NO PERTENECE A NINGUNA MICRORED","I-2"]
[null,{"$f":"VALUE(renipress[[#This Row],[Código Único]])","v":18017},"PRIVADO","00018017","HECTOR MONTES","CUSCO","CUSCO","WANCHAQ","080108","11","00","00","CUSCO"," ","NO PERTENECE A NINGUNA MICRORED","I-2"]
[null,{"$f":"VALUE(renipress[[#This Row],[Código Único]])","v":18032},"PRIVADO","00018032","CONTRERAS ORE BLANCA ELIZABETH","LIMA","LIMA","LIMA","150101","36","00","00","LIMA CENTRO"," ","NO PERTENECE A NINGUNA MICRORED","I-1"]
[null,{"$f":"VALUE(renipress[[#This Row],[Código Único]])","v":18051},"PRIVADO","00018051","CENTRO DE VACUNACION","LORETO","MAYNAS","IQUITOS","160101","24","00","00","LORETO"," ","NO PERTENECE A NINGUNA MICRORED","Sin Categoría"]
[null,{"$f":"VALUE(renipress[[#This Row],[Código Único]])","v":18061},"PRIVADO","00018061","SOLISDENT   E.I.R.L.","LIMA","LIMA","LURIN","150119","23","00","00","LIMA SUR"," ","NO PERTENECE A NINGUNA MICRORED","I-3"]
[null,{"$f":"VALUE(renipress[[#This Row],[Código Único]])","v":18072},"PRIVADO","00018072","BIOVITALYS SAC","LIMA","LIMA","SAN JUAN DE MIRAFLORES","150133","23","00","00","LIMA SUR"," ","NO PERTENECE A NINGUNA MICRORED","I-1"]
[null,{"$f":"VALUE(renipress[[#This Row],[Código Único]])","v":18085},"PRIVADO","00018085","MB LENS","LIMA","LIMA","LIMA","150101","36","00","00","LIMA CENTRO"," ","NO PERTENECE A NINGUNA MICRORED","Sin Categoría"]
[null,{"$f":"VALUE(renipress[[#This Row],[Código Único]])","v":18093},"GOBIERNO REGIONAL","00018093","EL PORVENIR","LA LIBERTAD","PATAZ","BULDIBUYO","130802","18","09","02","LA LIBERTAD","RED PATAZ","PATAZ SUR","I-1"]
[null,{"$f":"VALUE(renipress[[#This Row],[Código Único]])","v":18102},"PRIVADO","00018102","CONSULTORIO ODONTOLOGICO ESQUIVEL","JUNIN","HUANCAYO","HUANCAYO","120101","17","00","00","JUNIN"," ","NO PERTENECE A NINGUNA MICRORED","Sin Categoría"]
[null,{"$f":"VALUE(renipress[[#This Row],[Código Único]])","v":18114},"PRIVADO","00018114","BIOCELLS DX E.I.R.L.","ANCASH","HUARAZ","INDEPENDENCIA","020105","2","00","00","ANCASH"," ","NO PERTENECE A NINGUNA MICRORED","Sin Categoría"]
[null,{"$f":"VALUE(renipress[[#This Row],[Código Único]])","v":18131},"PRIVADO","00018131","CONSULTORIO DE OJOS PRIMAVERA","LIMA","LIMA","SAN BORJA","150130","36","00","00","LIMA CENTRO"," ","NO PERTENECE A NINGUNA MICRORED","I-2"]
[null,{"$f":"VALUE(renipress[[#This Row],[Código Único]])","v":18145},"PRIVADO","00018145","CENTRO DE SALUD MENTAL DE NIÑOS Y ADOLESCENTES JUAN SALVADOR GAVIOTA S.A.C.","LIMA","LIMA","SAN MARTIN DE PORRES","150135","35","00","00","LIMA NORTE"," ","NO PERTENECE A NINGUNA MICRORED","I-2"]
[null,{"$f":"VALUE(renipress[[#This Row],[Código Único]])","v":18150},"PRIVADO","00018150","CONSULTORIO DENTAL-OBSTETRICO DIVINO NIÑO JESUS","LIMA","LIMA","SAN JUAN DE LURIGANCHO","150132","36","00","00","LIMA CENTRO"," ","NO PERTENECE A NINGUNA MICRORED","I-1"]
[null,{"$f":"VALUE(renipress[[#This Row],[Código Único]])","v":18167},"PRIVADO","00018167","MULTIDENT ATE","LIMA","LIMA","ATE","150103","21","00","00","LIMA ESTE"," ","NO PERTENECE A NINGUNA MICRORED","I-1"]
[null,{"$f":"VALUE(renipress[[#This Row],[Código Único]])","v":18174},"PRIVADO","00018174","SERVICIOS HOSPITALARIOS E INDUSTRIALES S.A.C","LIMA","LIMA","LURIN","150119","23","00","00","LIMA SUR"," ","NO PERTENECE A NINGUNA MICRORED","Sin Categoría"]
[null,{"$f":"VALUE(renipress[[#This Row],[Código Único]])","v":18189},"GOBIERNO REGIONAL","00018189","PUESTO DE SALUD PROGRESO","HUANCAVELICA","ACOBAMBA","PAUCARA","090206","13","02","02","HUANCAVELICA","ACOBAMBA","PAUCARA                                                    ","I-1"]
[null,{"$f":"VALUE(renipress[[#This Row],[Código Único]])","v":18203},"PRIVADO","00018203","BASOMBRIO CONTRERAS ORESTE","LIMA","HUAURA","HUACHO","150801","22","00","00","LIMA"," ","NO PERTENECE A NINGUNA MICRORED","Sin Categoría"]
[null,{"$f":"VALUE(renipress[[#This Row],[Código Único]])","v":18210},"PRIVADO","00018210","CENTRO DE SALUD FAMILIAR GALILEA","PIURA","PIURA","CASTILLA","200104","28","00","00","PIURA"," ","NO PERTENECE A NINGUNA MICRORED","Sin Categoría"]
[null,{"$f":"VALUE(renipress[[#This Row],[Código Único]])","v":18220},"PRIVADO","00018220","DANIEL ALCIDES CARRIÓN","SAN MARTIN","MOYOBAMBA","MOYOBAMBA","220101","30","00","00","SAN MARTIN"," ","NO PERTENECE A NINGUNA MICRORED","I-2"]
[null,{"$f":"VALUE(renipress[[#This Row],[Código Único]])","v":18239},"PRIVADO","00018239","CHEQUEOS MEDICOS Y SERVICIOS ASISTENCIALES SAC","LIMA","LIMA","LINCE","150116","36","00","00","LIMA CENTRO"," ","NO PERTENECE A NINGUNA MICRORED","Sin Categoría"]
[null,{"$f":"VALUE(renipress[[#This Row],[Código Único]])","v":18248},"PRIVADO","00018248","SALUS LABORIS","LIMA","LIMA","SANTIAGO DE SURCO","150140","23","00","00","LIMA SUR","NO PERTENECE A NINGUNA RED","NO PERTENECE A NINGUNA MICRORED","I-3"]
[null,{"$f":"VALUE(renipress[[#This Row],[Código Único]])","v":18260},"PRIVADO","00018260","CONSULTORIOS SAN ANTONIO","LIMA","LIMA","LURIGANCHO","150118","21","00","00","LIMA ESTE"," ","NO PERTENECE A NINGUNA MICRORED","I-2"]
[null,{"$f":"VALUE(renipress[[#This Row],[Código Único]])","v":18265},"PRIVADO","00018265","CARMEN SOLEDAD MONTOYA LOZADA","TACNA","TACNA","TACNA","230101","32","00","00","TACNA"," ","NO PERTENECE A NINGUNA MICRORED","Sin Categoría"]
[null,{"$f":"VALUE(renipress[[#This Row],[Código Único]])","v":18281},"PRIVADO","00018281","FISIOALCIDA","LIMA","LIMA","LINCE","150116","36","00","00","LIMA CENTRO"," ","NO PERTENECE A NINGUNA MICRORED","Sin Categoría"]
[null,{"$f":"VALUE(renipress[[#This Row],[Código Único]])","v":18289},"PRIVADO","00018289","CONSULTORIO DENTAL ZAHNADENTI","LIMA","LIMA","SAN JUAN DE LURIGANCHO","150132","36","00","00","LIMA CENTRO"," ","NO PERTENECE A NINGUNA MICRORED","I-1"]
[null,{"$f":"VALUE(renipress[[#This Row],[Código Único]])","v":18302},"PRIVADO","00018302","JOSE ARTURO PALOMINO VENTURA","LIMA","LIMA","VILLA EL SALVADOR","150142","23","00","00","LIMA SUR"," ","NO PERTENECE A NINGUNA MICRORED","Sin Categoría"]
[null,{"$f":"VALUE(renipress[[#This Row],[Código Único]])","v":18317},"PRIVADO","00018317","CONSULTORES PEDIATRICOS","LIMA","LIMA","ATE","150103","21","00","00","LIMA ESTE"," ","NO PERTENECE A NINGUNA MICRORED","Sin Categoría"]
[null,{"$f":"VALUE(renipress[[#This Row],[Código Único]])","v":18331},"PRIVADO","00018331","CONSULTORIA PSICOLOGICA SISTEMA LONDRES S.A.C.","LIMA","LIMA","LINCE","150116","36","00","00","LIMA CENTRO"," ","NO PERTENECE A NINGUNA MICRORED","I-1"]
[null,{"$f":"VALUE(renipress[[#This Row],[Código Único]])","v":18334},"PRIVADO","00018334","REAL DE LIMA SERVICIOS MEDICOS","LIMA","LIMA","EL AGUSTINO","150111","21","00","00","LIMA ESTE"," ","NO PERTENECE A NINGUNA MICRORED","Sin Categoría"]
[null,{"$f":"VALUE(renipress[[#This Row],[Código Único]])","v":18352},"PRIVADO","00018352","POLICLINICO SELENE","APURIMAC","AYMARAES","COTARUSE","030406","3","00","00","APURIMAC"," ","NO PERTENECE A NINGUNA MICRORED","I-3"]
[null,{"$f":"VALUE(renipress[[#This Row],[Código Único]])","v":18362},"PRIVADO","00018362","MEDICAL RENT S.A.","CALLAO","CALLAO","BELLAVISTA","070102","8","00","00","CALLAO"," ","NO PERTENECE A NINGUNA MICRORED","Sin Categoría"]
[null,{"$f":"VALUE(renipress[[#This Row],[Código Único]])","v":18374},"PRIVADO","00018374","FAMILY DENTAL SALAZAR","LIMA","LIMA","PUEBLO LIBRE","150121","36","00","00","LIMA CENTRO"," ","NO PERTENECE A NINGUNA MICRORED","I-1"]
[null,{"$f":"VALUE(renipress[[#This Row],[Código Único]])","v":18387},"PRIVADO","00018387","CONSULTORIO MEDICO DE PREDIATRIA","AREQUIPA","AREQUIPA","YANAHUARA","040126","4","00","00","AREQUIPA","NO PERTENECE A NINGUNA RED","NO PERTENECE A NINGUNA MICRORED","I-2"]
[null,{"$f":"VALUE(renipress[[#This Row],[Código Único]])","v":18395},"PRIVADO","00018395","ODONTOCHONG","PIURA","SULLANA","SULLANA","200601","28","00","00","PIURA"," ","NO PERTENECE A NINGUNA MICRORED","I-1"]
[null,{"$f":"VALUE(renipress[[#This Row],[Código Único]])","v":18404},"PRIVADO","00018404","SAN PABLO TRUJILLO","LA LIBERTAD","TRUJILLO","TRUJILLO","130101","18","00","00","LA LIBERTAD","NO PERTENECE A NINGUNA RED","NO PERTENECE A NINGUNA MICRORED","II-2"]
[null,{"$f":"VALUE(renipress[[#This Row],[Código Único]])","v":18424},"PRIVADO","00018424","BERNAOLA","CUSCO","CUSCO","SAN SEBASTIAN","080105","11","00","00","CUSCO"," ","NO PERTENECE A NINGUNA MICRORED","I-1"]
[null,{"$f":"VALUE(renipress[[#This Row],[Código Único]])","v":18432},"PRIVADO","00018432","LABORATORIO DE ANALISIS CLINICOS MUÑOZ S.R.L","AREQUIPA","AREQUIPA","YANAHUARA","040126","4","00","00","AREQUIPA"," ","NO PERTENECE A NINGUNA MICRORED","Sin Categoría"]
[null,{"$f":"VALUE(renipress[[#This Row],[Código Único]])","v":18445},"PRIVADO","00018445","POLICLINICO YOGO S.A.C.","CALLAO","CALLAO","CARMEN DE LA LEGUA-REYNOSO","070103","8","00","00","CALLAO"," ","NO PERTENECE A NINGUNA MICRORED","I-2"]
[null,{"$f":"VALUE(renipress[[#This Row],[Código Único]])","v":18449},"PRIVADO","00018449","ASOCIACIÓN CENTRO INFANTIL SIN CONFLICTOS","LIMA","LIMA","SANTIAGO DE SURCO","150140","23","00","00","LIMA SUR"," ","NO PERTENECE A NINGUNA MICRORED","Sin Categoría"]
[null,{"$f":"VALUE(renipress[[#This Row],[Código Único]])","v":18466},"PRIVADO","00018466","CENTRO MEDICO NUEVA GALES","LIMA","LIMA","CIENEGUILLA","150109","21","00","00","LIMA ESTE"," ","NO PERTENECE A NINGUNA MICRORED","I-3"]
[null,{"$f":"VALUE(renipress[[#This Row],[Código Único]])","v":18473},"PRIVADO","00018473","CONSULTORIOS MEDICOS M.ORE","LIMA","LIMA","ATE","150103","21","00","00","LIMA ESTE"," ","NO PERTENECE A NINGUNA MICRORED","I-2"]
[null,{"$f":"VALUE(renipress[[#This Row],[Código Único]])","v":18487},"PRIVADO","00018487","CENTRO ODONTOLOGICO INTEGRAL","PIURA","SULLANA","SULLANA","200601","28","00","00","PIURA"," ","NO PERTENECE A NINGUNA MICRORED","I-2"]
[null,{"$f":"VALUE(renipress[[#This Row],[Código Único]])","v":18501},"PRIVADO","00018501","VILLA SOLLER JULIO CESAR","LIMA","LIMA","SAN MARTIN DE PORRES","150135","35","00","00","LIMA NORTE"," ","NO PERTENECE A NINGUNA MICRORED","Sin Categoría"]
[null,{"$f":"VALUE(renipress[[#This Row],[Código Único]])","v":18508},"PRIVADO","00018508","CONSULTORIO DENTAL OVIEDO","PIURA","PAITA","PAITA","200501","28","00","00","PIURA"," ","NO PERTENECE A NINGUNA MICRORED","I-1"]
[null,{"$f":"VALUE(renipress[[#This Row],[Código Único]])","v":18518},"PRIVADO","00018518","IMESAN E.I.R.L","SAN MARTIN","SAN MARTIN","TARAPOTO","220901","30","00","00","SAN MARTIN"," ","NO PERTENECE A NINGUNA MICRORED","Sin Categoría"]
[null,{"$f":"VALUE(renipress[[#This Row],[Código Único]])","v":18538},"GOBIERNO REGIONAL","00018538","SAN JUAN PAMPA","APURIMAC","ANDAHUAYLAS","SAN MIGUEL DE CHACCRAMPA","030214","3","05","01","APURIMAC","JOSE MARIA ARGUEDAS","HUANCARAY","I-1"]
[null,{"$f":"VALUE(renipress[[#This Row],[Código Único]])","v":18547},"INPE","00018547","PUESTO DE SALUD DEL ESTABLECIMIENTO PENITENCIRIO CHOTA","CAJAMARCA","CHOTA","CHOTA","060401","7","00","00","CAJAMARCA","NO PERTENECE A NINGUNA RED","NO PERTENECE A NINGUNA MICRORED","I-1"]
[null,{"$f":"VALUE(renipress[[#This Row],[Código Único]])","v":18559},"PRIVADO","00018559","S-CLIDENT","LIMA","LIMA","SAN JUAN DE LURIGANCHO","150132","36","00","00","LIMA CENTRO"," ","NO PERTENECE A NINGUNA MICRORED","Sin Categoría"]
[null,{"$f":"VALUE(renipress[[#This Row],[Código Único]])","v":18571},"PRIVADO","00018571","ETHY ANTOANE MURRIETA REYNA","CALLAO","CALLAO","CARMEN DE LA LEGUA-REYNOSO","070103","8","00","00","CALLAO"," ","NO PERTENECE A NINGUNA MICRORED","I-1"]
[null,{"$f":"VALUE(renipress[[#This Row],[Código Único]])","v":18580},"PRIVADO","00018580","GUILLERMO KAELIN DE LA FUENTE","LIMA","LIMA","VILLA MARIA DEL TRIUNFO","150143","23","00","00","LIMA SUR","NO PERTENECE A NINGUNA RED","NO PERTENECE A NINGUNA MICRORED","II-2"]
[null,{"$f":"VALUE(renipress[[#This Row],[Código Único]])","v":18588},"MUNICIPALIDAD PROVINCIAL","00018588","SISOL TARAPOTO","SAN MARTIN","SAN MARTIN","TARAPOTO","220901","30","00","00","SAN MARTIN","NO PERTENECE A NINGUNA RED","NO PERTENECE A NINGUNA MICRORED","Sin Categoría"]
[null,{"$f":"VALUE(renipress[[#This Row],[Código Único]])","v":18601},"PRIVADO","00018601","CONSULTORIO DENTAL MARIO CARDENAS","SAN MARTIN","BELLAVISTA","BELLAVISTA","220201","30","00","00","SAN MARTIN"," ","NO PERTENECE A NINGUNA MICRORED","Sin Categoría"]
[null,{"$f":"VALUE(renipress[[#This Row],[Código Único]])","v":18616},"PRIVADO","00018616","SERVIMEDIQ E.I.R.L.","MOQUEGUA","ILO","ILO","180301","26","00","00","MOQUEGUA"," ","NO PERTENECE A NINGUNA MICRORED","I-3"]
[null,{"$f":"VALUE(renipress[[#This Row],[Código Único]])","v":18632},"PRIVADO","00018632","MIRIS DENT","AREQUIPA","AREQUIPA","MIRAFLORES","040110","4","00","00","AREQUIPA"," ","NO PERTENECE A NINGUNA MICRORED","Sin Categoría"]
[null,{"$f":"VALUE(renipress[[#This Row],[Código Único]])","v":18647},"GOBIERNO REGIONAL","00018647","MEDICO DE FAMILIA BAHIA DEL RIO","JUNIN","CHANCHAMAYO","PERENE","120302","17","00","00","JUNIN","NO PERTENECE A NINGUNA RED","NO PERTENECE A NINGUNA MICRORED","I-2"]
[null,{"$f":"VALUE(renipress[[#This Row],[Código Único]])","v":18654},"GOBIERNO REGIONAL","00018654","MEDICO DE FAMILIA LOS OLIVOS","JUNIN","CHANCHAMAYO","PERENE","120302","17","00","00","JUNIN","NO PERTENECE A NINGUNA RED","NO PERTENECE A NINGUNA MICRORED","I-2"]
[null,{"$f":"VALUE(renipress[[#This Row],[Código Único]])","v":18660},"SANIDAD DE LA POLICIA NACIONAL DEL PERU","00018660","POLICLINICO ESCUELA DE OFICIALES PNP","LIMA","LIMA","CHORRILLOS","150108","23","00","00","LIMA SUR","NO PERTENECE A NINGUNA RED","NO PERTENECE A NINGUNA MICRORED","I-3"]
[null,{"$f":"VALUE(renipress[[#This Row],[Código Único]])","v":18675},"PRIVADO","00018675","CONSULTORIO ODONTOLOGICO ODONTOSALUD","LIMA","LIMA","SAN JUAN DE LURIGANCHO","150132","36","00","00","LIMA CENTRO"," ","NO PERTENECE A NINGUNA MICRORED","I-1"]
[null,{"$f":"VALUE(renipress[[#This Row],[Código Único]])","v":18688},"PRIVADO","00018688","PCO MEDICAL S.A.C.","ICA","PISCO","PARACAS","110505","15","00","00","ICA","NO PERTENECE A NINGUNA RED","NO PERTENECE A NINGUNA MICRORED","Sin Categoría"]
[null,{"$f":"VALUE(renipress[[#This Row],[Código Único]])","v":18696},"PRIVADO","00018696","VILLASONRISA","TACNA","TACNA","TACNA","230101","32","00","00","TACNA"," ","NO PERTENECE A NINGUNA MICRORED","I-1"]
[null,{"$f":"VALUE(renipress[[#This Row],[Código Único]])","v":18716},"PRIVADO","00018716","FLY MAJORO S.A.","ICA","NAZCA","VISTA ALEGRE","110305","15","00","00","ICA"," "," ","Sin Categoría"]
[null,{"$f":"VALUE(renipress[[#This Row],[Código Único]])","v":18725},"PRIVADO","00018725","CENTRO DE TERAPIAS ALTERNATIVAS LUZ DEL CUMBE","CAJAMARCA","CAJAMARCA","CAJAMARCA","060101","7","00","00","CAJAMARCA"," ","NO PERTENECE A NINGUNA MICRORED","Sin Categoría"]
[null,{"$f":"VALUE(renipress[[#This Row],[Código Único]])","v":18733},"PRIVADO","00018733","POLICLINICO BATEAS SG NATCLAR SAC","AREQUIPA","CAYLLOMA","CAYLLOMA","040505","4","00","00","AREQUIPA"," ","NO PERTENECE A NINGUNA MICRORED","I-3"]
[null,{"$f":"VALUE(renipress[[#This Row],[Código Único]])","v":18746},"PRIVADO","00018746","UNIVERSAL","TACNA","TACNA","TACNA","230101","32","00","00","TACNA"," ","NO PERTENECE A NINGUNA MICRORED","Sin Categoría"]
[null,{"$f":"VALUE(renipress[[#This Row],[Código Único]])","v":18761},"PRIVADO","00018761","CONSULTORIO MEDICO PEDIATRICO SAN JUAN","SAN MARTIN","RIOJA","RIOJA","220801","30","00","00","SAN MARTIN"," ","NO PERTENECE A NINGUNA MICRORED","I-2"]
[null,{"$f":"VALUE(renipress[[#This Row],[Código Único]])","v":18767},"PRIVADO","00018767","POLICLINICO PARTICULAR SAN SEBASTIAN EIRL.","AREQUIPA","AREQUIPA","PAUCARPATA","040112","4","00","00","AREQUIPA"," ","NO PERTENECE A NINGUNA MICRORED","I-3"]
[null,{"$f":"VALUE(renipress[[#This Row],[Código Único]])","v":18785},"PRIVADO","00018785","OPTICA LUMIERE","TACNA","TACNA","TACNA","230101","32","00","00","TACNA"," ","NO PERTENECE A NINGUNA MICRORED","Sin Categoría"]
[null,{"$f":"VALUE(renipress[[#This Row],[Código Único]])","v":18788},"GOBIERNO REGIONAL","00018788","MEDICO DE FAMILIA DOS DE MAYO","JUNIN","TARMA","TARMA","120701","17","00","00","JUNIN","NO PERTENECE A NINGUNA RED","NO PERTENECE A NINGUNA MICRORED","I-2"]
[null,{"$f":"VALUE(renipress[[#This Row],[Código Único]])","v":18802},"PRIVADO","00018802","CONSULTORIO DENTAL","LIMA","LIMA","SAN ISIDRO","150131","36","00","00","LIMA CENTRO"," ","NO PERTENECE A NINGUNA MICRORED","I-1"]
[null,{"$f":"VALUE(renipress[[#This Row],[Código Único]])","v":18817},"PRIVADO","00018817","ODONTOLANDIA","LIMA","HUARAL","HUARAL","150601","22","00","00","LIMA","NO PERTENECE A NINGUNA RED","NO PERTENECE A NINGUNA MICRORED","Sin Categoría"]
[null,{"$f":"VALUE(renipress[[#This Row],[Código Único]])","v":18830},"PRIVADO","00018830","CONSULTORIO DENTAL NUEVA LUZ","LIMA","LIMA","SAN JUAN DE LURIGANCHO","150132","36","00","00","LIMA CENTRO"," "," ","I-1"]
[null,{"$f":"VALUE(renipress[[#This Row],[Código Único]])","v":18838},"PRIVADO","00018838","MULTIMÉDICA SOLUCIONES S.A.C.","LIMA","LIMA","SURQUILLO","150141","36","00","00","LIMA CENTRO"," ","NO PERTENECE A NINGUNA MICRORED","I-3"]
[null,{"$f":"VALUE(renipress[[#This Row],[Código Único]])","v":18847},"PRIVADO","00018847","CLINICA MIRAFLORES S.A","PIURA","TALARA","PARIÑAS","200701","28","00","00","PIURA"," ","NO PERTENECE A NINGUNA MICRORED","I-3"]
[null,{"$f":"VALUE(renipress[[#This Row],[Código Único]])","v":18859},"PRIVADO","00018859","OLOS VITALIS","PIURA","PIURA","PIURA","200101","28","00","00","PIURA"," ","NO PERTENECE A NINGUNA MICRORED","I-2"]
[null,{"$f":"VALUE(renipress[[#This Row],[Código Único]])","v":18871},"PRIVADO","00018871","CLINICA NATCLAR MOROCOCHA","JUNIN","YAULI","MOROCOCHA","120805","17","00","00","JUNIN"," ","NO PERTENECE A NINGUNA MICRORED","Sin Categoría"]
[null,{"$f":"VALUE(renipress[[#This Row],[Código Único]])","v":18880},"ESSALUD","00018880","CENTRO ODONTOLOGICO ZEGOVIA","LIMA","LIMA","PUEBLO LIBRE","150121","36","00","00","LIMA CENTRO","NO PERTENECE A NINGUNA RED","NO PERTENECE A NINGUNA MICRORED","Sin Categoría"]
[null,{"$f":"VALUE(renipress[[#This Row],[Código Único]])","v":18899},"PRIVADO","00018899","FISIOTERAPIA SANTA MARIA","LIMA","LIMA","SAN JUAN DE LURIGANCHO","150132","36","00","00","LIMA CENTRO"," ","NO PERTENECE A NINGUNA MICRORED","I-2"]
[null,{"$f":"VALUE(renipress[[#This Row],[Código Único]])","v":18901},"PRIVADO","00018901","CONSULTORIO DENTAL DENTO GROUP","LIMA","LIMA","SAN JUAN DE LURIGANCHO","150132","36","00","00","LIMA CENTRO"," ","NO PERTENECE A NINGUNA MICRORED","I-1"]
[null,{"$f":"VALUE(renipress[[#This Row],[Código Único]])","v":18916},"GOBIERNO REGIONAL","00018916","MOCAPE","LAMBAYEQUE","LAMBAYEQUE","OLMOS","140308","19","03","10","LAMBAYEQUE","LAMBAYEQUE","OLMOS","I-1"]
[null,{"$f":"VALUE(renipress[[#This Row],[Código Único]])","v":18930},"PRIVADO","00018930","DR BREVETE SAC","LIMA","HUAURA","SANTA MARIA","150810","22","00","00","LIMA"," ","NO PERTENECE A NINGUNA MICRORED","I-3"]
[null,{"$f":"VALUE(renipress[[#This Row],[Código Único]])","v":18944},"PRIVADO","00018944","NANCY EMILIA LEON POLO","LIMA","LIMA","LOS OLIVOS","150117","35","00","00","LIMA NORTE"," ","NO PERTENECE A NINGUNA MICRORED","I-1"]
[null,{"$f":"VALUE(renipress[[#This Row],[Código Único]])","v":18951},"PRIVADO","00018951","CENTRO ESPECIALIZADO DE CONTROL DE CRECIMIENTO Y DESARROLLO DEL NIÑO","CAJAMARCA","JAEN","JAEN","060801","7","00","00","CAJAMARCA","NO PERTENECE A NINGUNA RED","NO PERTENECE A NINGUNA MICRORED","Sin Categoría"]
[null,{"$f":"VALUE(renipress[[#This Row],[Código Único]])","v":18968},"PRIVADO","00018968","DENTAL CENTER HUAPAYA","LIMA","LIMA","MAGDALENA DEL MAR","150120","36","00","00","LIMA CENTRO"," ","NO PERTENECE A NINGUNA MICRORED","Sin Categoría"]
[null,{"$f":"VALUE(renipress[[#This Row],[Código Único]])","v":18972},"PRIVADO","00018972","PERUVIAN PLASTIC SURGERY S.A.C. - PLASTIC SURGERY S.A.C.","LIMA","BARRANCA","BARRANCA","150201","22","00","00","LIMA"," ","NO PERTENECE A NINGUNA MICRORED","I-2"]
[null,{"$f":"VALUE(renipress[[#This Row],[Código Único]])","v":18985},"PRIVADO","00018985","CLINICA SANTA MARIA DEL SUR","LIMA","LIMA","SAN JUAN DE MIRAFLORES","150133","23","00","00","LIMA SUR"," ","NO PERTENECE A NINGUNA MICRORED","II-2"]
[null,{"$f":"VALUE(renipress[[#This Row],[Código Único]])","v":18993},"PRIVADO","00018993","CERTIFICADOS MEDICOS SANTA ROSA DE LIMA S.A.C.","LIMA","LIMA","COMAS","150110","35","00","00","LIMA NORTE"," ","NO PERTENECE A NINGUNA MICRORED","I-2"]
[null,{"$f":"VALUE(renipress[[#This Row],[Código Único]])","v":19013},"PRIVADO","00019013","CONSULTORIO MEDICO NEUROLOGICO JUAN DE DIOS","CALLAO","CALLAO","BELLAVISTA","070102","8","00","00","CALLAO","NO PERTENECE A NINGUNA RED","NO PERTENECE A NINGUNA MICRORED","I-2"]
[null,{"$f":"VALUE(renipress[[#This Row],[Código Único]])","v":19022},"PRIVADO","00019022","DENTAL DENTUS","LIMA","LIMA","SAN MARTIN DE PORRES","150135","35","00","00","LIMA NORTE"," ","NO PERTENECE A NINGUNA MICRORED","I-1"]
[null,{"$f":"VALUE(renipress[[#This Row],[Código Único]])","v":19030},"PRIVADO","00019030","FESALUD","LIMA","LIMA","LOS OLIVOS","150117","35","00","00","LIMA NORTE"," ","NO PERTENECE A NINGUNA MICRORED","I-3"]
[null,{"$f":"VALUE(renipress[[#This Row],[Código Único]])","v":19043},"PRIVADO","00019043","CONSULTORIOS MEDRED","LIMA","LIMA","SAN JUAN DE LURIGANCHO","150132","36","00","00","LIMA CENTRO"," ","NO PERTENECE A NINGUNA MICRORED","I-1"]
[null,{"$f":"VALUE(renipress[[#This Row],[Código Único]])","v":19054},"PRIVADO","00019054","LABORATORIO INNOVA","PUNO","SAN ROMAN","JULIACA","211101","29","00","00","PUNO"," ","NO PERTENECE A NINGUNA MICRORED","Sin Categoría"]
[null,{"$f":"VALUE(renipress[[#This Row],[Código Único]])","v":19064},"PRIVADO","00019064","IMEDICALSANA","JUNIN","HUANCAYO","HUANCAYO","120101","17","00","00","JUNIN","NO PERTENECE A NINGUNA RED","NO PERTENECE A NINGUNA MICRORED","Sin Categoría"]
[null,{"$f":"VALUE(renipress[[#This Row],[Código Único]])","v":19082},"PRIVADO","00019082","BABY WORLD","LAMBAYEQUE","CHICLAYO","JOSE LEONARDO ORTIZ","140105","19","00","00","LAMBAYEQUE"," ","NO PERTENECE A NINGUNA MICRORED","Sin Categoría"]
[null,{"$f":"VALUE(renipress[[#This Row],[Código Único]])","v":19085},"PRIVADO","00019085","CENTRO ESPECIALIZADO DE ESTUDIOS DIAGNOSTICOS MEDIMAGENTAC SOCIEDAD ANONIMA CERRADA","TACNA","TACNA","TACNA","230101","32","00","00","TACNA"," ","NO PERTENECE A NINGUNA MICRORED","Sin Categoría"]
[null,{"$f":"VALUE(renipress[[#This Row],[Código Único]])","v":19099},"PRIVADO","00019099","ODONTOLOGÍA ESTÉTICA GRUPO ROMÁN","LIMA","LIMA","JESUS MARIA","150113","36","00","00","LIMA CENTRO"," ","NO PERTENECE A NINGUNA MICRORED","I-1"]
[null,{"$f":"VALUE(renipress[[#This Row],[Código Único]])","v":19114},"PRIVADO","00019114","GYNECOMASTER SALUD","LAMBAYEQUE","CHICLAYO","CHICLAYO","140101","19","00","00","LAMBAYEQUE"," ","NO PERTENECE A NINGUNA MICRORED","Sin Categoría"]
[null,{"$f":"VALUE(renipress[[#This Row],[Código Único]])","v":19127},"PRIVADO","00019127","CONSULTORIO GRUPO HEALTH","LIMA","LIMA","LOS OLIVOS","150117","35","00","00","LIMA NORTE"," ","NO PERTENECE A NINGUNA MICRORED","Sin Categoría"]
[null,{"$f":"VALUE(renipress[[#This Row],[Código Único]])","v":19135},"PRIVADO","00019135","FISIO VIDA","LIMA","LIMA","SAN JUAN DE LURIGANCHO","150132","36","00","00","LIMA CENTRO"," ","NO PERTENECE A NINGUNA MICRORED","Sin Categoría"]
[null,{"$f":"VALUE(renipress[[#This Row],[Código Único]])","v":19144},"PRIVADO","00019144","PREVEMEDICA","LIMA","LIMA","ATE","150103","21","00","00","LIMA ESTE"," ","NO PERTENECE A NINGUNA MICRORED","I-3"]
[null,{"$f":"VALUE(renipress[[#This Row],[Código Único]])","v":19158},"PRIVADO","00019158","PROTECCION Y SERVICIOS SANTA CRUZ UNIDOS S.A.C.","CALLAO","CALLAO","BELLAVISTA","070102","8","00","00","CALLAO"," ","NO PERTENECE A NINGUNA MICRORED","I-2"]
[null,{"$f":"VALUE(renipress[[#This Row],[Código Único]])","v":19170},"PRIVADO","00019170","AMBULANCIA CONSULTORIO PUERTO","PIURA","SECHURA","SECHURA","200801","28","00","00","PIURA","NO PERTENECE A NINGUNA RED","NO PERTENECE A NINGUNA MICRORED","Sin Categoría"]
[null,{"$f":"VALUE(renipress[[#This Row],[Código Único]])","v":19179},"PRIVADO","00019179","TOPSA RETAIL S.A.C.","CALLAO","CALLAO","BELLAVISTA","070102","8","00","00","CALLAO"," ","NO PERTENECE A NINGUNA MICRORED","Sin Categoría"]
[null,{"$f":"VALUE(renipress[[#This Row],[Código Único]])","v":19200},"PRIVADO","00019200","CONSULTORIO ODONTOLOGICO","AREQUIPA","AREQUIPA","YANAHUARA","040126","4","00","00","AREQUIPA"," ","NO PERTENECE A NINGUNA MICRORED","I-1"]
[null,{"$f":"VALUE(renipress[[#This Row],[Código Único]])","v":19205},"PRIVADO","00019205","CONTROL DE ANÁLISIS CLÍNICO PATOLÓGICO LIMA NORTE EIRL","LIMA","LIMA","LOS OLIVOS","150117","35","00","00","LIMA NORTE"," ","NO PERTENECE A NINGUNA MICRORED","Sin Categoría"]
[null,{"$f":"VALUE(renipress[[#This Row],[Código Único]])","v":19221},"PRIVADO","00019221","MEDICAL HOPE","LIMA","LIMA","SAN JUAN DE LURIGANCHO","150132","36","00","00","LIMA CENTRO"," ","NO PERTENECE A NINGUNA MICRORED","Sin Categoría"]
[null,{"$f":"VALUE(renipress[[#This Row],[Código Único]])","v":19233},"GOBIERNO REGIONAL","00019233","SANTA ROSA DE CHANGUELETA","HUANCAVELICA","TAYACAJA","SALCABAMBA","090714","13","03","08","HUANCAVELICA","TAYACAJA","DANIEL HERNANDEZ","I-1"]
[null,{"$f":"VALUE(renipress[[#This Row],[Código Único]])","v":19242},"PRIVADO","00019242","ONCOVIP","LIMA","LIMA","SAN BORJA","150130","36","00","00","LIMA CENTRO"," ","NO PERTENECE A NINGUNA MICRORED","I-2"]
[null,{"$f":"VALUE(renipress[[#This Row],[Código Único]])","v":19250},"PRIVADO","00019250","SAVIA SALUD SAC","LIMA","LIMA","LOS OLIVOS","150117","35","00","00","LIMA NORTE"," ","NO PERTENECE A NINGUNA MICRORED","Sin Categoría"]
[null,{"$f":"VALUE(renipress[[#This Row],[Código Único]])","v":19271},"PRIVADO","00019271","FERTILIDAD Y GINECOLOGIA DEL SUR","CUSCO","CUSCO","CUSCO","080101","11","00","00","CUSCO"," ","NO PERTENECE A NINGUNA MICRORED","I-2"]
[null,{"$f":"VALUE(renipress[[#This Row],[Código Único]])","v":19278},"PRIVADO","00019278","CONSULTORIO ODONTOLOGICO FARADENT","CALLAO","CALLAO","VENTANILLA","070106","8","00","00","CALLAO"," ","NO PERTENECE A NINGUNA MICRORED","I-1"]
[null,{"$f":"VALUE(renipress[[#This Row],[Código Único]])","v":19292},"PRIVADO","00019292","CEDIAMEDICAL E.I.R.L","HUANUCO","HUANUCO","HUANUCO","100101","14","00","00","HUANUCO","NO PERTENECE A NINGUNA RED","NO PERTENECE A NINGUNA MICRORED","I-3"]
[null,{"$f":"VALUE(renipress[[#This Row],[Código Único]])","v":19302},"PRIVADO","00019302","MEDICAL RENT S.A.","LIMA","LIMA","SAN JUAN DE MIRAFLORES","150133","23","00","00","LIMA SUR"," ","NO PERTENECE A NINGUNA MICRORED","Sin Categoría"]
[null,{"$f":"VALUE(renipress[[#This Row],[Código Único]])","v":19313},"PRIVADO","00019313","IMATEC VENTANILLA","CALLAO","CALLAO","VENTANILLA","070106","8","00","00","CALLAO"," ","NO PERTENECE A NINGUNA MICRORED","Sin Categoría"]
[null,{"$f":"VALUE(renipress[[#This Row],[Código Único]])","v":19319},"PRIVADO","00019319","SANTA LUCIA LABORATORIO CLINICO Y HEMATOLOGICO EIRL","PIURA","PIURA","PIURA","200101","28","00","00","PIURA"," ","NO PERTENECE A NINGUNA MICRORED","Sin Categoría"]
[null,{"$f":"VALUE(renipress[[#This Row],[Código Único]])","v":19334},"PRIVADO","00019334","CONSULTORIO DENTAL","AREQUIPA","AREQUIPA","AREQUIPA","040101","4","00","00","AREQUIPA"," ","NO PERTENECE A NINGUNA MICRORED","Sin Categoría"]
[null,{"$f":"VALUE(renipress[[#This Row],[Código Único]])","v":19347},"PRIVADO","00019347","ORGANIZACION IBEROAMERICANA DE SALUD OCUPACIONAL","LIMA","LIMA","SURQUILLO","150141","36","00","00","LIMA CENTRO"," ","NO PERTENECE A NINGUNA MICRORED","Sin Categoría"]
[null,{"$f":"VALUE(renipress[[#This Row],[Código Único]])","v":19363},"PRIVADO","00019363","CENTRO DERMATOLOGICO","ANCASH","SANTA","CHIMBOTE","021801","2","00","00","ANCASH"," ","NO PERTENECE A NINGUNA MICRORED","Sin Categoría"]
[null,{"$f":"VALUE(renipress[[#This Row],[Código Único]])","v":19364},"PRIVADO","00019364","LABORATORIO DE ANALISIS CLINICO","PUNO","PUNO","PUNO","210101","29","00","00","PUNO"," ","NO PERTENECE A NINGUNA MICRORED","Sin Categoría"]
[null,{"$f":"VALUE(renipress[[#This Row],[Código Único]])","v":19384},"PRIVADO","00019384","VALLE SARON","LIMA","LIMA","SAN JUAN DE MIRAFLORES","150133","23","00","00","LIMA SUR"," ","NO PERTENECE A NINGUNA MICRORED","I-2"]
[null,{"$f":"VALUE(renipress[[#This Row],[Código Único]])","v":19393},"PRIVADO","00019393","GUTIERREZ","CUSCO","CUSCO","CUSCO","080101","11","00","00","CUSCO"," ","NO PERTENECE A NINGUNA MICRORED","I-2"]
[null,{"$f":"VALUE(renipress[[#This Row],[Código Único]])","v":19406},"PRIVADO","00019406","ASOCIACION TALLER DE LOS NIÑOS","LIMA","LIMA","SAN JUAN DE LURIGANCHO","150132","36","00","00","LIMA CENTRO"," ","NO PERTENECE A NINGUNA MICRORED","Sin Categoría"]
[null,{"$f":"VALUE(renipress[[#This Row],[Código Único]])","v":19417},"PRIVADO","00019417","CONSULTORIO GARCIA RIVAROLA","JUNIN","HUANCAYO","HUANCAYO","120101","17","00","00","JUNIN"," ","NO PERTENECE A NINGUNA MICRORED","Sin Categoría"]
[null,{"$f":"VALUE(renipress[[#This Row],[Código Único]])","v":19427},"PRIVADO","00019427","IRMA BERTILA ESPIRITU BAUTISTA","LIMA","HUAURA","HUACHO","150801","22","00","00","LIMA"," ","NO PERTENECE A NINGUNA MICRORED","Sin Categoría"]
[null,{"$f":"VALUE(renipress[[#This Row],[Código Único]])","v":19434},"PRIVADO","00019434","MAVIDENT SAC","LIMA","LIMA","LOS OLIVOS","150117","35","00","00","LIMA NORTE"," ","NO PERTENECE A NINGUNA MICRORED","Sin Categoría"]
[null,{"$f":"VALUE(renipress[[#This Row],[Código Único]])","v":19456},"PRIVADO","00019456","AMBUIBERICA SUCURSAL DEL PERU","CALLAO","CALLAO","CALLAO","070101","8","00","00","CALLAO"," ","NO PERTENECE A NINGUNA MICRORED","Sin Categoría"]
[null,{"$f":"VALUE(renipress[[#This Row],[Código Único]])","v":19462},"PRIVADO","00019462","CLINICA DENTAL VILLADENT S.R.L","LIMA","LIMA","LOS OLIVOS","150117","35","00","00","LIMA NORTE"," ","NO PERTENECE A NINGUNA MICRORED","Sin Categoría"]
[null,{"$f":"VALUE(renipress[[#This Row],[Código Único]])","v":19477},"PRIVADO","00019477","CARITA FELIZ","JUNIN","HUANCAYO","HUANCAYO","120101","17","00","00","JUNIN"," ","NO PERTENECE A NINGUNA MICRORED","Sin Categoría"]
[null,{"$f":"VALUE(renipress[[#This Row],[Código Único]])","v":19490},"PRIVADO","00019490","INVERSIONES BYFACH SAC","LIMA","LIMA","SANTIAGO DE SURCO","150140","23","00","00","LIMA SUR"," ","NO PERTENECE A NINGUNA MICRORED","I-2"]
[null,{"$f":"VALUE(renipress[[#This Row],[Código Único]])","v":19498},"PRIVADO","00019498","RODSUMA SALUD S.A.C.","LIMA","LIMA","LINCE","150116","36","00","00","LIMA CENTRO"," ","NO PERTENECE A NINGUNA MICRORED","I-2"]
[null,{"$f":"VALUE(renipress[[#This Row],[Código Único]])","v":19503},"PRIVADO","00019503","CONSULTORIO MEDICO","JUNIN","HUANCAYO","EL TAMBO","120114","17","00","00","JUNIN"," ","NO PERTENECE A NINGUNA MICRORED","Sin Categoría"]
[null,{"$f":"VALUE(renipress[[#This Row],[Código Único]])","v":19519},"PRIVADO","00019519","CLINICA PRINCIPE S.A.C.","LIMA","LIMA","LINCE","150116","36","00","00","LIMA CENTRO"," ","NO PERTENECE A NINGUNA MICRORED","II-E"]
[null,{"$f":"VALUE(renipress[[#This Row],[Código Único]])","v":19531},"PRIVADO","00019531","CONSULTORIO MEDICO ESPECIALIZADO EN PSIQUIATRIA","AREQUIPA","AREQUIPA","YANAHUARA","040126","4","00","00","AREQUIPA"," ","NO PERTENECE A NINGUNA MICRORED","I-2"]
[null,{"$f":"VALUE(renipress[[#This Row],[Código Único]])","v":19540},"PRIVADO","00019540","CONSULTORIO MEDICO DR. MARTINEZ","PIURA","PAITA","PAITA","200501","28","00","00","PIURA"," ","NO PERTENECE A NINGUNA MICRORED","I-2"]
[null,{"$f":"VALUE(renipress[[#This Row],[Código Único]])","v":19559},"PRIVADO","00019559","LEON LAZARO MARICELA DEL PILAR","LIMA","LIMA","LOS OLIVOS","150117","35","00","00","LIMA NORTE"," ","NO PERTENECE A NINGUNA MICRORED","I-2"]
[null,{"$f":"VALUE(renipress[[#This Row],[Código Único]])","v":19569},"PRIVADO","00019569","CONSULTORIO ODONTOLOGICO LA CARIDAD","LIMA","LIMA","LA VICTORIA","150115","36","00","00","LIMA CENTRO"," ","NO PERTENECE A NINGUNA MICRORED","Sin Categoría"]
[null,{"$f":"VALUE(renipress[[#This Row],[Código Único]])","v":19576},"PRIVADO","00019576","CENTRO OBSTETRICO CRECER Y NACER S.R.L","CAJAMARCA","CAJAMARCA","CAJAMARCA","060101","7","00","00","CAJAMARCA","NO PERTENECE A NINGUNA RED","NO PERTENECE A NINGUNA MICRORED","I-1"]
[null,{"$f":"VALUE(renipress[[#This Row],[Código Único]])","v":19590},"PRIVADO","00019590","SALVATIERRA CABEZAS NERY","LIMA","LIMA","SAN JUAN DE MIRAFLORES","150133","23","00","00","LIMA SUR","NO PERTENECE A NINGUNA RED","NO PERTENECE A NINGUNA MICRORED","I-1"]
[null,{"$f":"VALUE(renipress[[#This Row],[Código Único]])","v":19600},"PRIVADO","00019600","DENTAL","LIMA","LIMA","BREÑA","150105","36","00","00","LIMA CENTRO"," ","NO PERTENECE A NINGUNA MICRORED","Sin Categoría"]
[null,{"$f":"VALUE(renipress[[#This Row],[Código Único]])","v":19611},"PRIVADO","00019611","LABORATORIOS INTEGRADOS S.A.","LIMA","LIMA","LINCE","150116","36","00","00","LIMA CENTRO"," ","NO PERTENECE A NINGUNA MICRORED","Sin Categoría"]
[null,{"$f":"VALUE(renipress[[#This Row],[Código Único]])","v":19629},"GOBIERNO REGIONAL","00019629","SAN JUAN DE MIRAFLORES","APURIMAC","ANDAHUAYLAS","ANDARAPA","030202","3","03","04","APURIMAC","SONDOR","ANDARAPA","I-1"]
[null,{"$f":"VALUE(renipress[[#This Row],[Código Único]])","v":19633},"PRIVADO","00019633","MADRE","CUSCO","CUSCO","CUSCO","080101","11","00","00","CUSCO"," ","NO PERTENECE A NINGUNA MICRORED","I-1"]
[null,{"$f":"VALUE(renipress[[#This Row],[Código Único]])","v":19646},"PRIVADO","00019646","DENTAL SAN ISIDRO E.I.R.L.","LIMA","LIMA","PACHACAMAC","150123","23","00","00","LIMA SUR"," ","NO PERTENECE A NINGUNA MICRORED","Sin Categoría"]
[null,{"$f":"VALUE(renipress[[#This Row],[Código Único]])","v":19663},"PRIVADO","00019663","CENTRO ODONTOLOGICO SAN JOSE","PIURA","PIURA","PIURA","200101","28","00","00","PIURA"," ","NO PERTENECE A NINGUNA MICRORED","I-1"]
[null,{"$f":"VALUE(renipress[[#This Row],[Código Único]])","v":19675},"PRIVADO","00019675","CONSULTORIO MEDICO DE ENDOCRINOLOGIA","AREQUIPA","AREQUIPA","AREQUIPA","040101","4","00","00","AREQUIPA"," ","NO PERTENECE A NINGUNA MICRORED","I-2"]
[null,{"$f":"VALUE(renipress[[#This Row],[Código Único]])","v":19684},"PRIVADO","00019684","CONSULTORIO ODONTOLOGICO REDENTOR","CALLAO","CALLAO","CALLAO","070101","8","00","00","CALLAO"," ","NO PERTENECE A NINGUNA MICRORED","I-1"]
[null,{"$f":"VALUE(renipress[[#This Row],[Código Único]])","v":19699},"PRIVADO","00019699","JACINTO NUÑEZ JOSE LUIS","LIMA","LIMA","JESUS MARIA","150113","36","00","00","LIMA CENTRO"," ","NO PERTENECE A NINGUNA MICRORED","I-1"]
[null,{"$f":"VALUE(renipress[[#This Row],[Código Único]])","v":19705},"PRIVADO","00019705","DAFFT LABORATORIOS SAC","LIMA","LIMA","LOS OLIVOS","150117","35","00","00","LIMA NORTE"," ","NO PERTENECE A NINGUNA MICRORED","Sin Categoría"]
[null,{"$f":"VALUE(renipress[[#This Row],[Código Único]])","v":19716},"PRIVADO","00019716","DOCTOR LUIS QUITO S.A.C.","LIMA","LIMA","SAN JUAN DE MIRAFLORES","150133","23","00","00","LIMA SUR"," ","NO PERTENECE A NINGUNA MICRORED","Sin Categoría"]
[null,{"$f":"VALUE(renipress[[#This Row],[Código Único]])","v":19726},"PRIVADO","00019726","CONSULTORIO DENTAL KIRUS","LIMA","LIMA","VILLA EL SALVADOR","150142","23","00","00","LIMA SUR"," ","NO PERTENECE A NINGUNA MICRORED","Sin Categoría"]
[null,{"$f":"VALUE(renipress[[#This Row],[Código Único]])","v":19744},"PRIVADO","00019744","FISIOMÉDICA","LIMA","LIMA","LOS OLIVOS","150117","35","00","00","LIMA NORTE"," ","NO PERTENECE A NINGUNA MICRORED","Sin Categoría"]
[null,{"$f":"VALUE(renipress[[#This Row],[Código Único]])","v":19755},"PRIVADO","00019755","BARAZORDA CHONG EMILIO","LIMA","LIMA","SAN JUAN DE MIRAFLORES","150133","23","00","00","LIMA SUR"," ","NO PERTENECE A NINGUNA MICRORED","I-1"]
[null,{"$f":"VALUE(renipress[[#This Row],[Código Único]])","v":19761},"PRIVADO","00019761","IBT HEALTH S.A.C.","CALLAO","CALLAO","CALLAO","070101","8","00","00","CALLAO"," ","NO PERTENECE A NINGUNA MICRORED","Sin Categoría"]
[null,{"$f":"VALUE(renipress[[#This Row],[Código Único]])","v":19776},"PRIVADO","00019776","PLANIFICAR Y CONCEBIR","LIMA","LIMA","COMAS","150110","35","00","00","LIMA NORTE"," ","NO PERTENECE A NINGUNA MICRORED","I-1"]
[null,{"$f":"VALUE(renipress[[#This Row],[Código Único]])","v":19789},"PRIVADO","00019789","CLINICA DENTAL BRILLIANT SMILE.S.R.L","LIMA","LIMA","INDEPENDENCIA","150112","35","00","00","LIMA NORTE"," ","NO PERTENECE A NINGUNA MICRORED","Sin Categoría"]
[null,{"$f":"VALUE(renipress[[#This Row],[Código Único]])","v":19797},"PRIVADO","00019797","SERVICIO MEDICO IBT DIAGNOSTICO POR IMAGENES","CALLAO","CALLAO","CALLAO","070101","8","00","00","CALLAO"," ","NO PERTENECE A NINGUNA MICRORED","Sin Categoría"]
[null,{"$f":"VALUE(renipress[[#This Row],[Código Único]])","v":19813},"PRIVADO","00019813","AMBULANCIES REUS SUCURSAL DEL PERU","TUMBES","TUMBES","TUMBES","240101","33","00","00","TUMBES"," ","NO PERTENECE A NINGUNA MICRORED","Sin Categoría"]
[null,{"$f":"VALUE(renipress[[#This Row],[Código Único]])","v":19818},"PRIVADO","00019818","CLINICA DEL TRABAJADOR S.A.C.","LIMA","LIMA","SAN ISIDRO","150131","36","00","00","LIMA CENTRO"," ","NO PERTENECE A NINGUNA MICRORED","Sin Categoría"]
[null,{"$f":"VALUE(renipress[[#This Row],[Código Único]])","v":19830},"PRIVADO","00019830","DENTAL SAN FELIPE","LIMA","LIMA","ATE","150103","21","00","00","LIMA ESTE"," ","NO PERTENECE A NINGUNA MICRORED","Sin Categoría"]
[null,{"$f":"VALUE(renipress[[#This Row],[Código Único]])","v":19849},"PRIVADO","00019849","CENTRO ODONTOLÓGICO PRADA","LAMBAYEQUE","CHICLAYO","TUMAN","140120","19","00","00","LAMBAYEQUE"," ","NO PERTENECE A NINGUNA MICRORED","Sin Categoría"]
[null,{"$f":"VALUE(renipress[[#This Row],[Código Único]])","v":19860},"PRIVADO","00019860","LABORATORIO CLINICO PONGO S.R.L.","PIURA","PIURA","PIURA","200101","28","00","00","PIURA"," ","NO PERTENECE A NINGUNA MICRORED","Sin Categoría"]
[null,{"$f":"VALUE(renipress[[#This Row],[Código Único]])","v":19870},"PRIVADO","00019870","EL MILAGRO MEDIC S.A.C.","LIMA","LIMA","CHORRILLOS","150108","23","00","00","LIMA SUR"," ","NO PERTENECE A NINGUNA MICRORED","Sin Categoría"]
[null,{"$f":"VALUE(renipress[[#This Row],[Código Único]])","v":19877},"PRIVADO","00019877","INVERSIONES ELIDENT EIRL","LIMA","LIMA","CHORRILLOS","150108","23","00","00","LIMA SUR"," ","NO PERTENECE A NINGUNA MICRORED","Sin Categoría"]
[null,{"$f":"VALUE(renipress[[#This Row],[Código Único]])","v":19892},"PRIVADO","00019892","POLICLINICO MATERNO INFANTIL VIRGEN DEL CARMEN POMIVIC S.A.C","LIMA","LIMA","PUENTE PIEDRA","150125","35","00","00","LIMA NORTE"," ","NO PERTENECE A NINGUNA MICRORED","Sin Categoría"]
[null,{"$f":"VALUE(renipress[[#This Row],[Código Único]])","v":19902},"PRIVADO","00019902","CIALMI EMPRESA INDIVIDUAL DE RESPONSABILIDAD LIMITADA - CIALMI E.I.R.L","LIMA","LIMA","LOS OLIVOS","150117","35","00","00","LIMA NORTE"," ","NO PERTENECE A NINGUNA MICRORED","I-1"]
[null,{"$f":"VALUE(renipress[[#This Row],[Código Único]])","v":19913},"ESSALUD","00019913","CAP II CHULUCANAS","PIURA","MORROPON","CHULUCANAS","200401","28","00","00","PIURA","NO PERTENECE A NINGUNA RED","NO PERTENECE A NINGUNA MICRORED","Sin Categoría"]
[null,{"$f":"VALUE(renipress[[#This Row],[Código Único]])","v":19930},"PRIVADO","00019930","CONSULTORIO OBSTETRICO SAN JOSE","CALLAO","CALLAO","CARMEN DE LA LEGUA-REYNOSO","070103","8","00","00","CALLAO"," ","NO PERTENECE A NINGUNA MICRORED","I-1"]
[null,{"$f":"VALUE(renipress[[#This Row],[Código Único]])","v":19934},"PRIVADO","00019934","CENTRO ODONTOLOGICO SAN JUAN S.A.C","LIMA","LIMA","LOS OLIVOS","150117","35","00","00","LIMA NORTE"," ","NO PERTENECE A NINGUNA MICRORED","Sin Categoría"]
[null,{"$f":"VALUE(renipress[[#This Row],[Código Único]])","v":19947},"PRIVADO","00019947","CLINICA DENTAL SPA G Y D","LIMA","LIMA","LOS OLIVOS","150117","35","00","00","LIMA NORTE"," ","NO PERTENECE A NINGUNA MICRORED","Sin Categoría"]
[null,{"$f":"VALUE(renipress[[#This Row],[Código Único]])","v":19963},"PRIVADO","00019963","JOSE LUIS IMAN VIGO","LIMA","LIMA","LOS OLIVOS","150117","35","00","00","LIMA NORTE"," ","NO PERTENECE A NINGUNA MICRORED","Sin Categoría"]
[null,{"$f":"VALUE(renipress[[#This Row],[Código Único]])","v":19975},"PRIVADO","00019975","CALVO TUESTA ELMER PABLO","LIMA","LIMA","LOS OLIVOS","150117","35","00","00","LIMA NORTE"," ","NO PERTENECE A NINGUNA MICRORED","I-1"]
[null,{"$f":"VALUE(renipress[[#This Row],[Código Único]])","v":19984},"SANIDAD DE LA FUERZA AEREA DEL PERU","00019984","SANIDAD DE LA BASE AEREA DE TACNA","TACNA","TACNA","TACNA","230101","32","00","00","TACNA","NO PERTENECE A NINGUNA RED","NO PERTENECE A NINGUNA MICRORED","Sin Categoría"]
[null,{"$f":"VALUE(renipress[[#This Row],[Código Único]])","v":19999},"PRIVADO","00019999","ONCOGESSA SAC","LIMA","LIMA","LOS OLIVOS","150117","35","00","00","LIMA NORTE"," ","NO PERTENECE A NINGUNA MICRORED","Sin Categoría"]
[null,{"$f":"VALUE(renipress[[#This Row],[Código Único]])","v":20005},"PRIVADO","00020005","DE LA CRUZ CUEVA KELLY","LIMA","LIMA","LOS OLIVOS","150117","35","00","00","LIMA NORTE"," ","NO PERTENECE A NINGUNA MICRORED","Sin Categoría"]
[null,{"$f":"VALUE(renipress[[#This Row],[Código Único]])","v":20016},"PRIVADO","00020016","CONSULTORIO DENTAL FELIX","LIMA","LIMA","BARRANCO","150104","23","00","00","LIMA SUR"," ","NO PERTENECE A NINGUNA MICRORED","I-1"]
[null,{"$f":"VALUE(renipress[[#This Row],[Código Único]])","v":20026},"PRIVADO","00020026","CLASS DENT ASOCIADOS S.A.C","LIMA","LIMA","BARRANCO","150104","23","00","00","LIMA SUR","NO PERTENECE A NINGUNA RED","NO PERTENECE A NINGUNA MICRORED","I-1"]
[null,{"$f":"VALUE(renipress[[#This Row],[Código Único]])","v":20044},"PRIVADO","00020044","COOPERATIVA DE AHORRO Y CREDITO DE OFICIALES DE LA PNP CORONEL HUMBERTO FLORES HIDALGO","LIMA","LIMA","BREÑA","150105","36","00","00","LIMA CENTRO"," ","NO PERTENECE A NINGUNA MICRORED","I-3"]
[null,{"$f":"VALUE(renipress[[#This Row],[Código Único]])","v":20055},"PRIVADO","00020055","CONSULTORIO MEDICO TOMANGUILLO","SAN MARTIN","MOYOBAMBA","MOYOBAMBA","220101","30","00","00","SAN MARTIN"," ","NO PERTENECE A NINGUNA MICRORED","Sin Categoría"]
[null,{"$f":"VALUE(renipress[[#This Row],[Código Único]])","v":20061},"PRIVADO","00020061","H Y C ODONTOLOGOS","LIMA","LIMA","SAN JUAN DE LURIGANCHO","150132","36","00","00","LIMA CENTRO"," ","NO PERTENECE A NINGUNA MICRORED","I-1"]
[null,{"$f":"VALUE(renipress[[#This Row],[Código Único]])","v":20076},"PRIVADO","00020076","CLINICA DENTAL DENTAL PLUS EIRL","LIMA","LIMA","LOS OLIVOS","150117","35","00","00","LIMA NORTE"," ","NO PERTENECE A NINGUNA MICRORED","Sin Categoría"]
[null,{"$f":"VALUE(renipress[[#This Row],[Código Único]])","v":20085},"PRIVADO","00020085","SERVICIOS MEDICOS CARDIOALUD SRL","CAJAMARCA","CAJAMARCA","CAJAMARCA","060101","7","00","00","CAJAMARCA"," ","NO PERTENECE A NINGUNA MICRORED","I-2"]
[null,{"$f":"VALUE(renipress[[#This Row],[Código Único]])","v":20097},"PRIVADO","00020097","CLINICA DENTAL DENTAL PLUS EIRL","LIMA","LIMA","LOS OLIVOS","150117","35","00","00","LIMA NORTE","NO PERTENECE A NINGUNA RED","NO PERTENECE A NINGUNA MICRORED","Sin Categoría"]
[null,{"$f":"VALUE(renipress[[#This Row],[Código Único]])","v":20113},"PRIVADO","00020113","CESAR GERARDO UGAZ DIAZ","LIMA","LIMA","PUENTE PIEDRA","150125","35","00","00","LIMA NORTE"," ","NO PERTENECE A NINGUNA MICRORED","Sin Categoría"]
[null,{"$f":"VALUE(renipress[[#This Row],[Código Único]])","v":20118},"PRIVADO","00020118","CMB","CUSCO","CUSCO","WANCHAQ","080108","11","00","00","CUSCO"," ","NO PERTENECE A NINGUNA MICRORED","Sin Categoría"]
[null,{"$f":"VALUE(renipress[[#This Row],[Código Único]])","v":20130},"PRIVADO","00020130","SERVICIOS MEDICOS REPROMEDIC S.A.C.","LIMA","LIMA","JESUS MARIA","150113","36","00","00","LIMA CENTRO","NO PERTENECE A NINGUNA RED","NO PERTENECE A NINGUNA MICRORED","Sin Categoría"]
[null,{"$f":"VALUE(renipress[[#This Row],[Código Único]])","v":20149},"PRIVADO","00020149","CONSULTORIO DENTAL","LIMA","LIMA","BREÑA","150105","36","00","00","LIMA CENTRO"," ","NO PERTENECE A NINGUNA MICRORED","Sin Categoría"]
[null,{"$f":"VALUE(renipress[[#This Row],[Código Único]])","v":20160},"PRIVADO","00020160","BERMANLAB","LA LIBERTAD","TRUJILLO","VICTOR LARCO HERRERA","130111","18","00","00","LA LIBERTAD"," ","NO PERTENECE A NINGUNA MICRORED","Sin Categoría"]
[null,{"$f":"VALUE(renipress[[#This Row],[Código Único]])","v":20170},"PRIVADO","00020170","NATURA ANALITICA S.A.C","UCAYALI","CORONEL PORTILLO","CALLERIA","250101","34","00","00","UCAYALI"," ","NO PERTENECE A NINGUNA MICRORED","Sin Categoría"]
[null,{"$f":"VALUE(renipress[[#This Row],[Código Único]])","v":20177},"PRIVADO","00020177","BUSTILLOS MUÑANTE ADA ALEJANDRINA","LIMA","LIMA","SAN JUAN DE MIRAFLORES","150133","23","00","00","LIMA SUR"," ","NO PERTENECE A NINGUNA MICRORED","I-1"]
[null,{"$f":"VALUE(renipress[[#This Row],[Código Único]])","v":20191},"PRIVADO","00020191","ALEGRIA FLORES WILFREDO JUAN","LIMA","LIMA","SAN JUAN DE MIRAFLORES","150133","23","00","00","LIMA SUR"," ","NO PERTENECE A NINGUNA MICRORED","Sin Categoría"]
[null,{"$f":"VALUE(renipress[[#This Row],[Código Único]])","v":20201},"PRIVADO","00020201","CENTRO DE DIAGNOSTICO HERNANI SAC","LIMA","LIMA","JESUS MARIA","150113","36","00","00","LIMA CENTRO"," ","NO PERTENECE A NINGUNA MICRORED","I-2"]
[null,{"$f":"VALUE(renipress[[#This Row],[Código Único]])","v":20212},"PRIVADO","00020212","CENTRO MEDICO Y ODONTOLOGICO A&O SAC.","LIMA","LIMA","SAN MARTIN DE PORRES","150135","35","00","00","LIMA NORTE"," ","NO PERTENECE A NINGUNA MICRORED","Sin Categoría"]
[null,{"$f":"VALUE(renipress[[#This Row],[Código Único]])","v":20229},"PRIVADO","00020229","RIOS ARROYO YOHANA PATRICIA","LIMA","LIMA","LOS OLIVOS","150117","35","00","00","LIMA NORTE"," ","NO PERTENECE A NINGUNA MICRORED","Sin Categoría"]
[null,{"$f":"VALUE(renipress[[#This Row],[Código Único]])","v":20241},"PRIVADO","00020241","CONSULTORIO RADIOLOGICO Y ECOGRAFICO EIRL","CALLAO","CALLAO","VENTANILLA","070106","8","00","00","CALLAO"," ","NO PERTENECE A NINGUNA MICRORED","Sin Categoría"]
[null,{"$f":"VALUE(renipress[[#This Row],[Código Único]])","v":20246},"PRIVADO","00020246","FRANK MICHAEL LOSTAUNAU HURTADO","LIMA","LIMA","SAN MARTIN DE PORRES","150135","35","00","00","LIMA NORTE"," ","NO PERTENECE A NINGUNA MICRORED","I-1"]
[null,{"$f":"VALUE(renipress[[#This Row],[Código Único]])","v":20262},"PRIVADO","00020262","JOSE ANTONIO VIDALON CASTILLA","LIMA","LIMA","SAN MIGUEL","150136","36","00","00","LIMA CENTRO"," ","NO PERTENECE A NINGUNA MICRORED","Sin Categoría"]
[null,{"$f":"VALUE(renipress[[#This Row],[Código Único]])","v":20274},"ESSALUD","00020274","ESSALUD - HOSPITAL I YURIMAGUAS","LORETO","ALTO AMAZONAS","YURIMAGUAS","160201","24","08","00","LORETO","LORETO"," ","II-1"]
[null,{"$f":"VALUE(renipress[[#This Row],[Código Único]])","v":20283},"PRIVADO","00020283","DENTAL KING E.I.R.L.","LIMA","LIMA","SAN MARTIN DE PORRES","150135","35","00","00","LIMA NORTE"," ","NO PERTENECE A NINGUNA MICRORED","Sin Categoría"]
[null,{"$f":"VALUE(renipress[[#This Row],[Código Único]])","v":20299},"PRIVADO","00020299","VENTURA ESPINO, KARINA PATRICIA","LIMA","LIMA","SAN MARTIN DE PORRES","150135","35","00","00","LIMA NORTE"," ","NO PERTENECE A NINGUNA MICRORED","Sin Categoría"]
[null,{"$f":"VALUE(renipress[[#This Row],[Código Único]])","v":20305},"PRIVADO","00020305","DIOCESIS DE LURIN","LIMA","LIMA","SAN JUAN DE MIRAFLORES","150133","23","00","00","LIMA SUR"," ","NO PERTENECE A NINGUNA MICRORED","Sin Categoría"]
[null,{"$f":"VALUE(renipress[[#This Row],[Código Único]])","v":20316},"PRIVADO","00020316","LIDIA JESUS ESPINOZA ESPINOZA","LIMA","LIMA","PUENTE PIEDRA","150125","35","00","00","LIMA NORTE"," ","NO PERTENECE A NINGUNA MICRORED","Sin Categoría"]
[null,{"$f":"VALUE(renipress[[#This Row],[Código Único]])","v":20334},"PRIVADO","00020334","CLINICA SUAREZ SAC","LA LIBERTAD","TRUJILLO","TRUJILLO","130101","18","00","00","LA LIBERTAD"," ","NO PERTENECE A NINGUNA MICRORED","Sin Categoría"]
[null,{"$f":"VALUE(renipress[[#This Row],[Código Único]])","v":20344},"PRIVADO","00020344","CAMONES SUAREZ BETZABETH ERIKA","LIMA","LIMA","INDEPENDENCIA","150112","35","00","00","LIMA NORTE"," ","NO PERTENECE A NINGUNA MICRORED","Sin Categoría"]
[null,{"$f":"VALUE(renipress[[#This Row],[Código Único]])","v":20355},"PRIVADO","00020355","CONSULTORIO MEDICO MANOSALVA","LIMA","LIMA","PUENTE PIEDRA","150125","35","00","00","LIMA NORTE"," ","NO PERTENECE A NINGUNA MICRORED","I-2"]
[null,{"$f":"VALUE(renipress[[#This Row],[Código Único]])","v":20372},"PRIVADO","00020372","PRECISA DIAGNOSTICA SAC","LAMBAYEQUE","CHICLAYO","CHICLAYO","140101","19","00","00","LAMBAYEQUE"," "," ","Sin Categoría"]
[null,{"$f":"VALUE(renipress[[#This Row],[Código Único]])","v":20376},"PRIVADO","00020376","CUSIMAYTA LOBO","LIMA","LIMA","SAN JUAN DE LURIGANCHO","150132","36","00","00","LIMA CENTRO"," ","NO PERTENECE A NINGUNA MICRORED","I-1"]
[null,{"$f":"VALUE(renipress[[#This Row],[Código Único]])","v":20385},"PRIVADO","00020385","CONSULTORIO OBSTETRICO","AREQUIPA","AREQUIPA","AREQUIPA","040101","4","00","00","AREQUIPA"," ","NO PERTENECE A NINGUNA MICRORED","I-1"]
[null,{"$f":"VALUE(renipress[[#This Row],[Código Único]])","v":20397},"PRIVADO","00020397","CENTRO DEL RIÑON S.A.C.","LIMA","LIMA","LOS OLIVOS","150117","35","00","00","LIMA NORTE"," ","NO PERTENECE A NINGUNA MICRORED","Sin Categoría"]
[null,{"$f":"VALUE(renipress[[#This Row],[Código Único]])","v":20413},"PRIVADO","00020413","CONSULTORIO ODONTOLOGICO","AREQUIPA","AREQUIPA","YANAHUARA","040126","4","00","00","AREQUIPA"," ","NO PERTENECE A NINGUNA MICRORED","Sin Categoría"]
[null,{"$f":"VALUE(renipress[[#This Row],[Código Único]])","v":20430},"PRIVADO","00020430","JUVENTUS REHABILITACION","LIMA","LIMA","SANTIAGO DE SURCO","150140","23","00","00","LIMA SUR"," ","NO PERTENECE A NINGUNA MICRORED","Sin Categoría"]
[null,{"$f":"VALUE(renipress[[#This Row],[Código Único]])","v":20441},"PRIVADO","00020441","SERVICIO MEDICO DE APOYO FRANCISCO I","LIMA","LIMA","SAN JUAN DE LURIGANCHO","150132","36","00","00","LIMA CENTRO"," ","NO PERTENECE A NINGUNA MICRORED","Sin Categoría"]
[null,{"$f":"VALUE(renipress[[#This Row],[Código Único]])","v":20447},"PRIVADO","00020447","CONSULTORIO DENTAL DEL PUEBLO","AMAZONAS","CHACHAPOYAS","CHACHAPOYAS","010101","1","00","00","AMAZONAS"," ","NO PERTENECE A NINGUNA MICRORED","Sin Categoría"]
[null,{"$f":"VALUE(renipress[[#This Row],[Código Único]])","v":20458},"PRIVADO","00020458","CONSULTORIO MEDICO DR. PINILLOS EIRL.","LORETO","MAYNAS","IQUITOS","160101","24","00","00","LORETO"," ","NO PERTENECE A NINGUNA MICRORED","I-3"]
[null,{"$f":"VALUE(renipress[[#This Row],[Código Único]])","v":20468},"PRIVADO","00020468","DOCTORA CABANILLAS E.I.R.L","LIMA","LIMA","MIRAFLORES","150122","36","00","00","LIMA CENTRO"," ","NO PERTENECE A NINGUNA MICRORED","I-2"]
[null,{"$f":"VALUE(renipress[[#This Row],[Código Único]])","v":20477},"PRIVADO","00020477","DENTAL MEDIC VITAL SONRISA","LAMBAYEQUE","LAMBAYEQUE","LAMBAYEQUE","140301","19","00","00","LAMBAYEQUE"," ","NO PERTENECE A NINGUNA MICRORED","Sin Categoría"]
[null,{"$f":"VALUE(renipress[[#This Row],[Código Único]])","v":20493},"PRIVADO","00020493","CETO MEDICOS","CAJAMARCA","CAJAMARCA","CAJAMARCA","060101","7","00","00","CAJAMARCA"," ","NO PERTENECE A NINGUNA MICRORED","I-2"]
[null,{"$f":"VALUE(renipress[[#This Row],[Código Único]])","v":20510},"PRIVADO","00020510","POLICLINICO SAN JOSE DE ICA S.A.C.","ICA","CHINCHA","CHINCHA ALTA","110201","15","00","00","ICA"," ","NO PERTENECE A NINGUNA MICRORED","I-3"]
[null,{"$f":"VALUE(renipress[[#This Row],[Código Único]])","v":20521},"PRIVADO","00020521","ESTETIKA INTEGRAL REJUVENECE E.I.R.L.","LIMA","LIMA","SANTIAGO DE SURCO","150140","23","00","00","LIMA SUR"," ","NO PERTENECE A NINGUNA MICRORED","I-2"]
[null,{"$f":"VALUE(renipress[[#This Row],[Código Único]])","v":20531},"PRIVADO","00020531","CONSULTORIO ODONTOLOGICO VILLADENT","AREQUIPA","AREQUIPA","JOSE LUIS BUSTAMANTE Y RIVERO","040129","4","00","00","AREQUIPA"," ","NO PERTENECE A NINGUNA MICRORED","Sin Categoría"]
[null,{"$f":"VALUE(renipress[[#This Row],[Código Único]])","v":20545},"SANIDAD DEL EJERCITO DEL PERU","00020545","HOSPITAL MILITAR DIVISIONARIO SANTA ROSA IQUITOS","LORETO","MAYNAS","IQUITOS","160101","24","00","00","LORETO","NO PERTENECE A NINGUNA RED","NO PERTENECE A NINGUNA MICRORED","Sin Categoría"]
[null,{"$f":"VALUE(renipress[[#This Row],[Código Único]])","v":20552},"SANIDAD DEL EJERCITO DEL PERU","00020552","HOSPITAL MILITAR DIVISIONARIO SANTA ROSA IQUITOS","LORETO","MAYNAS","IQUITOS","160101","24","00","00","LORETO","NO PERTENECE A NINGUNA RED","NO PERTENECE A NINGUNA MICRORED","Sin Categoría"]
[null,{"$f":"VALUE(renipress[[#This Row],[Código Único]])","v":20562},"SANIDAD DEL EJERCITO DEL PERU","00020562","HOSPITAL MILITAR DIVISIONARIO SANTA ROSA IQUITOS","LORETO","MAYNAS","IQUITOS","160101","24","00","00","LORETO","NO PERTENECE A NINGUNA RED","NO PERTENECE A NINGUNA MICRORED","Sin Categoría"]
[null,{"$f":"VALUE(renipress[[#This Row],[Código Único]])","v":20573},"PRIVADO","00020573","NERVI RAMIREZ ALDO GUILLERMO","LIMA","LIMA","SANTIAGO DE SURCO","150140","23","00","00","LIMA SUR"," ","NO PERTENECE A NINGUNA MICRORED","Sin Categoría"]
[null,{"$f":"VALUE(renipress[[#This Row],[Código Único]])","v":20590},"PRIVADO","00020590","SAMIRAL MONTESA SAC","LIMA","LIMA","SANTIAGO DE SURCO","150140","23","00","00","LIMA SUR"," ","NO PERTENECE A NINGUNA MICRORED","Sin Categoría"]
[null,{"$f":"VALUE(renipress[[#This Row],[Código Único]])","v":20602},"PRIVADO","00020602","ECOGRAFIA DIAGNOSTICA EIRL","LIMA","LIMA","SURQUILLO","150141","36","00","00","LIMA CENTRO"," ","NO PERTENECE A NINGUNA MICRORED","Sin Categoría"]
[null,{"$f":"VALUE(renipress[[#This Row],[Código Único]])","v":20607},"PRIVADO","00020607","MORALES ACUÑA TEODORO HECTOR","LIMA","LIMA","COMAS","150110","35","00","00","LIMA NORTE"," ","NO PERTENECE A NINGUNA MICRORED","Sin Categoría"]
[null,{"$f":"VALUE(renipress[[#This Row],[Código Único]])","v":20623},"PRIVADO","00020623","AES AIR SERVICES DEL PERU S.A.C","LIMA","LIMA","MIRAFLORES","150122","36","00","00","LIMA CENTRO"," ","NO PERTENECE A NINGUNA MICRORED","Sin Categoría"]
[null,{"$f":"VALUE(renipress[[#This Row],[Código Único]])","v":20631},"PRIVADO","00020631","CONSULTORIO DE CIRUGIA PLASTICA & ANTIAGING","LIMA","LIMA","SAN JUAN DE LURIGANCHO","150132","36","00","00","LIMA CENTRO"," ","NO PERTENECE A NINGUNA MICRORED","I-2"]
[null,{"$f":"VALUE(renipress[[#This Row],[Código Único]])","v":20644},"PRIVADO","00020644","POLICLINICO","AREQUIPA","AREQUIPA","CAYMA","040103","4","00","00","AREQUIPA"," ","NO PERTENECE A NINGUNA MICRORED","Sin Categoría"]
[null,{"$f":"VALUE(renipress[[#This Row],[Código Único]])","v":20659},"PRIVADO","00020659","SERVICIOS MEDICOS E  INVERSIONES ITAL - PERU S.A.C - SERMINIP S.A.C","LIMA","LIMA","PUENTE PIEDRA","150125","35","00","00","LIMA NORTE"," ","NO PERTENECE A NINGUNA MICRORED","Sin Categoría"]
[null,{"$f":"VALUE(renipress[[#This Row],[Código Único]])","v":20665},"PRIVADO","00020665","CONSULTORIO DE OBSTETRICIA","AREQUIPA","AREQUIPA","AREQUIPA","040101","4","00","00","AREQUIPA","NO PERTENECE A NINGUNA RED","NO PERTENECE A NINGUNA MICRORED","Sin Categoría"]
[null,{"$f":"VALUE(renipress[[#This Row],[Código Único]])","v":20676},"PRIVADO","00020676","MARISOL MARTINEZ AGUILAR","LIMA","LIMA","LOS OLIVOS","150117","35","00","00","LIMA NORTE"," ","NO PERTENECE A NINGUNA MICRORED","I-1"]
[null,{"$f":"VALUE(renipress[[#This Row],[Código Único]])","v":20695},"PRIVADO","00020695","DENTAL KIRU","LIMA","LIMA","ATE","150103","21","00","00","LIMA ESTE"," ","NO PERTENECE A NINGUNA MICRORED","I-1"]
[null,{"$f":"VALUE(renipress[[#This Row],[Código Único]])","v":20705},"PRIVADO","00020705","ÓPTICA MEGALUZ","PUNO","PUNO","PUNO","210101","29","00","00","PUNO"," ","NO PERTENECE A NINGUNA MICRORED","Sin Categoría"]
[null,{"$f":"VALUE(renipress[[#This Row],[Código Único]])","v":20716},"PRIVADO","00020716","POLICLINICO ARCANGEL IQUITOS 1","LORETO","MAYNAS","IQUITOS","160101","24","00","00","LORETO"," ","NO PERTENECE A NINGUNA MICRORED","Sin Categoría"]
[null,{"$f":"VALUE(renipress[[#This Row],[Código Único]])","v":20729},"PRIVADO","00020729","NACER","CAJAMARCA","CAJAMARCA","CAJAMARCA","060101","7","00","00","CAJAMARCA"," ","NO PERTENECE A NINGUNA MICRORED","I-2"]
[null,{"$f":"VALUE(renipress[[#This Row],[Código Único]])","v":20737},"PRIVADO","00020737","CENTRO MEDICO FESALUD","LIMA","LIMA","SAN JUAN DE LURIGANCHO","150132","36","00","00","LIMA CENTRO"," ","NO PERTENECE A NINGUNA MICRORED","I-3"]
[null,{"$f":"VALUE(renipress[[#This Row],[Código Único]])","v":20746},"PRIVADO","00020746","PEDRO EDWIN SOLIS RAMIREZ","LIMA","LIMA","SAN JUAN DE MIRAFLORES","150133","23","00","00","LIMA SUR"," ","NO PERTENECE A NINGUNA MICRORED","I-1"]
[null,{"$f":"VALUE(renipress[[#This Row],[Código Único]])","v":20758},"PRIVADO","00020758","ODONTOLASER E.I.R.L.","PIURA","PIURA","PIURA","200101","28","00","00","PIURA"," ","NO PERTENECE A NINGUNA MICRORED","I-1"]
[null,{"$f":"VALUE(renipress[[#This Row],[Código Único]])","v":20774},"PRIVADO","00020774","LISSY CAROLINA MORALES DONAIRE","LIMA","LIMA","JESUS MARIA","150113","36","00","00","LIMA CENTRO"," ","NO PERTENECE A NINGUNA MICRORED","I-1"]
[null,{"$f":"VALUE(renipress[[#This Row],[Código Único]])","v":20788},"PRIVADO","00020788","CENTRO MEDICO HAPPYS DENT PERU SAC","LIMA","LIMA","PUENTE PIEDRA","150125","35","00","00","LIMA NORTE"," ","NO PERTENECE A NINGUNA MICRORED","Sin Categoría"]
[null,{"$f":"VALUE(renipress[[#This Row],[Código Único]])","v":20792},"PRIVADO","00020792","CENTRO DE ATENCION INTEGRAL DE SALUD MARCELINO","LAMBAYEQUE","CHICLAYO","CHICLAYO","140101","19","00","00","LAMBAYEQUE"," ","NO PERTENECE A NINGUNA MICRORED","Sin Categoría"]
[null,{"$f":"VALUE(renipress[[#This Row],[Código Único]])","v":20809},"PRIVADO","00020809","INSTITUTO FEMENINO DE FERTILIDAD SAC","LIMA","LIMA","SAN JUAN DE MIRAFLORES","150133","23","00","00","LIMA SUR"," ","NO PERTENECE A NINGUNA MICRORED","I-2"]
[null,{"$f":"VALUE(renipress[[#This Row],[Código Único]])","v":20821},"PRIVADO","00020821","A&E DENTAL SALUD","LORETO","MAYNAS","BELEN","160112","24","00","00","LORETO"," ","NO PERTENECE A NINGUNA MICRORED","Sin Categoría"]
[null,{"$f":"VALUE(renipress[[#This Row],[Código Único]])","v":20831},"PRIVADO","00020831","MARIA EMILIA CASTILLO PELAEZ","LIMA","LIMA","SANTIAGO DE SURCO","150140","23","00","00","LIMA SUR"," ","NO PERTENECE A NINGUNA MICRORED","Sin Categoría"]
[null,{"$f":"VALUE(renipress[[#This Row],[Código Único]])","v":20845},"PRIVADO","00020845","GUILLERMO JESUS TARAZONA LACTAYO","LIMA","LIMA","PUENTE PIEDRA","150125","35","00","00","LIMA NORTE"," ","NO PERTENECE A NINGUNA MICRORED","I-2"]
[null,{"$f":"VALUE(renipress[[#This Row],[Código Único]])","v":20852},"PRIVADO","00020852","ODONTOBELL IMAGENES EIRL","CALLAO","CALLAO","CALLAO","070101","8","00","00","CALLAO"," ","NO PERTENECE A NINGUNA MICRORED","I-1"]
[null,{"$f":"VALUE(renipress[[#This Row],[Código Único]])","v":20862},"PRIVADO","00020862","JUAN CARLOS ECHEVARRIA PACHECO","LIMA","LIMA","SANTIAGO DE SURCO","150140","23","00","00","LIMA SUR"," ","NO PERTENECE A NINGUNA MICRORED","Sin Categoría"]
[null,{"$f":"VALUE(renipress[[#This Row],[Código Único]])","v":20881},"PRIVADO","00020881","SKYMEDIC PERU.SAC","LIMA","LIMA","LINCE","150116","36","00","00","LIMA CENTRO"," ","NO PERTENECE A NINGUNA MICRORED","Sin Categoría"]
[null,{"$f":"VALUE(renipress[[#This Row],[Código Único]])","v":20890},"INPE","00020890","ESTABLECIMIENTO PENAL AYACUCHO","AYACUCHO","HUAMANGA","ANDRES AVELINO CACERES D.","050116","5","00","00","AYACUCHO","NO PERTENECE A NINGUNA RED","NO PERTENECE A NINGUNA MICRORED","I-2"]
[null,{"$f":"VALUE(renipress[[#This Row],[Código Único]])","v":20902},"PRIVADO","00020902","CONSULTORIO MEDICO DE LABORATORIOS ROE","LIMA","LIMA","CHORRILLOS","150108","23","00","00","LIMA SUR"," ","NO PERTENECE A NINGUNA MICRORED","I-2"]
[null,{"$f":"VALUE(renipress[[#This Row],[Código Único]])","v":20907},"PRIVADO","00020907","CLINICA ODONTOLOGICA NOVO DENT SAC","LIMA","LIMA","PUEBLO LIBRE","150121","36","00","00","LIMA CENTRO"," ","NO PERTENECE A NINGUNA MICRORED","Sin Categoría"]
[null,{"$f":"VALUE(renipress[[#This Row],[Código Único]])","v":20923},"PRIVADO","00020923","EIT LABMEDICAL E.I.R.L.","HUANCAVELICA","ANGARAES","LIRCAY","090301","13","00","00","HUANCAVELICA"," ","NO PERTENECE A NINGUNA MICRORED","Sin Categoría"]
[null,{"$f":"VALUE(renipress[[#This Row],[Código Único]])","v":20931},"PRIVADO","00020931","CONSULTORIO DE ODONTOLOGIA","AREQUIPA","AREQUIPA","AREQUIPA","040101","4","00","00","AREQUIPA"," ","NO PERTENECE A NINGUNA MICRORED","I-1"]
[null,{"$f":"VALUE(renipress[[#This Row],[Código Único]])","v":20944},"PRIVADO","00020944","CONSULTORIO DENTAL COVIDA","LIMA","LIMA","LOS OLIVOS","150117","35","00","00","LIMA NORTE"," ","NO PERTENECE A NINGUNA MICRORED","I-1"]
[null,{"$f":"VALUE(renipress[[#This Row],[Código Único]])","v":20959},"PRIVADO","00020959","OMNISALUD MEDICENTER EIRL","PIURA","PIURA","CASTILLA","200104","28","00","00","PIURA"," ","NO PERTENECE A NINGUNA MICRORED","Sin Categoría"]
[null,{"$f":"VALUE(renipress[[#This Row],[Código Único]])","v":20973},"PRIVADO","00020973","CONSORCIO VIAL HUAURA","LIMA","HUAURA","SAYAN","150811","22","00","00","LIMA"," ","NO PERTENECE A NINGUNA MICRORED","Sin Categoría"]
[null,{"$f":"VALUE(renipress[[#This Row],[Código Único]])","v":20976},"PRIVADO","00020976","VISUAL CENTER CLINICA DE OJOS","LIMA","LIMA","SAN MIGUEL","150136","36","00","00","LIMA CENTRO"," ","NO PERTENECE A NINGUNA MICRORED","II-E"]
[null,{"$f":"VALUE(renipress[[#This Row],[Código Único]])","v":20994},"PRIVADO","00020994","ALBUS DENT SAC","LIMA","LIMA","VILLA MARIA DEL TRIUNFO","150143","23","00","00","LIMA SUR"," ","NO PERTENECE A NINGUNA MICRORED","I-1"]
[null,{"$f":"VALUE(renipress[[#This Row],[Código Único]])","v":21004},"PRIVADO","00021004","CONSULTORIO ODONTOLOGICO","AREQUIPA","AREQUIPA","AREQUIPA","040101","4","00","00","AREQUIPA"," ","NO PERTENECE A NINGUNA MICRORED","Sin Categoría"]
[null,{"$f":"VALUE(renipress[[#This Row],[Código Único]])","v":21015},"PRIVADO","00021015","C.M.E. VILLA DE ARNEDO S.A.C.","LIMA","HUARAL","CHANCAY","150605","22","00","00","LIMA"," ","NO PERTENECE A NINGUNA MICRORED","Sin Categoría"]
[null,{"$f":"VALUE(renipress[[#This Row],[Código Único]])","v":21028},"PRIVADO","00021028","CENTO INTEGRAL DE REHABILITACION LOGOKIN S.A.C.","LIMA","LIMA","LINCE","150116","36","00","00","LIMA CENTRO"," ","NO PERTENECE A NINGUNA MICRORED","Sin Categoría"]
[null,{"$f":"VALUE(renipress[[#This Row],[Código Único]])","v":21036},"PRIVADO","00021036","CENTRO MEDICO SANTA BARBARA","PUNO","SAN ROMAN","JULIACA","211101","29","00","00","PUNO"," ","NO PERTENECE A NINGUNA MICRORED","Sin Categoría"]
[null,{"$f":"VALUE(renipress[[#This Row],[Código Único]])","v":21045},"PRIVADO","00021045","CONSULTORIO OBSTETRICO SAN JUDAS TADEO","LIMA","LIMA","SAN JUAN DE LURIGANCHO","150132","36","00","00","LIMA CENTRO"," ","NO PERTENECE A NINGUNA MICRORED","I-1"]
[null,{"$f":"VALUE(renipress[[#This Row],[Código Único]])","v":21057},"PRIVADO","00021057","LUMINOUS DENT R&N","LIMA","LIMA","SANTA ANITA","150137","21","00","00","LIMA ESTE"," ","NO PERTENECE A NINGUNA MICRORED","Sin Categoría"]
[null,{"$f":"VALUE(renipress[[#This Row],[Código Único]])","v":21073},"PRIVADO","00021073","CENTRO MEDICO SAN PABLO-CAJAMARCA SAC","CAJAMARCA","CAJAMARCA","CAJAMARCA","060101","7","00","00","CAJAMARCA"," ","NO PERTENECE A NINGUNA MICRORED","I-3"]
[null,{"$f":"VALUE(renipress[[#This Row],[Código Único]])","v":21086},"PRIVADO","00021086","SERVI SALUD E.I.R.L","LIMA","LIMA","LA MOLINA","150114","21","00","00","LIMA ESTE"," ","NO PERTENECE A NINGUNA MICRORED","Sin Categoría"]
[null,{"$f":"VALUE(renipress[[#This Row],[Código Único]])","v":21090},"PRIVADO","00021090","CONSULTORIO DE PSICOLOGIA","AREQUIPA","AREQUIPA","PAUCARPATA","040112","4","00","00","AREQUIPA"," ","NO PERTENECE A NINGUNA MICRORED","Sin Categoría"]
[null,{"$f":"VALUE(renipress[[#This Row],[Código Único]])","v":21108},"PRIVADO","00021108","CALIFORNIA LIDER","LIMA","LIMA","ATE","150103","21","00","00","LIMA ESTE"," ","NO PERTENECE A NINGUNA MICRORED","Sin Categoría"]
[null,{"$f":"VALUE(renipress[[#This Row],[Código Único]])","v":21115},"PRIVADO","00021115","CENTRO MEDICO V&T S.A.C.","LIMA","LIMA","SAN MARTIN DE PORRES","150135","35","00","00","LIMA NORTE"," ","NO PERTENECE A NINGUNA MICRORED","I-2"]
[null,{"$f":"VALUE(renipress[[#This Row],[Código Único]])","v":21129},"PRIVADO","00021129","HYGEA S.A.C.","AREQUIPA","AREQUIPA","AREQUIPA","040101","4","00","00","AREQUIPA"," ","NO PERTENECE A NINGUNA MICRORED","Sin Categoría"]
[null,{"$f":"VALUE(renipress[[#This Row],[Código Único]])","v":21143},"PRIVADO","00021143","CENTRO DENTAL ALEMANA S.A.C","LIMA","LIMA","LOS OLIVOS","150117","35","00","00","LIMA NORTE"," ","NO PERTENECE A NINGUNA MICRORED","I-3"]
[null,{"$f":"VALUE(renipress[[#This Row],[Código Único]])","v":21150},"PRIVADO","00021150","CENTRO MEDICO VITTAL","LA LIBERTAD","TRUJILLO","EL PORVENIR","130102","18","00","00","LA LIBERTAD"," ","NO PERTENECE A NINGUNA MICRORED","Sin Categoría"]
[null,{"$f":"VALUE(renipress[[#This Row],[Código Único]])","v":21160},"PRIVADO","00021160","CONSULTORIO DENTAL","LIMA","LIMA","LA MOLINA","150114","21","00","00","LIMA ESTE"," ","NO PERTENECE A NINGUNA MICRORED","I-1"]
[null,{"$f":"VALUE(renipress[[#This Row],[Código Único]])","v":21179},"PRIVADO","00021179","LABORATORIO ANALISIS CLINICOS SALINAS","LA LIBERTAD","TRUJILLO","TRUJILLO","130101","18","00","00","LA LIBERTAD"," ","NO PERTENECE A NINGUNA MICRORED","Sin Categoría"]
[null,{"$f":"VALUE(renipress[[#This Row],[Código Único]])","v":21188},"PRIVADO","00021188","LOS ANGELES","CALLAO","CALLAO","CARMEN DE LA LEGUA-REYNOSO","070103","8","00","00","CALLAO"," ","NO PERTENECE A NINGUNA MICRORED","I-2"]
[null,{"$f":"VALUE(renipress[[#This Row],[Código Único]])","v":21200},"PRIVADO","00021200","POLICLINICO CON ACTIVIDADES EN SALUD OCUPACIONAL","AREQUIPA","ISLAY","MOLLENDO","040701","4","00","00","AREQUIPA"," ","NO PERTENECE A NINGUNA MICRORED","I-3"]
[null,{"$f":"VALUE(renipress[[#This Row],[Código Único]])","v":21216},"PRIVADO","00021216","HJ- DENT SERVICIOS GENERALES EIRL","LAMBAYEQUE","CHICLAYO","CHICLAYO","140101","19","00","00","LAMBAYEQUE"," ","NO PERTENECE A NINGUNA MICRORED","Sin Categoría"]
[null,{"$f":"VALUE(renipress[[#This Row],[Código Único]])","v":21221},"PRIVADO","00021221","CONSULTORIO MEDICO SANTA ROSITA","LIMA","LIMA","SAN JUAN DE LURIGANCHO","150132","36","00","00","LIMA CENTRO"," ","NO PERTENECE A NINGUNA MICRORED","Sin Categoría"]
[null,{"$f":"VALUE(renipress[[#This Row],[Código Único]])","v":21229},"PRIVADO","00021229","CONSULTORIO MEDICO DE NEUROCIRUGIA","AREQUIPA","AREQUIPA","AREQUIPA","040101","4","00","00","AREQUIPA"," ","NO PERTENECE A NINGUNA MICRORED","Sin Categoría"]
[null,{"$f":"VALUE(renipress[[#This Row],[Código Único]])","v":21242},"PRIVADO","00021242","ERICA ALICIA RUBIO SOAÑA","LIMA","LIMA","LIMA","150101","36","00","00","LIMA CENTRO"," ","NO PERTENECE A NINGUNA MICRORED","Sin Categoría"]
[null,{"$f":"VALUE(renipress[[#This Row],[Código Único]])","v":21257},"PRIVADO","00021257","DIAMONDENT","LIMA","LIMA","MAGDALENA DEL MAR","150120","36","00","00","LIMA CENTRO"," ","NO PERTENECE A NINGUNA MICRORED","Sin Categoría"]
[null,{"$f":"VALUE(renipress[[#This Row],[Código Único]])","v":21271},"PRIVADO","00021271","CONSULTORIO DENTAL SANTA LUCIA EIRL","LAMBAYEQUE","CHICLAYO","CHICLAYO","140101","19","00","00","LAMBAYEQUE"," ","NO PERTENECE A NINGUNA MICRORED","Sin Categoría"]
[null,{"$f":"VALUE(renipress[[#This Row],[Código Único]])","v":21285},"PRIVADO","00021285","MULTISERVICIOS DENTAL MEDIC","CALLAO","CALLAO","VENTANILLA","070106","8","00","00","CALLAO"," ","NO PERTENECE A NINGUNA MICRORED","I-1"]
[null,{"$f":"VALUE(renipress[[#This Row],[Código Único]])","v":21292},"PRIVADO","00021292","ONCOVIVIR SAC","LIMA","LIMA","SAN MARTIN DE PORRES","150135","35","00","00","LIMA NORTE"," ","NO PERTENECE A NINGUNA MICRORED","Sin Categoría"]
[null,{"$f":"VALUE(renipress[[#This Row],[Código Único]])","v":21302},"PRIVADO","00021302","CONSULTORIO ODONTOLÓGICO KCOMT","LIMA","LIMA","LA MOLINA","150114","21","00","00","LIMA ESTE"," ","NO PERTENECE A NINGUNA MICRORED","Sin Categoría"]
[null,{"$f":"VALUE(renipress[[#This Row],[Código Único]])","v":21314},"PRIVADO","00021314","LAKMEDIC S.A.C.","LIMA","LIMA","SANTA ANITA","150137","21","00","00","LIMA ESTE"," ","NO PERTENECE A NINGUNA MICRORED","I-2"]
[null,{"$f":"VALUE(renipress[[#This Row],[Código Único]])","v":21327},"PRIVADO","00021327","CENTRO DE DIAGNOSTICO SAN ISIDRO S.A.C.","LIMA","LIMA","LINCE","150116","36","00","00","LIMA CENTRO"," ","NO PERTENECE A NINGUNA MICRORED","Sin Categoría"]
[null,{"$f":"VALUE(renipress[[#This Row],[Código Único]])","v":21335},"PRIVADO","00021335","FRANCO ROGER  REYNOSO MONTES","LIMA","LIMA","LURIGANCHO","150118","21","00","00","LIMA ESTE"," ","NO PERTENECE A NINGUNA MICRORED","Sin Categoría"]
[null,{"$f":"VALUE(renipress[[#This Row],[Código Único]])","v":21355},"PRIVADO","00021355","CENTRO DENTAL VICUS","PIURA","PIURA","CATACAOS","200105","28","00","00","PIURA"," ","NO PERTENECE A NINGUNA MICRORED","I-1"]
[null,{"$f":"VALUE(renipress[[#This Row],[Código Único]])","v":21364},"PRIVADO","00021364","SERVICIOS ODONTOLOGICOS MUÑOZ S.A.C.","LIMA","LIMA","VILLA EL SALVADOR","150142","23","00","00","LIMA SUR"," ","NO PERTENECE A NINGUNA MICRORED","Sin Categoría"]
[null,{"$f":"VALUE(renipress[[#This Row],[Código Único]])","v":21373},"PRIVADO","00021373","CENTRO MEDICO SAN FERNANDO","SAN MARTIN","MOYOBAMBA","MOYOBAMBA","220101","30","00","00","SAN MARTIN"," ","NO PERTENECE A NINGUNA MICRORED","Sin Categoría"]
[null,{"$f":"VALUE(renipress[[#This Row],[Código Único]])","v":21386},"PRIVADO","00021386","CENTRO VERNAL","JUNIN","CHANCHAMAYO","CHANCHAMAYO","120301","17","00","00","JUNIN"," ","NO PERTENECE A NINGUNA MICRORED","Sin Categoría"]
[null,{"$f":"VALUE(renipress[[#This Row],[Código Único]])","v":21402},"PRIVADO","00021402","JOHANA ESMITH MATAMORO ESPINOZA","LIMA","LIMA","SAN JUAN DE MIRAFLORES","150133","23","00","00","LIMA SUR"," ","NO PERTENECE A NINGUNA MICRORED","Sin Categoría"]
[null,{"$f":"VALUE(renipress[[#This Row],[Código Único]])","v":21408},"PRIVADO","00021408","CENTRO MEDICO ARCANGEL YURIMAGUAS 1","LORETO","ALTO AMAZONAS","YURIMAGUAS","160201","24","00","00","LORETO"," ","NO PERTENECE A NINGUNA MICRORED","Sin Categoría"]
[null,{"$f":"VALUE(renipress[[#This Row],[Código Único]])","v":21426},"PRIVADO","00021426","CLINICA DENTAL ODONTOSONRISAS EIRL","LAMBAYEQUE","CHICLAYO","CHICLAYO","140101","19","00","00","LAMBAYEQUE"," ","NO PERTENECE A NINGUNA MICRORED","Sin Categoría"]
[null,{"$f":"VALUE(renipress[[#This Row],[Código Único]])","v":21429},"PRIVADO","00021429","DENTAL MAR","LIMA","LIMA","SAN JUAN DE LURIGANCHO","150132","36","00","00","LIMA CENTRO"," ","NO PERTENECE A NINGUNA MICRORED","I-1"]
[null,{"$f":"VALUE(renipress[[#This Row],[Código Único]])","v":21443},"PRIVADO","00021443","JUAN CARLOS LOZA CAMPOS","LIMA","LIMA","COMAS","150110","35","00","00","LIMA NORTE"," ","NO PERTENECE A NINGUNA MICRORED","Sin Categoría"]
[null,{"$f":"VALUE(renipress[[#This Row],[Código Único]])","v":21450},"GOBIERNO REGIONAL","00021450","SAN FRANCISCO DE ASIS DE PUCARA","JUNIN","YAULI","MOROCOCHA","120805","17","02","04","JUNIN","JAUJA","YAULI-OROYA","I-1"]
[null,{"$f":"VALUE(renipress[[#This Row],[Código Único]])","v":21471},"PRIVADO","00021471","CENTRO MEDICO ESPECIALIZADO CLINICA SUAREZ","JUNIN","HUANCAYO","EL TAMBO","120114","17","00","00","JUNIN"," "," ","Sin Categoría"]
[null,{"$f":"VALUE(renipress[[#This Row],[Código Único]])","v":21479},"PRIVADO","00021479","CONSULTORIO DENTAL OLIMPIA DELGADO CASTILLO","LIMA","LIMA","SAN MIGUEL","150136","36","00","00","LIMA CENTRO"," ","NO PERTENECE A NINGUNA MICRORED","I-1"]
[null,{"$f":"VALUE(renipress[[#This Row],[Código Único]])","v":21488},"PRIVADO","00021488","TORO GALVEZ PEDRO LORENZO","LAMBAYEQUE","CHICLAYO","CHICLAYO","140101","19","00","00","LAMBAYEQUE","NO PERTENECE A NINGUNA RED","NO PERTENECE A NINGUNA MICRORED","Sin Categoría"]
[null,{"$f":"VALUE(renipress[[#This Row],[Código Único]])","v":21500},"PRIVADO","00021500","MASTER LAB","LIMA","LIMA","SAN JUAN DE LURIGANCHO","150132","21","00","00","LIMA ESTE"," ","NO PERTENECE A NINGUNA MICRORED","Sin Categoría"]
[null,{"$f":"VALUE(renipress[[#This Row],[Código Único]])","v":21512},"PRIVADO","00021512","WHITEDENT","LIMA","LIMA","COMAS","150110","35","00","00","LIMA NORTE"," ","NO PERTENECE A NINGUNA MICRORED","Sin Categoría"]
[null,{"$f":"VALUE(renipress[[#This Row],[Código Único]])","v":21521},"PRIVADO","00021521","YOLANDA RAMIREZ SATALAYA","LIMA","LIMA","LA MOLINA","150114","21","00","00","LIMA ESTE","NO PERTENECE A NINGUNA RED","NO PERTENECE A NINGUNA MICRORED","Sin Categoría"]
[null,{"$f":"VALUE(renipress[[#This Row],[Código Único]])","v":21540},"PRIVADO","00021540","DENTAMEDIC - ODONTOCENTER","LIMA","LIMA","SAN MIGUEL","150136","36","00","00","LIMA CENTRO"," ","NO PERTENECE A NINGUNA MICRORED","Sin Categoría"]
[null,{"$f":"VALUE(renipress[[#This Row],[Código Único]])","v":21542},"PRIVADO","00021542","M.A.S SOLUCIONES DE FISIOTERAPIA","LIMA","LIMA","PUEBLO LIBRE","150121","36","00","00","LIMA CENTRO"," ","NO PERTENECE A NINGUNA MICRORED","Sin Categoría"]
[null,{"$f":"VALUE(renipress[[#This Row],[Código Único]])","v":21557},"PRIVADO","00021557","KATIA CLOTILDE CARRASCO ORE","LIMA","LIMA","SAN JUAN DE LURIGANCHO","150132","36","00","00","LIMA CENTRO"," ","NO PERTENECE A NINGUNA MICRORED","Sin Categoría"]
[null,{"$f":"VALUE(renipress[[#This Row],[Código Único]])","v":21571},"PRIVADO","00021571","ALINA NIMIA ORNA PASCUAL","LIMA","LIMA","EL AGUSTINO","150111","21","00","00","LIMA ESTE"," ","NO PERTENECE A NINGUNA MICRORED","Sin Categoría"]
[null,{"$f":"VALUE(renipress[[#This Row],[Código Único]])","v":21585},"PRIVADO","00021585","KATHY ISABEL MALPARTIDA PORRAS","CALLAO","CALLAO","BELLAVISTA","070102","8","00","00","CALLAO"," ","NO PERTENECE A NINGUNA MICRORED","I-2"]
[null,{"$f":"VALUE(renipress[[#This Row],[Código Único]])","v":21592},"PRIVADO","00021592","DMARAVILLA","TACNA","TACNA","TACNA","230101","32","00","00","TACNA"," ","NO PERTENECE A NINGUNA MICRORED","Sin Categoría"]
[null,{"$f":"VALUE(renipress[[#This Row],[Código Único]])","v":21602},"PRIVADO","00021602","LUZMILA LOPEZ CHARCA","TACNA","TACNA","TACNA","230101","32","00","00","TACNA"," ","NO PERTENECE A NINGUNA MICRORED","Sin Categoría"]
[null,{"$f":"VALUE(renipress[[#This Row],[Código Único]])","v":21613},"PRIVADO","00021613","CONSULTORIO MEDICO PEDIATRICO","LIMA","LIMA","SAN JUAN DE LURIGANCHO","150132","36","00","00","LIMA CENTRO"," ","NO PERTENECE A NINGUNA MICRORED","Sin Categoría"]
[null,{"$f":"VALUE(renipress[[#This Row],[Código Único]])","v":21626},"PRIVADO","00021626","CONSULTORIO MEDICO Y DENTAL","LIMA","LIMA","LOS OLIVOS","150117","35","00","00","LIMA NORTE"," ","NO PERTENECE A NINGUNA MICRORED","I-2"]
[null,{"$f":"VALUE(renipress[[#This Row],[Código Único]])","v":21634},"PRIVADO","00021634","SERVICIOS MEDICOS ZEA E.I.R.L.","LIMA","LIMA","SAN JUAN DE LURIGANCHO","150132","36","00","00","LIMA CENTRO"," ","NO PERTENECE A NINGUNA MICRORED","Sin Categoría"]
[null,{"$f":"VALUE(renipress[[#This Row],[Código Único]])","v":21654},"PRIVADO","00021654","INSTITUTO MÉDICO DEL DOLOR Y REHABILITACIÓN DRA.SILVANA BORRERO","PIURA","PIURA","PIURA","200101","28","00","00","PIURA"," ","NO PERTENECE A NINGUNA MICRORED","Sin Categoría"]
[null,{"$f":"VALUE(renipress[[#This Row],[Código Único]])","v":21663},"PRIVADO","00021663","ELOY NORIEGA BURGA","LIMA","LIMA","LA MOLINA","150114","21","00","00","LIMA ESTE"," ","NO PERTENECE A NINGUNA MICRORED","Sin Categoría"]
[null,{"$f":"VALUE(renipress[[#This Row],[Código Único]])","v":21671},"PRIVADO","00021671","FLORES GUEVARA JOSE ASUNCION","LAMBAYEQUE","CHICLAYO","CHICLAYO","140101","19","00","00","LAMBAYEQUE"," ","NO PERTENECE A NINGUNA MICRORED","Sin Categoría"]
[null,{"$f":"VALUE(renipress[[#This Row],[Código Único]])","v":21684},"PRIVADO","00021684","LARC - ODONTOLOGIA INTEGRAL","CALLAO","CALLAO","LA PERLA","070104","8","00","00","CALLAO"," ","NO PERTENECE A NINGUNA MICRORED","I-1"]
[null,{"$f":"VALUE(renipress[[#This Row],[Código Único]])","v":21699},"PRIVADO","00021699","MC DENT","LIMA","LIMA","SAN LUIS","150134","36","00","00","LIMA CENTRO"," ","NO PERTENECE A NINGUNA MICRORED","Sin Categoría"]
[null,{"$f":"VALUE(renipress[[#This Row],[Código Único]])","v":21706},"PRIVADO","00021706","CENTRO DE APOYO AL DIAGNOSTICO DR. BERLY MANRIQUE ORRILLO","LA LIBERTAD","TRUJILLO","TRUJILLO","130101","18","00","00","LA LIBERTAD","NO PERTENECE A NINGUNA RED","NO PERTENECE A NINGUNA MICRORED","Sin Categoría"]
[null,{"$f":"VALUE(renipress[[#This Row],[Código Único]])","v":21724},"PRIVADO","00021724","SERVICIOS MEDICOS GENERALES ROYCE S.A.C","LIMA","LIMA","LINCE","150116","36","00","00","LIMA CENTRO"," ","NO PERTENECE A NINGUNA MICRORED","Sin Categoría"]
[null,{"$f":"VALUE(renipress[[#This Row],[Código Único]])","v":21727},"PRIVADO","00021727","ASISTENCIA SALUD SCRL","PIURA","PIURA","PIURA","200101","28","00","00","PIURA"," ","NO PERTENECE A NINGUNA MICRORED","Sin Categoría"]
[null,{"$f":"VALUE(renipress[[#This Row],[Código Único]])","v":21741},"PRIVADO","00021741","ROMI DESTEPHANNY TEJEDA GRACIN","LAMBAYEQUE","CHICLAYO","CHICLAYO","140101","19","00","00","LAMBAYEQUE"," ","NO PERTENECE A NINGUNA MICRORED","Sin Categoría"]
[null,{"$f":"VALUE(renipress[[#This Row],[Código Único]])","v":21756},"PRIVADO","00021756","VERONICA MAYELA CASIMIRO ARAUCO","LIMA","LIMA","SAN JUAN DE LURIGANCHO","150132","36","00","00","LIMA CENTRO","NO PERTENECE A NINGUNA RED","NO PERTENECE A NINGUNA MICRORED","Sin Categoría"]
[null,{"$f":"VALUE(renipress[[#This Row],[Código Único]])","v":21769},"PRIVADO","00021769","CENTRO MEDICO","AREQUIPA","CAYLLOMA","CHIVAY","040501","4","00","00","AREQUIPA"," ","NO PERTENECE A NINGUNA MICRORED","Sin Categoría"]
[null,{"$f":"VALUE(renipress[[#This Row],[Código Único]])","v":21776},"PRIVADO","00021776","MCH CONSULTORIO ODONTOLOGICO","LAMBAYEQUE","CHICLAYO","CHICLAYO","140101","19","00","00","LAMBAYEQUE","NO PERTENECE A NINGUNA RED","NO PERTENECE A NINGUNA MICRORED","I-1"]
[null,{"$f":"VALUE(renipress[[#This Row],[Código Único]])","v":21790},"PRIVADO","00021790","CENTRO ODONTOLÓGICO VIDEN","LIMA","LIMA","COMAS","150110","35","00","00","LIMA NORTE"," ","NO PERTENECE A NINGUNA MICRORED","Sin Categoría"]
[null,{"$f":"VALUE(renipress[[#This Row],[Código Único]])","v":21804},"GOBIERNO REGIONAL","00021804","ALTO CHICHIRENI","JUNIN","SATIPO","PANGOA","120606","17","08","03","JUNIN","SAN MARTIN DE PANGOA","CUBANTIA","I-1"]
[null,{"$f":"VALUE(renipress[[#This Row],[Código Único]])","v":21819},"PRIVADO","00021819","SOCIEDAD MEDICA DE SERVICIOS DE APOYO AL DIAGNOSTICO S.A.C","LIMA","LIMA","VILLA EL SALVADOR","150142","23","00","00","LIMA SUR"," ","NO PERTENECE A NINGUNA MICRORED","Sin Categoría"]
[null,{"$f":"VALUE(renipress[[#This Row],[Código Único]])","v":21821},"PRIVADO","00021821","CONSULTORIO DENTAL SEÑOR DE QOYLLURITY","TACNA","TACNA","CIUDAD NUEVA","230104","32","00","00","TACNA"," ","NO PERTENECE A NINGUNA MICRORED","Sin Categoría"]
[null,{"$f":"VALUE(renipress[[#This Row],[Código Único]])","v":21840},"PRIVADO","00021840","CENTRO ODONTOLOGICO","AREQUIPA","AREQUIPA","CAYMA","040103","4","00","00","AREQUIPA"," ","NO PERTENECE A NINGUNA MICRORED","Sin Categoría"]
[null,{"$f":"VALUE(renipress[[#This Row],[Código Único]])","v":21849},"PRIVADO","00021849","CHINCHAYAN MENESES CESAR AUGUSTO","LIMA","HUAURA","HUACHO","150801","22","00","00","LIMA"," "," ","Sin Categoría"]
[null,{"$f":"VALUE(renipress[[#This Row],[Código Único]])","v":21861},"PRIVADO","00021861","CONSULTORIO MÉDICO DR. RONALD CAMPOVERDE","PIURA","PIURA","PIURA","200101","28","00","00","PIURA"," ","NO PERTENECE A NINGUNA MICRORED","Sin Categoría"]
[null,{"$f":"VALUE(renipress[[#This Row],[Código Único]])","v":21873},"PRIVADO","00021873","JHAMES IVAN ORE DE LA CRUZ","LIMA","LIMA","BREÑA","150105","36","00","00","LIMA CENTRO"," ","NO PERTENECE A NINGUNA MICRORED","Sin Categoría"]
[null,{"$f":"VALUE(renipress[[#This Row],[Código Único]])","v":21882},"PRIVADO","00021882","DENTAL ROSAS","LIMA","LIMA","CHORRILLOS","150108","23","00","00","LIMA SUR"," ","NO PERTENECE A NINGUNA MICRORED","Sin Categoría"]
[null,{"$f":"VALUE(renipress[[#This Row],[Código Único]])","v":21890},"ESSALUD","00021890","POSTA MEDICA YAURICOCHA","LIMA","YAUYOS","ALIS","151002","22","00","00","LIMA","NO PERTENECE A NINGUNA RED","NO PERTENECE A NINGUNA MICRORED","Sin Categoría"]
[null,{"$f":"VALUE(renipress[[#This Row],[Código Único]])","v":21911},"PRIVADO","00021911","T&T OFTALMOLOGOS ASOCIADOS S.A.C.","LIMA","LIMA","SAN ISIDRO","150131","36","00","00","LIMA CENTRO"," ","NO PERTENECE A NINGUNA MICRORED","Sin Categoría"]
[null,{"$f":"VALUE(renipress[[#This Row],[Código Único]])","v":21918},"PRIVADO","00021918","CENTRO MÉDICO VENEZUELA","LIMA","LIMA","BREÑA","150105","36","00","00","LIMA CENTRO"," ","NO PERTENECE A NINGUNA MICRORED","Sin Categoría"]
[null,{"$f":"VALUE(renipress[[#This Row],[Código Único]])","v":21932},"PRIVADO","00021932","CENTRO PARROQUIAL DE REHABILITACION INTEGRAL - CENTRO AVE","LIMA","HUAURA","HUALMAY","150805","22","00","00","LIMA"," ","NO PERTENECE A NINGUNA MICRORED","Sin Categoría"]
[null,{"$f":"VALUE(renipress[[#This Row],[Código Único]])","v":21935},"PRIVADO","00021935","CENTRO INTEGRAL ONCOLOGICO S.A.C.","LAMBAYEQUE","CHICLAYO","CHICLAYO","140101","19","00","00","LAMBAYEQUE"," ","NO PERTENECE A NINGUNA MICRORED","Sin Categoría"]
[null,{"$f":"VALUE(renipress[[#This Row],[Código Único]])","v":21953},"PRIVADO","00021953","CLINICA ESPECIALIZADA EN SALUD INTEGRAL STARMEDIC","HUANUCO","HUANUCO","HUANUCO","100101","14","00","00","HUANUCO"," ","NO PERTENECE A NINGUNA MICRORED","Sin Categoría"]
[null,{"$f":"VALUE(renipress[[#This Row],[Código Único]])","v":21959},"PRIVADO","00021959","W & H INVESTMENT S.A.C.","LIMA","LIMA","SANTIAGO DE SURCO","150140","23","00","00","LIMA SUR"," ","NO PERTENECE A NINGUNA MICRORED","Sin Categoría"]
[null,{"$f":"VALUE(renipress[[#This Row],[Código Único]])","v":21974},"GOBIERNO REGIONAL","00021974","POQUERA CHICO","PUNO","SANDIA","QUIACA","211206","29","03","01","PUNO","SANDIA","SANDIA","I-1"]
[null,{"$f":"VALUE(renipress[[#This Row],[Código Único]])","v":21988},"PRIVADO","00021988","CONSULTORIO DENTAL ALDIDENT","LIMA","LIMA","LA MOLINA","150114","21","00","00","LIMA ESTE"," ","NO PERTENECE A NINGUNA MICRORED","I-1"]
[null,{"$f":"VALUE(renipress[[#This Row],[Código Único]])","v":22004},"PRIVADO","00022004","CHRISTIAN YAIR MORA TASAYCO","LIMA","LIMA","SANTIAGO DE SURCO","150140","23","00","00","LIMA SUR"," ","NO PERTENECE A NINGUNA MICRORED","Sin Categoría"]
[null,{"$f":"VALUE(renipress[[#This Row],[Código Único]])","v":22005},"PRIVADO","00022005","MENTA ODONTOLOGOS","TACNA","TACNA","TACNA","230101","32","00","00","TACNA"," ","NO PERTENECE A NINGUNA MICRORED","Sin Categoría"]
[null,{"$f":"VALUE(renipress[[#This Row],[Código Único]])","v":22025},"PRIVADO","00022025","NOVO DENTE","LIMA","LIMA","LOS OLIVOS","150117","35","00","00","LIMA NORTE"," ","NO PERTENECE A NINGUNA MICRORED","Sin Categoría"]
[null,{"$f":"VALUE(renipress[[#This Row],[Código Único]])","v":22033},"PRIVADO","00022033","MI DENTISTA","CUSCO","CUSCO","CUSCO","080101","11","00","00","CUSCO"," ","NO PERTENECE A NINGUNA MICRORED","I-1"]
[null,{"$f":"VALUE(renipress[[#This Row],[Código Único]])","v":22046},"PRIVADO","00022046","DENTAL SMILE LOUNGE","TACNA","TACNA","TACNA","230101","32","00","00","TACNA"," ","NO PERTENECE A NINGUNA MICRORED","Sin Categoría"]
[null,{"$f":"VALUE(renipress[[#This Row],[Código Único]])","v":22057},"PRIVADO","00022057","CENTRO ODONTOLOGICO","LIMA","LIMA","SANTIAGO DE SURCO","150140","23","00","00","LIMA SUR"," ","NO PERTENECE A NINGUNA MICRORED","Sin Categoría"]
[null,{"$f":"VALUE(renipress[[#This Row],[Código Único]])","v":22067},"PRIVADO","00022067","LABORATORIO CLÍNICO SANTA LUCIA","TACNA","TACNA","TACNA","230101","32","00","00","TACNA"," ","NO PERTENECE A NINGUNA MICRORED","Sin Categoría"]
[null,{"$f":"VALUE(renipress[[#This Row],[Código Único]])","v":22074},"PRIVADO","00022074","CONSULTORIO GINECOLOGICO SAN BARTOLOME","JUNIN","CHANCHAMAYO","PICHANAQUI","120303","17","00","00","JUNIN"," ","NO PERTENECE A NINGUNA MICRORED","Sin Categoría"]
[null,{"$f":"VALUE(renipress[[#This Row],[Código Único]])","v":22088},"PRIVADO","00022088","CENTRO ODONTOLOGICO  ROGGER","CAJAMARCA","CHOTA","CHOTA","060401","7","00","00","CAJAMARCA"," ","NO PERTENECE A NINGUNA MICRORED","Sin Categoría"]
[null,{"$f":"VALUE(renipress[[#This Row],[Código Único]])","v":22102},"PRIVADO","00022102","CLINICA SEÑOR DE LOS MILAGROS E.I.R.L.","LIMA","LIMA","LIMA","150101","36","00","00","LIMA CENTRO"," ","NO PERTENECE A NINGUNA MICRORED","Sin Categoría"]
[null,{"$f":"VALUE(renipress[[#This Row],[Código Único]])","v":23000},"PRIVADO","00023000","OPERMED S.A.C","LIMA","LIMA","SAN MARTIN DE PORRES","150135","35","00","00","LIMA NORTE"," "," ","Sin Categoría"]
[null,{"$f":"VALUE(renipress[[#This Row],[Código Único]])","v":23020},"PRIVADO","00023020","LABORATORIO DE ANALISIS CLINICOS D Y Z S.A.C.","LIMA","LIMA","MAGDALENA DEL MAR","150120","36","00","00","LIMA CENTRO"," "," ","Sin Categoría"]
[null,{"$f":"VALUE(renipress[[#This Row],[Código Único]])","v":23033},"PRIVADO","00023033","VERONICA VICTORIA MENDOZA ALARCON","LIMA","LIMA","SAN JUAN DE MIRAFLORES","150133","23","00","00","LIMA SUR"," ","NO PERTENECE A NINGUNA MICRORED","I-1"]
[null,{"$f":"VALUE(renipress[[#This Row],[Código Único]])","v":23039},"PRIVADO","00023039","GIOVANNI JESUS URQUIZO ALARCON","LIMA","LIMA","JESUS MARIA","150113","36","00","00","LIMA CENTRO"," "," ","I-1"]
[null,{"$f":"VALUE(renipress[[#This Row],[Código Único]])","v":23064},"PRIVADO","00023064","NEW INCA LENS EMPRESA INDIVIDUAL DE RESPONSABILIDAD LIMITADA - NEW INCA LENS E.I.R.L.","TACNA","TACNA","TACNA","230101","32","00","00","TACNA"," ","NO PERTENECE A NINGUNA MICRORED","Sin Categoría"]
[null,{"$f":"VALUE(renipress[[#This Row],[Código Único]])","v":23079},"PRIVADO","00023079","NUTRIMEDIC E.I.R.L.","CALLAO","CALLAO","BELLAVISTA","070102","8","00","00","CALLAO"," ","NO PERTENECE A NINGUNA MICRORED","I-2"]
[null,{"$f":"VALUE(renipress[[#This Row],[Código Único]])","v":23089},"PRIVADO","00023089","SMILE DESIGN CENTER S.A.C.","PIURA","PIURA","PIURA","200101","28","00","00","PIURA"," ","NO PERTENECE A NINGUNA MICRORED","I-1"]
[null,{"$f":"VALUE(renipress[[#This Row],[Código Único]])","v":23111},"PRIVADO","00023111","CENTRO RENAL PRIMAVERA","LA LIBERTAD","TRUJILLO","TRUJILLO","130101","18","00","00","LA LIBERTAD"," ","NO PERTENECE A NINGUNA MICRORED","Sin Categoría"]
[null,{"$f":"VALUE(renipress[[#This Row],[Código Único]])","v":23122},"PRIVADO","00023122","CERTIFICACIONES Y CALIBRACIONES S.A.C.","LIMA","LIMA","SURQUILLO","150141","36","00","00","LIMA CENTRO"," "," ","Sin Categoría"]
[null,{"$f":"VALUE(renipress[[#This Row],[Código Único]])","v":23129},"PRIVADO","00023129","CENTRO MÉDICO CORPONOVA","SAN MARTIN","PICOTA","PICOTA","220701","30","00","00","SAN MARTIN"," "," ","I-3"]
[null,{"$f":"VALUE(renipress[[#This Row],[Código Único]])","v":23145},"GOBIERNO REGIONAL","00023145","PAANTAN ENTSA","AMAZONAS","CONDORCANQUI","EL CENEPA","010402","1","04","05","AMAZONAS","CONDORCANQUI","HUAMPAMI","I-1"]
[null,{"$f":"VALUE(renipress[[#This Row],[Código Único]])","v":23159},"MINSA","00023159","HOSPITAL DE EMERGENCIAS VILLA EL SALVADOR","LIMA","LIMA","VILLA EL SALVADOR","150142","23","00","00","LIMA SUR","NO PERTENECE A NINGUNA RED","NO PERTENECE A NINGUNA MICRORED","II-E"]
[null,{"$f":"VALUE(renipress[[#This Row],[Código Único]])","v":23166},"PRIVADO","00023166","JMS CENTRO MEDICO S.A.C.","LIMA","LIMA","COMAS","150110","35","00","00","LIMA NORTE"," "," ","Sin Categoría"]
[null,{"$f":"VALUE(renipress[[#This Row],[Código Único]])","v":23183},"PRIVADO","00023183","Genetics Lab","LIMA","LIMA","MIRAFLORES","150122","36","00","00","LIMA CENTRO"," "," ","I-2"]
[null,{"$f":"VALUE(renipress[[#This Row],[Código Único]])","v":23187},"PRIVADO","00023187","CLAUDIA YOLANDA CABELLOS VILLALOBOS","LIMA","LIMA","MAGDALENA DEL MAR","150120","36","00","00","LIMA CENTRO"," "," ","I-1"]
[null,{"$f":"VALUE(renipress[[#This Row],[Código Único]])","v":23200},"PRIVADO","00023200","ANA LUCERO TEJADA HUAMAN","LIMA","LIMA","LIMA","150101","36","00","00","LIMA CENTRO"," "," ","I-2"]
[null,{"$f":"VALUE(renipress[[#This Row],[Código Único]])","v":23216},"PRIVADO","00023216","SERVICIOS Y PROMOCIONES DE SALUD S.A.C.","LIMA","LIMA","CHORRILLOS","150108","23","00","00","LIMA SUR"," "," ","I-2"]
[null,{"$f":"VALUE(renipress[[#This Row],[Código Único]])","v":23229},"PRIVADO","00023229","ASOCIACION PRO ESPIRITU SANTO","AREQUIPA","AREQUIPA","ALTO SELVA ALEGRE","040102","4","00","00","AREQUIPA"," "," ","Sin Categoría"]
[null,{"$f":"VALUE(renipress[[#This Row],[Código Único]])","v":23239},"PRIVADO","00023239","ANGELUS CONSULTORIO DENTAL S.R.L.","TACNA","TACNA","TACNA","230101","32","00","00","TACNA"," "," ","I-1"]
[null,{"$f":"VALUE(renipress[[#This Row],[Código Único]])","v":23247},"PRIVADO","00023247","LABORAL CONTROL E.I.R.L.","MOQUEGUA","ILO","ILO","180301","26","00","00","MOQUEGUA"," "," ","I-3"]
[null,{"$f":"VALUE(renipress[[#This Row],[Código Único]])","v":23262},"PRIVADO","00023262","PEGGY CAROL MARTINEZ ESTEBAN DE MANYARI","LIMA","LIMA","LINCE","150116","36","00","00","LIMA CENTRO"," "," ","I-2"]
[null,{"$f":"VALUE(renipress[[#This Row],[Código Único]])","v":23273},"PRIVADO","00023273","CENTRO MATERNO PERINATAL LAS MERCEDES EIRL","CAJAMARCA","CAJABAMBA","CAJABAMBA","060201","7","00","00","CAJAMARCA"," "," ","I-4"]
[null,{"$f":"VALUE(renipress[[#This Row],[Código Único]])","v":23283},"PRIVADO","00023283","PEDIATRIA ESPECIALIZADA S.A.C","LIMA","LIMA","MIRAFLORES","150122","36","00","00","LIMA CENTRO"," "," ","I-2"]
[null,{"$f":"VALUE(renipress[[#This Row],[Código Único]])","v":23304},"PRIVADO","00023304","CENTRO DENTAL VICUS","PIURA","PAITA","PAITA","200501","28","00","00","PIURA"," "," ","I-1"]
[null,{"$f":"VALUE(renipress[[#This Row],[Código Único]])","v":23315},"PRIVADO","00023315","CARLOS FRANCISCO ARTEAGA GARAY","LIMA","LIMA","SANTIAGO DE SURCO","150140","23","00","00","LIMA SUR"," "," ","I-1"]
[null,{"$f":"VALUE(renipress[[#This Row],[Código Único]])","v":23321},"PRIVADO","00023321","SEMID PERÚ EIRL","PIURA","PIURA","CASTILLA","200104","28","00","00","PIURA"," "," ","Sin Categoría"]
[null,{"$f":"VALUE(renipress[[#This Row],[Código Único]])","v":23337},"PRIVADO","00023337","WELINK PSICOLOGOS S.A.C.","LIMA","LIMA","MIRAFLORES","150122","36","00","00","LIMA CENTRO"," ","NO PERTENECE A NINGUNA MICRORED","I-1"]
[null,{"$f":"VALUE(renipress[[#This Row],[Código Único]])","v":23351},"PRIVADO","00023351","GERARDO FELICIANO LAVERIANO ALFARO","LIMA","LIMA","MIRAFLORES","150122","36","00","00","LIMA CENTRO"," "," ","I-1"]
[null,{"$f":"VALUE(renipress[[#This Row],[Código Único]])","v":23359},"PRIVADO","00023359","GALENO TOTAL E.I.R.L.","LIMA","LIMA","SAN MIGUEL","150136","36","00","00","LIMA CENTRO"," "," ","I-2"]
[null,{"$f":"VALUE(renipress[[#This Row],[Código Único]])","v":23375},"PRIVADO","00023375","CENTRO ODONTOLOGICO CLÍNICA DENTAL SAN ANTONIO","JUNIN","HUANCAYO","HUANCAYO","120101","17","00","00","JUNIN"," "," ","I-3"]
[null,{"$f":"VALUE(renipress[[#This Row],[Código Único]])","v":23380},"PRIVADO","00023380","PIURADENTAL  E.I.R.L.","PIURA","PIURA","PIURA","200101","28","00","00","PIURA"," "," ","I-1"]
[null,{"$f":"VALUE(renipress[[#This Row],[Código Único]])","v":23394},"PRIVADO","00023394","MULTIMPEX","TUMBES","TUMBES","LA CRUZ","240103","33","00","00","TUMBES"," "," ","Sin Categoría"]
[null,{"$f":"VALUE(renipress[[#This Row],[Código Único]])","v":23403},"PRIVADO","00023403","JAMIDENT","CALLAO","CALLAO","CALLAO","070101","8","00","00","CALLAO"," "," ","I-1"]
[null,{"$f":"VALUE(renipress[[#This Row],[Código Único]])","v":23424},"PRIVADO","00023424","LABORATORIO DE ANALISIS CLINICOS TACNA","TACNA","TACNA","TACNA","230101","32","00","00","TACNA"," ","NO PERTENECE A NINGUNA MICRORED","Sin Categoría"]
[null,{"$f":"VALUE(renipress[[#This Row],[Código Único]])","v":23434},"PRIVADO","00023434","HOLOMEDIC","LIMA","LIMA","SURQUILLO","150141","36","00","00","LIMA CENTRO"," "," ","I-3"]
[null,{"$f":"VALUE(renipress[[#This Row],[Código Único]])","v":23441},"PRIVADO","00023441","CENTRO ODONTOLOGICO AMERICANO - SAN MIGUEL EL CAMPILLO ","LIMA","LIMA","SAN MIGUEL","150136","36","00","00","LIMA CENTRO"," "," ","I-1"]
[null,{"$f":"VALUE(renipress[[#This Row],[Código Único]])","v":23455},"PRIVADO","00023455","CONSULTORIO ODONTOLOGICO MOYO DENT","SAN MARTIN","MOYOBAMBA","MOYOBAMBA","220101","30","00","00","SAN MARTIN"," "," ","I-1"]
[null,{"$f":"VALUE(renipress[[#This Row],[Código Único]])","v":23465},"PRIVADO","00023465","S.O. TU SALUD S.A.C.","MOQUEGUA","ILO","ILO","180301","26","00","00","MOQUEGUA"," "," ","I-3"]
[null,{"$f":"VALUE(renipress[[#This Row],[Código Único]])","v":23476},"PRIVADO","00023476","CONSULTORIO MEDICO - BELLAFORMA","LIMA","LIMA","LOS OLIVOS","150117","35","00","00","LIMA NORTE"," "," ","I-2"]
[null,{"$f":"VALUE(renipress[[#This Row],[Código Único]])","v":23493},"PRIVADO","00023493","REDUFACIL","LIMA","LIMA","SAN BORJA","150130","36","00","00","LIMA CENTRO"," "," ","I-1"]
[null,{"$f":"VALUE(renipress[[#This Row],[Código Único]])","v":23497},"PRIVADO","00023497","NOAHLUMI SOCIEDAD ANONIMA CERRADA - NOAHLUMI S.A.C.","LIMA","LIMA","SAN ISIDRO","150131","36","00","00","LIMA CENTRO"," "," ","I-2"]
[null,{"$f":"VALUE(renipress[[#This Row],[Código Único]])","v":23510},"PRIVADO","00023510","MEDLAB S.A.C.","AREQUIPA","AREQUIPA","AREQUIPA","040101","4","00","00","AREQUIPA"," "," ","Sin Categoría"]
[null,{"$f":"VALUE(renipress[[#This Row],[Código Único]])","v":23526},"PRIVADO","00023526","MAGIC SMILE S.A.C.","LIMA","LIMA","MIRAFLORES","150122","36","00","00","LIMA CENTRO"," "," ","I-1"]
[null,{"$f":"VALUE(renipress[[#This Row],[Código Único]])","v":23538},"PRIVADO","00023538","TODOORTODONCIA","LIMA","LIMA","SAN ISIDRO","150131","36","00","00","LIMA CENTRO"," ","NO PERTENECE A NINGUNA MICRORED","I-2"]
[null,{"$f":"VALUE(renipress[[#This Row],[Código Único]])","v":23547},"PRIVADO","00023547","SERVICIOS MEDICOS  MIRAMAR-V","LIMA","LIMA","VILLA EL SALVADOR","150142","23","00","00","LIMA SUR"," "," ","I-3"]
[null,{"$f":"VALUE(renipress[[#This Row],[Código Único]])","v":23557},"PRIVADO","00023557","R-M DENT","LIMA","LIMA","PUENTE PIEDRA","150125","35","00","00","LIMA NORTE"," "," ","I-1"]
[null,{"$f":"VALUE(renipress[[#This Row],[Código Único]])","v":23570},"PRIVADO","00023570","MIR SALUD E.I.R.L.","CUSCO","CUSCO","SANTIAGO","080106","11","00","00","CUSCO"," ","NO PERTENECE A NINGUNA MICRORED","I-3"]
[null,{"$f":"VALUE(renipress[[#This Row],[Código Único]])","v":23581},"PRIVADO","00023581","KALOS DENT","LIMA","LIMA","LINCE","150116","36","00","00","LIMA CENTRO"," "," ","I-1"]
[null,{"$f":"VALUE(renipress[[#This Row],[Código Único]])","v":23591},"PRIVADO","00023591","ORAL DENT ESPECIALIDADES ODONTOLOGICAS E.I.R.L.","LIMA","LIMA","LOS OLIVOS","150117","35","00","00","LIMA NORTE"," ","NO PERTENECE A NINGUNA MICRORED","I-1"]
[null,{"$f":"VALUE(renipress[[#This Row],[Código Único]])","v":23611},"PRIVADO","00023611","LA MERCED","LIMA","LIMA","LIMA","150101","36","00","00","LIMA CENTRO"," "," ","I-2"]
[null,{"$f":"VALUE(renipress[[#This Row],[Código Único]])","v":23622},"PRIVADO","00023622","GLOMACH MEDIC","LIMA","LIMA","LA VICTORIA","150115","36","00","00","LIMA CENTRO"," "," ","I-2"]
[null,{"$f":"VALUE(renipress[[#This Row],[Código Único]])","v":23634},"PRIVADO","00023634","CONSULTORIO DENTAL CREANDO SONRISAS","LIMA","LIMA","LOS OLIVOS","150117","35","00","00","LIMA NORTE"," "," ","I-1"]
[null,{"$f":"VALUE(renipress[[#This Row],[Código Único]])","v":23650},"PRIVADO","00023650","CENTRO DE HEMODIALISIS SALUD RENAL S.R.L","TUMBES","TUMBES","TUMBES","240101","33","00","00","TUMBES"," ","NO PERTENECE A NINGUNA MICRORED","Sin Categoría"]
[null,{"$f":"VALUE(renipress[[#This Row],[Código Único]])","v":23664},"PRIVADO","00023664","NEWLIFE PERU","LIMA","LIMA","JESUS MARIA","150113","36","00","00","LIMA CENTRO"," "," ","I-2"]
[null,{"$f":"VALUE(renipress[[#This Row],[Código Único]])","v":23676},"PRIVADO","00023676","KALIDENT.F.A.","LIMA","LIMA","SANTA ANITA","150137","21","00","00","LIMA ESTE"," "," ","I-1"]
[null,{"$f":"VALUE(renipress[[#This Row],[Código Único]])","v":23692},"PRIVADO","00023692","LABORATORIO SAN PABLO","PUNO","SAN ROMAN","JULIACA","211101","29","00","00","PUNO"," "," ","Sin Categoría"]
[null,{"$f":"VALUE(renipress[[#This Row],[Código Único]])","v":23697},"PRIVADO","00023697","WORKERS HEALTH CENTER S.A.C.","LA LIBERTAD","TRUJILLO","TRUJILLO","130101","18","00","00","LA LIBERTAD"," "," ","I-3"]
[null,{"$f":"VALUE(renipress[[#This Row],[Código Único]])","v":23709},"PRIVADO","00023709","FAMILY DENTAL CARE","LIMA","LIMA","PUEBLO LIBRE","150121","36","00","00","LIMA CENTRO"," ","NO PERTENECE A NINGUNA MICRORED","I-1"]
[null,{"$f":"VALUE(renipress[[#This Row],[Código Único]])","v":23727},"PRIVADO","00023727","MEDCAM","LIMA","LIMA","SAN BORJA","150130","36","00","00","LIMA CENTRO"," "," ","I-3"]
[null,{"$f":"VALUE(renipress[[#This Row],[Código Único]])","v":23738},"PRIVADO","00023738","primavera estetica dental","SAN MARTIN","SAN MARTIN","TARAPOTO","220901","30","00","00","SAN MARTIN"," "," ","I-1"]
[null,{"$f":"VALUE(renipress[[#This Row],[Código Único]])","v":23748},"PRIVADO","00023748","PRODETECTA","CUSCO","CUSCO","WANCHAQ","080108","11","00","00","CUSCO"," "," ","Sin Categoría"]
[null,{"$f":"VALUE(renipress[[#This Row],[Código Único]])","v":23755},"PRIVADO","00023755","Consultorio Medico Julio Martinez","LIMA","LIMA","SANTA ANITA","150137","21","00","00","LIMA ESTE"," "," ","I-2"]
[null,{"$f":"VALUE(renipress[[#This Row],[Código Único]])","v":23770},"PRIVADO","00023770","CONSULTORIO PSICOLÓGICO","LIMA","LIMA","PUENTE PIEDRA","150125","35","00","00","LIMA NORTE"," "," ","I-1"]
[null,{"$f":"VALUE(renipress[[#This Row],[Código Único]])","v":23780},"PRIVADO","00023780","AB DENTAL","LIMA","LIMA","SAN JUAN DE MIRAFLORES","150133","23","00","00","LIMA SUR"," "," ","I-1"]
[null,{"$f":"VALUE(renipress[[#This Row],[Código Único]])","v":23791},"PRIVADO","00023791","CLINICA DE IMAGENES RADIOGRAFICAS URPIDENTS S.A.C.","APURIMAC","ANDAHUAYLAS","ANDAHUAYLAS","030201","3","00","00","APURIMAC"," "," ","I-2"]
[null,{"$f":"VALUE(renipress[[#This Row],[Código Único]])","v":23808},"PRIVADO","00023808","CENTRO DE IMAGENES AREQUIPA","AREQUIPA","AREQUIPA","YANAHUARA","040126","4","00","00","AREQUIPA"," "," ","Sin Categoría"]
[null,{"$f":"VALUE(renipress[[#This Row],[Código Único]])","v":23824},"PRIVADO","00023824","UNIVERSIDAD DE SAN MARTIN DE PORRES","LIMA","LIMA","LA MOLINA","150114","21","00","00","LIMA ESTE"," "," ","I-2"]
[null,{"$f":"VALUE(renipress[[#This Row],[Código Único]])","v":23825},"PRIVADO","00023825","ODONTOLOGÍA ESTÉTICA LOAYZA","LIMA","LIMA","VILLA MARIA DEL TRIUNFO","150143","23","00","00","LIMA SUR"," "," ","I-1"]
[null,{"$f":"VALUE(renipress[[#This Row],[Código Único]])","v":23841},"PRIVADO","00023841","CENTRO ODONTOLÓGICO ANDAMAYO","JUNIN","HUANCAYO","HUANCAYO","120101","17","00","00","JUNIN"," "," ","I-3"]
[null,{"$f":"VALUE(renipress[[#This Row],[Código Único]])","v":23855},"PRIVADO","00023855","CONSULTORIO MEDICO  PEDIATRICO","LIMA","LIMA","SANTIAGO DE SURCO","150140","23","00","00","LIMA SUR"," "," ","I-2"]
[null,{"$f":"VALUE(renipress[[#This Row],[Código Único]])","v":23864},"PRIVADO","00023864","CONSULTORIO DENTAL ORDENT SAC","LIMA","LIMA","LOS OLIVOS","150117","35","00","00","LIMA NORTE"," ","NO PERTENECE A NINGUNA MICRORED","I-1"]
[null,{"$f":"VALUE(renipress[[#This Row],[Código Único]])","v":23881},"PRIVADO","00023881","DENTO KIDS","LIMA","LIMA","SAN JUAN DE MIRAFLORES","150133","23","00","00","LIMA SUR"," "," ","I-1"]
[null,{"$f":"VALUE(renipress[[#This Row],[Código Único]])","v":23887},"PRIVADO","00023887","Medi Vida","LIMA","LIMA","VILLA EL SALVADOR","150142","23","00","00","LIMA SUR"," "," ","I-3"]
[null,{"$f":"VALUE(renipress[[#This Row],[Código Único]])","v":23898},"PRIVADO","00023898","ONCOVIVIR","LIMA","LIMA","SAN BORJA","150130","36","00","00","LIMA CENTRO"," "," ","I-2"]
[null,{"$f":"VALUE(renipress[[#This Row],[Código Único]])","v":23921},"PRIVADO","00023921","Miss Tracy","LIMA","LIMA","SANTIAGO DE SURCO","150140","23","00","00","LIMA SUR"," "," ","I-1"]
[null,{"$f":"VALUE(renipress[[#This Row],[Código Único]])","v":23927},"PRIVADO","00023927","LABORATIO DR. ALVARO ROJAS","LIMA","HUAURA","HUACHO","150801","22","00","00","LIMA"," "," ","Sin Categoría"]
[null,{"$f":"VALUE(renipress[[#This Row],[Código Único]])","v":23938},"PRIVADO","00023938","NeuroLab & Consultorios","LORETO","MAYNAS","IQUITOS","160101","24","00","00","LORETO"," "," ","I-2"]
[null,{"$f":"VALUE(renipress[[#This Row],[Código Único]])","v":23960},"PRIVADO","00023960","GLOBAL MEDIC","TUMBES","TUMBES","TUMBES","240101","33","00","00","TUMBES"," "," ","I-3"]
[null,{"$f":"VALUE(renipress[[#This Row],[Código Único]])","v":23964},"PRIVADO","00023964","TELEDIAGNOSIS S.A.C.","LIMA","LIMA","LA MOLINA","150114","21","00","00","LIMA ESTE"," "," ","I-2"]
[null,{"$f":"VALUE(renipress[[#This Row],[Código Único]])","v":23973},"PRIVADO","00023973","ORAL HEALTH STORE","LORETO","MAYNAS","IQUITOS","160101","24","00","00","LORETO"," "," ","I-3"]
[null,{"$f":"VALUE(renipress[[#This Row],[Código Único]])","v":23985},"PRIVADO","00023985","FLORES HNOS. MEDICAL CENTER DENTAL","LIMA","LIMA","SAN MARTIN DE PORRES","150135","35","00","00","LIMA NORTE"," "," ","I-1"]
[null,{"$f":"VALUE(renipress[[#This Row],[Código Único]])","v":24006},"PRIVADO","00024006","LIPOLASER 30M","LIMA","LIMA","SANTIAGO DE SURCO","150140","23","00","00","LIMA SUR"," "," ","I-3"]
[null,{"$f":"VALUE(renipress[[#This Row],[Código Único]])","v":24012},"PRIVADO","00024012","CONSULTORIO MEDICO PAMA","LIMA","LIMA","ATE","150103","21","00","00","LIMA ESTE"," "," ","I-2"]
[null,{"$f":"VALUE(renipress[[#This Row],[Código Único]])","v":24027},"SANIDAD DEL EJERCITO DEL PERU","00024027","ENFERMERÍA DEL REGIMENTÓ DE CABALLERIA DOMINGO NIETO","LIMA","LIMA","EL AGUSTINO","150111","21","00","00","LIMA ESTE"," ","NO PERTENECE A NINGUNA MICRORED","I-1"]
[null,{"$f":"VALUE(renipress[[#This Row],[Código Único]])","v":24036},"PRIVADO","00024036","CONSULTORIO MÉDICO DR. JORGE DELGADO","LIMA","HUAURA","HUACHO","150801","22","00","00","LIMA"," "," ","I-2"]
[null,{"$f":"VALUE(renipress[[#This Row],[Código Único]])","v":24048},"PRIVADO","00024048","LA FEMME","LIMA","LIMA","SANTIAGO DE SURCO","150140","23","00","00","LIMA SUR"," "," ","I-3"]
[null,{"$f":"VALUE(renipress[[#This Row],[Código Único]])","v":24065},"GOBIERNO REGIONAL","00024065","CIENEGUILLO SUR ALTO","PIURA","SULLANA","SULLANA","200601","28","06","01","PIURA","SULLANA","BELLAVISTA","I-1"]
[null,{"$f":"VALUE(renipress[[#This Row],[Código Único]])","v":24070},"PRIVADO","00024070","consultorio dental Dra. Izquierdo","LIMA","LIMA","VILLA MARIA DEL TRIUNFO","150143","23","00","00","LIMA SUR"," "," ","I-1"]
[null,{"$f":"VALUE(renipress[[#This Row],[Código Único]])","v":24082},"PRIVADO","00024082","CONSULTORIO MÉDICO RODVALL","LIMA","LIMA","PUENTE PIEDRA","150125","35","00","00","LIMA NORTE"," "," ","I-2"]
[null,{"$f":"VALUE(renipress[[#This Row],[Código Único]])","v":24099},"PRIVADO","00024099","Sonrisa Vital","LIMA","LIMA","LA MOLINA","150114","21","00","00","LIMA ESTE"," "," ","I-1"]
[null,{"$f":"VALUE(renipress[[#This Row],[Código Único]])","v":24110},"PRIVADO","00024110","ORGANICASALUD","LIMA","LIMA","SAN LUIS","150134","36","00","00","LIMA CENTRO"," "," ","I-2"]
[null,{"$f":"VALUE(renipress[[#This Row],[Código Único]])","v":24120},"PRIVADO","00024120","NOVARUMDENT","LIMA","LIMA","LOS OLIVOS","150117","35","00","00","LIMA NORTE"," "," ","I-1"]
[null,{"$f":"VALUE(renipress[[#This Row],[Código Único]])","v":24136},"PRIVADO","00024136","PRENATAL","AREQUIPA","AREQUIPA","CAYMA","040103","4","00","00","AREQUIPA"," "," ","I-1"]
[null,{"$f":"VALUE(renipress[[#This Row],[Código Único]])","v":24143},"PRIVADO","00024143","ADP LABORATORIO CLINICO","LIMA","LIMA","SAN MARTIN DE PORRES","150135","35","00","00","LIMA NORTE"," "," ","Sin Categoría"]
[null,{"$f":"VALUE(renipress[[#This Row],[Código Único]])","v":24153},"PRIVADO","00024153","CONSULTORIO MEDICO OBSTETRICO GAMARRA","LIMA","LIMA","LA VICTORIA","150115","36","00","00","LIMA CENTRO"," "," ","I-2"]
[null,{"$f":"VALUE(renipress[[#This Row],[Código Único]])","v":24164},"PRIVADO","00024164","KEFA CONSULTORIOS","LIMA","LIMA","LINCE","150116","36","00","00","LIMA CENTRO"," "," ","I-1"]
[null,{"$f":"VALUE(renipress[[#This Row],[Código Único]])","v":24181},"PRIVADO","00024181","ONZAMEDIC","LIMA","LIMA","PUENTE PIEDRA","150125","35","00","00","LIMA NORTE"," "," ","I-2"]
[null,{"$f":"VALUE(renipress[[#This Row],[Código Único]])","v":24193},"SANIDAD DEL EJERCITO DEL PERU","00024193","ENFERMERÍA BATALLÓN DE INFANTERÍA SELVA  N° 32 - CIRO ALEGRÍA","AMAZONAS","CONDORCANQUI","NIEVA","010401","1","00","00","AMAZONAS"," ","NO PERTENECE A NINGUNA MICRORED","I-2"]
[null,{"$f":"VALUE(renipress[[#This Row],[Código Único]])","v":24198},"PRIVADO","00024198","SERVICIOS DE SALUD SEÑOR DE HUAMANTANGA","CAJAMARCA","JAEN","JAEN","060801","7","00","00","CAJAMARCA"," ","NO PERTENECE A NINGUNA MICRORED","I-3"]
[null,{"$f":"VALUE(renipress[[#This Row],[Código Único]])","v":24214},"PRIVADO","00024214","MEDICAL HAIR","AREQUIPA","AREQUIPA","YANAHUARA","040126","4","00","00","AREQUIPA"," "," ","I-2"]
[null,{"$f":"VALUE(renipress[[#This Row],[Código Único]])","v":24227},"PRIVADO","00024227","CONSULTORIO MEDICO","LIMA","LIMA","SAN JUAN DE MIRAFLORES","150133","23","00","00","LIMA SUR"," "," ","I-2"]
[null,{"$f":"VALUE(renipress[[#This Row],[Código Único]])","v":24236},"PRIVADO","00024236","ORTESICOS JARA","PUNO","SAN ROMAN","JULIACA","211101","29","00","00","PUNO"," "," ","I-2"]
[null,{"$f":"VALUE(renipress[[#This Row],[Código Único]])","v":24251},"PRIVADO","00024251","Odontolian","CALLAO","CALLAO","VENTANILLA","070106","8","00","00","CALLAO"," "," ","I-1"]
[null,{"$f":"VALUE(renipress[[#This Row],[Código Único]])","v":24257},"PRIVADO","00024257","SALUDVIAL","LIMA","LIMA","LINCE","150116","36","00","00","LIMA CENTRO"," "," ","I-3"]
[null,{"$f":"VALUE(renipress[[#This Row],[Código Único]])","v":24268},"PRIVADO","00024268","ODONTOLOGOS  ASOCIADOS  Y OTROS  PROFESIONALES DE LA SALUD","LIMA","LIMA","LOS OLIVOS","150117","35","00","00","LIMA NORTE"," "," ","I-1"]
[null,{"$f":"VALUE(renipress[[#This Row],[Código Único]])","v":24286},"PRIVADO","00024286","CUSCO IMPERIAL","CUSCO","CUSCO","WANCHAQ","080108","11","00","00","CUSCO"," "," ","I-3"]
[null,{"$f":"VALUE(renipress[[#This Row],[Código Único]])","v":24296},"SANIDAD DEL EJERCITO DEL PERU","00024296","BTN CT Nº 334-MIARIA","CUSCO","LA CONVENCION","ECHARATE","080902","11","00","00","CUSCO"," ","NO PERTENECE A NINGUNA MICRORED","I-2"]
[null,{"$f":"VALUE(renipress[[#This Row],[Código Único]])","v":24307},"PRIVADO","00024307","BLANCO CLINICA DENTAL E.I.R.L.","LAMBAYEQUE","CHICLAYO","CHICLAYO","140101","19","00","00","LAMBAYEQUE"," "," ","I-1"]
[null,{"$f":"VALUE(renipress[[#This Row],[Código Único]])","v":24313},"PRIVADO","00024313","CONSULTORIO ODONTOLOGICO SAN JOSE","LIMA","LIMA","SAN JUAN DE LURIGANCHO","150132","36","00","00","LIMA CENTRO"," "," ","I-1"]
[null,{"$f":"VALUE(renipress[[#This Row],[Código Único]])","v":24328},"PRIVADO","00024328","ECOMEDICS","CALLAO","CALLAO","CARMEN DE LA LEGUA-REYNOSO","070103","8","00","00","CALLAO"," "," ","I-2"]
[null,{"$f":"VALUE(renipress[[#This Row],[Código Único]])","v":24337},"GOBIERNO REGIONAL","00024337","PIAS LAGO TITICACA","PUNO","PUNO","PUNO","210101","29","00","00","PUNO","NO PERTENECE A NINGUNA RED","NO PERTENECE A NINGUNA MICRORED","Sin Categoría"]
[null,{"$f":"VALUE(renipress[[#This Row],[Código Único]])","v":24350},"PRIVADO","00024350","Delgado Odontología Especializada","LIMA","HUAURA","HUACHO","150801","22","00","00","LIMA"," "," ","I-1"]
[null,{"$f":"VALUE(renipress[[#This Row],[Código Único]])","v":24366},"PRIVADO","00024366","CENTRO DE  SALUD OCUPACIONAL Y RADIOLOGIA DIGITAL ILO S.A.C.","MOQUEGUA","ILO","ILO","180301","26","00","00","MOQUEGUA","NO PERTENECE A NINGUNA RED","NO PERTENECE A NINGUNA MICRORED","I-3"]
[null,{"$f":"VALUE(renipress[[#This Row],[Código Único]])","v":24379},"PRIVADO","00024379","DKJ-CONSULTORIO ODONTOLOGICO","LIMA","LIMA","SANTIAGO DE SURCO","150140","23","00","00","LIMA SUR"," "," ","I-1"]
[null,{"$f":"VALUE(renipress[[#This Row],[Código Único]])","v":24383},"PRIVADO","00024383","INTEGRAL DENT PLUS","LIMA","LIMA","BREÑA","150105","36","00","00","LIMA CENTRO"," "," ","I-1"]
[null,{"$f":"VALUE(renipress[[#This Row],[Código Único]])","v":24401},"PRIVADO","00024401","CONSULTORIO DENTAL MELYDENT","LIMA","LIMA","SANTA ANITA","150137","21","00","00","LIMA ESTE"," "," ","I-1"]
[null,{"$f":"VALUE(renipress[[#This Row],[Código Único]])","v":24412},"PRIVADO","00024412","ILLARI MEDICINA ANTIENVEJECIMIENTO Y TERAPIAS INTEGRATIVAS","AREQUIPA","AREQUIPA","YANAHUARA","040126","4","00","00","AREQUIPA"," "," ","I-2"]
[null,{"$f":"VALUE(renipress[[#This Row],[Código Único]])","v":24422},"PRIVADO","00024422","Policlinico Bienestar Laboral","LIMA","LIMA","LA VICTORIA","150115","36","00","00","LIMA CENTRO"," "," ","I-3"]
[null,{"$f":"VALUE(renipress[[#This Row],[Código Único]])","v":24436},"SANIDAD DEL EJERCITO DEL PERU","00024436","ENFERMERIA DEL BCT  79","JUNIN","JUNIN","JUNIN","120501","17","00","00","JUNIN"," ","NO PERTENECE A NINGUNA MICRORED","I-1"]
[null,{"$f":"VALUE(renipress[[#This Row],[Código Único]])","v":24445},"PRIVADO","00024445","GASTROCIENFUEGOS","PIURA","PIURA","PIURA","200101","28","00","00","PIURA"," "," ","I-2"]
[null,{"$f":"VALUE(renipress[[#This Row],[Código Único]])","v":24455},"PRIVADO","00024455","BIOVAC","LIMA","LIMA","SANTIAGO DE SURCO","150140","23","00","00","LIMA SUR"," "," ","Sin Categoría"]
[null,{"$f":"VALUE(renipress[[#This Row],[Código Único]])","v":24466},"PRIVADO","00024466","CENTRO MEDICO SAN ANDRES","AMAZONAS","BONGARA","JAZAN","010307","1","00","00","AMAZONAS"," "," ","I-2"]
[null,{"$f":"VALUE(renipress[[#This Row],[Código Único]])","v":24483},"PRIVADO","00024483","CENTRO MEDICO ODONTOLÓGICO JC","JUNIN","CHANCHAMAYO","CHANCHAMAYO","120301","17","00","00","JUNIN"," "," ","I-3"]
[null,{"$f":"VALUE(renipress[[#This Row],[Código Único]])","v":24496},"PRIVADO","00024496","SERVICIOS MÉDICOS ASOCIADOS OSTEOPERU SAC","ANCASH","HUARAZ","HUARAZ","020101","2","00","00","ANCASH"," "," ","Sin Categoría"]
[null,{"$f":"VALUE(renipress[[#This Row],[Código Único]])","v":24501},"PRIVADO","00024501","CONSULTORIO MEDICO","LIMA","LIMA","CHORRILLOS","150108","23","00","00","LIMA SUR"," "," ","I-2"]
[null,{"$f":"VALUE(renipress[[#This Row],[Código Único]])","v":24517},"PRIVADO","00024517","SUAREZDENT","LIMA","LIMA","SAN MARTIN DE PORRES","150135","35","00","00","LIMA NORTE"," "," ","I-1"]
[null,{"$f":"VALUE(renipress[[#This Row],[Código Único]])","v":24525},"PRIVADO","00024525","dental villalobos","LIMA","LIMA","VILLA MARIA DEL TRIUNFO","150143","36","00","00","LIMA CENTRO"," "," ","I-1"]
[null,{"$f":"VALUE(renipress[[#This Row],[Código Único]])","v":24538},"PRIVADO","00024538","CONSULTORIO DE CIRUGIA ORAL Y MAXILOFACIAL","LIMA","LIMA","MAGDALENA DEL MAR","150120","36","00","00","LIMA CENTRO"," "," ","I-1"]
[null,{"$f":"VALUE(renipress[[#This Row],[Código Único]])","v":24554},"PRIVADO","00024554","UROSUR S.A.C.","AREQUIPA","AREQUIPA","JOSE LUIS BUSTAMANTE Y RIVERO","040129","4","00","00","AREQUIPA"," "," ","I-3"]
[null,{"$f":"VALUE(renipress[[#This Row],[Código Único]])","v":24560},"SANIDAD DEL EJERCITO DEL PERU","00024560","ENFERMERÍA DEL FUERTE SALAVERRY","AREQUIPA","AREQUIPA","MIRAFLORES","040110","4","00","00","AREQUIPA"," ","NO PERTENECE A NINGUNA MICRORED","I-2"]
[null,{"$f":"VALUE(renipress[[#This Row],[Código Único]])","v":24571},"GOBIERNO REGIONAL","00024571","PUERTO PORVENIR","JUNIN","SATIPO","PANGOA","120606","17","08","03","JUNIN","SAN MARTIN DE PANGOA","CUBANTIA","I-1"]
[null,{"$f":"VALUE(renipress[[#This Row],[Código Único]])","v":24590},"PRIVADO","00024590","CENFIS","LA LIBERTAD","TRUJILLO","TRUJILLO","130101","18","00","00","LA LIBERTAD"," "," ","Sin Categoría"]
[null,{"$f":"VALUE(renipress[[#This Row],[Código Único]])","v":24600},"PRIVADO","00024600","CENTRO SOCIAL PARROQUIAL HNO CARLOS DE FOUCAULD","LIMA","LIMA","SANTA ANITA","150137","21","00","00","LIMA ESTE"," "," ","I-2"]
[null,{"$f":"VALUE(renipress[[#This Row],[Código Único]])","v":24612},"PRIVADO","00024612","LABORATORIO LABMED","CAJAMARCA","JAEN","JAEN","060801","7","00","00","CAJAMARCA"," "," ","Sin Categoría"]
[null,{"$f":"VALUE(renipress[[#This Row],[Código Único]])","v":24626},"PRIVADO","00024626","CONSULTORIO DENTAL ANCON","LIMA","LIMA","ANCON","150102","35","00","00","LIMA NORTE"," "," ","I-1"]
[null,{"$f":"VALUE(renipress[[#This Row],[Código Único]])","v":24635},"PRIVADO","00024635","Clinica Dental Always Smile Miraflores S.A.C.","LIMA","LIMA","MIRAFLORES","150122","36","00","00","LIMA CENTRO"," "," ","I-1"]
[null,{"$f":"VALUE(renipress[[#This Row],[Código Único]])","v":24645},"PRIVADO","00024645","CRISTO REDENTOR","CUSCO","CUSCO","WANCHAQ","080108","11","00","00","CUSCO"," "," ","I-3"]
[null,{"$f":"VALUE(renipress[[#This Row],[Código Único]])","v":24659},"GOBIERNO REGIONAL","00024659","USHUMAYO","HUANUCO","PACHITEA","UMARI","100804","14","11","02","HUANUCO","PACHITEA","UMARI","I-1"]
[null,{"$f":"VALUE(renipress[[#This Row],[Código Único]])","v":24678},"PRIVADO","00024678","CENTRO MEDICO MEDITRAN CAJAMARCA E.I.R.L.","CAJAMARCA","JAEN","JAEN","060801","7","00","00","CAJAMARCA"," ","NO PERTENECE A NINGUNA MICRORED","I-3"]
[null,{"$f":"VALUE(renipress[[#This Row],[Código Único]])","v":24691},"PRIVADO","00024691","CENTRO MEDICO ESPECIALIZADO OCUPACIONAL LEON DE HUANUCO S.R.L","HUANUCO","HUANUCO","HUANUCO","100101","14","00","00","HUANUCO"," "," ","I-3"]
[null,{"$f":"VALUE(renipress[[#This Row],[Código Único]])","v":24695},"PRIVADO","00024695","ASTRODENT","LIMA","LIMA","LOS OLIVOS","150117","35","00","00","LIMA NORTE"," "," ","I-1"]
[null,{"$f":"VALUE(renipress[[#This Row],[Código Único]])","v":24713},"PRIVADO","00024713","ODONTOSONRISAS","LIMA","LIMA","CHORRILLOS","150108","23","00","00","LIMA SUR"," "," ","I-1"]
[null,{"$f":"VALUE(renipress[[#This Row],[Código Único]])","v":24724},"PRIVADO","00024724","SERVICIOS MÉDICOS Y AFINES SANCHEZ PALACIOS S.C.R.L.","LIMA","LIMA","SAN ISIDRO","150131","36","00","00","LIMA CENTRO"," "," ","I-2"]
[null,{"$f":"VALUE(renipress[[#This Row],[Código Único]])","v":24734},"PRIVADO","00024734","CEFMAR VIANEY","CAJAMARCA","CAJAMARCA","CAJAMARCA","060101","7","00","00","CAJAMARCA"," "," ","Sin Categoría"]
[null,{"$f":"VALUE(renipress[[#This Row],[Código Único]])","v":24750},"PRIVADO","00024750","ARIE","LIMA","LIMA","SAN JUAN DE LURIGANCHO","150132","36","00","00","LIMA CENTRO"," "," ","I-2"]
[null,{"$f":"VALUE(renipress[[#This Row],[Código Único]])","v":24757},"PRIVADO","00024757","DENTAL FULLSONRISAS","LIMA","LIMA","ATE","150103","21","00","00","LIMA ESTE"," "," ","I-1"]
[null,{"$f":"VALUE(renipress[[#This Row],[Código Único]])","v":24767},"PRIVADO","00024767","FAMY LAB E.I.R.L.","ANCASH","SANTA","CHIMBOTE","021801","2","00","00","ANCASH"," "," ","Sin Categoría"]
[null,{"$f":"VALUE(renipress[[#This Row],[Código Único]])","v":24787},"PRIVADO","00024787","Bernal Aduviri Odontólogos","LIMA","LIMA","LIMA","150101","36","00","00","LIMA CENTRO"," "," ","I-1"]
[null,{"$f":"VALUE(renipress[[#This Row],[Código Único]])","v":24796},"PRIVADO","00024796","CONSULTORIO MEDICO OBSTETRICO","LIMA","LIMA","PUENTE PIEDRA","150125","35","00","00","LIMA NORTE"," "," ","I-2"]
[null,{"$f":"VALUE(renipress[[#This Row],[Código Único]])","v":24808},"PRIVADO","00024808","CESAR ANCHIRAICO COSQUILLO E.I.R.L","LIMA","LIMA","SAN BORJA","150130","36","00","00","LIMA CENTRO"," "," ","I-1"]
[null,{"$f":"VALUE(renipress[[#This Row],[Código Único]])","v":24827},"PRIVADO","00024827","Dental San Santiago","LIMA","LIMA","LIMA","150101","36","00","00","LIMA CENTRO"," "," ","I-1"]
[null,{"$f":"VALUE(renipress[[#This Row],[Código Único]])","v":24832},"PRIVADO","00024832","CLINICA MAS SALUD S.A.C.","ICA","CHINCHA","CHINCHA ALTA","110201","15","00","00","ICA"," "," ","I-3"]
[null,{"$f":"VALUE(renipress[[#This Row],[Código Único]])","v":24840},"PRIVADO","00024840","CENTRO DE DIAGNOSTICO PURA","PIURA","PIURA","PIURA","200101","28","00","00","PIURA"," "," ","I-2"]
[null,{"$f":"VALUE(renipress[[#This Row],[Código Único]])","v":24855},"PRIVADO","00024855","San Juan Salud","LIMA","LIMA","SAN JUAN DE MIRAFLORES","150133","23","00","00","LIMA SUR"," ","NO PERTENECE A NINGUNA MICRORED","I-3"]
[null,{"$f":"VALUE(renipress[[#This Row],[Código Único]])","v":24870},"PRIVADO","00024870","V&C BIOTEC","LIMA","LIMA","SANTIAGO DE SURCO","150140","23","00","00","LIMA SUR"," "," ","I-2"]
[null,{"$f":"VALUE(renipress[[#This Row],[Código Único]])","v":24876},"PRIVADO","00024876","SALUD VIAL SEDE VILLA EL SALVADOR","LIMA","LIMA","VILLA EL SALVADOR","150142","23","00","00","LIMA SUR"," "," ","I-3"]
[null,{"$f":"VALUE(renipress[[#This Row],[Código Único]])","v":24899},"PRIVADO","00024899","CLÍNICA MÉDICOS ESPECIALIZADOS","HUANCAVELICA","HUANCAVELICA","HUANCAVELICA","090101","13","00","00","HUANCAVELICA"," ","NO PERTENECE A NINGUNA MICRORED","I-2"]
[null,{"$f":"VALUE(renipress[[#This Row],[Código Único]])","v":24907},"PRIVADO","00024907","CENTRO MEDICO ESPECIALIZADO SAN SEBASTIAN","MADRE DE DIOS","TAMBOPATA","TAMBOPATA","170101","25","00","00","MADRE DE DIOS"," "," ","I-2"]
[null,{"$f":"VALUE(renipress[[#This Row],[Código Único]])","v":24918},"PRIVADO","00024918","CONSULTORIO DENTAL HEALTH","LIMA","LIMA","COMAS","150110","35","00","00","LIMA NORTE"," "," ","I-1"]
[null,{"$f":"VALUE(renipress[[#This Row],[Código Único]])","v":24929},"PRIVADO","00024929","JAR PHYSIO","LIMA","LIMA","JESUS MARIA","150113","36","00","00","LIMA CENTRO"," "," ","Sin Categoría"]
[null,{"$f":"VALUE(renipress[[#This Row],[Código Único]])","v":24944},"PRIVADO","00024944","NEURO DESARROLLA TU MUNDO","CUSCO","CUSCO","WANCHAQ","080108","11","00","00","CUSCO"," "," ","I-2"]
[null,{"$f":"VALUE(renipress[[#This Row],[Código Único]])","v":24952},"PRIVADO","00024952","JOSE PEREZ MONZON","ICA","PISCO","TUPAC AMARU INCA","110508","15","00","00","ICA"," "," ","Sin Categoría"]
[null,{"$f":"VALUE(renipress[[#This Row],[Código Único]])","v":24973},"PRIVADO","00024973","DentalClass","LIMA","HUAURA","HUACHO","150801","22","00","00","LIMA"," "," ","I-1"]
[null,{"$f":"VALUE(renipress[[#This Row],[Código Único]])","v":24974},"PRIVADO","00024974","CENTRO CLÍNICO LAS DUNAS","ICA","NAZCA","NAZCA","110301","15","00","00","ICA"," "," ","I-2"]
[null,{"$f":"VALUE(renipress[[#This Row],[Código Único]])","v":24994},"PRIVADO","00024994","CONSULTORIO MEDICO DENTAL VIRGEN DEL CARMEN","LIMA","LIMA","ATE","150103","21","00","00","LIMA ESTE"," "," ","I-2"]
[null,{"$f":"VALUE(renipress[[#This Row],[Código Único]])","v":25009},"PRIVADO","00025009","CONSULTORIOS MÉDICOS AMIGOS DE LA SALUD BARRANCO","LIMA","LIMA","BARRANCO","150104","23","00","00","LIMA SUR"," "," ","I-2"]
[null,{"$f":"VALUE(renipress[[#This Row],[Código Único]])","v":25024},"PRIVADO","00025024","CONSULTORIO ODONTOLOGICO DENTAMEDICA","LIMA","LIMA","SAN JUAN DE MIRAFLORES","150133","23","00","00","LIMA SUR"," "," ","I-1"]
[null,{"$f":"VALUE(renipress[[#This Row],[Código Único]])","v":25031},"GOBIERNO REGIONAL","00025031","PUESTO DE SALUD  PAMPAY","AYACUCHO","HUANTA","LURICOCHA","050405","5","02","05","AYACUCHO","HUANTA","LURICOCHA","I-1"]
[null,{"$f":"VALUE(renipress[[#This Row],[Código Único]])","v":25049},"GOBIERNO REGIONAL","00025049","PUESTO DE SALUD MERIBA","UCAYALI","PADRE ABAD","CURIMANA","250303","34","02","05","UCAYALI","FEDERICO BASADRE - YARINACOCHA","MONTE ALEGRE-CURIMANA","I-1"]
[null,{"$f":"VALUE(renipress[[#This Row],[Código Único]])","v":25052},"PRIVADO","00025052","ORAL STUDIO","LIMA","LIMA","LA MOLINA","150114","21","00","00","LIMA ESTE"," "," ","I-1"]
[null,{"$f":"VALUE(renipress[[#This Row],[Código Único]])","v":25066},"GOBIERNO REGIONAL","00025066","CENTRO DE SALUD MENTAL COMUNITARIO AYELEN","AREQUIPA","AREQUIPA","PAUCARPATA","040112","4","03","19","AREQUIPA","AREQUIPA CAYLLOMA","CIUDAD BLANCA","I-3"]
[null,{"$f":"VALUE(renipress[[#This Row],[Código Único]])","v":25073},"PRIVADO","00025073","ORAL REVEAL","LIMA","LIMA","MIRAFLORES","150122","36","00","00","LIMA CENTRO"," "," ","I-1"]
[null,{"$f":"VALUE(renipress[[#This Row],[Código Único]])","v":25094},"PRIVADO","00025094","CENTRO PSICOLÓGICO PSICOMENT","LIMA","LIMA","LINCE","150116","36","00","00","LIMA CENTRO"," "," ","I-1"]
[null,{"$f":"VALUE(renipress[[#This Row],[Código Único]])","v":25103},"PRIVADO","00025103","Vida dental","LORETO","MAYNAS","IQUITOS","160101","24","00","00","LORETO"," "," ","I-1"]
[null,{"$f":"VALUE(renipress[[#This Row],[Código Único]])","v":25112},"PRIVADO","00025112","MEDIC IMÁGENES","LIMA","HUARAL","HUARAL","150601","22","00","00","LIMA"," ","NO PERTENECE A NINGUNA MICRORED","I-2"]
[null,{"$f":"VALUE(renipress[[#This Row],[Código Único]])","v":25124},"PRIVADO","00025124","CENTRO MEDICO PSICOSOMATICO WARI S.A.C","AYACUCHO","HUAMANGA","JESUS NAZARENO","050115","5","00","00","AYACUCHO"," "," ","I-3"]
[null,{"$f":"VALUE(renipress[[#This Row],[Código Único]])","v":25141},"PRIVADO","00025141","CONSULTORIO PSICOLOGICO INTEGRATE","LIMA","LIMA","LOS OLIVOS","150117","35","00","00","LIMA NORTE"," "," ","I-1"]
[null,{"$f":"VALUE(renipress[[#This Row],[Código Único]])","v":25146},"PRIVADO","00025146","corporación dental esthetic vida E.I.R.L","LIMA","LIMA","COMAS","150110","35","00","00","LIMA NORTE"," "," ","I-1"]
[null,{"$f":"VALUE(renipress[[#This Row],[Código Único]])","v":25168},"PRIVADO","00025168","POLICLINICO SERVICIOS MEDICOS DAKOS S.A.C","AREQUIPA","AREQUIPA","PAUCARPATA","040112","4","00","00","AREQUIPA"," "," ","I-3"]
[null,{"$f":"VALUE(renipress[[#This Row],[Código Único]])","v":25170},"PRIVADO","00025170","VASA MEDICAL SERVICE SAC","LIMA","LIMA","SAN MARTIN DE PORRES","150135","35","00","00","LIMA NORTE"," "," ","I-3"]
[null,{"$f":"VALUE(renipress[[#This Row],[Código Único]])","v":25191},"PRIVADO","00025191","CONSULTORIOS MCH","LIMA","LIMA","SAN ISIDRO","150131","36","00","00","LIMA CENTRO"," "," ","I-2"]
[null,{"$f":"VALUE(renipress[[#This Row],[Código Único]])","v":25205},"PRIVADO","00025205","LOS ANGELES","LA LIBERTAD","TRUJILLO","TRUJILLO","130101","18","00","00","LA LIBERTAD"," "," ","I-3"]
[null,{"$f":"VALUE(renipress[[#This Row],[Código Único]])","v":25221},"PRIVADO","00025221","FreeLab","LIMA","LIMA","SAN JUAN DE LURIGANCHO","150132","36","00","00","LIMA CENTRO"," "," ","I-1"]
[null,{"$f":"VALUE(renipress[[#This Row],[Código Único]])","v":25230},"PRIVADO","00025230","servicio de medicina fisica y rehabilitacion","PIURA","SULLANA","SULLANA","200601","28","00","00","PIURA"," "," ","Sin Categoría"]
[null,{"$f":"VALUE(renipress[[#This Row],[Código Único]])","v":25240},"PRIVADO","00025240","CENTRO INTEGRAL DE DIAGNOSTICO Y TRATAMIENTO DE ENFERMEDADES RENALES E.I.R.L.","PIURA","PIURA","PIURA","200101","28","00","00","PIURA"," "," ","Sin Categoría"]
[null,{"$f":"VALUE(renipress[[#This Row],[Código Único]])","v":25251},"PRIVADO","00025251","TERAPIA INTEGRAL SAN JUDAS TADEO","LIMA","LIMA","SAN JUAN DE MIRAFLORES","150133","23","00","00","LIMA SUR"," "," ","I-1"]
[null,{"$f":"VALUE(renipress[[#This Row],[Código Único]])","v":25264},"PRIVADO","00025264","CENTRO MEDICO BREVETES SAN JOSE","CAJAMARCA","JAEN","JAEN","060801","7","00","00","CAJAMARCA"," "," ","I-3"]
[null,{"$f":"VALUE(renipress[[#This Row],[Código Único]])","v":25275},"PRIVADO","00025275","CENTRO DE TERAPIA FÍSICA Y REHABILITACIÓN BARRANCA","LIMA","BARRANCA","BARRANCA","150201","22","00","00","LIMA"," "," ","I-2"]
[null,{"$f":"VALUE(renipress[[#This Row],[Código Único]])","v":25298},"PRIVADO","00025298","CONSULTORIO PSICOLOGICO BIENESTAR INTEGRAL","LIMA","LIMA","EL AGUSTINO","150111","21","00","00","LIMA ESTE"," "," ","I-1"]
[null,{"$f":"VALUE(renipress[[#This Row],[Código Único]])","v":25313},"PRIVADO","00025313","DENTISSIMO","LIMA","LIMA","LIMA","150101","36","00","00","LIMA CENTRO"," "," ","I-1"]
[null,{"$f":"VALUE(renipress[[#This Row],[Código Único]])","v":25317},"PRIVADO","00025317","REPESO","LIMA","LIMA","PUENTE PIEDRA","150125","35","00","00","LIMA NORTE"," "," ","I-3"]
[null,{"$f":"VALUE(renipress[[#This Row],[Código Único]])","v":25330},"PRIVADO","00025330","JS terapia física y rehabilitación","LIMA","LIMA","PUENTE PIEDRA","150125","35","00","00","LIMA NORTE"," "," ","Sin Categoría"]
[null,{"$f":"VALUE(renipress[[#This Row],[Código Único]])","v":25343},"GOBIERNO REGIONAL","00025343","P.S. I-1 BETHEL ","LORETO","ALTO AMAZONAS","JEBEROS","160205","24","11","06","LORETO","ALTO AMAZONAS","JEBEROS","I-1"]
[null,{"$f":"VALUE(renipress[[#This Row],[Código Único]])","v":25353},"PRIVADO","00025353","PATOLOGIA Y LABORATORIOS  PATLAB","JUNIN","HUANCAYO","HUANCAYO","120101","17","00","00","JUNIN"," "," ","Sin Categoría"]
[null,{"$f":"VALUE(renipress[[#This Row],[Código Único]])","v":25373},"PRIVADO","00025373","ODONTOMEDIC","LIMA","HUAURA","HUACHO","150801","22","00","00","LIMA"," "," ","I-1"]
[null,{"$f":"VALUE(renipress[[#This Row],[Código Único]])","v":25381},"PRIVADO","00025381","CIO CONSULTORIO INTEGRAL ODONTOLOGICO","LIMA","LIMA","LOS OLIVOS","150117","35","00","00","LIMA NORTE"," "," ","I-1"]
[null,{"$f":"VALUE(renipress[[#This Row],[Código Único]])","v":25394},"PRIVADO","00025394","MEDICOS SOLIDARIOS SMG S.A.C.","PIURA","SULLANA","SULLANA","200601","28","00","00","PIURA"," "," ","I-2"]
[null,{"$f":"VALUE(renipress[[#This Row],[Código Único]])","v":25398},"SANIDAD DEL EJERCITO DEL PERU","00025398","BATALLÓN DE SELVA GLORIOSO AYACUCHO   N° 3- EL ESTRECHO","LORETO","PUTUMAYO","PUTUMAYO","160801","24","00","00","LORETO"," ","NO PERTENECE A NINGUNA MICRORED","I-2"]
[null,{"$f":"VALUE(renipress[[#This Row],[Código Único]])","v":25416},"PRIVADO","00025416","AMAZON HOPE II","LORETO","MAYNAS","PUNCHANA","160108","24","00","00","LORETO"," "," ","I-2"]
[null,{"$f":"VALUE(renipress[[#This Row],[Código Único]])","v":25423},"PRIVADO","00025423","CONSULTORIO DENTAL CASTAÑEDA","LIMA","LIMA","SAN JUAN DE LURIGANCHO","150132","36","00","00","LIMA CENTRO"," "," ","I-1"]
[null,{"$f":"VALUE(renipress[[#This Row],[Código Único]])","v":25437},"PRIVADO","00025437","CLINICA DE LA PIEL  &  SPA   -   SKIN LASER","LORETO","MAYNAS","IQUITOS","160101","24","00","00","LORETO"," "," ","I-3"]
[null,{"$f":"VALUE(renipress[[#This Row],[Código Único]])","v":25451},"PRIVADO","00025451","OPTICA SD","LORETO","ALTO AMAZONAS","YURIMAGUAS","160201","24","00","00","LORETO"," "," ","Sin Categoría"]
[null,{"$f":"VALUE(renipress[[#This Row],[Código Único]])","v":25466},"PRIVADO","00025466","CONSULTORIO MEDICO SAN ANTONIO E.I.R.L","AREQUIPA","AREQUIPA","CAYMA","040103","4","00","00","AREQUIPA"," "," ","I-2"]
[null,{"$f":"VALUE(renipress[[#This Row],[Código Único]])","v":25468},"PRIVADO","00025468","ALABANTE","LA LIBERTAD","ASCOPE","ASCOPE","130201","18","00","00","LA LIBERTAD"," "," ","I-3"]
[null,{"$f":"VALUE(renipress[[#This Row],[Código Único]])","v":25489},"PRIVADO","00025489","CLÍNICA PRAGA INTERNACIONAL  S.A.C.   AMBULANCIA  ACT-267","PIURA","PIURA","CASTILLA","200104","28","00","00","PIURA"," "," ","Sin Categoría"]
[null,{"$f":"VALUE(renipress[[#This Row],[Código Único]])","v":25499},"PRIVADO","00025499","CLÍNICA OSTEOSALUD EIRL","LIMA","HUAURA","HUACHO","150801","22","00","00","LIMA"," ","NO PERTENECE A NINGUNA MICRORED","I-2"]
[null,{"$f":"VALUE(renipress[[#This Row],[Código Único]])","v":25511},"GOBIERNO REGIONAL","00025511","NUEVO SAN JUAN","CAJAMARCA","CHOTA","CHALAMARCA","060419","7","10","01","CAJAMARCA","CHOTA","CHALAMARCA","I-1"]
[null,{"$f":"VALUE(renipress[[#This Row],[Código Único]])","v":25525},"GOBIERNO REGIONAL","00025525","SAN JOSE DE PUCATE","HUANUCO","LEONCIO PRADO","JOSE CRESPO Y CASTILLO","100604","14","03","12","HUANUCO","LEONCIO PRADO","JUAN JOSE CRESPO Y CASTILLO","I-1"]
[null,{"$f":"VALUE(renipress[[#This Row],[Código Único]])","v":25535},"PRIVADO","00025535","CONSULTORIO OQUENDO","CALLAO","CALLAO","CALLAO","070101","8","00","00","CALLAO"," "," ","I-2"]
[null,{"$f":"VALUE(renipress[[#This Row],[Código Único]])","v":25543},"PRIVADO","00025543","FINLAY MEDICAL CENTER SCRL","ICA","ICA","ICA","110101","15","00","00","ICA"," ","NO PERTENECE A NINGUNA MICRORED","I-3"]
[null,{"$f":"VALUE(renipress[[#This Row],[Código Único]])","v":25556},"PRIVADO","00025556","LAKMEDI","LIMA","LIMA","PUENTE PIEDRA","150125","35","00","00","LIMA NORTE"," ","NO PERTENECE A NINGUNA MICRORED","I-2"]
[null,{"$f":"VALUE(renipress[[#This Row],[Código Único]])","v":25572},"PRIVADO","00025572","ECOGRAFIAS SHANEL","TACNA","TACNA","TACNA","230101","32","00","00","TACNA"," "," ","Sin Categoría"]
[null,{"$f":"VALUE(renipress[[#This Row],[Código Único]])","v":25586},"PRIVADO","00025586","OPTIK CENTER - TARAPOTO","LORETO","ALTO AMAZONAS","YURIMAGUAS","160201","24","00","00","LORETO"," "," ","Sin Categoría"]
[null,{"$f":"VALUE(renipress[[#This Row],[Código Único]])","v":25589},"PRIVADO","00025589","NEODENT","LIMA","LIMA","BREÑA","150105","36","00","00","LIMA CENTRO"," "," ","I-1"]
[null,{"$f":"VALUE(renipress[[#This Row],[Código Único]])","v":25610},"PRIVADO","00025610","CONSULTORIO DENTAL BOCCA","LIMA","LIMA","SANTA ANITA","150137","21","00","00","LIMA ESTE"," ","NO PERTENECE A NINGUNA MICRORED","I-1"]
[null,{"$f":"VALUE(renipress[[#This Row],[Código Único]])","v":25616},"PRIVADO","00025616","QHALIKAY REHABILITACIÓN Y DESARROLLO INTEGRAL","CALLAO","CALLAO","VENTANILLA","070106","8","00","00","CALLAO"," "," ","I-2"]
[null,{"$f":"VALUE(renipress[[#This Row],[Código Único]])","v":25631},"PRIVADO","00025631","CENTRO DE IMAGENES AREQUIPA E.I.R.L","AREQUIPA","AREQUIPA","YANAHUARA","040126","4","00","00","AREQUIPA"," "," ","Sin Categoría"]
[null,{"$f":"VALUE(renipress[[#This Row],[Código Único]])","v":25645},"PRIVADO","00025645","CENTRO OFTALMOLÓGICO LUSS E.I.R.L.","UCAYALI","CORONEL PORTILLO","CALLERIA","250101","34","00","00","UCAYALI"," "," ","Sin Categoría"]
[null,{"$f":"VALUE(renipress[[#This Row],[Código Único]])","v":25654},"PRIVADO","00025654","GF GESTALT DE SALUD TERAPEUTICA FRANCISCO CHAVEZ GALVAN","JUNIN","HUANCAYO","EL TAMBO","120114","17","00","00","JUNIN"," "," ","I-1"]
[null,{"$f":"VALUE(renipress[[#This Row],[Código Único]])","v":25663},"PRIVADO","00025663","INSTITUTO MEDICO CASTILLA S.A.C.","PIURA","PIURA","CASTILLA","200104","28","00","00","PIURA"," "," ","Sin Categoría"]
[null,{"$f":"VALUE(renipress[[#This Row],[Código Único]])","v":25684},"PRIVADO","00025684","S.G. NATCLAR S.A.C.","LIMA","OYON","OYON","150901","22","00","00","LIMA"," "," ","I-3"]
[null,{"$f":"VALUE(renipress[[#This Row],[Código Único]])","v":25692},"PRIVADO","00025692","CONSULTORIOS DENTAL MASTER","LIMA","LIMA","VILLA EL SALVADOR","150142","23","00","00","LIMA SUR"," "," ","I-1"]
[null,{"$f":"VALUE(renipress[[#This Row],[Código Único]])","v":25705},"PRIVADO","00025705","Magic Dent Consultorios Odontologicos","LIMA","HUAURA","HUACHO","150801","22","00","00","LIMA"," "," ","I-1"]
[null,{"$f":"VALUE(renipress[[#This Row],[Código Único]])","v":25716},"PRIVADO","00025716","SAN GABRIEL","CUSCO","CUSCO","WANCHAQ","080108","11","00","00","CUSCO"," "," ","I-3"]
[null,{"$f":"VALUE(renipress[[#This Row],[Código Único]])","v":25728},"PRIVADO","00025728","CONSULTORIO MEDICO SALUD ES VIDA","LIMA","HUAURA","HUACHO","150801","22","00","00","LIMA"," "," ","I-2"]
[null,{"$f":"VALUE(renipress[[#This Row],[Código Único]])","v":25735},"PRIVADO","00025735","LABORATORIO CLINICO HEMOLAB S.A.C.","PIURA","PIURA","VEINTISEIS DE OCTUBRE","200115","28","00","00","PIURA"," "," ","Sin Categoría"]
[null,{"$f":"VALUE(renipress[[#This Row],[Código Único]])","v":25749},"PRIVADO","00025749","MEDAVAN","LIMA","LIMA","MAGDALENA DEL MAR","150120","36","00","00","LIMA CENTRO"," "," ","II-E"]
[null,{"$f":"VALUE(renipress[[#This Row],[Código Único]])","v":25764},"PRIVADO","00025764","CONSULTORIO DOCTOR SALAZAR","LIMA","LIMA","SANTIAGO DE SURCO","150140","23","00","00","LIMA SUR"," "," ","I-2"]
[null,{"$f":"VALUE(renipress[[#This Row],[Código Único]])","v":25780},"PRIVADO","00025780","POLICLINICO DEL CENTRO","JUNIN","HUANCAYO","HUANCAYO","120101","17","00","00","JUNIN"," "," ","I-3"]
[null,{"$f":"VALUE(renipress[[#This Row],[Código Único]])","v":25793},"PRIVADO","00025793","Consultorio dental Bazan","LIMA","BARRANCA","BARRANCA","150201","22","00","00","LIMA"," "," ","I-1"]
[null,{"$f":"VALUE(renipress[[#This Row],[Código Único]])","v":25802},"PRIVADO","00025802","INVERSIONES CALLUPE S.A.C","HUANUCO","HUANUCO","AMARILIS","100102","14","00","00","HUANUCO"," "," ","I-3"]
[null,{"$f":"VALUE(renipress[[#This Row],[Código Único]])","v":25813},"PRIVADO","00025813","CENTRO MEDICO PSICOSOMATICO WARI S.A.C.","AYACUCHO","HUAMANGA","JESUS NAZARENO","050115","5","00","00","AYACUCHO"," "," ","I-3"]
[null,{"$f":"VALUE(renipress[[#This Row],[Código Único]])","v":25826},"PRIVADO","00025826","Consultorio de Psicoterapia ElyD`","LIMA","LIMA","VILLA EL SALVADOR","150142","23","00","00","LIMA SUR"," "," ","I-1"]
[null,{"$f":"VALUE(renipress[[#This Row],[Código Único]])","v":25840},"PRIVADO","00025840","CENTRO INTEGRAL DEL CORAZON SOCIEDAD ANONIMA CERRADA- CEINCO S.A.C","TACNA","TACNA","TACNA","230101","32","00","00","TACNA","NO PERTENECE A NINGUNA RED","NO PERTENECE A NINGUNA MICRORED","I-2"]
[null,{"$f":"VALUE(renipress[[#This Row],[Código Único]])","v":25849},"PRIVADO","00025849","MEDICO DE GUARDIA SAC","LIMA","LIMA","LURIGANCHO","150118","21","00","00","LIMA ESTE"," ","NO PERTENECE A NINGUNA MICRORED","I-2"]
[null,{"$f":"VALUE(renipress[[#This Row],[Código Único]])","v":25870},"SANIDAD DE LA POLICIA NACIONAL DEL PERU","00025870","POSTA MEDICA POLICIAL ILO","MOQUEGUA","ILO","ILO","180301","26","00","00","MOQUEGUA"," ","NO PERTENECE A NINGUNA MICRORED","I-2"]
[null,{"$f":"VALUE(renipress[[#This Row],[Código Único]])","v":25884},"PRIVADO","00025884","odontoworld dental office","LIMA","LIMA","INDEPENDENCIA","150112","35","00","00","LIMA NORTE"," "," ","I-1"]
[null,{"$f":"VALUE(renipress[[#This Row],[Código Único]])","v":25891},"PRIVADO","00025891","BELADENT","LIMA","LIMA","COMAS","150110","35","00","00","LIMA NORTE"," "," ","I-1"]
[null,{"$f":"VALUE(renipress[[#This Row],[Código Único]])","v":25910},"PRIVADO","00025910","SERVIMEDIN DR. CHONG SAC","PIURA","TALARA","PARIÑAS","200701","28","00","00","PIURA"," "," ","I-3"]
[null,{"$f":"VALUE(renipress[[#This Row],[Código Único]])","v":25926},"PRIVADO","00025926","CLERDISUR SAC","AREQUIPA","AREQUIPA","AREQUIPA","040101","4","00","00","AREQUIPA"," "," ","Sin Categoría"]
[null,{"$f":"VALUE(renipress[[#This Row],[Código Único]])","v":25935},"PRIVADO","00025935","CENTRO MEDICO SEÑOR DE OROPESA E.I.R.L.","HUANCAVELICA","HUANCAVELICA","HUANCAVELICA","090101","13","00","00","HUANCAVELICA"," "," ","I-3"]
[null,{"$f":"VALUE(renipress[[#This Row],[Código Único]])","v":25952},"PRIVADO","00025952","INBIOMEDIC","LIMA","LIMA","LINCE","150116","36","00","00","LIMA CENTRO"," "," ","Sin Categoría"]
[null,{"$f":"VALUE(renipress[[#This Row],[Código Único]])","v":25956},"PRIVADO","00025956","SAN FRANCISCO DE BORJA","TUMBES","TUMBES","TUMBES","240101","33","00","00","TUMBES"," "," ","I-2"]
[null,{"$f":"VALUE(renipress[[#This Row],[Código Único]])","v":25970},"PRIVADO","00025970","CLINICA REBAGLIATI","JUNIN","HUANCAYO","EL TAMBO","120114","17","00","00","JUNIN"," "," ","II-1"]
[null,{"$f":"VALUE(renipress[[#This Row],[Código Único]])","v":25978},"PRIVADO","00025978","CONSULTORIO MEDICO SAN LUCAS","LIMA","LIMA","VILLA EL SALVADOR","150142","23","00","00","LIMA SUR"," "," ","I-2"]
[null,{"$f":"VALUE(renipress[[#This Row],[Código Único]])","v":25999},"PRIVADO","00025999","Consultorio Psicológico Loto","LIMA","LIMA","CARABAYLLO","150106","35","00","00","LIMA NORTE"," "," ","I-2"]
[null,{"$f":"VALUE(renipress[[#This Row],[Código Único]])","v":26008},"PRIVADO","00026008","CONSULTORIO MEDICO MUNICIPAL JJ SALUD","LIMA","LIMA","ANCON","150102","35","00","00","LIMA NORTE"," "," ","I-2"]
[null,{"$f":"VALUE(renipress[[#This Row],[Código Único]])","v":26016},"PRIVADO","00026016","MEDICINA PEDIÁTRICA INTEGRAL","CAJAMARCA","CAJAMARCA","CAJAMARCA","060101","7","00","00","CAJAMARCA"," "," ","I-2"]
[null,{"$f":"VALUE(renipress[[#This Row],[Código Único]])","v":26030},"PRIVADO","00026030","CONSULTORIO ODONTOLOGICO PIURA BRACKETS","PIURA","PIURA","PIURA","200101","28","00","00","PIURA"," "," ","I-1"]
[null,{"$f":"VALUE(renipress[[#This Row],[Código Único]])","v":26042},"PRIVADO","00026042","CENTRO MEDICO OBSTETRICO MARIA FE S.A.C.","LORETO","MAYNAS","IQUITOS","160101","24","00","00","LORETO"," ","NO PERTENECE A NINGUNA MICRORED","I-2"]
[null,{"$f":"VALUE(renipress[[#This Row],[Código Único]])","v":26053},"PRIVADO","00026053","CENTRO MEDICO MEDICENTRO VIDASALUD","LIMA","CAÑETE","IMPERIAL","150507","22","00","00","LIMA"," "," ","I-2"]
[null,{"$f":"VALUE(renipress[[#This Row],[Código Único]])","v":26072},"PRIVADO","00026072","DENTOIMAGEN","PUNO","PUNO","PUNO","210101","29","00","00","PUNO"," "," ","I-1"]
[null,{"$f":"VALUE(renipress[[#This Row],[Código Único]])","v":26075},"PRIVADO","00026075","ODONTO LA MOLINA","LIMA","LIMA","LA MOLINA","150114","21","00","00","LIMA ESTE"," "," ","I-1"]
[null,{"$f":"VALUE(renipress[[#This Row],[Código Único]])","v":26090},"PRIVADO","00026090","EL SOL","CAJAMARCA","HUALGAYOC","BAMBAMARCA","060701","7","00","00","CAJAMARCA"," "," ","I-3"]
[null,{"$f":"VALUE(renipress[[#This Row],[Código Único]])","v":26107},"PRIVADO","00026107","PLAST DENT MEDIC","LIMA","LIMA","SAN BORJA","150130","36","00","00","LIMA CENTRO"," "," ","I-1"]
[null,{"$f":"VALUE(renipress[[#This Row],[Código Único]])","v":26122},"PRIVADO","00026122","CENTRO DE ESPECIALIDADES MEDICAS SALUD OCUPACIONAL VIRGEN DE FATIMA E.I.R.L","PIURA","SULLANA","SULLANA","200601","28","00","00","PIURA"," ","NO PERTENECE A NINGUNA MICRORED","I-3"]
[null,{"$f":"VALUE(renipress[[#This Row],[Código Único]])","v":26130},"PRIVADO","00026130","IPSAMEN","LIMA","LIMA","PACHACAMAC","150123","23","00","00","LIMA SUR"," ","NO PERTENECE A NINGUNA MICRORED","Sin Categoría"]
[null,{"$f":"VALUE(renipress[[#This Row],[Código Único]])","v":26153},"PRIVADO","00026153","GESTIÓN Y ASESORÍA LABORAL S.A.C.","LIMA","LIMA","LA VICTORIA","150115","36","00","00","LIMA CENTRO"," "," ","I-3"]
[null,{"$f":"VALUE(renipress[[#This Row],[Código Único]])","v":26159},"SANIDAD DE LA MARINA DE GUERRA DEL PERU","00026159","BAP. CURARAY","UCAYALI","CORONEL PORTILLO","CALLERIA","250101","34","00","00","UCAYALI"," ","NO PERTENECE A NINGUNA MICRORED","Sin Categoría"]
[null,{"$f":"VALUE(renipress[[#This Row],[Código Único]])","v":26172},"PRIVADO","00026172","Futura Dent","LIMA","LIMA","PUEBLO LIBRE","150121","36","00","00","LIMA CENTRO"," "," ","I-1"]
[null,{"$f":"VALUE(renipress[[#This Row],[Código Único]])","v":26182},"GOBIERNO REGIONAL","00026182","MENTAL SANTIAGO","CUSCO","CUSCO","SANTIAGO","080106","11","02","01","CUSCO","CUSCO NORTE","BELEMPAMPA","I-2"]
[null,{"$f":"VALUE(renipress[[#This Row],[Código Único]])","v":26203},"ESSALUD","00026203","CENTRO DE RADIOTERAPIA RALL","LA LIBERTAD","TRUJILLO","LA ESPERANZA","130105","18","00","00","LA LIBERTAD","NO PERTENECE A NINGUNA RED"," ","Sin Categoría"]
[null,{"$f":"VALUE(renipress[[#This Row],[Código Único]])","v":26213},"PRIVADO","00026213","CONSULTORIO ODONTOLOGICO POLODENT","LIMA","LIMA","SANTIAGO DE SURCO","150140","23","00","00","LIMA SUR"," "," ","I-1"]
[null,{"$f":"VALUE(renipress[[#This Row],[Código Único]])","v":26220},"PRIVADO","00026220","PROMEDICINE RED DE SERVICIOS MEDICOS ESPECIALIZADOS","LIMA","LIMA","SAN JUAN DE MIRAFLORES","150133","23","00","00","LIMA SUR"," "," ","I-3"]
[null,{"$f":"VALUE(renipress[[#This Row],[Código Único]])","v":26234},"PRIVADO","00026234","CONSULTORIO PSICOLÓGICO ARIDARI","CALLAO","CALLAO","BELLAVISTA","070102","8","00","00","CALLAO"," "," ","I-1"]
[null,{"$f":"VALUE(renipress[[#This Row],[Código Único]])","v":26252},"PRIVADO","00026252","Mas Q Salud Centro Médico","CAJAMARCA","JAEN","JAEN","060801","7","00","00","CAJAMARCA"," "," ","I-2"]
[null,{"$f":"VALUE(renipress[[#This Row],[Código Único]])","v":26259},"PRIVADO","00026259","CONSULTORIO ODONTOLÓGICO G & C","LIMA","LIMA","SAN JUAN DE LURIGANCHO","150132","36","00","00","LIMA CENTRO"," "," ","I-1"]
[null,{"$f":"VALUE(renipress[[#This Row],[Código Único]])","v":26284},"PRIVADO","00026284","Ecodent","CUSCO","CUSCO","WANCHAQ","080108","11","00","00","CUSCO"," ","NO PERTENECE A NINGUNA MICRORED","I-1"]
[null,{"$f":"VALUE(renipress[[#This Row],[Código Único]])","v":26288},"PRIVADO","00026288","LABORATORIO DE ANALISIS CLINICOS SANAR","LA LIBERTAD","TRUJILLO","TRUJILLO","130101","18","00","00","LA LIBERTAD","NO PERTENECE A NINGUNA RED","NO PERTENECE A NINGUNA MICRORED","Sin Categoría"]
[null,{"$f":"VALUE(renipress[[#This Row],[Código Único]])","v":26304},"GOBIERNO REGIONAL","00026304","CENTRO DE SALUD MENTAL COMUNITARIO OXAPAMPA","PASCO","OXAPAMPA","OXAPAMPA","190301","27","03","01","PASCO","OXAPAMPA","OXAPAMPA, HUANCABAMBA, CHONTABAMBA","I-3"]
[null,{"$f":"VALUE(renipress[[#This Row],[Código Único]])","v":26323},"PRIVADO","00026323","CONSULTORIO NEUROPEDIATRICO","PIURA","PIURA","PIURA","200101","28","00","00","PIURA"," "," ","I-2"]
[null,{"$f":"VALUE(renipress[[#This Row],[Código Único]])","v":26345},"GOBIERNO REGIONAL","00026345","CENTRO DE SALUD MENTAL COMUNITARIO MOCHE MAEICH MUCHIK","LA LIBERTAD","TRUJILLO","MOCHE","130107","18","05","06","LA LIBERTAD","RED TRUJILLO","MOCHE","I-3"]
[null,{"$f":"VALUE(renipress[[#This Row],[Código Único]])","v":26354},"PRIVADO","00026354","CENTRO MEDICO REGIONAL CALLAO SAC","CALLAO","CALLAO","BELLAVISTA","070102","8","00","00","CALLAO"," "," ","I-3"]
[null,{"$f":"VALUE(renipress[[#This Row],[Código Único]])","v":26362},"PRIVADO","00026362","VIDA SANNA PIURA CENTRO MEDICO HOLISTICO S.R.L","PIURA","PIURA","PIURA","200101","28","00","00","PIURA"," "," ","I-2"]
[null,{"$f":"VALUE(renipress[[#This Row],[Código Único]])","v":26375},"PRIVADO","00026375","Inkamay Salud Cañete","LIMA","CAÑETE","SAN VICENTE DE CAÑETE","150501","22","00","00","LIMA"," "," ","I-3"]
[null,{"$f":"VALUE(renipress[[#This Row],[Código Único]])","v":26387},"GOBIERNO REGIONAL","00026387","MENTAL COMUNITARIO SICUANI","CUSCO","CANCHIS","SICUANI","080601","11","04","05","CUSCO","CANAS-CANCHIS-ESPINAR","PAMPAPHALLA","I-2"]
[null,{"$f":"VALUE(renipress[[#This Row],[Código Único]])","v":26397},"PRIVADO","00026397","cediclab sac","LIMA","BARRANCA","BARRANCA","150201","22","00","00","LIMA"," "," ","Sin Categoría"]
[null,{"$f":"VALUE(renipress[[#This Row],[Código Único]])","v":26417},"PRIVADO","00026417","POLICLINICO EDA","AREQUIPA","AREQUIPA","PAUCARPATA","040112","4","00","00","AREQUIPA"," "," ","I-3"]
[null,{"$f":"VALUE(renipress[[#This Row],[Código Único]])","v":26432},"PRIVADO","00026432","DENTAL GOMEZ","TACNA","TACNA","ALTO DE LA ALIANZA","230102","32","00","00","TACNA"," "," ","I-1"]
[null,{"$f":"VALUE(renipress[[#This Row],[Código Único]])","v":26434},"PRIVADO","00026434","CLINICA ODONTOLOGICA DENTUM","LIMA","LIMA","JESUS MARIA","150113","36","00","00","LIMA CENTRO"," "," ","I-3"]
[null,{"$f":"VALUE(renipress[[#This Row],[Código Único]])","v":26449},"PRIVADO","00026449","PRESTALAB S.A.C","LIMA","LIMA","LIMA","150101","36","00","00","LIMA CENTRO"," "," ","Sin Categoría"]
[null,{"$f":"VALUE(renipress[[#This Row],[Código Único]])","v":26464},"PRIVADO","00026464","NICOLAS FRANCISCO VASSALLO DOIG","PIURA","PIURA","PIURA","200101","28","00","00","PIURA"," "," ","I-2"]
[null,{"$f":"VALUE(renipress[[#This Row],[Código Único]])","v":26472},"PRIVADO","00026472","Consultorio odontológico COBBA Dental","LIMA","LIMA","SAN JUAN DE LURIGANCHO","150132","36","00","00","LIMA CENTRO"," "," ","I-1"]
[null,{"$f":"VALUE(renipress[[#This Row],[Código Único]])","v":26489},"GOBIERNO REGIONAL","00026489","IPRESS MANCO CAPAC","LORETO","UCAYALI","CONTAMANA","160601","24","09","01","LORETO","UCAYALI","CONTAMANA","I-1"]
[null,{"$f":"VALUE(renipress[[#This Row],[Código Único]])","v":26499},"PRIVADO","00026499","CONSULTORIO DENTAL BOLIVAR","TACNA","TACNA","TACNA","230101","32","00","00","TACNA"," "," ","I-1"]
[null,{"$f":"VALUE(renipress[[#This Row],[Código Único]])","v":26511},"PRIVADO","00026511","DERMACUTIS SA.C.","LIMA","LIMA","SAN MIGUEL","150136","36","00","00","LIMA CENTRO"," "," ","I-3"]
[null,{"$f":"VALUE(renipress[[#This Row],[Código Único]])","v":26534},"PRIVADO","00026534","VARIODENT","LIMA","LIMA","ATE","150103","21","00","00","LIMA ESTE"," "," ","I-1"]
[null,{"$f":"VALUE(renipress[[#This Row],[Código Único]])","v":26545},"PRIVADO","00026545","CONSULTORIO DENTAL BOCARE","LIMA","LIMA","JESUS MARIA","150113","36","00","00","LIMA CENTRO"," "," ","I-1"]
[null,{"$f":"VALUE(renipress[[#This Row],[Código Único]])","v":26555},"PRIVADO","00026555","CORDIAL PERU","PUNO","PUNO","PUNO","210101","29","00","00","PUNO"," "," ","Sin Categoría"]
[null,{"$f":"VALUE(renipress[[#This Row],[Código Único]])","v":26562},"PRIVADO","00026562","MULTIDENT","LIMA","LIMA","CHORRILLOS","150108","23","00","00","LIMA SUR"," "," ","I-1"]
[null,{"$f":"VALUE(renipress[[#This Row],[Código Único]])","v":26576},"PRIVADO","00026576","MARIA DE LOS ANGELES GUZMAN DIAZ","PIURA","PIURA","PIURA","200101","28","00","00","PIURA"," "," ","I-2"]
[null,{"$f":"VALUE(renipress[[#This Row],[Código Único]])","v":26589},"PRIVADO","00026589","SALAMANCA","TACNA","TACNA","TACNA","230101","32","00","00","TACNA"," "," ","I-1"]
[null,{"$f":"VALUE(renipress[[#This Row],[Código Único]])","v":26603},"PRIVADO","00026603","MEDICENTRO-MEDICLUB S.A.C.","PIURA","PIURA","PIURA","200101","28","00","00","PIURA"," "," ","I-1"]
[null,{"$f":"VALUE(renipress[[#This Row],[Código Único]])","v":26621},"PRIVADO","00026621","VANTTIVE VACUNAS","LIMA","LIMA","LA VICTORIA","150115","36","00","00","LIMA CENTRO"," "," ","Sin Categoría"]
[null,{"$f":"VALUE(renipress[[#This Row],[Código Único]])","v":26639},"PRIVADO","00026639","ORTHOTIPS","LIMA","LIMA","SAN MIGUEL","150136","36","00","00","LIMA CENTRO"," "," ","I-1"]
[null,{"$f":"VALUE(renipress[[#This Row],[Código Único]])","v":26640},"PRIVADO","00026640","UNIDAD DE EMERGENCIA MÓVIL CLINICA CARITA FELIZ","PIURA","PIURA","PIURA","200101","28","00","00","PIURA"," "," ","Sin Categoría"]
[null,{"$f":"VALUE(renipress[[#This Row],[Código Único]])","v":26658},"PRIVADO","00026658","GALAXI J&O E.I.R.L.","LA LIBERTAD","TRUJILLO","TRUJILLO","130101","18","00","00","LA LIBERTAD","NO PERTENECE A NINGUNA RED","NO PERTENECE A NINGUNA MICRORED","I-3"]
[null,{"$f":"VALUE(renipress[[#This Row],[Código Único]])","v":26670},"PRIVADO","00026670","CONSULTORIO ODONTOLOGICO IDINA","LIMA","LIMA","SAN BORJA","150130","36","00","00","LIMA CENTRO"," "," ","I-1"]
[null,{"$f":"VALUE(renipress[[#This Row],[Código Único]])","v":26679},"PRIVADO","00026679","QUIÑONES ODONTOSHINE","CUSCO","CUSCO","WANCHAQ","080108","11","00","00","CUSCO"," "," ","I-1"]
[null,{"$f":"VALUE(renipress[[#This Row],[Código Único]])","v":26699},"SANIDAD DEL EJERCITO DEL PERU","00026699","ENFERMERIA DEL BATALLON DE INGENIERIA DE CONSTRUCCION LA BREÑA N°2","JUNIN","SATIPO","SATIPO","120601","17","00","00","JUNIN"," ","NO PERTENECE A NINGUNA MICRORED","I-2"]
[null,{"$f":"VALUE(renipress[[#This Row],[Código Único]])","v":26706},"PRIVADO","00026706","CLINICA UNION SAC.","LAMBAYEQUE","CHICLAYO","CHICLAYO","140101","19","00","00","LAMBAYEQUE"," "," ","II-E"]
[null,{"$f":"VALUE(renipress[[#This Row],[Código Único]])","v":26727},"INPE","00026727","OFICINA REGIONAL  LIMA","LIMA","LIMA","SAN JUAN DE LURIGANCHO","150132","36","00","00","LIMA CENTRO"," ","NO PERTENECE A NINGUNA MICRORED","I-2"]
[null,{"$f":"VALUE(renipress[[#This Row],[Código Único]])","v":26752},"PRIVADO","00026752","CONSULTORIO DENTAL ESTHETIC DENTAL","LIMA","LIMA","SANTIAGO DE SURCO","150140","23","00","00","LIMA SUR"," "," ","I-1"]
[null,{"$f":"VALUE(renipress[[#This Row],[Código Único]])","v":26762},"PRIVADO","00026762","SANTA LUCIA LABORATORIO CLINICO Y HEMATOLOGICO MEDICA OCUPACIONAL S.A.C.","PIURA","PIURA","PIURA","200101","28","00","00","PIURA"," "," ","Sin Categoría"]
[null,{"$f":"VALUE(renipress[[#This Row],[Código Único]])","v":26766},"PRIVADO","00026766","MULTILAB","LIMA","LIMA","SAN MIGUEL","150136","36","00","00","LIMA CENTRO"," "," ","Sin Categoría"]
[null,{"$f":"VALUE(renipress[[#This Row],[Código Único]])","v":26767},"PRIVADO","00026767","MULTILAB","LIMA","LIMA","SAN BORJA","150130","36","00","00","LIMA CENTRO"," "," ","Sin Categoría"]
[null,{"$f":"VALUE(renipress[[#This Row],[Código Único]])","v":26768},"PRIVADO","00026768","Centro Renal Alto Mayo","SAN MARTIN","MOYOBAMBA","MOYOBAMBA","220101","30","00","00","SAN MARTIN"," ","NO PERTENECE A NINGUNA MICRORED","Sin Categoría"]
[null,{"$f":"VALUE(renipress[[#This Row],[Código Único]])","v":26769},"PRIVADO","00026769","Policlinico Social Medic","AREQUIPA","AREQUIPA","PAUCARPATA","040112","4","00","00","AREQUIPA"," "," ","I-3"]
[null,{"$f":"VALUE(renipress[[#This Row],[Código Único]])","v":26770},"PRIVADO","00026770","Consultorio SERMEFDENT","AREQUIPA","AREQUIPA","MIRAFLORES","040110","4","00","00","AREQUIPA"," "," ","I-1"]
[null,{"$f":"VALUE(renipress[[#This Row],[Código Único]])","v":26771},"PRIVADO","00026771","Consultorio Psicológico TRyS - Terapia Rehabilitación y Salud","AREQUIPA","AREQUIPA","JOSE LUIS BUSTAMANTE Y RIVERO","040129","4","00","00","AREQUIPA"," "," ","I-1"]
[null,{"$f":"VALUE(renipress[[#This Row],[Código Único]])","v":26773},"PRIVADO","00026773","LABORATORIOS CLINICOS INTEGRADOS","LIMA","LIMA","SAN ISIDRO","150131","36","00","00","LIMA CENTRO"," "," ","Sin Categoría"]
[null,{"$f":"VALUE(renipress[[#This Row],[Código Único]])","v":26774},"GOBIERNO REGIONAL","00026774","P.S. I-1 SAN FRANCISCO DE ALGODONAL DE JEBEROS","LORETO","ALTO AMAZONAS","JEBEROS","160205","24","11","06","LORETO","ALTO AMAZONAS","JEBEROS","I-1"]
[null,{"$f":"VALUE(renipress[[#This Row],[Código Único]])","v":26775},"PRIVADO","00026775","LABORATORIO DE ANÁLISIS CLÍNICOS Y DE INVESTIGACIÓN BIOLÓGICA OAV","LIMA","LIMA","MAGDALENA DEL MAR","150120","36","00","00","LIMA CENTRO"," "," ","Sin Categoría"]
[null,{"$f":"VALUE(renipress[[#This Row],[Código Único]])","v":26776},"PRIVADO","00026776","BIO LINKS S.A.","LIMA","LIMA","MAGDALENA DEL MAR","150120","36","00","00","LIMA CENTRO"," "," ","Sin Categoría"]
[null,{"$f":"VALUE(renipress[[#This Row],[Código Único]])","v":26777},"PRIVADO","00026777","EXPERTTA","LIMA","LIMA","MIRAFLORES","150122","36","00","00","LIMA CENTRO"," ","NO PERTENECE A NINGUNA MICRORED","Sin Categoría"]
[null,{"$f":"VALUE(renipress[[#This Row],[Código Único]])","v":26778},"PRIVADO","00026778","EBSO","LIMA","LIMA","MIRAFLORES","150122","36","00","00","LIMA CENTRO"," "," ","Sin Categoría"]
[null,{"$f":"VALUE(renipress[[#This Row],[Código Único]])","v":26779},"PRIVADO","00026779","CDE REHAB S.A.C","LIMA","LIMA","MIRAFLORES","150122","36","00","00","LIMA CENTRO"," "," ","Sin Categoría"]
[null,{"$f":"VALUE(renipress[[#This Row],[Código Único]])","v":26783},"PRIVADO","00026783","CONSULTORIO ODONTOLOGICO NATURA ORAL","LIMA","LIMA","EL AGUSTINO","150111","21","00","00","LIMA ESTE"," "," ","I-1"]
[null,{"$f":"VALUE(renipress[[#This Row],[Código Único]])","v":26784},"PRIVADO","00026784","CONSULTORIO MEDICO HERMOZAPOLICH","LIMA","LIMA","SURQUILLO","150141","36","00","00","LIMA CENTRO"," "," ","I-2"]
[null,{"$f":"VALUE(renipress[[#This Row],[Código Único]])","v":26785},"PRIVADO","00026785","FYRIES FISIOTERAPIA","LIMA","LIMA","SANTA ANITA","150137","21","00","00","LIMA ESTE"," "," ","I-1"]
[null,{"$f":"VALUE(renipress[[#This Row],[Código Único]])","v":26786},"PRIVADO","00026786","CONSULTORIOS MEDICO DENTAL ACEVEDO","LIMA","LIMA","CHACLACAYO","150107","21","00","00","LIMA ESTE"," "," ","I-1"]
[null,{"$f":"VALUE(renipress[[#This Row],[Código Único]])","v":26787},"PRIVADO","00026787","REAL DENT","LIMA","LIMA","ATE","150103","21","00","00","LIMA ESTE"," "," ","I-1"]
[null,{"$f":"VALUE(renipress[[#This Row],[Código Único]])","v":26788},"PRIVADO","00026788","NOADENTAL","SAN MARTIN","MOYOBAMBA","MOYOBAMBA","220101","30","00","00","SAN MARTIN"," "," ","I-1"]
[null,{"$f":"VALUE(renipress[[#This Row],[Código Único]])","v":26789},"GOBIERNO REGIONAL","00026789","EQUIPO AISPED  RUTA AYANCOCHA ALTA- ACOBAMBA","HUANUCO","AMBO","SAN RAFAEL","100207","14","06","02","HUANUCO","AMBO","SAN RAFAEL","Sin Categoría"]
[null,{"$f":"VALUE(renipress[[#This Row],[Código Único]])","v":26791},"PRIVADO","00026791","CORVEL, FISIOTERAPIA & REHABILITACION","LIMA","LIMA","LURIGANCHO","150118","21","00","00","LIMA ESTE"," "," ","Sin Categoría"]
[null,{"$f":"VALUE(renipress[[#This Row],[Código Único]])","v":26792},"PRIVADO","00026792","LUMIDENT AMERICANO","JUNIN","HUANCAYO","EL TAMBO","120114","17","00","00","JUNIN"," "," ","I-1"]
[null,{"$f":"VALUE(renipress[[#This Row],[Código Único]])","v":26793},"PRIVADO","00026793","CLINICA BELLAFORMA","LIMA","LIMA","JESUS MARIA","150113","36","00","00","LIMA CENTRO"," "," ","II-E"]
[null,{"$f":"VALUE(renipress[[#This Row],[Código Único]])","v":26794},"PRIVADO","00026794","Consultorios Medicos Sonia","CALLAO","CALLAO","CALLAO","070101","8","00","00","CALLAO"," "," ","I-2"]
[null,{"$f":"VALUE(renipress[[#This Row],[Código Único]])","v":26795},"PRIVADO","00026795","CAPODENT","CALLAO","CALLAO","CALLAO","070101","8","00","00","CALLAO"," "," ","I-1"]
[null,{"$f":"VALUE(renipress[[#This Row],[Código Único]])","v":26796},"PRIVADO","00026796","ODONTOLIAN","CALLAO","CALLAO","VENTANILLA","070106","8","00","00","CALLAO"," "," ","I-1"]
[null,{"$f":"VALUE(renipress[[#This Row],[Código Único]])","v":26797},"PRIVADO","00026797","Odontolian","CALLAO","CALLAO","VENTANILLA","070106","8","00","00","CALLAO"," "," ","I-1"]
[null,{"$f":"VALUE(renipress[[#This Row],[Código Único]])","v":26798},"PRIVADO","00026798","RED PEDIATRICA","LIMA","LIMA","MAGDALENA DEL MAR","150120","36","00","00","LIMA CENTRO"," "," ","I-3"]
[null,{"$f":"VALUE(renipress[[#This Row],[Código Único]])","v":26800},"PRIVADO","00026800","CLINICA SAN MIGUEL S.A.C","LIMA","LIMA","JESUS MARIA","150113","36","00","00","LIMA CENTRO"," "," ","II-E"]
[null,{"$f":"VALUE(renipress[[#This Row],[Código Único]])","v":26802},"PRIVADO","00026802","ODONTORED SANTA APOLONIA","LIMA","LIMA","SAN LUIS","150134","36","00","00","LIMA CENTRO"," "," ","I-1"]
[null,{"$f":"VALUE(renipress[[#This Row],[Código Único]])","v":26803},"PRIVADO","00026803","CLINIFE OCUPACIONAL SAC","LIMA","HUARAL","CHANCAY","150605","22","00","00","LIMA"," "," ","I-3"]
[null,{"$f":"VALUE(renipress[[#This Row],[Código Único]])","v":26804},"PRIVADO","00026804","WORKERS HEALTH SAC","LIMA","LIMA","SAN JUAN DE LURIGANCHO","150132","36","00","00","LIMA CENTRO"," ","NO PERTENECE A NINGUNA MICRORED","I-3"]
[null,{"$f":"VALUE(renipress[[#This Row],[Código Único]])","v":26805},"PRIVADO","00026805","Control Dent","LIMA","LIMA","SAN JUAN DE LURIGANCHO","150132","36","00","00","LIMA CENTRO"," "," ","I-1"]
[null,{"$f":"VALUE(renipress[[#This Row],[Código Único]])","v":26806},"PRIVADO","00026806","PODOVIDA","LIMA","LIMA","SANTA ANITA","150137","21","00","00","LIMA ESTE"," "," ","Sin Categoría"]
[null,{"$f":"VALUE(renipress[[#This Row],[Código Único]])","v":26807},"PRIVADO","00026807","ONCOLAB","AYACUCHO","HUAMANGA","AYACUCHO","050101","5","00","00","AYACUCHO"," "," ","Sin Categoría"]
[null,{"$f":"VALUE(renipress[[#This Row],[Código Único]])","v":26808},"PRIVADO","00026808","SOLIDARIO","LIMA","LIMA","LOS OLIVOS","150117","35","00","00","LIMA NORTE"," "," ","I-1"]
[null,{"$f":"VALUE(renipress[[#This Row],[Código Único]])","v":26811},"PRIVADO","00026811","ORTHO ESTETIC","LIMA","HUAURA","HUACHO","150801","22","00","00","LIMA"," "," ","I-1"]
[null,{"$f":"VALUE(renipress[[#This Row],[Código Único]])","v":26812},"PRIVADO","00026812","CONSULTORIO ODONTOLOGICO MOLINA","LIMA","HUAURA","HUACHO","150801","22","00","00","LIMA"," "," ","I-3"]
[null,{"$f":"VALUE(renipress[[#This Row],[Código Único]])","v":26813},"PRIVADO","00026813","MÁXIMA SONRISA","LIMA","HUAURA","HUACHO","150801","22","00","00","LIMA"," "," ","I-1"]
[null,{"$f":"VALUE(renipress[[#This Row],[Código Único]])","v":26814},"PRIVADO","00026814","CONSULTORIO MEDICO DIAGMED","LIMA","HUAURA","HUACHO","150801","22","00","00","LIMA"," "," ","I-2"]
[null,{"$f":"VALUE(renipress[[#This Row],[Código Único]])","v":26816},"PRIVADO","00026816","MERINODENT","LIMA","LIMA","SAN JUAN DE LURIGANCHO","150132","36","00","00","LIMA CENTRO"," "," ","I-1"]
[null,{"$f":"VALUE(renipress[[#This Row],[Código Único]])","v":26817},"PRIVADO","00026817","CONSULTORIO MEDICO SOLGAS","CALLAO","CALLAO","VENTANILLA","070106","8","00","00","CALLAO"," "," ","I-2"]
[null,{"$f":"VALUE(renipress[[#This Row],[Código Único]])","v":26818},"PRIVADO","00026818","SANIDENT","CALLAO","CALLAO","VENTANILLA","070106","8","00","00","CALLAO"," "," ","I-1"]
[null,{"$f":"VALUE(renipress[[#This Row],[Código Único]])","v":26820},"OTRO","00026820","CENTRO DE DIALISIS NOSTRA SIGNORA DI LOURDES SAC","UCAYALI","CORONEL PORTILLO","YARINACOCHA","250105","34","00","00","UCAYALI"," ","NO PERTENECE A NINGUNA MICRORED","Sin Categoría"]
[null,{"$f":"VALUE(renipress[[#This Row],[Código Único]])","v":26821},"PRIVADO","00026821","CENTRO MEDICO NUEVO HORIZONTE","JUNIN","HUANCAYO","CHILCA","120107","17","00","00","JUNIN"," "," ","I-3"]
[null,{"$f":"VALUE(renipress[[#This Row],[Código Único]])","v":26822},"PRIVADO","00026822","CENTRO MEDICO ELIAX","LIMA","LIMA","LIMA","150101","36","00","00","LIMA CENTRO"," "," ","I-2"]
[null,{"$f":"VALUE(renipress[[#This Row],[Código Único]])","v":26824},"PRIVADO","00026824","CENTRO MEDICO LOS ANGELES EN EL CIELO","LIMA","LIMA","LINCE","150116","36","00","00","LIMA CENTRO"," "," ","I-3"]
[null,{"$f":"VALUE(renipress[[#This Row],[Código Único]])","v":26825},"PRIVADO","00026825","MEDIC SALUD","AMAZONAS","BAGUA","BAGUA","010201","1","00","00","AMAZONAS"," "," ","I-2"]
[null,{"$f":"VALUE(renipress[[#This Row],[Código Único]])","v":26827},"PRIVADO","00026827","CONSULTORIO MÉDICO MEDIA NETWORKS JESUS MARÍA","LIMA","LIMA","JESUS MARIA","150113","36","00","00","LIMA CENTRO"," "," ","I-2"]
[null,{"$f":"VALUE(renipress[[#This Row],[Código Único]])","v":26828},"PRIVADO","00026828","CENTRO MEDICO E.T SAC","LIMA","LIMA","SAN JUAN DE LURIGANCHO","150132","36","00","00","LIMA CENTRO"," "," ","I-3"]
[null,{"$f":"VALUE(renipress[[#This Row],[Código Único]])","v":26829},"PRIVADO","00026829","CENTRO MEDICO HERSEL","AMAZONAS","BAGUA","BAGUA","010201","1","00","00","AMAZONAS"," "," ","I-3"]
[null,{"$f":"VALUE(renipress[[#This Row],[Código Único]])","v":26830},"PRIVADO","00026830","BIOMEDICAL CENTER","LIMA","LIMA","LIMA","150101","36","00","00","LIMA CENTRO"," "," ","I-2"]
[null,{"$f":"VALUE(renipress[[#This Row],[Código Único]])","v":26831},"PRIVADO","00026831","CONSULTORIO ODONTOLOGICO ORALAY","LIMA","LIMA","JESUS MARIA","150113","36","00","00","LIMA CENTRO"," "," ","I-1"]
[null,{"$f":"VALUE(renipress[[#This Row],[Código Único]])","v":26832},"PRIVADO","00026832","CLUB DENTAL JESUS MARIA","LIMA","LIMA","JESUS MARIA","150113","36","00","00","LIMA CENTRO"," "," ","I-1"]
[null,{"$f":"VALUE(renipress[[#This Row],[Código Único]])","v":26835},"PRIVADO","00026835","CENTRO MEDICO PERU JAPON","AMAZONAS","CHACHAPOYAS","CHACHAPOYAS","010101","1","00","00","AMAZONAS"," ","NO PERTENECE A NINGUNA MICRORED","I-2"]
[null,{"$f":"VALUE(renipress[[#This Row],[Código Único]])","v":26837},"PRIVADO","00026837","centro medico especializado  cayetano heredia E.I.R.L","PASCO","PASCO","CHAUPIMARCA","190101","27","00","00","PASCO"," ","NO PERTENECE A NINGUNA MICRORED","I-3"]
[null,{"$f":"VALUE(renipress[[#This Row],[Código Único]])","v":26838},"PRIVADO","00026838","OdontiSalud","AMAZONAS","CHACHAPOYAS","CHACHAPOYAS","010101","1","00","00","AMAZONAS"," "," ","I-1"]
[null,{"$f":"VALUE(renipress[[#This Row],[Código Único]])","v":26839},"GOBIERNO REGIONAL","00026839","PUESTO DE SALUD I-1 MARSELLA","LORETO","LORETO","TIGRE","160303","24","08","05","LORETO","LORETO","INTUTO","I-1"]
[null,{"$f":"VALUE(renipress[[#This Row],[Código Único]])","v":26841},"PRIVADO","00026841","BIOVAC","LIMA","LIMA","MIRAFLORES","150122","36","00","00","LIMA CENTRO"," "," ","Sin Categoría"]
[null,{"$f":"VALUE(renipress[[#This Row],[Código Único]])","v":26842},"PRIVADO","00026842","POLICLINICO SERVINORTE","LIMA","LIMA","INDEPENDENCIA","150112","35","00","00","LIMA NORTE"," ","NO PERTENECE A NINGUNA MICRORED","I-3"]
[null,{"$f":"VALUE(renipress[[#This Row],[Código Único]])","v":26843},"PRIVADO","00026843","SERVICIOS ODONTOLÓGICOS TAFUR","AMAZONAS","CHACHAPOYAS","CHACHAPOYAS","010101","1","00","00","AMAZONAS"," "," ","I-1"]
[null,{"$f":"VALUE(renipress[[#This Row],[Código Único]])","v":26844},"PRIVADO","00026844","MEDICENTRO DR. ALEX E. CCACHURA","LIMA","LIMA","LOS OLIVOS","150117","35","00","00","LIMA NORTE"," "," ","I-2"]
[null,{"$f":"VALUE(renipress[[#This Row],[Código Único]])","v":26845},"PRIVADO","00026845","CONSULTORIOS EXTERNOS PRIMAVERA","LIMA","LIMA","LOS OLIVOS","150117","35","00","00","LIMA NORTE"," "," ","I-2"]
[null,{"$f":"VALUE(renipress[[#This Row],[Código Único]])","v":26846},"PRIVADO","00026846","Consultorio Dental","LIMA","LIMA","SANTIAGO DE SURCO","150140","23","00","00","LIMA SUR"," "," ","I-1"]
[null,{"$f":"VALUE(renipress[[#This Row],[Código Único]])","v":26847},"PRIVADO","00026847","AP CENTROS MEDICOS CUYO CUYO E.I.R.L.","PUNO","SAN ROMAN","JULIACA","211101","29","00","00","PUNO"," "," ","I-3"]
[null,{"$f":"VALUE(renipress[[#This Row],[Código Único]])","v":26848},"PRIVADO","00026848","ESTETIC BEST","LIMA","LIMA","SAN BORJA","150130","36","00","00","LIMA CENTRO"," "," ","I-2"]
[null,{"$f":"VALUE(renipress[[#This Row],[Código Único]])","v":26849},"PRIVADO","00026849","DENTAL PACIFICO","LIMA","LIMA","PUENTE PIEDRA","150125","35","00","00","LIMA NORTE"," "," ","I-1"]
[null,{"$f":"VALUE(renipress[[#This Row],[Código Único]])","v":26850},"SANIDAD DEL EJERCITO DEL PERU","00026850","POSTA DE SALUD DE LA ESCUELA DE SELVA","SAN MARTIN","SAN MARTIN","SAUCE","220913","30","00","00","SAN MARTIN"," ","NO PERTENECE A NINGUNA MICRORED","I-2"]
[null,{"$f":"VALUE(renipress[[#This Row],[Código Único]])","v":26851},"PRIVADO","00026851","CENTRO MEDICO PSICOSOMATICO  SAN ANTONIO","JUNIN","HUANCAYO","CHILCA","120107","17","00","00","JUNIN"," ","NO PERTENECE A NINGUNA MICRORED","I-3"]
[null,{"$f":"VALUE(renipress[[#This Row],[Código Único]])","v":26852},"PRIVADO","00026852","FUNDACION EVIDENCIA CANNABIS PERU","LIMA","LIMA","SAN BORJA","150130","36","00","00","LIMA CENTRO"," "," ","I-2"]
[null,{"$f":"VALUE(renipress[[#This Row],[Código Único]])","v":26854},"PRIVADO","00026854","CONSULTORIO MEDICO CLUB NACIONAL","LIMA","LIMA","LIMA","150101","36","00","00","LIMA CENTRO"," "," ","I-2"]
[null,{"$f":"VALUE(renipress[[#This Row],[Código Único]])","v":26855},"PRIVADO","00026855","SANNA CENTRO DE SALUD OCUPACIONAL","LIMA","LIMA","LA VICTORIA","150115","36","00","00","LIMA CENTRO"," "," ","I-3"]
[null,{"$f":"VALUE(renipress[[#This Row],[Código Único]])","v":26856},"GOBIERNO REGIONAL","00026856","Centro de Salud Mental Comunitario  LIC. ENF. SILVIA VIOLETA CONDE SOSA","TUMBES","ZARUMILLA","ZARUMILLA","240301","33","01","01","TUMBES","TUMBES","ZARUMILLA","I-3"]
[null,{"$f":"VALUE(renipress[[#This Row],[Código Único]])","v":26857},"PRIVADO","00026857","CONSULTORIO SALUD FEMENINA","LIMA","LIMA","ATE","150103","21","00","00","LIMA ESTE"," "," ","I-1"]
[null,{"$f":"VALUE(renipress[[#This Row],[Código Único]])","v":26858},"PRIVADO","00026858","CONSULTORIO MEDICO HOPELAB","LIMA","LIMA","SANTA ANITA","150137","21","00","00","LIMA ESTE"," "," ","I-2"]
[null,{"$f":"VALUE(renipress[[#This Row],[Código Único]])","v":26859},"PRIVADO","00026859","ENDOGIN","PIURA","PIURA","PIURA","200101","28","00","00","PIURA"," "," ","I-3"]
[null,{"$f":"VALUE(renipress[[#This Row],[Código Único]])","v":26860},"PRIVADO","00026860","Centro Médico MEDIKAL S.R.L.","LIMA","BARRANCA","BARRANCA","150201","22","00","00","LIMA"," ","NO PERTENECE A NINGUNA MICRORED","I-3"]
[null,{"$f":"VALUE(renipress[[#This Row],[Código Único]])","v":26861},"PRIVADO","00026861","POLICLINICO AMC","LIMA","LIMA","EL AGUSTINO","150111","21","00","00","LIMA ESTE"," "," ","I-3"]
[null,{"$f":"VALUE(renipress[[#This Row],[Código Único]])","v":26862},"PRIVADO","00026862","CONSULTORIOS MEDICOS SALAMANCA","LIMA","LIMA","ATE","150103","21","00","00","LIMA ESTE"," "," ","I-1"]
[null,{"$f":"VALUE(renipress[[#This Row],[Código Único]])","v":26863},"PRIVADO","00026863","SMILES","LIMA","LIMA","LURIGANCHO","150118","21","00","00","LIMA ESTE"," "," ","I-1"]
[null,{"$f":"VALUE(renipress[[#This Row],[Código Único]])","v":26864},"PRIVADO","00026864","CENTRO MEDICO TU MEJOR OPCION K&M","LIMA","HUAURA","HUACHO","150801","22","00","00","LIMA"," "," ","I-3"]
[null,{"$f":"VALUE(renipress[[#This Row],[Código Único]])","v":26865},"PRIVADO","00026865","SERVICUSCO VIAL","CUSCO","CUSCO","WANCHAQ","080108","11","00","00","CUSCO"," "," ","I-3"]
[null,{"$f":"VALUE(renipress[[#This Row],[Código Único]])","v":26866},"PRIVADO","00026866","CUSCO VIAL","CUSCO","CUSCO","WANCHAQ","080108","11","00","00","CUSCO"," "," ","I-3"]
[null,{"$f":"VALUE(renipress[[#This Row],[Código Único]])","v":26867},"PRIVADO","00026867","ADVANCED DENTAL CARE","CUSCO","CUSCO","CUSCO","080101","11","00","00","CUSCO"," "," ","I-1"]
[null,{"$f":"VALUE(renipress[[#This Row],[Código Único]])","v":26868},"PRIVADO","00026868","DENTAL JORGE HERRAN RATH","JUNIN","HUANCAYO","HUANCAYO","120101","17","00","00","JUNIN"," "," ","I-1"]
[null,{"$f":"VALUE(renipress[[#This Row],[Código Único]])","v":26869},"PRIVADO","00026869","MEDFIS","CUSCO","CUSCO","SAN SEBASTIAN","080105","11","00","00","CUSCO"," "," ","I-2"]
[null,{"$f":"VALUE(renipress[[#This Row],[Código Único]])","v":26870},"PRIVADO","00026870","DENTAL CARRILLO","LIMA","LIMA","SANTA ANITA","150137","21","00","00","LIMA ESTE"," "," ","I-1"]
[null,{"$f":"VALUE(renipress[[#This Row],[Código Único]])","v":26871},"PRIVADO","00026871","CLINICA ARMAS","PASCO","PASCO","CHAUPIMARCA","190101","27","00","00","PASCO"," ","NO PERTENECE A NINGUNA MICRORED","I-3"]
[null,{"$f":"VALUE(renipress[[#This Row],[Código Único]])","v":26872},"PRIVADO","00026872","POLICLINICO HUAMPANI","LIMA","LIMA","CHACLACAYO","150107","21","00","00","LIMA ESTE"," ","NO PERTENECE A NINGUNA MICRORED","I-3"]
[null,{"$f":"VALUE(renipress[[#This Row],[Código Único]])","v":26873},"SANIDAD DEL EJERCITO DEL PERU","00026873","ENFERMERÍA DEL FUERTE MATACABALLO","PIURA","SECHURA","SECHURA","200801","28","00","00","PIURA"," ","NO PERTENECE A NINGUNA MICRORED","I-2"]
[null,{"$f":"VALUE(renipress[[#This Row],[Código Único]])","v":26874},"PRIVADO","00026874","Cristo Blanco","PUNO","SAN ROMAN","JULIACA","211101","29","00","00","PUNO"," "," ","I-2"]
[null,{"$f":"VALUE(renipress[[#This Row],[Código Único]])","v":26875},"PRIVADO","00026875","POLICLINICO SANTA MARIA MAGDALENA","LIMA","LIMA","MAGDALENA DEL MAR","150120","36","00","00","LIMA CENTRO"," "," ","I-3"]
[null,{"$f":"VALUE(renipress[[#This Row],[Código Único]])","v":26876},"PRIVADO","00026876","DENTALCARECLINIC","LIMA","LIMA","SAN LUIS","150134","36","00","00","LIMA CENTRO"," "," ","I-1"]
[null,{"$f":"VALUE(renipress[[#This Row],[Código Único]])","v":26877},"PRIVADO","00026877","CENTRO DE HEMOTERAPIA BANCO DE SANGRE","PUNO","SAN ROMAN","JULIACA","211101","29","00","00","PUNO"," ","NO PERTENECE A NINGUNA MICRORED","Sin Categoría"]
[null,{"$f":"VALUE(renipress[[#This Row],[Código Único]])","v":26878},"PRIVADO","00026878","odontologia integral ysla","LIMA","LIMA","LOS OLIVOS","150117","35","00","00","LIMA NORTE"," "," ","I-1"]
[null,{"$f":"VALUE(renipress[[#This Row],[Código Único]])","v":26879},"PRIVADO","00026879","CONDUCTORES SALUDABLES S.A.C.","LIMA","LIMA","LOS OLIVOS","150117","35","00","00","LIMA NORTE"," "," ","I-3"]
[null,{"$f":"VALUE(renipress[[#This Row],[Código Único]])","v":26880},"PRIVADO","00026880","DENTAL TAPIA","JUNIN","HUANCAYO","HUANCAYO","120101","17","00","00","JUNIN"," "," ","I-1"]
[null,{"$f":"VALUE(renipress[[#This Row],[Código Único]])","v":26881},"PRIVADO","00026881","VIDA.COM","JUNIN","HUANCAYO","HUANCAYO","120101","17","00","00","JUNIN"," "," ","I-1"]
[null,{"$f":"VALUE(renipress[[#This Row],[Código Único]])","v":26882},"PRIVADO","00026882","SICUANI","CUSCO","CANCHIS","SICUANI","080601","11","00","00","CUSCO"," "," ","I-2"]
[null,{"$f":"VALUE(renipress[[#This Row],[Código Único]])","v":26883},"PRIVADO","00026883","CONSULTORIO MEDICINA ESTÉTICA Y LÁSER","JUNIN","HUANCAYO","HUANCAYO","120101","17","00","00","JUNIN"," "," ","I-2"]
[null,{"$f":"VALUE(renipress[[#This Row],[Código Único]])","v":26884},"PRIVADO","00026884","CONSULTORIO ODONTOLOGICO RED DE SONRISAS","LIMA","LIMA","COMAS","150110","35","00","00","LIMA NORTE"," "," ","I-1"]
[null,{"$f":"VALUE(renipress[[#This Row],[Código Único]])","v":26885},"PRIVADO","00026885","Clinica Dental Arident","HUANUCO","HUANUCO","HUANUCO","100101","14","00","00","HUANUCO"," "," ","I-1"]
[null,{"$f":"VALUE(renipress[[#This Row],[Código Único]])","v":26886},"PRIVADO","00026886","CONSULTORIO KASSIMIRITO","LIMA","LIMA","MIRAFLORES","150122","36","00","00","LIMA CENTRO"," "," ","I-2"]
[null,{"$f":"VALUE(renipress[[#This Row],[Código Único]])","v":26887},"PRIVADO","00026887","dental karisma","LIMA","LIMA","LOS OLIVOS","150117","35","00","00","LIMA NORTE"," "," ","I-1"]
[null,{"$f":"VALUE(renipress[[#This Row],[Código Único]])","v":26889},"OTRO","00026889","CLÍNICA SAN CARLOS","PUNO","SAN ROMAN","JULIACA","211101","29","00","00","PUNO"," ","NO PERTENECE A NINGUNA MICRORED","I-4"]
[null,{"$f":"VALUE(renipress[[#This Row],[Código Único]])","v":26890},"PRIVADO","00026890","POLICLÍNICO SALUD SERVICES E.I.R.L.","HUANCAVELICA","HUANCAVELICA","HUANCAVELICA","090101","13","00","00","HUANCAVELICA"," "," ","I-3"]
[null,{"$f":"VALUE(renipress[[#This Row],[Código Único]])","v":26891},"PRIVADO","00026891","POLICLINICO PERUANO SUIZO CONSALUD","PUNO","SAN ROMAN","JULIACA","211101","29","00","00","PUNO"," "," ","I-3"]
[null,{"$f":"VALUE(renipress[[#This Row],[Código Único]])","v":26892},"MUNICIPALIDAD DISTRITAL","00026892","CENTRO MÉDICO MUNICIPAL DE LUYANDO","HUANUCO","LEONCIO PRADO","LUYANDO","100605","14","00","00","HUANUCO"," ","NO PERTENECE A NINGUNA MICRORED","I-1"]
[null,{"$f":"VALUE(renipress[[#This Row],[Código Único]])","v":26893},"PRIVADO","00026893","CENTRO DE ESPECIALIDADES MEDICAS DETECTA","HUANUCO","HUANUCO","HUANUCO","100101","14","00","00","HUANUCO"," ","NO PERTENECE A NINGUNA MICRORED","I-3"]
[null,{"$f":"VALUE(renipress[[#This Row],[Código Único]])","v":26894},"PRIVADO","00026894","CENTRO DEL RIÑON SANTA LUCIA","LA LIBERTAD","TRUJILLO","TRUJILLO","130101","18","00","00","LA LIBERTAD"," "," ","Sin Categoría"]
[null,{"$f":"VALUE(renipress[[#This Row],[Código Único]])","v":26895},"PRIVADO","00026895","VISAGE - CENTRO ESPECIALIZADO EN CIRUGÍA MAXILOFACIAL / MEDICINA ESTÉTICA FACIAL  Y OBSTETRICIA","PASCO","PASCO","YANACANCHA","190113","27","00","00","PASCO"," "," ","I-3"]
[null,{"$f":"VALUE(renipress[[#This Row],[Código Único]])","v":26896},"PRIVADO","00026896","CENTRO OFTALMOLOGICO NOBA VISION E.I.R.L.","PIURA","SULLANA","SULLANA","200601","28","00","00","PIURA"," "," ","I-2"]
[null,{"$f":"VALUE(renipress[[#This Row],[Código Único]])","v":26897},"PRIVADO","00026897","OPTICA NOBA VISION","PIURA","SULLANA","SULLANA","200601","28","00","00","PIURA"," "," ","Sin Categoría"]
[null,{"$f":"VALUE(renipress[[#This Row],[Código Único]])","v":26898},"GOBIERNO REGIONAL","00026898","CHINCHAYCOCHA","HUANUCO","PACHITEA","MOLINO","100803","14","11","03","HUANUCO","PACHITEA","MOLINO","I-1"]
[null,{"$f":"VALUE(renipress[[#This Row],[Código Único]])","v":26899},"OTRO","00026899","Laboratorio Clínico DIAGNÓSTICA","PIURA","TALARA","PARIÑAS","200701","28","00","00","PIURA"," ","NO PERTENECE A NINGUNA MICRORED","Sin Categoría"]
[null,{"$f":"VALUE(renipress[[#This Row],[Código Único]])","v":26900},"GOBIERNO REGIONAL","00026900","CENTRO DE SALUD MENTAL COMUNITARIO","PASCO","PASCO","YANACANCHA","190113","27","01","01","PASCO","PASCO","CENTRO","I-3"]
[null,{"$f":"VALUE(renipress[[#This Row],[Código Único]])","v":26901},"PRIVADO","00026901","IDERMA CAPILAR","LIMA","LIMA","MIRAFLORES","150122","36","00","00","LIMA CENTRO"," "," ","I-2"]
[null,{"$f":"VALUE(renipress[[#This Row],[Código Único]])","v":26902},"OTRO","00026902","POLICLINICO  MARIA DE LA RECONCILIACION","AREQUIPA","AREQUIPA","PAUCARPATA","040112","4","00","00","AREQUIPA"," ","NO PERTENECE A NINGUNA MICRORED","I-2"]
[null,{"$f":"VALUE(renipress[[#This Row],[Código Único]])","v":26903},"PRIVADO","00026903","UNIVERSIDAD CESAR VALLEJO","LA LIBERTAD","TRUJILLO","VICTOR LARCO HERRERA","130111","18","00","00","LA LIBERTAD"," "," ","I-3"]
[null,{"$f":"VALUE(renipress[[#This Row],[Código Único]])","v":26904},"PRIVADO","00026904","CLINICA DENTAL IMAGEN L& Q E.I.R.L.","AYACUCHO","HUAMANGA","AYACUCHO","050101","5","00","00","AYACUCHO"," ","NO PERTENECE A NINGUNA MICRORED","I-1"]
[null,{"$f":"VALUE(renipress[[#This Row],[Código Único]])","v":26906},"PRIVADO","00026906","DOCTOR SONRISA","CALLAO","CALLAO","BELLAVISTA","070102","8","00","00","CALLAO"," "," ","I-1"]
[null,{"$f":"VALUE(renipress[[#This Row],[Código Único]])","v":26907},"PRIVADO","00026907","SELE DENT","JUNIN","HUANCAYO","EL TAMBO","120114","17","00","00","JUNIN"," "," ","I-1"]
[null,{"$f":"VALUE(renipress[[#This Row],[Código Único]])","v":26908},"PRIVADO","00026908","LIDER DENT","LIMA","LIMA","COMAS","150110","35","00","00","LIMA NORTE"," "," ","I-1"]
[null,{"$f":"VALUE(renipress[[#This Row],[Código Único]])","v":26909},"PRIVADO","00026909","DENTAL SAMUEL","LIMA","LIMA","COMAS","150110","35","00","00","LIMA NORTE"," "," ","I-1"]
[null,{"$f":"VALUE(renipress[[#This Row],[Código Único]])","v":26910},"GOBIERNO REGIONAL","00026910","PUESTO DE SALUD QOYAMA","AYACUCHO","LA MAR","CHILCAS","050504","5","03","05","AYACUCHO","SAN MIGUEL","NINABAMBA","I-1"]
[null,{"$f":"VALUE(renipress[[#This Row],[Código Único]])","v":26912},"PRIVADO","00026912","LAB SALUD VIRGEN DE LOURDES E.I.R.L","HUANUCO","HUANUCO","HUANUCO","100101","14","00","00","HUANUCO"," ","NO PERTENECE A NINGUNA MICRORED","I-2"]
[null,{"$f":"VALUE(renipress[[#This Row],[Código Único]])","v":26914},"PRIVADO","00026914","CENTRO ODONTOLOGICO ORTODONCIA SMILE","PIURA","TALARA","PARIÑAS","200701","28","00","00","PIURA"," "," ","I-1"]
[null,{"$f":"VALUE(renipress[[#This Row],[Código Único]])","v":26915},"PRIVADO","00026915","CENTRO MEDICO ESPECIALIZADO SAN CRISTOBAL S.R.L.","HUANUCO","HUANUCO","HUANUCO","100101","14","00","00","HUANUCO"," "," ","I-3"]
[null,{"$f":"VALUE(renipress[[#This Row],[Código Único]])","v":26916},"PRIVADO","00026916","FISIOGROUPPERU","LIMA","LIMA","COMAS","150110","35","00","00","LIMA NORTE"," "," ","Sin Categoría"]
[null,{"$f":"VALUE(renipress[[#This Row],[Código Único]])","v":26917},"MINSA","00026917","OFERTA MÓVIL TIPO  EMT 2 Número 02","LIMA","LIMA","JESUS MARIA","150113","36","00","00","LIMA CENTRO","NO PERTENECE A NINGUNA RED","NO PERTENECE A NINGUNA MICRORED","Sin Categoría"]
[null,{"$f":"VALUE(renipress[[#This Row],[Código Único]])","v":26918},"GOBIERNO REGIONAL","00026918","CENTRO DE SALUD MENTAL COMUNITARIO UYARINA WASI","AYACUCHO","LA MAR","AYNA","050503","5","04","00","AYACUCHO","SAN FRANCISCO","NO PERTENECE A NINGUNA MICRORED","I-3"]
[null,{"$f":"VALUE(renipress[[#This Row],[Código Único]])","v":26919},"MINSA","00026919","OFERTA MÓVIL TIPO  EMT 2 Número 01","LIMA","LIMA","JESUS MARIA","150113","36","00","00","LIMA CENTRO","NO PERTENECE A NINGUNA RED","NO PERTENECE A NINGUNA MICRORED","Sin Categoría"]
[null,{"$f":"VALUE(renipress[[#This Row],[Código Único]])","v":26920},"MINSA","00026920","OFERTA MOVIL TIPO EMT 3 Número 01","LIMA","LIMA","JESUS MARIA","150113","36","00","00","LIMA CENTRO","NO PERTENECE A NINGUNA RED","NO PERTENECE A NINGUNA MICRORED","Sin Categoría"]
[null,{"$f":"VALUE(renipress[[#This Row],[Código Único]])","v":26921},"PRIVADO","00026921","DENTAL PERU","LIMA","LIMA","LA MOLINA","150114","21","00","00","LIMA ESTE"," "," ","I-1"]
[null,{"$f":"VALUE(renipress[[#This Row],[Código Único]])","v":26922},"PRIVADO","00026922","CENTRO MEDICO SOLIDARIO EL SALVADOR","PUNO","PUNO","PUNO","210101","29","00","00","PUNO"," "," ","I-2"]
[null,{"$f":"VALUE(renipress[[#This Row],[Código Único]])","v":26923},"PRIVADO","00026923","DERMA SALUD","LIMA","LIMA","ATE","150103","21","00","00","LIMA ESTE"," "," ","I-2"]
[null,{"$f":"VALUE(renipress[[#This Row],[Código Único]])","v":26924},"PRIVADO","00026924","CONSULTORIO ODONTOLOGICO GOLDENT","LIMA","LIMA","ATE","150103","21","00","00","LIMA ESTE"," "," ","I-1"]
[null,{"$f":"VALUE(renipress[[#This Row],[Código Único]])","v":26925},"PRIVADO","00026925","CONSULTORIO DENTAL","LIMA","LIMA","SANTA ANITA","150137","21","00","00","LIMA ESTE"," "," ","I-1"]
[null,{"$f":"VALUE(renipress[[#This Row],[Código Único]])","v":26926},"PRIVADO","00026926","CENTRO MEDICO NO TE PASES S.A.C","LIMA","HUAURA","SANTA MARIA","150810","22","00","00","LIMA"," "," ","I-3"]
[null,{"$f":"VALUE(renipress[[#This Row],[Código Único]])","v":26927},"MINSA","00026927","CENTRO DE SALUD MENTAL COMUNITARIO CATACAOS","PIURA","PIURA","CATACAOS","200105","28","02","01","PIURA","BAJO PIURA","CATACAOS","I-3"]
[null,{"$f":"VALUE(renipress[[#This Row],[Código Único]])","v":26928},"PRIVADO","00026928","CLINICA LA FLORIDA S.A.C.","PIURA","PIURA","PIURA","200101","28","00","00","PIURA"," ","NO PERTENECE A NINGUNA MICRORED","I-4"]
[null,{"$f":"VALUE(renipress[[#This Row],[Código Único]])","v":26929},"MINSA","00026929","CENTRO DE SALUD MENTAL COMUNITARIO SECHURA","PIURA","SECHURA","SECHURA","200801","28","02","02","PIURA","BAJO PIURA","SECHURA ","I-3"]
[null,{"$f":"VALUE(renipress[[#This Row],[Código Único]])","v":26930},"PRIVADO","00026930","PRETEL MEDIC","PIURA","PIURA","PIURA","200101","28","00","00","PIURA"," "," ","I-3"]
[null,{"$f":"VALUE(renipress[[#This Row],[Código Único]])","v":26931},"PRIVADO","00026931","Grand Dental","LIMA","LIMA","COMAS","150110","35","00","00","LIMA NORTE"," "," ","I-1"]
[null,{"$f":"VALUE(renipress[[#This Row],[Código Único]])","v":26932},"PRIVADO","00026932","INNOVA RENAL CENTER S.A.C.","LA LIBERTAD","TRUJILLO","TRUJILLO","130101","18","00","00","LA LIBERTAD"," ","NO PERTENECE A NINGUNA MICRORED","Sin Categoría"]
[null,{"$f":"VALUE(renipress[[#This Row],[Código Único]])","v":26933},"PRIVADO","00026933","CENTRO DE ESPECIALIDADES MEDICAS SAGRADO CORAZON","LA LIBERTAD","TRUJILLO","TRUJILLO","130101","18","00","00","LA LIBERTAD"," "," ","I-2"]
[null,{"$f":"VALUE(renipress[[#This Row],[Código Único]])","v":26934},"PRIVADO","00026934","FISIOTEC S.A.C.","LA LIBERTAD","TRUJILLO","VICTOR LARCO HERRERA","130111","18","00","00","LA LIBERTAD"," "," ","Sin Categoría"]
[null,{"$f":"VALUE(renipress[[#This Row],[Código Único]])","v":26935},"PRIVADO","00026935","CLÍNICA FÁTIMA","LA LIBERTAD","TRUJILLO","VICTOR LARCO HERRERA","130111","18","00","00","LA LIBERTAD"," ","NO PERTENECE A NINGUNA MICRORED","II-1"]
[null,{"$f":"VALUE(renipress[[#This Row],[Código Único]])","v":26936},"PRIVADO","00026936","CLINICA AVIVA SEDE MENDIOLA","LIMA","LIMA","LOS OLIVOS","150117","35","00","00","LIMA NORTE"," ","NO PERTENECE A NINGUNA MICRORED","II-E"]
[null,{"$f":"VALUE(renipress[[#This Row],[Código Único]])","v":26937},"PRIVADO","00026937","CONSULTORIO MEDICO LAS AMERICAS","LIMA","LIMA","SAN JUAN DE MIRAFLORES","150133","23","00","00","LIMA SUR"," "," ","I-2"]
[null,{"$f":"VALUE(renipress[[#This Row],[Código Único]])","v":26938},"PRIVADO","00026938","CONSULTORIO MEDICO MAPFRE SEDE SURCO","LIMA","LIMA","SANTIAGO DE SURCO","150140","23","00","00","LIMA SUR"," "," ","I-2"]
[null,{"$f":"VALUE(renipress[[#This Row],[Código Único]])","v":26939},"PRIVADO","00026939","VIGUDENT","LIMA","LIMA","VILLA EL SALVADOR","150142","23","00","00","LIMA SUR"," "," ","I-1"]
[null,{"$f":"VALUE(renipress[[#This Row],[Código Único]])","v":26940},"PRIVADO","00026940","CONSULTORIOS MEDICOS Y ODONTOLOGICOS BALTA","LIMA","LIMA","BARRANCO","150104","23","00","00","LIMA SUR"," "," ","I-2"]
[null,{"$f":"VALUE(renipress[[#This Row],[Código Único]])","v":26941},"PRIVADO","00026941","Consultorio Odontológico IMAGEN","LIMA","LIMA","CHORRILLOS","150108","23","00","00","LIMA SUR"," "," ","I-1"]
[null,{"$f":"VALUE(renipress[[#This Row],[Código Único]])","v":26942},"PRIVADO","00026942","CENTRO ODONTOLÓGICO ESPECIALIZADO NUEVA SONRISA","LIMA","LIMA","CHORRILLOS","150108","23","00","00","LIMA SUR"," "," ","I-3"]
[null,{"$f":"VALUE(renipress[[#This Row],[Código Único]])","v":26943},"PRIVADO","00026943","CONSULTORIO PSICOLÓGICO NUNAWASI","LIMA","LIMA","VILLA EL SALVADOR","150142","23","00","00","LIMA SUR"," "," ","I-1"]
[null,{"$f":"VALUE(renipress[[#This Row],[Código Único]])","v":26944},"PRIVADO","00026944","DENTAL SERVICE","LIMA","LIMA","SANTIAGO DE SURCO","150140","23","00","00","LIMA SUR"," "," ","I-1"]
[null,{"$f":"VALUE(renipress[[#This Row],[Código Único]])","v":26945},"PRIVADO","00026945","OdontoFec","LIMA","LIMA","VILLA MARIA DEL TRIUNFO","150143","23","00","00","LIMA SUR"," "," ","I-1"]
[null,{"$f":"VALUE(renipress[[#This Row],[Código Único]])","v":26946},"PRIVADO","00026946","CONSULTORIO DENTAL SOLIDARIDAD DE VILLA MARIA","LIMA","LIMA","VILLA MARIA DEL TRIUNFO","150143","23","00","00","LIMA SUR"," "," ","I-1"]
[null,{"$f":"VALUE(renipress[[#This Row],[Código Único]])","v":26947},"PRIVADO","00026947","KRASIVA DENTAL","LIMA","LIMA","CHORRILLOS","150108","23","00","00","LIMA SUR"," "," ","I-1"]
[null,{"$f":"VALUE(renipress[[#This Row],[Código Único]])","v":26948},"PRIVADO","00026948","ODONTOLOGIA INTEGRAL DLIMASUR","LIMA","LIMA","SANTIAGO DE SURCO","150140","23","00","00","LIMA SUR"," "," ","I-1"]
[null,{"$f":"VALUE(renipress[[#This Row],[Código Único]])","v":26949},"PRIVADO","00026949","EPSS DEL PILAR","AYACUCHO","HUAMANGA","AYACUCHO","050101","5","00","00","AYACUCHO"," "," ","I-3"]
[null,{"$f":"VALUE(renipress[[#This Row],[Código Único]])","v":26950},"PRIVADO","00026950","CENTRO INTERNACIONAL DE VACUNACIÓN","LIMA","BARRANCA","BARRANCA","150201","22","00","00","LIMA"," ","NO PERTENECE A NINGUNA MICRORED","Sin Categoría"]
[null,{"$f":"VALUE(renipress[[#This Row],[Código Único]])","v":26951},"PRIVADO","00026951","SAN MARCOS LAB","LIMA","HUAURA","HUACHO","150801","22","00","00","LIMA"," "," ","Sin Categoría"]
[null,{"$f":"VALUE(renipress[[#This Row],[Código Único]])","v":26952},"PRIVADO","00026952","LIZZETTI LABORATORIO CLÍNICO","LIMA","HUAURA","HUACHO","150801","22","00","00","LIMA"," "," ","Sin Categoría"]
[null,{"$f":"VALUE(renipress[[#This Row],[Código Único]])","v":26953},"PRIVADO","00026953","ÓPTICA AYCEL VISIÓN","LIMA","BARRANCA","BARRANCA","150201","22","00","00","LIMA"," "," ","Sin Categoría"]
[null,{"$f":"VALUE(renipress[[#This Row],[Código Único]])","v":26954},"PRIVADO","00026954","NEFROSUR EIRL","AREQUIPA","AREQUIPA","YANAHUARA","040126","4","00","00","AREQUIPA"," ","NO PERTENECE A NINGUNA MICRORED","Sin Categoría"]
[null,{"$f":"VALUE(renipress[[#This Row],[Código Único]])","v":26955},"PRIVADO","00026955","CONSULTORIO DENTAL LINARES ROJAS","AMAZONAS","UTCUBAMBA","BAGUA GRANDE","010701","1","00","00","AMAZONAS"," "," ","I-1"]
[null,{"$f":"VALUE(renipress[[#This Row],[Código Único]])","v":26956},"INPE","00026956","Puesto de Salud Establecimiento Penal Bagua Grande","AMAZONAS","UTCUBAMBA","BAGUA GRANDE","010701","1","00","00","AMAZONAS"," ","NO PERTENECE A NINGUNA MICRORED","I-1"]
[null,{"$f":"VALUE(renipress[[#This Row],[Código Único]])","v":26957},"PRIVADO","00026957","SEGALAB EIRL","LIMA","HUAURA","HUACHO","150801","22","00","00","LIMA"," "," ","Sin Categoría"]
[null,{"$f":"VALUE(renipress[[#This Row],[Código Único]])","v":26958},"PRIVADO","00026958","CALIDAD Y SALUD T&F  SAC","LAMBAYEQUE","CHICLAYO","CHICLAYO","140101","19","00","00","LAMBAYEQUE"," "," ","I-3"]
[null,{"$f":"VALUE(renipress[[#This Row],[Código Único]])","v":26959},"PRIVADO","00026959","Happy Dent Ayacucho","AYACUCHO","HUAMANGA","AYACUCHO","050101","5","00","00","AYACUCHO"," "," ","I-1"]
[null,{"$f":"VALUE(renipress[[#This Row],[Código Único]])","v":26960},"PRIVADO","00026960","CENTRO ODONTOLOGICO UNIDENT","PIURA","PIURA","CASTILLA","200104","28","00","00","PIURA"," "," ","I-1"]
[null,{"$f":"VALUE(renipress[[#This Row],[Código Único]])","v":26961},"PRIVADO","00026961","CLINICA DE OJOS GMR","LAMBAYEQUE","CHICLAYO","CHICLAYO","140101","19","00","00","LAMBAYEQUE"," "," ","I-2"]
[null,{"$f":"VALUE(renipress[[#This Row],[Código Único]])","v":26962},"PRIVADO","00026962","GASTRO CLINIC JR EIRL","LAMBAYEQUE","CHICLAYO","CHICLAYO","140101","19","00","00","LAMBAYEQUE"," "," ","I-2"]
[null,{"$f":"VALUE(renipress[[#This Row],[Código Único]])","v":26963},"PRIVADO","00026963","DENTAL COSMETICS","PIURA","PIURA","CASTILLA","200104","28","00","00","PIURA"," "," ","I-1"]
[null,{"$f":"VALUE(renipress[[#This Row],[Código Único]])","v":26964},"OTRO","00026964","CENTRO MEDICO ESPECIALIZADO EN DIABETES Y ENDOCRINOLOGIA DEL NORTE (CEDEN EIRL)","LAMBAYEQUE","CHICLAYO","CHICLAYO","140101","19","00","00","LAMBAYEQUE"," ","NO PERTENECE A NINGUNA MICRORED","I-3"]
[null,{"$f":"VALUE(renipress[[#This Row],[Código Único]])","v":26966},"PRIVADO","00026966","WISAR SALUD","LORETO","MAYNAS","SAN JUAN BAUTISTA","160113","24","00","00","LORETO"," "," ","I-3"]
[null,{"$f":"VALUE(renipress[[#This Row],[Código Único]])","v":26967},"PRIVADO","00026967","CENTRO MEDICO LOS ANDES","PIURA","HUANCABAMBA","HUARMACA","200304","28","00","00","PIURA"," "," ","I-3"]
[null,{"$f":"VALUE(renipress[[#This Row],[Código Único]])","v":26968},"PRIVADO","00026968","CENTRO MEDICO CORPONOVA","SAN MARTIN","SAN MARTIN","TARAPOTO","220901","30","00","00","SAN MARTIN"," "," ","I-3"]
[null,{"$f":"VALUE(renipress[[#This Row],[Código Único]])","v":26969},"PRIVADO","00026969","CENTRO MEDICO LOS ANGELES EN EL CIELO SAC","LIMA","HUAURA","SANTA MARIA","150810","22","00","00","LIMA"," "," ","I-3"]
[null,{"$f":"VALUE(renipress[[#This Row],[Código Único]])","v":26970},"GOBIERNO REGIONAL","00026970","SAMU JUNIN","JUNIN","HUANCAYO","EL TAMBO","120114","17","00","00","JUNIN","NO PERTENECE A NINGUNA RED","NO PERTENECE A NINGUNA MICRORED","Sin Categoría"]
[null,{"$f":"VALUE(renipress[[#This Row],[Código Único]])","v":26971},"PRIVADO","00026971","GENOMICS PERU S.A.C.","LIMA","LIMA","SANTIAGO DE SURCO","150140","23","00","00","LIMA SUR"," "," ","Sin Categoría"]
[null,{"$f":"VALUE(renipress[[#This Row],[Código Único]])","v":26972},"MINSA","00026972","PUESTO DE SALUD LA ARBOLEDA","LIMA","LIMA","SANTA ROSA","150139","35","00","00","LIMA NORTE","NO PERTENECE A NINGUNA RED","NO PERTENECE A NINGUNA MICRORED","I-2"]
[null,{"$f":"VALUE(renipress[[#This Row],[Código Único]])","v":26973},"PRIVADO","00026973","PUNTO DENTAL .  CONSULTORIO","PIURA","PIURA","PIURA","200101","28","00","00","PIURA"," "," ","I-1"]
[null,{"$f":"VALUE(renipress[[#This Row],[Código Único]])","v":26974},"PRIVADO","00026974","CENTRO ODONTOLOGICO FISIO DENT","PIURA","PIURA","PIURA","200101","28","00","00","PIURA"," "," ","I-1"]
[null,{"$f":"VALUE(renipress[[#This Row],[Código Único]])","v":26975},"PRIVADO","00026975","POLICLINICO DE LA FRATERNIDAD","JUNIN","HUANCAYO","HUANCAYO","120101","17","00","00","JUNIN"," "," ","I-3"]
[null,{"$f":"VALUE(renipress[[#This Row],[Código Único]])","v":26976},"PRIVADO","00026976","PERU MEDIC","JUNIN","HUANCAYO","CHILCA","120107","17","00","00","JUNIN"," "," ","I-3"]
[null,{"$f":"VALUE(renipress[[#This Row],[Código Único]])","v":26977},"PRIVADO","00026977","CENTRO MEDICO SOLINMMA","JUNIN","HUANCAYO","CHILCA","120107","17","00","00","JUNIN"," "," ","I-3"]
[null,{"$f":"VALUE(renipress[[#This Row],[Código Único]])","v":26978},"PRIVADO","00026978","Centro Medico Santísimo Señor de Luren","LIMA","CAÑETE","SAN VICENTE DE CAÑETE","150501","22","07","01","LIMA","RED VII CA¥ETE - YAUYOS","SAN VICENTE","I-3"]
[null,{"$f":"VALUE(renipress[[#This Row],[Código Único]])","v":26979},"PRIVADO","00026979","Centro de Atención Integral Sumaq kausay","PUNO","SAN ROMAN","SAN MIGUEL","211105","29","00","00","PUNO"," "," ","I-2"]
[null,{"$f":"VALUE(renipress[[#This Row],[Código Único]])","v":26980},"PRIVADO","00026980","CLINICA MATERNIDAD JULIACA","PUNO","SAN ROMAN","JULIACA","211101","29","00","00","PUNO"," "," ","I-4"]
[null,{"$f":"VALUE(renipress[[#This Row],[Código Único]])","v":26981},"PRIVADO","00026981","CONSULTORIO MEDICO LIFE & HOPE","LIMA","LIMA","MIRAFLORES","150122","36","00","00","LIMA CENTRO"," "," ","I-2"]
[null,{"$f":"VALUE(renipress[[#This Row],[Código Único]])","v":26982},"PRIVADO","00026982","HYPNOS PLUS S.A.C.","LIMA","LIMA","SANTIAGO DE SURCO","150140","23","00","00","LIMA SUR"," "," ","I-2"]
[null,{"$f":"VALUE(renipress[[#This Row],[Código Único]])","v":26983},"MINSA","00026983","CENTRO DE SALUD MENTAL COMUNITARIO LA PERLA","CALLAO","CALLAO","LA PERLA","070104","8","02","04","CALLAO","BEPECA","BELLAVISTA","I-3"]
[null,{"$f":"VALUE(renipress[[#This Row],[Código Único]])","v":26984},"PRIVADO","00026984","HZ MEDIC INDEPENDENCIA","LIMA","LIMA","INDEPENDENCIA","150112","35","00","00","LIMA NORTE"," "," ","Sin Categoría"]
[null,{"$f":"VALUE(renipress[[#This Row],[Código Único]])","v":26985},"OTRO","00026985","MEDICINA ESTETICA Y LASER","LIMA","LIMA","SANTIAGO DE SURCO","150140","23","00","00","LIMA SUR"," ","NO PERTENECE A NINGUNA MICRORED","I-2"]
[null,{"$f":"VALUE(renipress[[#This Row],[Código Único]])","v":26986},"PRIVADO","00026986","ARTE Y SALUD BUCAL","LIMA","LIMA","SAN JUAN DE MIRAFLORES","150133","23","00","00","LIMA SUR"," "," ","I-1"]
[null,{"$f":"VALUE(renipress[[#This Row],[Código Único]])","v":26987},"PRIVADO","00026987","APPLE DENT EIRL","LIMA","LIMA","SANTIAGO DE SURCO","150140","23","00","00","LIMA SUR"," "," ","I-1"]
[null,{"$f":"VALUE(renipress[[#This Row],[Código Único]])","v":26988},"PRIVADO","00026988","PEDIATRICKS","LIMA","LIMA","VILLA MARIA DEL TRIUNFO","150143","23","00","00","LIMA SUR"," "," ","I-2"]
[null,{"$f":"VALUE(renipress[[#This Row],[Código Único]])","v":26989},"PRIVADO","00026989","POLICLINICO OXIMEDICSAC","PUNO","PUNO","PUNO","210101","29","00","00","PUNO"," ","NO PERTENECE A NINGUNA MICRORED","I-3"]
[null,{"$f":"VALUE(renipress[[#This Row],[Código Único]])","v":26990},"PRIVADO","00026990","ODONTHOSMART","LIMA","LIMA","SAN JUAN DE MIRAFLORES","150133","23","00","00","LIMA SUR"," "," ","I-1"]
[null,{"$f":"VALUE(renipress[[#This Row],[Código Único]])","v":26991},"PRIVADO","00026991","POLICLINICO SEÑOR DE LOS MILAGROS","LIMA","LIMA","LURIN","150119","23","00","00","LIMA SUR"," "," ","I-3"]
[null,{"$f":"VALUE(renipress[[#This Row],[Código Único]])","v":26992},"PRIVADO","00026992","POLICLINICO MEDICINA VIAL V.E.S.","LIMA","LIMA","VILLA EL SALVADOR","150142","23","00","00","LIMA SUR"," "," ","I-3"]
[null,{"$f":"VALUE(renipress[[#This Row],[Código Único]])","v":26993},"PRIVADO","00026993","CONSULTORIO CARDIOVASCULAR","LIMA","LIMA","SANTIAGO DE SURCO","150140","23","00","00","LIMA SUR"," "," ","I-2"]
[null,{"$f":"VALUE(renipress[[#This Row],[Código Único]])","v":26995},"PRIVADO","00026995","LABORATORIO DE ANÁLISIS BIOQUÍMICOS Y CLÍNICOS ROMAN","TUMBES","TUMBES","TUMBES","240101","33","00","00","TUMBES"," "," ","Sin Categoría"]
[null,{"$f":"VALUE(renipress[[#This Row],[Código Único]])","v":26996},"MINSA","00026996","CENTRO DE SALUD MENTAL COMUNITARIO DAVID TEJADA DE RIVERO","LIMA","LIMA","EL AGUSTINO","150111","21","00","00","LIMA ESTE","NO PERTENECE A NINGUNA RED","NO PERTENECE A NINGUNA MICRORED","I-2"]
[null,{"$f":"VALUE(renipress[[#This Row],[Código Único]])","v":26997},"PRIVADO","00026997","CONSULTORIO DENTAL ODONTOCENT","LIMA","LIMA","SANTA ANITA","150137","21","00","00","LIMA ESTE"," "," ","I-1"]
[null,{"$f":"VALUE(renipress[[#This Row],[Código Único]])","v":26998},"PRIVADO","00026998","CALYPSO","CUSCO","CUSCO","WANCHAQ","080108","11","00","00","CUSCO"," "," ","I-3"]
[null,{"$f":"VALUE(renipress[[#This Row],[Código Único]])","v":26999},"MINSA","00026999","CENTRO DE SALUD MENTAL COMUNITARIO SANTA ANITA","LIMA","LIMA","SANTA ANITA","150137","21","00","00","LIMA ESTE","NO PERTENECE A NINGUNA RED","NO PERTENECE A NINGUNA MICRORED","I-2"]
[null,{"$f":"VALUE(renipress[[#This Row],[Código Único]])","v":27000},"PRIVADO","00027000","CONSULTORIOS MEDICOS LABORATORIOS R y R","LIMA","LIMA","ATE","150103","21","00","00","LIMA ESTE"," "," ","I-2"]
[null,{"$f":"VALUE(renipress[[#This Row],[Código Único]])","v":27001},"PRIVADO","00027001","CONSULTORIO DE TERAPIA FISICA SANTA BEATRIZ","LIMA","LIMA","SANTA ANITA","150137","21","00","00","LIMA ESTE"," "," ","Sin Categoría"]
[null,{"$f":"VALUE(renipress[[#This Row],[Código Único]])","v":27002},"GOBIERNO REGIONAL","00027002","LA UNION","SAN MARTIN","HUALLAGA","SACANCHE","220405","30","08","02","SAN MARTIN","HUALLAGA","SACANCHE","I-1"]
[null,{"$f":"VALUE(renipress[[#This Row],[Código Único]])","v":27003},"PRIVADO","00027003","Dentplus","JUNIN","HUANCAYO","HUANCAYO","120101","17","00","00","JUNIN"," "," ","I-1"]
[null,{"$f":"VALUE(renipress[[#This Row],[Código Único]])","v":27004},"PRIVADO","00027004","CONSULTORIO - CENTRO REUMATOLOGICO MAYORCA","JUNIN","HUANCAYO","HUANCAYO","120101","17","00","00","JUNIN"," "," ","I-2"]
[null,{"$f":"VALUE(renipress[[#This Row],[Código Único]])","v":27006},"OTRO","00027006","SERAX MED","TACNA","TACNA","TACNA","230101","32","00","00","TACNA","NO PERTENECE A NINGUNA RED","NO PERTENECE A NINGUNA MICRORED","Sin Categoría"]
[null,{"$f":"VALUE(renipress[[#This Row],[Código Único]])","v":27007},"PRIVADO","00027007","OPTICA NOVA","CAJAMARCA","JAEN","JAEN","060801","7","00","00","CAJAMARCA"," "," ","Sin Categoría"]
[null,{"$f":"VALUE(renipress[[#This Row],[Código Único]])","v":27008},"GOBIERNO REGIONAL","00027008","ANTUYO","CUSCO","CHUMBIVILCAS","LLUSCO","080706","11","06","09","CUSCO","CHUMBIVILCAS","SANTO TOMAS","I-1"]
[null,{"$f":"VALUE(renipress[[#This Row],[Código Único]])","v":27009},"GOBIERNO REGIONAL","00027009","TAHUAY","CUSCO","CHUMBIVILCAS","CAPACMARCA","080702","11","06","09","CUSCO","CHUMBIVILCAS","SANTO TOMAS","I-1"]
[null,{"$f":"VALUE(renipress[[#This Row],[Código Único]])","v":27011},"GOBIERNO REGIONAL","00027011","AYACCASI","CUSCO","CHUMBIVILCAS","VELILLE","080708","11","06","09","CUSCO","CHUMBIVILCAS","SANTO TOMAS","I-1"]
[null,{"$f":"VALUE(renipress[[#This Row],[Código Único]])","v":27012},"PRIVADO","00027012","BEJAR","CUSCO","LA CONVENCION","SANTA ANA","080901","11","00","00","CUSCO"," "," ","I-2"]
[null,{"$f":"VALUE(renipress[[#This Row],[Código Único]])","v":27013},"PRIVADO","00027013","DOCTOR LAB","CUSCO","CUSCO","WANCHAQ","080108","11","00","00","CUSCO"," "," ","I-3"]
[null,{"$f":"VALUE(renipress[[#This Row],[Código Único]])","v":27014},"PRIVADO","00027014","TU BREVETE.COM","LIMA","LIMA","LOS OLIVOS","150117","35","00","00","LIMA NORTE"," "," ","I-3"]
[null,{"$f":"VALUE(renipress[[#This Row],[Código Único]])","v":27015},"PRIVADO","00027015","CONSULTORIO DENTAL ROBLES","LIMA","LIMA","SANTA ANITA","150137","21","00","00","LIMA ESTE"," "," ","I-1"]
[null,{"$f":"VALUE(renipress[[#This Row],[Código Único]])","v":27016},"GOBIERNO REGIONAL","00027016","HUAYCUÑUTA - URCURUTA","CUSCO","CHUMBIVILCAS","VELILLE","080708","11","06","09","CUSCO","CHUMBIVILCAS","SANTO TOMAS","I-1"]
[null,{"$f":"VALUE(renipress[[#This Row],[Código Único]])","v":27017},"PRIVADO","00027017","CONSULTORIO MEDICO SOLIDARIO DE ATE","LIMA","LIMA","ATE","150103","21","00","00","LIMA ESTE"," "," ","I-2"]
[null,{"$f":"VALUE(renipress[[#This Row],[Código Único]])","v":27018},"PRIVADO","00027018","CENTRO MEDICO MIKELLA MED E.I.R.L.","PUNO","SAN ROMAN","JULIACA","211101","29","00","00","PUNO"," "," ","I-3"]
[null,{"$f":"VALUE(renipress[[#This Row],[Código Único]])","v":27019},"PRIVADO","00027019","CONSULTORIO ODONTOLOGICO NUEVA SONRISA","JUNIN","HUANCAYO","HUANCAYO","120101","17","00","00","JUNIN"," "," ","I-1"]
[null,{"$f":"VALUE(renipress[[#This Row],[Código Único]])","v":27020},"PRIVADO","00027020","CONSULTORIO DENTAL ORAL BOZA","JUNIN","HUANCAYO","HUANCAYO","120101","17","00","00","JUNIN"," "," ","I-1"]
[null,{"$f":"VALUE(renipress[[#This Row],[Código Único]])","v":27021},"GOBIERNO REGIONAL","00027021","nueva esperanza","CAJAMARCA","HUALGAYOC","BAMBAMARCA","060701","7","11","05","CAJAMARCA","BAMBAMARCA","VIRGEN DEL CARMEN","I-1"]
[null,{"$f":"VALUE(renipress[[#This Row],[Código Único]])","v":27022},"PRIVADO","00027022","DENTAL CADENT","LIMA","LIMA","SANTA ANITA","150137","21","00","00","LIMA ESTE"," "," ","I-1"]
[null,{"$f":"VALUE(renipress[[#This Row],[Código Único]])","v":27023},"PRIVADO","00027023","CENTRO ODONTOLOGICO TORRES","JUNIN","HUANCAYO","HUANCAYO","120101","17","00","00","JUNIN"," "," ","I-3"]
[null,{"$f":"VALUE(renipress[[#This Row],[Código Único]])","v":27024},"PRIVADO","00027024","MULTIDENTAL PLUS","LIMA","LIMA","SANTA ANITA","150137","21","00","00","LIMA ESTE"," "," ","I-1"]
[null,{"$f":"VALUE(renipress[[#This Row],[Código Único]])","v":27025},"PRIVADO","00027025","POLICLINICO ÑAHUI SALUD","LIMA","LIMA","ATE","150103","21","00","00","LIMA ESTE"," "," ","I-2"]
[null,{"$f":"VALUE(renipress[[#This Row],[Código Único]])","v":27026},"PRIVADO","00027026","SANTA RITA","LA LIBERTAD","TRUJILLO","TRUJILLO","130101","18","00","00","LA LIBERTAD"," "," ","I-3"]
[null,{"$f":"VALUE(renipress[[#This Row],[Código Único]])","v":27027},"PRIVADO","00027027","Lili Dent Centro Odontológico E.I.R.L","CAJAMARCA","JAEN","JAEN","060801","7","00","00","CAJAMARCA"," "," ","I-2"]
[null,{"$f":"VALUE(renipress[[#This Row],[Código Único]])","v":27028},"PRIVADO","00027028","EL GALENO DE ICA","LA LIBERTAD","TRUJILLO","TRUJILLO","130101","18","00","00","LA LIBERTAD"," "," ","I-3"]
[null,{"$f":"VALUE(renipress[[#This Row],[Código Único]])","v":27030},"PRIVADO","00027030","DENTAL ZAPATA","PIURA","PIURA","CASTILLA","200104","28","00","00","PIURA"," "," ","I-1"]
[null,{"$f":"VALUE(renipress[[#This Row],[Código Único]])","v":27032},"PRIVADO","00027032","MIS TERAPIAS","CALLAO","CALLAO","CALLAO","070101","8","00","00","CALLAO"," "," ","I-1"]
[null,{"$f":"VALUE(renipress[[#This Row],[Código Único]])","v":27033},"PRIVADO","00027033","CONSULTORIO DENTAL EL PROGRESO","CALLAO","CALLAO","BELLAVISTA","070102","8","00","00","CALLAO"," "," ","I-1"]
[null,{"$f":"VALUE(renipress[[#This Row],[Código Único]])","v":27034},"PRIVADO","00027034","CARLIDENT Odontologia Integral","CALLAO","CALLAO","BELLAVISTA","070102","8","00","00","CALLAO"," "," ","I-1"]
[null,{"$f":"VALUE(renipress[[#This Row],[Código Único]])","v":27035},"PRIVADO","00027035","MEDICENTRO SAN PEDRO","LIMA","HUAURA","SANTA MARIA","150810","22","00","00","LIMA"," "," ","I-3"]
[null,{"$f":"VALUE(renipress[[#This Row],[Código Único]])","v":27036},"PRIVADO","00027036","SIADENT","AMAZONAS","CHACHAPOYAS","CHACHAPOYAS","010101","1","00","00","AMAZONAS"," "," ","I-1"]
[null,{"$f":"VALUE(renipress[[#This Row],[Código Único]])","v":27037},"PRIVADO","00027037","NOVOA DENT","AMAZONAS","CHACHAPOYAS","CHACHAPOYAS","010101","1","00","00","AMAZONAS"," "," ","I-1"]
[null,{"$f":"VALUE(renipress[[#This Row],[Código Único]])","v":27038},"PRIVADO","00027038","ODONTOLUZ","AMAZONAS","CHACHAPOYAS","CHACHAPOYAS","010101","1","00","00","AMAZONAS"," "," ","I-1"]
[null,{"$f":"VALUE(renipress[[#This Row],[Código Único]])","v":27039},"PRIVADO","00027039","CENTRO MEDICO ESPECIALIZADO DEL ORIENTE SAC","UCAYALI","CORONEL PORTILLO","CALLERIA","250101","34","00","00","UCAYALI"," "," ","Sin Categoría"]
[null,{"$f":"VALUE(renipress[[#This Row],[Código Único]])","v":27040},"PRIVADO","00027040","dental silvera","APURIMAC","ANDAHUAYLAS","ANDAHUAYLAS","030201","3","00","00","APURIMAC"," "," ","I-1"]
[null,{"$f":"VALUE(renipress[[#This Row],[Código Único]])","v":27041},"PRIVADO","00027041","Consultorio Dental ANDIA","APURIMAC","ANDAHUAYLAS","ANDAHUAYLAS","030201","3","00","00","APURIMAC"," "," ","I-1"]
[null,{"$f":"VALUE(renipress[[#This Row],[Código Único]])","v":27042},"PRIVADO","00027042","POLICLÍNICO MAS VIDA","APURIMAC","ANDAHUAYLAS","ANDAHUAYLAS","030201","3","00","00","APURIMAC"," "," ","I-3"]
[null,{"$f":"VALUE(renipress[[#This Row],[Código Único]])","v":27043},"PRIVADO","00027043","Luminiere","CUSCO","CUSCO","SAN SEBASTIAN","080105","11","00","00","CUSCO"," "," ","I-1"]
[null,{"$f":"VALUE(renipress[[#This Row],[Código Único]])","v":27044},"PRIVADO","00027044","CENTRO MEDICO ODONTOLOGICO BELLO HORIZONTE","PIURA","PIURA","PIURA","200101","28","00","00","PIURA"," "," ","I-1"]
[null,{"$f":"VALUE(renipress[[#This Row],[Código Único]])","v":27045},"PRIVADO","00027045","SANDOLAB","CALLAO","CALLAO","CARMEN DE LA LEGUA-REYNOSO","070103","8","00","00","CALLAO"," "," ","Sin Categoría"]
[null,{"$f":"VALUE(renipress[[#This Row],[Código Único]])","v":27046},"PRIVADO","00027046","Dental Abregú","AYACUCHO","HUAMANGA","AYACUCHO","050101","5","00","00","AYACUCHO"," ","NO PERTENECE A NINGUNA MICRORED","I-1"]
[null,{"$f":"VALUE(renipress[[#This Row],[Código Único]])","v":27047},"PRIVADO","00027047","CONSULTORIO DE ENFERMERIA BUEN PASTOR","LIMA","LIMA","SANTA ANITA","150137","21","00","00","LIMA ESTE"," "," ","I-1"]
[null,{"$f":"VALUE(renipress[[#This Row],[Código Único]])","v":27048},"PRIVADO","00027048","Consultorio Odontologico Luc Dent","LIMA","LIMA","ATE","150103","21","00","00","LIMA ESTE"," "," ","I-1"]
[null,{"$f":"VALUE(renipress[[#This Row],[Código Único]])","v":27049},"PRIVADO","00027049","CENTRO DE DIAGNOSTICO  Y APOYO MEDICO DIAGNOSTICLAB","PIURA","PIURA","VEINTISEIS DE OCTUBRE","200115","28","00","00","PIURA"," "," ","Sin Categoría"]
[null,{"$f":"VALUE(renipress[[#This Row],[Código Único]])","v":27050},"PRIVADO","00027050","EXCELLENT DENT","LIMA","LIMA","ATE","150103","21","00","00","LIMA ESTE"," "," ","I-1"]
[null,{"$f":"VALUE(renipress[[#This Row],[Código Único]])","v":27051},"GOBIERNO REGIONAL","00027051","CENTRO DE SALUD MENTAL COMUNITARIO PAKKARIN","HUANUCO","HUANUCO","AMARILIS","100102","14","01","06","HUANUCO","HUANUCO","AMARILIS","I-3"]
[null,{"$f":"VALUE(renipress[[#This Row],[Código Único]])","v":27052},"PRIVADO","00027052","REMOTTI","AMAZONAS","BONGARA","JAZAN","010307","1","00","00","AMAZONAS"," "," ","I-1"]
[null,{"$f":"VALUE(renipress[[#This Row],[Código Único]])","v":27053},"PRIVADO","00027053","CONSULTORIO ODONTOLOGICO DUODENT","AMAZONAS","BONGARA","JAZAN","010307","1","00","00","AMAZONAS"," "," ","I-1"]
[null,{"$f":"VALUE(renipress[[#This Row],[Código Único]])","v":27054},"PRIVADO","00027054","CLINICA DE EMERGENCIAS NUESTRA SEÑORA DE GUADALUPE","PUNO","PUNO","PUNO","210101","29","00","00","PUNO"," "," ","I-4"]
[null,{"$f":"VALUE(renipress[[#This Row],[Código Único]])","v":27055},"PRIVADO","00027055","SRG Lab","CUSCO","CHUMBIVILCAS","SANTO TOMAS","080701","11","00","00","CUSCO"," "," ","Sin Categoría"]
[null,{"$f":"VALUE(renipress[[#This Row],[Código Único]])","v":27056},"PRIVADO","00027056","CENTRO MÉDICO ESTÉTICO CATTLEYA","LORETO","MAYNAS","PUNCHANA","160108","24","00","00","LORETO"," "," ","I-2"]
[null,{"$f":"VALUE(renipress[[#This Row],[Código Único]])","v":27057},"MINSA","00027057","CENTRO DE SALUD MENTAL COMUNITARIO RIJCHARIY (DESPIERTA)","LIMA","LIMA","ANCON","150102","35","00","00","LIMA NORTE","NO PERTENECE A NINGUNA RED","NO PERTENECE A NINGUNA MICRORED","I-3"]
[null,{"$f":"VALUE(renipress[[#This Row],[Código Único]])","v":27058},"PRIVADO","00027058","POLICLINICO ADONAI","LIMA","LIMA","COMAS","150110","35","00","00","LIMA NORTE"," ","NO PERTENECE A NINGUNA MICRORED","I-3"]
[null,{"$f":"VALUE(renipress[[#This Row],[Código Único]])","v":27059},"PRIVADO","00027059","LICENCIAS MEDI CAR S.A.C.","PIURA","PIURA","PIURA","200101","28","00","00","PIURA"," "," ","I-3"]
[null,{"$f":"VALUE(renipress[[#This Row],[Código Único]])","v":27060},"PRIVADO","00027060","POLICLINICO FE SEDE COMAS","LIMA","LIMA","COMAS","150110","35","00","00","LIMA NORTE"," "," ","I-2"]
[null,{"$f":"VALUE(renipress[[#This Row],[Código Único]])","v":27061},"PRIVADO","00027061","UROCENTRO","TACNA","TACNA","TACNA","230101","32","00","00","TACNA"," "," ","I-2"]
[null,{"$f":"VALUE(renipress[[#This Row],[Código Único]])","v":27062},"MINSA","00027062","CENTRO DE SALUD MENTAL COMUNITARIO PRÓCERES DE LA INDEPENDENCIA","UCAYALI","CORONEL PORTILLO","MANANTAY","250107","34","01","02","UCAYALI","CORONEL  PORTILLO","09 DE OCTUBRE","I-3"]
[null,{"$f":"VALUE(renipress[[#This Row],[Código Único]])","v":27063},"PRIVADO","00027063","Asiri Sumaq","AMAZONAS","CHACHAPOYAS","CHACHAPOYAS","010101","1","00","00","AMAZONAS"," "," ","I-1"]
[null,{"$f":"VALUE(renipress[[#This Row],[Código Único]])","v":27064},"GOBIERNO REGIONAL","00027064","CENTRO DE SALUD MENTAL COMUNITARIO VALLE POCOLLAY","TACNA","TACNA","POCOLLAY","230108","32","01","06","TACNA","TACNA","FRONTERA","I-3"]
[null,{"$f":"VALUE(renipress[[#This Row],[Código Único]])","v":27065},"PRIVADO","00027065","CLÍNICA ILAVE","PUNO","EL COLLAO","ILAVE","210501","29","00","00","PUNO"," "," ","I-4"]
[null,{"$f":"VALUE(renipress[[#This Row],[Código Único]])","v":27066},"PRIVADO","00027066","CENTRO MEDICO MEDIDENT","PUNO","PUNO","PUNO","210101","29","00","00","PUNO"," "," ","I-3"]
[null,{"$f":"VALUE(renipress[[#This Row],[Código Único]])","v":27067},"PRIVADO","00027067","MILKDENT","LIMA","LIMA","LA MOLINA","150114","21","00","00","LIMA ESTE"," "," ","I-1"]
[null,{"$f":"VALUE(renipress[[#This Row],[Código Único]])","v":27068},"MINSA","00027068","CENTRO DE SALUD MENTAL COMUNITARIO SANTA ROSA DE HUAYCAN","LIMA","LIMA","ATE","150103","21","00","00","LIMA ESTE","NO PERTENECE A NINGUNA RED","NO PERTENECE A NINGUNA MICRORED","I-2"]
[null,{"$f":"VALUE(renipress[[#This Row],[Código Único]])","v":27069},"GOBIERNO REGIONAL","00027069","CENTRO DE SALUD MENTAL COMUNITARIO ESPERANZA DE VIDA","CAJAMARCA","CAJAMARCA","CAJAMARCA","060101","7","02","00","CAJAMARCA","CAJAMARCA","NO PERTENECE A NINGUNA MICRORED","I-3"]
[null,{"$f":"VALUE(renipress[[#This Row],[Código Único]])","v":27070},"PRIVADO","00027070","CENTRO MEDICO LA LUZ SOCIEDAD ANONIMA CERRADA","PUNO","SAN ROMAN","JULIACA","211101","29","00","00","PUNO"," "," ","I-3"]
[null,{"$f":"VALUE(renipress[[#This Row],[Código Único]])","v":27071},"PRIVADO","00027071","MI BREVETE SEGURO SAC.","LIMA","HUAURA","SANTA MARIA","150810","22","00","00","LIMA"," "," ","I-3"]
[null,{"$f":"VALUE(renipress[[#This Row],[Código Único]])","v":27073},"PRIVADO","00027073","CLÍNICA DENTAL JOSS DENT","LIMA","BARRANCA","BARRANCA","150201","22","00","00","LIMA"," "," ","I-1"]
[null,{"$f":"VALUE(renipress[[#This Row],[Código Único]])","v":27074},"PRIVADO","00027074","CONSULTORIO OBSTETRICO VIDA Y SALUD","LIMA","LIMA","COMAS","150110","35","00","00","LIMA NORTE"," "," ","I-1"]
[null,{"$f":"VALUE(renipress[[#This Row],[Código Único]])","v":27075},"PRIVADO","00027075","MEDIC VENTANILLA E.I.R.L.","CALLAO","CALLAO","VENTANILLA","070106","8","00","00","CALLAO"," "," ","I-3"]
[null,{"$f":"VALUE(renipress[[#This Row],[Código Único]])","v":27076},"PRIVADO","00027076","CONSULTORIO MEDICO PEDIATRICO","JUNIN","CHANCHAMAYO","CHANCHAMAYO","120301","17","00","00","JUNIN"," "," ","I-2"]
[null,{"$f":"VALUE(renipress[[#This Row],[Código Único]])","v":27077},"PRIVADO","00027077","golden group service srl","CAJAMARCA","CAJAMARCA","CAJAMARCA","060101","7","00","00","CAJAMARCA"," "," ","Sin Categoría"]
[null,{"$f":"VALUE(renipress[[#This Row],[Código Único]])","v":27078},"GOBIERNO REGIONAL","00027078","CENTRO DE SALUD MENTAL COMUNITARIO-SATIPO","JUNIN","SATIPO","SATIPO","120601","17","05","00","JUNIN","SATIPO","NO PERTENECE A NINGUNA MICRORED","I-3"]
[null,{"$f":"VALUE(renipress[[#This Row],[Código Único]])","v":27079},"MINSA","00027079","CENTRO DE SALUD MENTAL COMUNITARIO TARMA","JUNIN","TARMA","TARMA","120701","17","03","01","JUNIN","TARMA","TARMA","I-3"]
[null,{"$f":"VALUE(renipress[[#This Row],[Código Único]])","v":27080},"MINSA","00027080","CENTRO DE SALUD MENTAL COMUNITARIO PICHANAKI","JUNIN","CHANCHAMAYO","PERENE","120302","17","07","00","JUNIN","PICHANAKI","NO PERTENECE A NINGUNA MICRORED","I-3"]
[null,{"$f":"VALUE(renipress[[#This Row],[Código Único]])","v":27081},"ESSALUD","00027081","POSTA MÉDICA BAÑOS","HUANUCO","LAURICOCHA","BAÑOS","101002","14","00","00","HUANUCO","NO PERTENECE A NINGUNA RED"," ","I-2"]
[null,{"$f":"VALUE(renipress[[#This Row],[Código Único]])","v":27082},"GOBIERNO REGIONAL","00027082","CENTRO  DE SALUD MENTAL COMUNITARIO INTERCULTURAL DATEM DEL MARAÑÓN","LORETO","DATEM DEL MARAÑON","BARRANCA","160701","24","12","02","LORETO","DATEM DEL MARAÑON","BARRANCA","I-3"]
[null,{"$f":"VALUE(renipress[[#This Row],[Código Único]])","v":27083},"ESSALUD","00027083","POSTA MÉDICA AUCAYACU","HUANUCO","LEONCIO PRADO","JOSE CRESPO Y CASTILLO","100604","14","00","00","HUANUCO","NO PERTENECE A NINGUNA RED"," ","I-2"]
[null,{"$f":"VALUE(renipress[[#This Row],[Código Único]])","v":27084},"ESSALUD","00027084","POSTA MEDICA LA UNION","HUANUCO","DOS DE MAYO","LA UNION","100301","14","00","00","HUANUCO","NO PERTENECE A NINGUNA RED"," ","I-2"]
[null,{"$f":"VALUE(renipress[[#This Row],[Código Único]])","v":27085},"ESSALUD","00027085","POSTA MEDICA SUNGARO","HUANUCO","PUERTO INCA","PUERTO INCA","100901","14","00","00","HUANUCO","NO PERTENECE A NINGUNA RED"," ","I-2"]
[null,{"$f":"VALUE(renipress[[#This Row],[Código Único]])","v":27086},"OTRO","00027086","MEDI SKIN SAC","LIMA","LIMA","MIRAFLORES","150122","36","00","00","LIMA CENTRO"," ","NO PERTENECE A NINGUNA MICRORED","I-2"]
[null,{"$f":"VALUE(renipress[[#This Row],[Código Único]])","v":27087},"PRIVADO","00027087","Consultorio Médico Pichincha Ricardo Palma","LIMA","LIMA","MIRAFLORES","150122","36","00","00","LIMA CENTRO"," "," ","I-2"]
[null,{"$f":"VALUE(renipress[[#This Row],[Código Único]])","v":27089},"PRIVADO","00027089","DENTAL MANOS DE ANGEL","LIMA","LIMA","MAGDALENA DEL MAR","150120","36","00","00","LIMA CENTRO"," ","NO PERTENECE A NINGUNA MICRORED","I-1"]
[null,{"$f":"VALUE(renipress[[#This Row],[Código Único]])","v":27092},"GOBIERNO REGIONAL","00027092","SAMU REGIÓN LIMA","LIMA","HUAURA","HUACHO","150801","22","00","00","LIMA","NO PERTENECE A NINGUNA RED","NO PERTENECE A NINGUNA MICRORED","Sin Categoría"]
[null,{"$f":"VALUE(renipress[[#This Row],[Código Único]])","v":27094},"PRIVADO","00027094","OTOMEDIC","CAJAMARCA","CAJAMARCA","CAJAMARCA","060101","7","00","00","CAJAMARCA"," ","NO PERTENECE A NINGUNA MICRORED","I-2"]
[null,{"$f":"VALUE(renipress[[#This Row],[Código Único]])","v":27096},"PRIVADO","00027096","OSCAR HINOJOSA","CUSCO","CUSCO","CUSCO","080101","11","00","00","CUSCO"," "," ","Sin Categoría"]
[null,{"$f":"VALUE(renipress[[#This Row],[Código Único]])","v":27097},"GOBIERNO REGIONAL","00027097","EL CONDOR","SAN MARTIN","MOYOBAMBA","MOYOBAMBA","220101","30","05","01","SAN MARTIN","MOYOBAMBA","LLUILLUCUCHA","I-1"]
[null,{"$f":"VALUE(renipress[[#This Row],[Código Único]])","v":27098},"PRIVADO","00027098","CENTRO MEDICO SANTA MARGARITA","PIURA","PIURA","VEINTISEIS DE OCTUBRE","200115","28","00","00","PIURA"," "," ","I-2"]
[null,{"$f":"VALUE(renipress[[#This Row],[Código Único]])","v":27099},"PRIVADO","00027099","Inversiones 1220 EIRL","LIMA","HUAURA","HUACHO","150801","22","00","00","LIMA"," "," ","I-1"]
[null,{"$f":"VALUE(renipress[[#This Row],[Código Único]])","v":27100},"PRIVADO","00027100","MUNDO NUEVA VIDA","LIMA","LIMA","SAN MARTIN DE PORRES","150135","35","00","00","LIMA NORTE"," "," ","I-2"]
[null,{"$f":"VALUE(renipress[[#This Row],[Código Único]])","v":27101},"SANIDAD DE LA MARINA DE GUERRA DEL PERU","00027101","SANIDAD BAP PISCO","CALLAO","CALLAO","CALLAO","070101","8","00","00","CALLAO"," ","NO PERTENECE A NINGUNA MICRORED","Sin Categoría"]
[null,{"$f":"VALUE(renipress[[#This Row],[Código Único]])","v":27102},"PRIVADO","00027102","CONSULTORIO DENTAL L&L","LIMA","LIMA","INDEPENDENCIA","150112","35","00","00","LIMA NORTE"," "," ","I-1"]
[null,{"$f":"VALUE(renipress[[#This Row],[Código Único]])","v":27103},"PRIVADO","00027103","CARLOS ALBERTO CAPARO JARA","CUSCO","CUSCO","CUSCO","080101","11","00","00","CUSCO"," "," ","I-2"]
[null,{"$f":"VALUE(renipress[[#This Row],[Código Único]])","v":27104},"PRIVADO","00027104","CONSULTORIOS PSICOLOGICOS CENTROS UNIDOS","PIURA","PIURA","PIURA","200101","28","00","00","PIURA"," "," ","I-1"]
[null,{"$f":"VALUE(renipress[[#This Row],[Código Único]])","v":27105},"PRIVADO","00027105","DR. ANTONIO RABANAL OLANO","PIURA","PIURA","PIURA","200101","28","00","00","PIURA"," "," ","I-2"]
[null,{"$f":"VALUE(renipress[[#This Row],[Código Único]])","v":27106},"PRIVADO","00027106","LABORATORIO SAN MIGUEL","PIURA","PIURA","CATACAOS","200105","28","00","00","PIURA"," "," ","Sin Categoría"]
[null,{"$f":"VALUE(renipress[[#This Row],[Código Único]])","v":27107},"PRIVADO","00027107","OPTIMA","CUSCO","CUSCO","WANCHAQ","080108","11","00","00","CUSCO"," "," ","I-3"]
[null,{"$f":"VALUE(renipress[[#This Row],[Código Único]])","v":27108},"PRIVADO","00027108","INTERSALUD","CUSCO","CUSCO","SAN JERONIMO","080104","11","00","00","CUSCO"," "," ","I-4"]
[null,{"$f":"VALUE(renipress[[#This Row],[Código Único]])","v":27109},"PRIVADO","00027109","VENPSI","CUSCO","CUSCO","WANCHAQ","080108","11","00","00","CUSCO"," "," ","I-1"]
[null,{"$f":"VALUE(renipress[[#This Row],[Código Único]])","v":27110},"PRIVADO","00027110","MEDICAL FAMILY","CUSCO","CUSCO","CUSCO","080101","11","00","00","CUSCO"," "," ","I-2"]
[null,{"$f":"VALUE(renipress[[#This Row],[Código Único]])","v":27111},"PRIVADO","00027111","CENTRO MEDICO MEDI SALUD VIP SAC","LIMA","HUAURA","HUACHO","150801","22","00","00","LIMA"," "," ","I-3"]
[null,{"$f":"VALUE(renipress[[#This Row],[Código Único]])","v":27112},"PRIVADO","00027112","MEDILAB","LIMA","BARRANCA","BARRANCA","150201","22","00","00","LIMA"," "," ","I-3"]
[null,{"$f":"VALUE(renipress[[#This Row],[Código Único]])","v":27113},"PRIVADO","00027113","CENTRO NEFROLOGICO AREQUIPA SAC - CENA SAC","AREQUIPA","ISLAY","MOLLENDO","040701","4","00","00","AREQUIPA"," "," ","Sin Categoría"]
[null,{"$f":"VALUE(renipress[[#This Row],[Código Único]])","v":27114},"PRIVADO","00027114","CENTRO ODONTOLOGICO AMERICANO - SAN ISIDRO","LIMA","LIMA","SAN ISIDRO","150131","36","00","00","LIMA CENTRO"," "," ","I-3"]
[null,{"$f":"VALUE(renipress[[#This Row],[Código Único]])","v":27115},"PRIVADO","00027115","POLICLÍNICO ESPINOZAS","LIMA","LIMA","CARABAYLLO","150106","35","00","00","LIMA NORTE"," "," ","I-3"]
[null,{"$f":"VALUE(renipress[[#This Row],[Código Único]])","v":27116},"PRIVADO","00027116","CONSULTORIO MEDICO ALVARADO","LIMA","LIMA","CARABAYLLO","150106","35","00","00","LIMA NORTE"," "," ","I-2"]
[null,{"$f":"VALUE(renipress[[#This Row],[Código Único]])","v":27117},"PRIVADO","00027117","BIODENT","ICA","PISCO","PISCO","110501","15","00","00","ICA"," "," ","I-1"]
[null,{"$f":"VALUE(renipress[[#This Row],[Código Único]])","v":27118},"PRIVADO","00027118","HOYOS ODONTOMEDIC S.R.L.","CAJAMARCA","JAEN","JAEN","060801","7","00","00","CAJAMARCA"," "," ","I-2"]
[null,{"$f":"VALUE(renipress[[#This Row],[Código Único]])","v":27119},"PRIVADO","00027119","CONSULTORIO Y LABORATORIO TECMAS","CAJAMARCA","JAEN","JAEN","060801","7","00","00","CAJAMARCA"," "," ","I-3"]
[null,{"$f":"VALUE(renipress[[#This Row],[Código Único]])","v":27120},"PRIVADO","00027120","V&C BIOTEC","LIMA","LIMA","SANTIAGO DE SURCO","150140","23","00","00","LIMA SUR"," "," ","Sin Categoría"]
[null,{"$f":"VALUE(renipress[[#This Row],[Código Único]])","v":27121},"PRIVADO","00027121","POLICLINICO  ESPIRITU SANTO","LIMA","LIMA","EL AGUSTINO","150111","21","00","00","LIMA ESTE"," "," ","I-3"]
[null,{"$f":"VALUE(renipress[[#This Row],[Código Único]])","v":27122},"PRIVADO","00027122","MOLISALUD","LIMA","LIMA","LA MOLINA","150114","21","00","00","LIMA ESTE"," "," ","I-3"]
[null,{"$f":"VALUE(renipress[[#This Row],[Código Único]])","v":27123},"PRIVADO","00027123","POLICLINICO KORSMAN PERU","LIMA","LIMA","EL AGUSTINO","150111","21","00","00","LIMA ESTE"," "," ","I-3"]
[null,{"$f":"VALUE(renipress[[#This Row],[Código Único]])","v":27124},"PRIVADO","00027124","MEDICENTRO ATE","LIMA","LIMA","ATE","150103","21","00","00","LIMA ESTE"," "," ","I-2"]
[null,{"$f":"VALUE(renipress[[#This Row],[Código Único]])","v":27125},"PRIVADO","00027125","ÓPTICA  ALTA  VISIÓN","AREQUIPA","AREQUIPA","AREQUIPA","040101","4","00","00","AREQUIPA"," ","NO PERTENECE A NINGUNA MICRORED","Sin Categoría"]
[null,{"$f":"VALUE(renipress[[#This Row],[Código Único]])","v":27126},"PRIVADO","00027126","SERVICIOS DE RAYOS X Y LABORATORIO CLÍNICO MARÍA ANGELA","AYACUCHO","HUAMANGA","AYACUCHO","050101","5","00","00","AYACUCHO"," "," ","Sin Categoría"]
[null,{"$f":"VALUE(renipress[[#This Row],[Código Único]])","v":27127},"PRIVADO","00027127","PAMA SALUD","LIMA","LIMA","ATE","150103","21","00","00","LIMA ESTE"," "," ","Sin Categoría"]
[null,{"$f":"VALUE(renipress[[#This Row],[Código Único]])","v":27129},"PRIVADO","00027129","ARCPER","LIMA","LIMA","SANTIAGO DE SURCO","150140","23","00","00","LIMA SUR"," "," ","I-3"]
[null,{"$f":"VALUE(renipress[[#This Row],[Código Único]])","v":27130},"PRIVADO","00027130","ODONTOPLUS","LIMA","LIMA","MIRAFLORES","150122","36","00","00","LIMA CENTRO"," "," ","I-3"]
[null,{"$f":"VALUE(renipress[[#This Row],[Código Único]])","v":27131},"PRIVADO","00027131","POLICLINICO MEDICARRERA","LIMA","LIMA","LIMA","150101","36","00","00","LIMA CENTRO"," "," ","I-3"]
[null,{"$f":"VALUE(renipress[[#This Row],[Código Único]])","v":27132},"PRIVADO","00027132","NOVAMEDIC & ASOCIADOS","LIMA","LIMA","BREÑA","150105","36","00","00","LIMA CENTRO"," "," ","I-3"]
[null,{"$f":"VALUE(renipress[[#This Row],[Código Único]])","v":27133},"PRIVADO","00027133","PULSO CORPORACIÓN MEDICA","LIMA","LIMA","SANTIAGO DE SURCO","150140","23","00","00","LIMA SUR","NO PERTENECE A NINGUNA RED","NO PERTENECE A NINGUNA MICRORED","I-3"]
[null,{"$f":"VALUE(renipress[[#This Row],[Código Único]])","v":27134},"GOBIERNO REGIONAL","00027134","CENTRO DE SALUD MENTAL COMUNITARIO DOS DE JUNIO","ANCASH","SANTA","CHIMBOTE","021801","2","04","00","ANCASH","PACIFICO NORTE","NO PERTENECE A NINGUNA MICRORED","I-3"]
[null,{"$f":"VALUE(renipress[[#This Row],[Código Único]])","v":27135},"INPE","00027135","OFICINA REGIONAL LIMA-SERVICIO DE SALUD DEL ESTABLECIMIENTO PENITENCIARIO VIRGEN DE FATIMA","LIMA","LIMA","CHORRILLOS","150108","23","00","00","LIMA SUR"," ","NO PERTENECE A NINGUNA MICRORED","I-2"]
[null,{"$f":"VALUE(renipress[[#This Row],[Código Único]])","v":27136},"PRIVADO","00027136","HUAMBO MEDICA : DEPORTE - TECNOLOGÍA - SALUD.","LIMA","LIMA","SURQUILLO","150141","36","00","00","LIMA CENTRO"," "," ","Sin Categoría"]
[null,{"$f":"VALUE(renipress[[#This Row],[Código Único]])","v":27137},"PRIVADO","00027137","CONSULTORIO ODONTOLOGICO MG DENTAL","LIMA","LIMA","MIRAFLORES","150122","36","00","00","LIMA CENTRO"," "," ","I-1"]
[null,{"$f":"VALUE(renipress[[#This Row],[Código Único]])","v":27138},"PRIVADO","00027138","INTERDENTIX","LIMA","LIMA","SAN JUAN DE MIRAFLORES","150133","23","00","00","LIMA SUR"," "," ","I-1"]
[null,{"$f":"VALUE(renipress[[#This Row],[Código Único]])","v":27139},"PRIVADO","00027139","innovando sonrisas","LIMA","LIMA","SAN JUAN DE MIRAFLORES","150133","23","00","00","LIMA SUR"," "," ","I-1"]
[null,{"$f":"VALUE(renipress[[#This Row],[Código Único]])","v":27140},"PRIVADO","00027140","sonrisa segura","LIMA","LIMA","SANTIAGO DE SURCO","150140","23","00","00","LIMA SUR"," "," ","I-1"]
[null,{"$f":"VALUE(renipress[[#This Row],[Código Único]])","v":27141},"PRIVADO","00027141","CONSULTORIO DENTAL ZEGARRA","LIMA","LIMA","PACHACAMAC","150123","23","00","00","LIMA SUR"," "," ","I-1"]
[null,{"$f":"VALUE(renipress[[#This Row],[Código Único]])","v":27142},"PRIVADO","00027142","YOJAMA","LIMA","LIMA","SANTIAGO DE SURCO","150140","23","00","00","LIMA SUR"," "," ","I-1"]
[null,{"$f":"VALUE(renipress[[#This Row],[Código Único]])","v":27143},"PRIVADO","00027143","SERVICIOS MEDICOS VILLA EL MILAGRO 1 SAC","LIMA","LIMA","VILLA EL SALVADOR","150142","23","00","00","LIMA SUR"," "," ","I-3"]
[null,{"$f":"VALUE(renipress[[#This Row],[Código Único]])","v":27144},"GOBIERNO REGIONAL","00027144","CENTRO DE SALUD MENTAL COMUNITARIO NUEVO PUERTO","ANCASH","SANTA","NUEVO CHIMBOTE","021809","2","03","00","ANCASH","PACIFICO SUR","NO PERTENECE A NINGUNA MICRORED","I-3"]
[null,{"$f":"VALUE(renipress[[#This Row],[Código Único]])","v":27145},"PRIVADO","00027145","GRUPO OMYR S.A.C.","LIMA","LIMA","CHORRILLOS","150108","23","00","00","LIMA SUR"," "," ","I-3"]
[null,{"$f":"VALUE(renipress[[#This Row],[Código Único]])","v":27147},"PRIVADO","00027147","LINDA SONRISA","LIMA","LIMA","VILLA EL SALVADOR","150142","23","00","00","LIMA SUR"," "," ","I-1"]
[null,{"$f":"VALUE(renipress[[#This Row],[Código Único]])","v":27148},"PRIVADO","00027148","LABORATORIO CLINICO BIOVIDA","CAJAMARCA","JAEN","JAEN","060801","7","00","00","CAJAMARCA"," "," ","Sin Categoría"]
[null,{"$f":"VALUE(renipress[[#This Row],[Código Único]])","v":27149},"PRIVADO","00027149","GINECOLOGIA Y OTRAS ESPECIALIZADADES","LIMA","LIMA","MAGDALENA DEL MAR","150120","36","00","00","LIMA CENTRO"," "," ","I-2"]
[null,{"$f":"VALUE(renipress[[#This Row],[Código Único]])","v":27150},"PRIVADO","00027150","Consultorio Médico QUIRURGICA","LIMA","HUARAL","HUARAL","150601","22","00","00","LIMA"," "," ","I-2"]
[null,{"$f":"VALUE(renipress[[#This Row],[Código Único]])","v":27151},"PRIVADO","00027151","CLINICA DENTAL BUCCARIS","LIMA","HUAURA","SAYAN","150811","22","00","00","LIMA"," "," ","I-1"]
[null,{"$f":"VALUE(renipress[[#This Row],[Código Único]])","v":27153},"PRIVADO","00027153","MEDISANA","LIMA","LIMA","LINCE","150116","36","00","00","LIMA CENTRO"," "," ","I-2"]
[null,{"$f":"VALUE(renipress[[#This Row],[Código Único]])","v":27154},"PRIVADO","00027154","ODONTO ESTRELLITA","CAJAMARCA","JAEN","JAEN","060801","7","00","00","CAJAMARCA"," "," ","I-2"]
[null,{"$f":"VALUE(renipress[[#This Row],[Código Único]])","v":27155},"PRIVADO","00027155","MEDICORUM","LIMA","LIMA","JESUS MARIA","150113","36","00","00","LIMA CENTRO"," "," ","I-2"]
[null,{"$f":"VALUE(renipress[[#This Row],[Código Único]])","v":27159},"PRIVADO","00027159","ODONTOSALUD SONRISAS","LA LIBERTAD","CHEPEN","CHEPEN","130401","18","00","00","LA LIBERTAD"," "," ","I-1"]
[null,{"$f":"VALUE(renipress[[#This Row],[Código Único]])","v":27160},"PRIVADO","00027160","DEKA LAB","LAMBAYEQUE","CHICLAYO","CHICLAYO","140101","19","00","00","LAMBAYEQUE"," "," ","Sin Categoría"]
[null,{"$f":"VALUE(renipress[[#This Row],[Código Único]])","v":27161},"PRIVADO","00027161","LABORATORIO CLINICO ROE","LIMA","LIMA","MIRAFLORES","150122","36","00","00","LIMA CENTRO"," "," ","I-2"]
[null,{"$f":"VALUE(renipress[[#This Row],[Código Único]])","v":27162},"MINSA","00027162","CENTRO DE SALUD MENTAL COMUNITARIO VALLE DE LA ESPERANZA","LIMA","CAÑETE","SAN ANTONIO","150513","22","08","03","LIMA","RED VIII CHILCA - MALA","MALA","I-3"]
[null,{"$f":"VALUE(renipress[[#This Row],[Código Único]])","v":27163},"PRIVADO","00027163","CONSULTORIO PSICOLOGICO AMAYA","AMAZONAS","CHACHAPOYAS","CHACHAPOYAS","010101","1","00","00","AMAZONAS"," "," ","I-1"]
[null,{"$f":"VALUE(renipress[[#This Row],[Código Único]])","v":27164},"PRIVADO","00027164","Servicios Odontológicos San Luis","AMAZONAS","BAGUA","BAGUA","010201","1","00","00","AMAZONAS"," "," ","I-1"]
[null,{"$f":"VALUE(renipress[[#This Row],[Código Único]])","v":27165},"PRIVADO","00027165","CONSULTORIO MÉDICO VIDA Y SALUD","LIMA","BARRANCA","BARRANCA","150201","22","00","00","LIMA"," "," ","I-2"]
[null,{"$f":"VALUE(renipress[[#This Row],[Código Único]])","v":27166},"PRIVADO","00027166","CONSULTORIO MEDICO PEDIÁTRICO CARITA FELIZ","LIMA","HUAURA","HUACHO","150801","22","00","00","LIMA"," "," ","I-2"]
[null,{"$f":"VALUE(renipress[[#This Row],[Código Único]])","v":27167},"PRIVADO","00027167","CENTRO MÉDICO DR. CANO II","LIMA","HUAURA","HUACHO","150801","22","00","00","LIMA"," "," ","I-2"]
[null,{"$f":"VALUE(renipress[[#This Row],[Código Único]])","v":27168},"PRIVADO","00027168","consultorio medico ECOGYN","LIMA","BARRANCA","BARRANCA","150201","22","00","00","LIMA"," "," ","I-2"]
[null,{"$f":"VALUE(renipress[[#This Row],[Código Único]])","v":27170},"PRIVADO","00027170","SOLUCIONES VISUALES","CAJAMARCA","CAJAMARCA","CAJAMARCA","060101","7","00","00","CAJAMARCA"," "," ","I-2"]
[null,{"$f":"VALUE(renipress[[#This Row],[Código Único]])","v":27171},"PRIVADO","00027171","BM CORPORACION OFTALMOLOGICA EIRL","CAJAMARCA","CAJAMARCA","CAJAMARCA","060101","7","00","00","CAJAMARCA"," "," ","I-3"]
[null,{"$f":"VALUE(renipress[[#This Row],[Código Único]])","v":27172},"PRIVADO","00027172","FISIOFIT","LIMA","LIMA","LA MOLINA","150114","21","00","00","LIMA ESTE"," "," ","Sin Categoría"]
[null,{"$f":"VALUE(renipress[[#This Row],[Código Único]])","v":27173},"PRIVADO","00027173","FAMISALUD SAC","ICA","PISCO","PISCO","110501","15","00","00","ICA"," "," ","II-1"]
[null,{"$f":"VALUE(renipress[[#This Row],[Código Único]])","v":27175},"PRIVADO","00027175","CLINICA MATERNO INFANTIL VIRGEN MARIA E.I.R.L.","PIURA","SULLANA","SULLANA","200601","28","00","00","PIURA"," "," ","I-4"]
[null,{"$f":"VALUE(renipress[[#This Row],[Código Único]])","v":27176},"PRIVADO","00027176","SANTA FE MÉDICOS","CUSCO","CUSCO","WANCHAQ","080108","11","00","00","CUSCO"," "," ","I-2"]
[null,{"$f":"VALUE(renipress[[#This Row],[Código Único]])","v":27177},"PRIVADO","00027177","LIPOCENTER","LIMA","LIMA","LINCE","150116","36","00","00","LIMA CENTRO"," "," ","I-2"]
[null,{"$f":"VALUE(renipress[[#This Row],[Código Único]])","v":27183},"SANIDAD DEL EJERCITO DEL PERU","00027183","UNIDAD MEDICA UMAR N°2","LORETO","REQUENA","YAQUERANA","160511","24","00","00","LORETO"," ","NO PERTENECE A NINGUNA MICRORED","I-2"]
[null,{"$f":"VALUE(renipress[[#This Row],[Código Único]])","v":27184},"PRIVADO","00027184","BELLEZA PERUANA","LIMA","LIMA","SAN BORJA","150130","36","00","00","LIMA CENTRO"," "," ","I-2"]
[null,{"$f":"VALUE(renipress[[#This Row],[Código Único]])","v":27185},"PRIVADO","00027185","VITAL SCIENTIFIC MEDICINE","LIMA","LIMA","LIMA","150101","36","00","00","LIMA CENTRO"," "," ","I-3"]
[null,{"$f":"VALUE(renipress[[#This Row],[Código Único]])","v":27186},"PRIVADO","00027186","GASTROMEDIC","AYACUCHO","HUAMANGA","AYACUCHO","050101","5","00","00","AYACUCHO"," "," ","I-3"]
[null,{"$f":"VALUE(renipress[[#This Row],[Código Único]])","v":27187},"PRIVADO","00027187","HYSTOPAP","LIMA","LIMA","SAN BORJA","150130","36","00","00","LIMA CENTRO"," "," ","Sin Categoría"]
[null,{"$f":"VALUE(renipress[[#This Row],[Código Único]])","v":27188},"OTRO","00027188","CONSULTORIO ODONTOLOGICO SALUDENTAL","CALLAO","CALLAO","VENTANILLA","070106","8","00","00","CALLAO"," ","NO PERTENECE A NINGUNA MICRORED","I-1"]
[null,{"$f":"VALUE(renipress[[#This Row],[Código Único]])","v":27189},"PRIVADO","00027189","CONSULTORIO ODONTOLOGICO CELESTE","LIMA","LIMA","SAN JUAN DE LURIGANCHO","150132","36","00","00","LIMA CENTRO"," "," ","I-1"]
[null,{"$f":"VALUE(renipress[[#This Row],[Código Único]])","v":27190},"GOBIERNO REGIONAL","00027190","PUESTO DE SALUD QUELLUACOCHA","CAJAMARCA","CAJAMARCA","CAJAMARCA","060101","7","02","01","CAJAMARCA","CAJAMARCA","BAÑOS DEL INCA","I-1"]
[null,{"$f":"VALUE(renipress[[#This Row],[Código Único]])","v":27191},"PRIVADO","00027191","CONSULTORIO SAN LUCAS","LIMA","LIMA","PUEBLO LIBRE","150121","36","00","00","LIMA CENTRO"," "," ","I-2"]
[null,{"$f":"VALUE(renipress[[#This Row],[Código Único]])","v":27193},"PRIVADO","00027193","CONSULTORIO DE GINECOLOGIA Y OBSTETRICIA  SAN CAMILO","LIMA","LIMA","ATE","150103","21","00","00","LIMA ESTE"," "," ","I-2"]
[null,{"$f":"VALUE(renipress[[#This Row],[Código Único]])","v":27194},"PRIVADO","00027194","CENTRO DE DIAGNOSTICO OMS","CALLAO","CALLAO","CALLAO","070101","8","00","00","CALLAO"," "," ","I-3"]
[null,{"$f":"VALUE(renipress[[#This Row],[Código Único]])","v":27195},"PRIVADO","00027195","EVOLUTION DENT","LIMA","LIMA","EL AGUSTINO","150111","21","00","00","LIMA ESTE"," "," ","I-1"]
[null,{"$f":"VALUE(renipress[[#This Row],[Código Único]])","v":27196},"PRIVADO","00027196","CONSULTORIO PSICOLÓGICO CSJ","LIMA","LIMA","LURIGANCHO","150118","21","00","00","LIMA ESTE"," "," ","I-1"]
[null,{"$f":"VALUE(renipress[[#This Row],[Código Único]])","v":27197},"MINSA","00027197","CENTRO DE SALUD MENTAL COMUNITARIO DECÍDETE A SER FELIZ","ICA","NAZCA","VISTA ALEGRE","110305","15","01","08","ICA","ICA-PALPA-NAZCA","NASCA","I-3"]
[null,{"$f":"VALUE(renipress[[#This Row],[Código Único]])","v":27198},"PRIVADO","00027198","ECOMEDIC","TACNA","TACNA","TACNA","230101","32","00","00","TACNA"," "," ","I-2"]
[null,{"$f":"VALUE(renipress[[#This Row],[Código Único]])","v":27199},"GOBIERNO REGIONAL","00027199","CENTRO DE SALUD MENTAL COMUNITARIO NUEVO HORIZONTE","ICA","CHINCHA","SUNAMPE","110210","15","00","00","ICA","NO PERTENECE A NINGUNA RED","NO PERTENECE A NINGUNA MICRORED","I-3"]
[null,{"$f":"VALUE(renipress[[#This Row],[Código Único]])","v":27200},"PRIVADO","00027200","BAGUA MEDIKAL BREVETES S.R.L.","AMAZONAS","BAGUA","BAGUA","010201","1","00","00","AMAZONAS"," "," ","I-3"]
[null,{"$f":"VALUE(renipress[[#This Row],[Código Único]])","v":27201},"PRIVADO","00027201","AMBULANCIA DANIEL ALCIDES CARRION","AREQUIPA","AREQUIPA","AREQUIPA","040101","4","00","00","AREQUIPA"," "," ","Sin Categoría"]
[null,{"$f":"VALUE(renipress[[#This Row],[Código Único]])","v":27203},"SANIDAD DE LA POLICIA NACIONAL DEL PERU","00027203","PUESTO DE SALUD PNP PALMAPAMPA","AYACUCHO","LA MAR","SAMUGARI","050509","5","00","00","AYACUCHO"," ","NO PERTENECE A NINGUNA MICRORED","I-1"]
[null,{"$f":"VALUE(renipress[[#This Row],[Código Único]])","v":27204},"OTRO","00027204","FERTIVIDA E.I.R.L.","AYACUCHO","HUAMANGA","AYACUCHO","050101","5","00","00","AYACUCHO"," ","NO PERTENECE A NINGUNA MICRORED","I-2"]
[null,{"$f":"VALUE(renipress[[#This Row],[Código Único]])","v":27205},"PRIVADO","00027205","Centro Medico La Reva","LAMBAYEQUE","CHICLAYO","LA VICTORIA","140106","19","00","00","LAMBAYEQUE"," "," ","I-3"]
[null,{"$f":"VALUE(renipress[[#This Row],[Código Único]])","v":27208},"PRIVADO","00027208","CONSULTORIO MEDICO DEL DR. MOROTE","PIURA","MORROPON","CHULUCANAS","200401","28","00","00","PIURA"," "," ","I-2"]
[null,{"$f":"VALUE(renipress[[#This Row],[Código Único]])","v":27210},"PRIVADO","00027210","CENTRO DE ESPECIALIDADES MEDICAS PREVENTU SALUD","PIURA","PIURA","VEINTISEIS DE OCTUBRE","200115","28","00","00","PIURA"," "," ","I-2"]
[null,{"$f":"VALUE(renipress[[#This Row],[Código Único]])","v":27214},"PRIVADO","00027214","CLINICA SAN PABLO AREQUIPA","AREQUIPA","AREQUIPA","CERRO COLORADO","040104","4","00","00","AREQUIPA"," ","NO PERTENECE A NINGUNA MICRORED","II-2"]
[null,{"$f":"VALUE(renipress[[#This Row],[Código Único]])","v":27215},"SANIDAD DEL EJERCITO DEL PERU","00027215","POSTA DE SALUD CRL JOSÉ JOAQUÍN INCLAN","LIMA","LIMA","CHORRILLOS","150108","23","00","00","LIMA SUR"," ","NO PERTENECE A NINGUNA MICRORED","I-1"]
[null,{"$f":"VALUE(renipress[[#This Row],[Código Único]])","v":27216},"PRIVADO","00027216","MEPSO","LIMA","LIMA","LURIN","150119","23","00","00","LIMA SUR"," "," ","I-3"]
[null,{"$f":"VALUE(renipress[[#This Row],[Código Único]])","v":27217},"PRIVADO","00027217","CEREHIN 1","AREQUIPA","AREQUIPA","AREQUIPA","040101","4","00","00","AREQUIPA"," "," ","Sin Categoría"]
[null,{"$f":"VALUE(renipress[[#This Row],[Código Único]])","v":27220},"PRIVADO","00027220","PRO SALUD INTEGRAL","TACNA","TACNA","TACNA","230101","32","00","00","TACNA"," "," ","I-2"]
[null,{"$f":"VALUE(renipress[[#This Row],[Código Único]])","v":27221},"PRIVADO","00027221","PRANOR","LIMA","LIMA","SANTIAGO DE SURCO","150140","23","00","00","LIMA SUR"," ","NO PERTENECE A NINGUNA MICRORED","I-4"]
[null,{"$f":"VALUE(renipress[[#This Row],[Código Único]])","v":27222},"PRIVADO","00027222","CONSULTORIO SALUD ORAL JOCYAL","LIMA","LIMA","COMAS","150110","35","00","00","LIMA NORTE"," "," ","I-1"]
[null,{"$f":"VALUE(renipress[[#This Row],[Código Único]])","v":27223},"PRIVADO","00027223","POLICLINICO TU SALUD S.A.","LIMA","LIMA","VILLA EL SALVADOR","150142","23","00","00","LIMA SUR"," "," ","I-3"]
[null,{"$f":"VALUE(renipress[[#This Row],[Código Único]])","v":27224},"PRIVADO","00027224","NSALUD","LIMA","LIMA","VILLA MARIA DEL TRIUNFO","150143","23","00","00","LIMA SUR"," "," ","I-3"]
[null,{"$f":"VALUE(renipress[[#This Row],[Código Único]])","v":27225},"PRIVADO","00027225","DENTAL JPDENT","LIMA","LIMA","BARRANCO","150104","23","00","00","LIMA SUR"," "," ","I-1"]
[null,{"$f":"VALUE(renipress[[#This Row],[Código Único]])","v":27226},"PRIVADO","00027226","CONSULTORIO DE ENFERMERÍA VIRGEN DE CHAPI","LIMA","LIMA","VILLA EL SALVADOR","150142","23","00","00","LIMA SUR"," "," ","I-1"]
[null,{"$f":"VALUE(renipress[[#This Row],[Código Único]])","v":27227},"PRIVADO","00027227","SAN LUIS DENT","LIMA","LIMA","VILLA EL SALVADOR","150142","23","00","00","LIMA SUR"," "," ","I-1"]
[null,{"$f":"VALUE(renipress[[#This Row],[Código Único]])","v":27228},"PRIVADO","00027228","CONSULTORIO DE ENFERMERIA  HIGUERETA","LIMA","LIMA","SANTIAGO DE SURCO","150140","23","00","00","LIMA SUR"," "," ","I-1"]
[null,{"$f":"VALUE(renipress[[#This Row],[Código Único]])","v":27229},"PRIVADO","00027229","MEDICINA VIAL","LIMA","LIMA","VILLA EL SALVADOR","150142","23","00","00","LIMA SUR"," "," ","I-3"]
[null,{"$f":"VALUE(renipress[[#This Row],[Código Único]])","v":27230},"SANIDAD DE LA POLICIA NACIONAL DEL PERU","00027230","MEDICA POLICIAL PICHARI","CUSCO","LA CONVENCION","PICHARI","080910","11","00","00","CUSCO"," ","NO PERTENECE A NINGUNA MICRORED","I-2"]
[null,{"$f":"VALUE(renipress[[#This Row],[Código Único]])","v":27231},"PRIVADO","00027231","CONSULTORIO DENTAL POMA","LIMA","LIMA","SANTA ANITA","150137","21","00","00","LIMA ESTE"," "," ","I-1"]
[null,{"$f":"VALUE(renipress[[#This Row],[Código Único]])","v":27232},"PRIVADO","00027232","SERVICIOS MEDICOS ADN","LIMA","LIMA","VILLA EL SALVADOR","150142","23","00","00","LIMA SUR"," "," ","I-3"]
[null,{"$f":"VALUE(renipress[[#This Row],[Código Único]])","v":27233},"PRIVADO","00027233","CONSULTORIO ODONTOLOGICO A Y G DENTAL MEDIC","LIMA","LIMA","ATE","150103","21","00","00","LIMA ESTE"," "," ","I-1"]
[null,{"$f":"VALUE(renipress[[#This Row],[Código Único]])","v":27234},"PRIVADO","00027234","MEDIMAGEN","TACNA","TACNA","TACNA","230101","32","00","00","TACNA"," "," ","I-2"]
[null,{"$f":"VALUE(renipress[[#This Row],[Código Único]])","v":27236},"PRIVADO","00027236","POLICLINICO JOSE BENDITO","TACNA","TACNA","TACNA","230101","32","00","00","TACNA"," "," ","I-3"]
[null,{"$f":"VALUE(renipress[[#This Row],[Código Único]])","v":27237},"PRIVADO","00027237","Doctoras Guerrero Dental Care","LIMA","LIMA","SANTIAGO DE SURCO","150140","23","00","00","LIMA SUR"," "," ","I-1"]
[null,{"$f":"VALUE(renipress[[#This Row],[Código Único]])","v":27238},"PRIVADO","00027238","Odontolike Perú","LIMA","LIMA","SAN JUAN DE MIRAFLORES","150133","23","00","00","LIMA SUR"," "," ","I-1"]
[null,{"$f":"VALUE(renipress[[#This Row],[Código Único]])","v":27239},"PRIVADO","00027239","consultorio dental divino niño jesus","LIMA","LIMA","VILLA EL SALVADOR","150142","23","00","00","LIMA SUR"," "," ","I-1"]
[null,{"$f":"VALUE(renipress[[#This Row],[Código Único]])","v":27240},"PRIVADO","00027240","Lima Esthetic Dent","LIMA","LIMA","BARRANCO","150104","23","00","00","LIMA SUR"," "," ","I-1"]
[null,{"$f":"VALUE(renipress[[#This Row],[Código Único]])","v":27241},"PRIVADO","00027241","ODONTO WHITE","LIMA","LIMA","VILLA EL SALVADOR","150142","23","00","00","LIMA SUR"," "," ","I-1"]
[null,{"$f":"VALUE(renipress[[#This Row],[Código Único]])","v":27242},"PRIVADO","00027242","OBSTETRA SANDRABR","LIMA","LIMA","CARABAYLLO","150106","35","00","00","LIMA NORTE"," "," ","I-1"]
[null,{"$f":"VALUE(renipress[[#This Row],[Código Único]])","v":27243},"PRIVADO","00027243","CONSULTORIO ODONTOLOGICO DR SANTILLAN","LIMA","LIMA","SAN MARTIN DE PORRES","150135","35","00","00","LIMA NORTE"," "," ","I-1"]
[null,{"$f":"VALUE(renipress[[#This Row],[Código Único]])","v":27244},"MINSA","00027244","CENTRO DE SALUD MENTAL COMUNITARIO ASIRI (SONRISA)","LIMA","LIMA","CARABAYLLO","150106","35","00","00","LIMA NORTE","NO PERTENECE A NINGUNA RED","NO PERTENECE A NINGUNA MICRORED","I-3"]
[null,{"$f":"VALUE(renipress[[#This Row],[Código Único]])","v":27246},"MINSA","00027246","CENTRO DE SALUD MENTAL COMUNITARIO WIÑAY","LIMA","LIMA","COMAS","150110","35","00","00","LIMA NORTE","NO PERTENECE A NINGUNA RED","NO PERTENECE A NINGUNA MICRORED","I-3"]
[null,{"$f":"VALUE(renipress[[#This Row],[Código Único]])","v":27247},"MINSA","00027247","CENTRO DE SALUD MENTAL COMUNITARIO ILLARIMUN (AMANECER)","LIMA","LIMA","LOS OLIVOS","150117","35","00","00","LIMA NORTE","NO PERTENECE A NINGUNA RED","NO PERTENECE A NINGUNA MICRORED","I-3"]
[null,{"$f":"VALUE(renipress[[#This Row],[Código Único]])","v":27248},"PRIVADO","00027248","CONSULTORIO DENTAL SANTO DOMINGO","TACNA","TACNA","CORONEL GREGORIO ALBARRACIN L.","230110","32","00","00","TACNA"," "," ","I-1"]
[null,{"$f":"VALUE(renipress[[#This Row],[Código Único]])","v":27249},"PRIVADO","00027249","LET LOVE CARE","CALLAO","CALLAO","LA PERLA","070104","8","00","00","CALLAO"," "," ","I-1"]
[null,{"$f":"VALUE(renipress[[#This Row],[Código Único]])","v":27250},"PRIVADO","00027250","P&L Dental","CALLAO","CALLAO","CARMEN DE LA LEGUA-REYNOSO","070103","8","00","00","CALLAO"," "," ","I-1"]
[null,{"$f":"VALUE(renipress[[#This Row],[Código Único]])","v":27251},"PRIVADO","00027251","CONSULTORIO ODONTOLOGICO NEW SMILE","CALLAO","CALLAO","CARMEN DE LA LEGUA-REYNOSO","070103","8","00","00","CALLAO"," ","NO PERTENECE A NINGUNA MICRORED","I-1"]
[null,{"$f":"VALUE(renipress[[#This Row],[Código Único]])","v":27252},"PRIVADO","00027252","CONSULTORIO MEDICO CONCORDIA","CALLAO","CALLAO","LA PERLA","070104","8","00","00","CALLAO"," "," ","I-2"]
[null,{"$f":"VALUE(renipress[[#This Row],[Código Único]])","v":27253},"PRIVADO","00027253","Gold Dent","CALLAO","CALLAO","CALLAO","070101","8","00","00","CALLAO"," "," ","I-1"]
[null,{"$f":"VALUE(renipress[[#This Row],[Código Único]])","v":27254},"PRIVADO","00027254","CUBASALUD","CALLAO","CALLAO","CALLAO","070101","8","00","00","CALLAO"," "," ","I-2"]
[null,{"$f":"VALUE(renipress[[#This Row],[Código Único]])","v":27255},"PRIVADO","00027255","HOLIMARFE MEDIC S.A.C.","CALLAO","CALLAO","BELLAVISTA","070102","8","00","00","CALLAO"," "," ","I-2"]
[null,{"$f":"VALUE(renipress[[#This Row],[Código Único]])","v":27256},"PRIVADO","00027256","TODO ORTODONCIA","TACNA","TACNA","TACNA","230101","32","00","00","TACNA"," "," ","I-1"]
[null,{"$f":"VALUE(renipress[[#This Row],[Código Único]])","v":27259},"GOBIERNO REGIONAL","00027259","CERITS-SAN JUAN","LORETO","MAYNAS","SAN JUAN BAUTISTA","160113","24","05","02","LORETO","MAYNAS CIUDAD","IQUITOS SUR","I-1"]
[null,{"$f":"VALUE(renipress[[#This Row],[Código Único]])","v":27260},"PRIVADO","00027260","CLÍNICA BELLO HORIZONTE S.A","PIURA","PIURA","VEINTISEIS DE OCTUBRE","200115","28","00","00","PIURA"," "," ","I-4"]
[null,{"$f":"VALUE(renipress[[#This Row],[Código Único]])","v":27261},"PRIVADO","00027261","DENTAL QUEEN","TACNA","TACNA","TACNA","230101","32","00","00","TACNA"," "," ","I-1"]
[null,{"$f":"VALUE(renipress[[#This Row],[Código Único]])","v":27262},"PRIVADO","00027262","ECOGRAFIA Y DENSITOMETRIA GUILLEN","AYACUCHO","HUAMANGA","AYACUCHO","050101","5","00","00","AYACUCHO"," "," ","Sin Categoría"]
[null,{"$f":"VALUE(renipress[[#This Row],[Código Único]])","v":27263},"PRIVADO","00027263","CONSULTORIO DENTAL APAZA","AYACUCHO","HUAMANGA","AYACUCHO","050101","5","00","00","AYACUCHO"," "," ","I-1"]
[null,{"$f":"VALUE(renipress[[#This Row],[Código Único]])","v":27264},"PRIVADO","00027264","DENTAL ABREGÚ","AYACUCHO","HUAMANGA","AYACUCHO","050101","5","00","00","AYACUCHO"," "," ","I-1"]
[null,{"$f":"VALUE(renipress[[#This Row],[Código Único]])","v":27265},"PRIVADO","00027265","MEDICINA NOR ORIENTE","SAN MARTIN","SAN MARTIN","TARAPOTO","220901","30","00","00","SAN MARTIN"," "," ","I-2"]
[null,{"$f":"VALUE(renipress[[#This Row],[Código Único]])","v":27266},"PRIVADO","00027266","CENTRO DE TERAPIA FISICA FORTALEZA","LIMA","LIMA","SANTA ANITA","150137","21","00","00","LIMA ESTE"," "," ","Sin Categoría"]
[null,{"$f":"VALUE(renipress[[#This Row],[Código Único]])","v":27267},"PRIVADO","00027267","GOOLAB ANALISIS CLINICO","SAN MARTIN","RIOJA","RIOJA","220801","30","00","00","SAN MARTIN"," "," ","Sin Categoría"]
[null,{"$f":"VALUE(renipress[[#This Row],[Código Único]])","v":27268},"PRIVADO","00027268","CENTRO MEDICO GH&A SALUD","SAN MARTIN","SAN MARTIN","TARAPOTO","220901","30","00","00","SAN MARTIN"," "," ","I-3"]
[null,{"$f":"VALUE(renipress[[#This Row],[Código Único]])","v":27269},"PRIVADO","00027269","CENTRO MEDICO MILIAN","CAJAMARCA","SANTA CRUZ","SANTA CRUZ","061301","7","00","00","CAJAMARCA"," "," ","I-2"]
[null,{"$f":"VALUE(renipress[[#This Row],[Código Único]])","v":27273},"PRIVADO","00027273","POLICLINICO CRISTO VIENE","LIMA","LIMA","SAN MARTIN DE PORRES","150135","35","00","00","LIMA NORTE"," ","NO PERTENECE A NINGUNA MICRORED","I-3"]
[null,{"$f":"VALUE(renipress[[#This Row],[Código Único]])","v":27274},"PRIVADO","00027274","CENTRO MEDICO ESPECIALIZADO PRENACER SAC","AYACUCHO","HUAMANGA","AYACUCHO","050101","5","00","00","AYACUCHO"," "," ","I-3"]
[null,{"$f":"VALUE(renipress[[#This Row],[Código Único]])","v":27278},"PRIVADO","00027278","MEDI CAR CENTER PERU S.A.C.","ANCASH","SANTA","NUEVO CHIMBOTE","021809","2","00","00","ANCASH"," "," ","I-3"]
[null,{"$f":"VALUE(renipress[[#This Row],[Código Único]])","v":27280},"PRIVADO","00027280","CONSULTORIO DENTAL TACNA","TACNA","TACNA","CIUDAD NUEVA","230104","32","00","00","TACNA"," ","NO PERTENECE A NINGUNA MICRORED","I-1"]
[null,{"$f":"VALUE(renipress[[#This Row],[Código Único]])","v":27281},"PRIVADO","00027281","VIDAS DENT","LORETO","MAYNAS","PUNCHANA","160108","24","00","00","LORETO"," "," ","I-2"]
[null,{"$f":"VALUE(renipress[[#This Row],[Código Único]])","v":27283},"PRIVADO","00027283","SVS  SERVICIOS DE SALUD","LIMA","LIMA","MAGDALENA DEL MAR","150120","36","00","00","LIMA CENTRO"," "," ","I-2"]
[null,{"$f":"VALUE(renipress[[#This Row],[Código Único]])","v":27284},"PRIVADO","00027284","RODENT","TACNA","TACNA","TACNA","230101","32","00","00","TACNA"," ","NO PERTENECE A NINGUNA MICRORED","I-1"]
[null,{"$f":"VALUE(renipress[[#This Row],[Código Único]])","v":27285},"PRIVADO","00027285","BOSTON SERVICIOS MEDICOS - SEDE SAN MIGUEL","LIMA","LIMA","SAN MIGUEL","150136","36","00","00","LIMA CENTRO"," "," ","I-2"]
[null,{"$f":"VALUE(renipress[[#This Row],[Código Único]])","v":27286},"PRIVADO","00027286","ENDOCRINOLOGÍA, DIABETES Y OBESIDAD","LIMA","LIMA","SAN ISIDRO","150131","36","00","00","LIMA CENTRO"," "," ","I-2"]
[null,{"$f":"VALUE(renipress[[#This Row],[Código Único]])","v":27287},"PRIVADO","00027287","D´CALIDAD DENT","TACNA","TACNA","TACNA","230101","32","00","00","TACNA"," "," ","I-1"]
[null,{"$f":"VALUE(renipress[[#This Row],[Código Único]])","v":27289},"PRIVADO","00027289","CENA LAS FLORES 2","AREQUIPA","AREQUIPA","MIRAFLORES","040110","4","00","00","AREQUIPA"," "," ","Sin Categoría"]
[null,{"$f":"VALUE(renipress[[#This Row],[Código Único]])","v":27290},"MINSA","00027290","CENTRO DE SALUD MENTAL COMUNITARIO EL AGUSTINO","LIMA","LIMA","EL AGUSTINO","150111","21","00","00","LIMA ESTE","NO PERTENECE A NINGUNA RED","NO PERTENECE A NINGUNA MICRORED","I-2"]
[null,{"$f":"VALUE(renipress[[#This Row],[Código Único]])","v":27291},"INPE","00027291","PUESTO DE SALUD E.P. PASCO","PASCO","PASCO","SIMON BOLIVAR","190109","27","00","00","PASCO"," ","NO PERTENECE A NINGUNA MICRORED","I-1"]
[null,{"$f":"VALUE(renipress[[#This Row],[Código Único]])","v":27292},"MINSA","00027292","DENTAL DOUS","LIMA","LIMA","SAN LUIS","150134","36","00","00","LIMA CENTRO","NO PERTENECE A NINGUNA RED","NO PERTENECE A NINGUNA MICRORED","I-1"]
[null,{"$f":"VALUE(renipress[[#This Row],[Código Único]])","v":27293},"PRIVADO","00027293","MULTIODONTO","LIMA","LIMA","SAN LUIS","150134","36","00","00","LIMA CENTRO"," "," ","I-1"]
[null,{"$f":"VALUE(renipress[[#This Row],[Código Único]])","v":27294},"PRIVADO","00027294","ODONTO STUDIO","LIMA","LIMA","SAN LUIS","150134","36","00","00","LIMA CENTRO"," "," ","I-1"]
[null,{"$f":"VALUE(renipress[[#This Row],[Código Único]])","v":27298},"PRIVADO","00027298","CENTRO MEDICO ESPECIALIZADO BIOMEDIC","CAJAMARCA","CHOTA","CHOTA","060401","7","00","00","CAJAMARCA"," "," ","I-3"]
[null,{"$f":"VALUE(renipress[[#This Row],[Código Único]])","v":27308},"PRIVADO","00027308","CONSULTORIO MEDICO PEDIATRICO","TACNA","TACNA","TACNA","230101","32","00","00","TACNA"," "," ","I-2"]
[null,{"$f":"VALUE(renipress[[#This Row],[Código Único]])","v":27311},"PRIVADO","00027311","GLOBAL MEDIC","UCAYALI","CORONEL PORTILLO","CALLERIA","250101","34","00","00","UCAYALI"," "," ","I-3"]
[null,{"$f":"VALUE(renipress[[#This Row],[Código Único]])","v":27320},"PRIVADO","00027320","Clínica Oncosalud","LIMA","LIMA","SAN ISIDRO","150131","36","00","00","LIMA CENTRO"," "," ","I-3"]
[null,{"$f":"VALUE(renipress[[#This Row],[Código Único]])","v":27321},"PRIVADO","00027321","neodents yr","TACNA","TACNA","TACNA","230101","32","00","00","TACNA"," "," ","I-1"]
[null,{"$f":"VALUE(renipress[[#This Row],[Código Único]])","v":27322},"PRIVADO","00027322","CONSULTORIO OBSTETRICO SIEMPRE MUJER","TACNA","TACNA","TACNA","230101","32","00","00","TACNA"," "," ","I-1"]
[null,{"$f":"VALUE(renipress[[#This Row],[Código Único]])","v":27323},"PRIVADO","00027323","CONSULTORIO ODONTOLOGICO FATIDENT","TACNA","TACNA","CIUDAD NUEVA","230104","32","00","00","TACNA"," "," ","I-1"]
[null,{"$f":"VALUE(renipress[[#This Row],[Código Único]])","v":27325},"MINSA","00027325","CENTRO DE SALUD MENTAL COMUNITARIO DE BARRANCA","LIMA","BARRANCA","BARRANCA","150201","22","01","00","LIMA","RED I BARRANCA - CAJATAMBO","NO PERTENECE A NINGUNA MICRORED","I-3"]
[null,{"$f":"VALUE(renipress[[#This Row],[Código Único]])","v":27327},"PRIVADO","00027327","CENTRO ODONTOLOGICO PARMEB","CAJAMARCA","CHOTA","CHOTA","060401","7","00","00","CAJAMARCA"," "," ","I-1"]
[null,{"$f":"VALUE(renipress[[#This Row],[Código Único]])","v":27329},"PRIVADO","00027329","GLOBAL MEDIC","LIMA","LIMA","COMAS","150110","35","00","00","LIMA NORTE"," ","NO PERTENECE A NINGUNA MICRORED","I-3"]
[null,{"$f":"VALUE(renipress[[#This Row],[Código Único]])","v":27330},"PRIVADO","00027330","CENTRO ODONTOLOGICO BRIDENT","CAJAMARCA","CHOTA","CHOTA","060401","7","00","00","CAJAMARCA"," "," ","I-1"]
[null,{"$f":"VALUE(renipress[[#This Row],[Código Único]])","v":27331},"MUNICIPALIDAD PROVINCIAL","00027331","SISOL SALUD LOS OLIVOS","LIMA","LIMA","LOS OLIVOS","150117","35","00","00","LIMA NORTE"," ","NO PERTENECE A NINGUNA MICRORED","I-3"]
[null,{"$f":"VALUE(renipress[[#This Row],[Código Único]])","v":27332},"PRIVADO","00027332","CENTRO MEDICO VIRGEN DE CHOTA","CAJAMARCA","CHOTA","CHOTA","060401","7","00","00","CAJAMARCA"," "," ","I-3"]
[null,{"$f":"VALUE(renipress[[#This Row],[Código Único]])","v":27335},"PRIVADO","00027335","CORPORACION RAMIVAL DE ESPECIALIDADES MEDICAS","CALLAO","CALLAO","CARMEN DE LA LEGUA-REYNOSO","070103","8","00","00","CALLAO"," "," ","I-2"]
[null,{"$f":"VALUE(renipress[[#This Row],[Código Único]])","v":27340},"PRIVADO","00027340","servicios médicos divino niño jesus E.I.R.L.","PUNO","SAN ROMAN","JULIACA","211101","29","00","00","PUNO"," "," ","I-3"]
[null,{"$f":"VALUE(renipress[[#This Row],[Código Único]])","v":27345},"PRIVADO","00027345","CONSULTORIO DENTAL JR","APURIMAC","ANDAHUAYLAS","ANDAHUAYLAS","030201","3","00","00","APURIMAC"," "," ","I-1"]
[null,{"$f":"VALUE(renipress[[#This Row],[Código Único]])","v":27346},"PRIVADO","00027346","LABORATORIO DE ANÁLISIS  CLÍNICO RIVERA","AYACUCHO","HUAMANGA","AYACUCHO","050101","5","00","00","AYACUCHO"," "," ","Sin Categoría"]
[null,{"$f":"VALUE(renipress[[#This Row],[Código Único]])","v":27347},"OTRO","00027347","OPTICAS FASHION CENTER EIRL","AYACUCHO","HUAMANGA","AYACUCHO","050101","5","00","00","AYACUCHO"," ","NO PERTENECE A NINGUNA MICRORED","Sin Categoría"]
[null,{"$f":"VALUE(renipress[[#This Row],[Código Único]])","v":27348},"PRIVADO","00027348","Odontocajamarca - Sede Baños del Inca","CAJAMARCA","CAJAMARCA","LOS BAÑOS DEL INCA","060108","7","00","00","CAJAMARCA"," "," ","I-1"]
[null,{"$f":"VALUE(renipress[[#This Row],[Código Único]])","v":27349},"OTRO","00027349","PULSO CORPORACIÓN MEDICA S.R.L.","MOQUEGUA","MARISCAL NIETO","MOQUEGUA","180101","26","00","00","MOQUEGUA"," ","NO PERTENECE A NINGUNA MICRORED","I-3"]
[null,{"$f":"VALUE(renipress[[#This Row],[Código Único]])","v":27351},"SANIDAD DEL EJERCITO DEL PERU","00027351","ENFERMERÍA FUERTE CHAMOCHUMBI","TUMBES","TUMBES","TUMBES","240101","33","00","00","TUMBES"," ","NO PERTENECE A NINGUNA MICRORED","I-1"]
[null,{"$f":"VALUE(renipress[[#This Row],[Código Único]])","v":27352},"GOBIERNO REGIONAL","00027352","MARIA DOLORES QUISPE VILCHEZ","AMAZONAS","CHACHAPOYAS","CHACHAPOYAS","010101","1","01","01","AMAZONAS","CHACHAPOYAS","CHACHAPOYAS","I-2"]
[null,{"$f":"VALUE(renipress[[#This Row],[Código Único]])","v":27354},"GOBIERNO REGIONAL","00027354","AYLLU SACHAPUYOS","AMAZONAS","CHACHAPOYAS","CHACHAPOYAS","010101","1","01","00","AMAZONAS","CHACHAPOYAS","NO PERTENECE A NINGUNA MICRORED","I-3"]
[null,{"$f":"VALUE(renipress[[#This Row],[Código Único]])","v":27358},"PRIVADO","00027358","CLÍNICA CRISTO REDENTOR","LA LIBERTAD","TRUJILLO","TRUJILLO","130101","18","00","00","LA LIBERTAD"," "," ","II-1"]
[null,{"$f":"VALUE(renipress[[#This Row],[Código Único]])","v":27359},"PRIVADO","00027359","LOS LIDERES L&G","CUSCO","CANCHIS","SICUANI","080601","11","00","00","CUSCO"," "," ","I-3"]
[null,{"$f":"VALUE(renipress[[#This Row],[Código Único]])","v":27362},"PRIVADO","00027362","ODONTOCENTRO","TACNA","TACNA","TACNA","230101","32","00","00","TACNA"," "," ","I-1"]
[null,{"$f":"VALUE(renipress[[#This Row],[Código Único]])","v":27363},"PRIVADO","00027363","DR. EDWIN MEDINA Laparoscopía de Avanzada","TACNA","TACNA","TACNA","230101","32","00","00","TACNA"," "," ","I-2"]
[null,{"$f":"VALUE(renipress[[#This Row],[Código Único]])","v":27364},"PRIVADO","00027364","GINECOLOGIA INTEGRAL LOS ANGELES","TACNA","TACNA","TACNA","230101","32","00","00","TACNA"," "," ","I-2"]
[null,{"$f":"VALUE(renipress[[#This Row],[Código Único]])","v":27365},"PRIVADO","00027365","consultorio  medico especializado hamilton naki","TACNA","TACNA","CORONEL GREGORIO ALBARRACIN L.","230110","32","00","00","TACNA"," "," ","I-2"]
[null,{"$f":"VALUE(renipress[[#This Row],[Código Único]])","v":27369},"PRIVADO","00027369","CLINICA ODONTOLOGICA GUERREROS","UCAYALI","CORONEL PORTILLO","CALLERIA","250101","34","00","00","UCAYALI"," "," ","I-1"]
[null,{"$f":"VALUE(renipress[[#This Row],[Código Único]])","v":27371},"GOBIERNO REGIONAL","00027371","SAN ANTONIO DE PAJÓN","CAJAMARCA","SAN IGNACIO","NAMBALLE","060905","7","16","02","CAJAMARCA","SAN IGNACIO","NAMBALLE","I-1"]
[null,{"$f":"VALUE(renipress[[#This Row],[Código Único]])","v":27372},"PRIVADO","00027372","VIVA","TACNA","TACNA","TACNA","230101","32","00","00","TACNA"," "," ","I-1"]
[null,{"$f":"VALUE(renipress[[#This Row],[Código Único]])","v":27373},"PRIVADO","00027373","TERAPIAS MEDICAS TACNA","TACNA","TACNA","TACNA","230101","32","00","00","TACNA"," ","NO PERTENECE A NINGUNA MICRORED","I-2"]
[null,{"$f":"VALUE(renipress[[#This Row],[Código Único]])","v":27374},"PRIVADO","00027374","LA PALMERA","TACNA","TACNA","TACNA","230101","32","00","00","TACNA"," "," ","I-2"]
[null,{"$f":"VALUE(renipress[[#This Row],[Código Único]])","v":27378},"PRIVADO","00027378","CENTRO DENTAL LOAYZA","TACNA","TACNA","TACNA","230101","32","00","00","TACNA"," "," ","I-1"]
[null,{"$f":"VALUE(renipress[[#This Row],[Código Único]])","v":27379},"PRIVADO","00027379","CIDENT","TACNA","TACNA","TACNA","230101","32","00","00","TACNA"," "," ","I-1"]
[null,{"$f":"VALUE(renipress[[#This Row],[Código Único]])","v":27380},"PRIVADO","00027380","CONSULTORIO ODONTOLOGICO DENTAL CARE","TACNA","TACNA","TACNA","230101","32","00","00","TACNA"," ","NO PERTENECE A NINGUNA MICRORED","I-1"]
[null,{"$f":"VALUE(renipress[[#This Row],[Código Único]])","v":27386},"PRIVADO","00027386","ECOMEDIC","CUSCO","CUSCO","WANCHAQ","080108","11","00","00","CUSCO"," "," ","I-2"]
[null,{"$f":"VALUE(renipress[[#This Row],[Código Único]])","v":27389},"PRIVADO","00027389","WIÑAY KIRU","CUSCO","CUSCO","SANTIAGO","080106","11","00","00","CUSCO"," "," ","I-1"]
[null,{"$f":"VALUE(renipress[[#This Row],[Código Único]])","v":27392},"PRIVADO","00027392","MEDIREG","CUSCO","CUSCO","WANCHAQ","080108","11","00","00","CUSCO"," "," ","I-2"]
[null,{"$f":"VALUE(renipress[[#This Row],[Código Único]])","v":27393},"MINSA","00027393","URPI","CUSCO","LA CONVENCION","PICHARI","080910","11","05","02","CUSCO","KIMBIRI PICHARI","PICHARI","I-3"]

{"sheet":"TABLAS2","index":15,"n_rows":12,"n_cols":2,"rows_kept":12,"cut":false,"hidden":true,"merged":[]}
[null,"ANNO"]
[null,"SELECCIONE:"]
[null,2016]
[null,2017]
[null,2018]
[null,2019]
[null,2020]
[null,2021]
[null,2022]
[null,2023]
[null,2024]
[null,2025]